{"text_format":"1","workbook":"xlsx","n_sheets":7,"sheets":["Control_Panel","Admin_Controls","Index","Full_Period_References","Trust - Frontsheet","Site - Summary","Backsheet"],"not_rendered":{"charts":0,"images":1,"macros":1,"external_links":0,"defined_names":17,"comments":0,"pivot_tables":0},"unopened":[],"bounds":{"document_bytes":16777216,"sheet_cells":100000,"rows_first":2000,"rows_last":500,"rows_between":2000,"halvings":0,"cell_chars":16384,"cell_head_chars":4096},"cells_cut":0,"cells_raw":0,"read":"whole","date_system":"1900"}

{"sheet":"Control_Panel","index":0,"n_rows":42,"n_cols":11,"rows_kept":42,"cut":false,"hidden":false,"merged":[[40,3,40,8],[38,3,38,8],[39,3,39,8],[37,3,37,8],[30,3,30,5],[1,0,1,9],[5,4,6,4],[8,4,8,5],[5,2,5,3],[8,2,8,3],[7,5,7,6],[15,1,15,2],[16,1,16,2],[3,0,3,9],[5,5,6,6],[18,3,18,8],[21,3,21,8],[22,3,22,8],[36,3,36,8],[17,3,17,8],[26,3,26,8],[32,3,32,8],[20,3,20,8],[24,3,24,8]]}
[]
["Fill rate indicator return"]
[]
["Staffing: Nursing, midwifery and care staff"]
[]
[null,null,"Organisation:",null,"RWD",{"$f":"VLOOKUP(OrgCodeSelection,Orgs,2,FALSE)","v":"United Lincolnshire Hospitals NHS Trust"}]
[]
[]
[null,null,"Period:",null,"December_2016-17"]
[]
[]
[]
[null,null,null,"Basic Validations"]
[null,null,null,{"$f":"IF(OrgCodeSelection=\"\",\"No Organisation Code Selected\",\"\")","v":""},null,null,null,null,null,null,{"$f":"IF(D14=\"\",0,1)","v":0}]
[null,null,null,{"$f":"IF(PeriodSelection=\"\",\"No Period Selected\",\"\")","v":""},null,null,null,null,null,null,{"$f":"IF(D15=\"\",0,1)","v":0}]
[]
[null,null,null,"Validations"]
[null,null,null,{"$f":"IF('Trust - Frontsheet'!C10=\"\",\"\",'Trust - Frontsheet'!C10)","v":""},null,null,null,null,null,null,{"$f":"IF(D18=\"\",0,1)","v":0}]
[null,null,null,{"$f":"IF('Trust - Frontsheet'!C11=\"\",\"\",'Trust - Frontsheet'!C11)","v":""},null,null,null,null,null,null,0]
[null,null,null,{"$f":"IF('Trust - Frontsheet'!B415=2,\"No Sites Selected\",\"\")","v":""},null,null,null,null,null,null,0]
[null,null,null,{"$f":"IF('Trust - Frontsheet'!D415>0,\"No specialty added for at least one row\",\"\")","v":""},null,null,null,null,null,null,0]
[null,null,null,{"$f":"IF('Trust - Frontsheet'!E415>0,\"Planned hours total zero for at least one row\",\"\")","v":""},null,null,null,null,null,null,0]
[null,null,null,{"$f":"IF('Trust - Frontsheet'!F415>0,\"Actual hours total zero for at least one row\",\"\")","v":""},null,null,null,null,null,null,0]
[null,null,null,{"$f":"IF('Trust - Frontsheet'!C7=\"\",\"\",\"Missing Site Code\")","v":""},null,null,null,null,null,null,0]
[null,null,null,{"$f":"IF('Trust - Frontsheet'!A10=1,\"No Data Entered In First Row\",\"\")","v":""},null,null,null,null,null,null,0]
[null,null,null,{"$f":"IF('Trust - Frontsheet'!F10=\"\",\"\",\"Selection(s) for Spec1 not made from drop down box\")","v":""},null,null,null,null,null,null,0]
[null,null,null,{"$f":"IF('Trust - Frontsheet'!L415=1,\"Site Codes Missing\",\"\")","v":""},null,null,null,null,null,null,0]
[null,null,null,{"$f":"IF('Trust - Frontsheet'!M415=1,\"Ward Name(s) missing\",\"\")","v":""},null,null,null,null,null,null,0]
[null,null,null,{"$f":"IF('Trust - Frontsheet'!G10=\"\",\"\",\"Selection(s) for Spec2 not made from drop down box\")","v":""},null,null,null,null,null,null,0]
[null,null,null,{"$f":"IF('Trust - Frontsheet'!U415=1,\"Trust not required to submit CHPPD figures\",\"\")","v":""},null,null,null,null,null,null,0]
[null,null,null,{"$f":"IF(K31=0,\"\",\"YOU WILL NOT BE ABLE TO UPLOAD AS YOU HAVE VALIDATION ERRORS ABOVE\")","v":""},null,null,null,null,null,null,{"$f":"SUM(K14:K30)","v":0}]
[]
[]
[null,null,null,"Discretionary validations (will not prevent upload)"]
[]
[null,null,null,{"$f":"IF('Trust - Frontsheet'!G415>0,\"Total hours less than 1448 (approx 2 full time staff) for at least one row\",\"\")","v":"Total hours less than 1448 (approx 2 full time staff) for at least one row"},null,null,null,null,null,null,{"$f":"IF(D36=\"\",0,1)","v":1}]
[null,null,null,{"$f":"IF('Trust - Frontsheet'!P415>0,\"Day nurse fill rate >100%\",\"\")","v":"Day nurse fill rate >100%"},null,null,null,null,null,null,1]
[null,null,null,{"$f":"IF('Trust - Frontsheet'!Q415>0,\"Day care staff fill rate >100%\",\"\")","v":"Day care staff fill rate >100%"},null,null,null,null,null,null,1]
[null,null,null,{"$f":"IF('Trust - Frontsheet'!R415>0,\"Night nurse fill rate >100%\",\"\")","v":"Night nurse fill rate >100%"},null,null,null,null,null,null,1]
[null,null,null,{"$f":"IF('Trust - Frontsheet'!S415>0,\"Night care staff fill rate >100%\",\"\")","v":"Night care staff fill rate >100%"},null,null,null,null,null,null,1]
[null,null,null,{"$f":"IF('Trust - Frontsheet'!H415>0,\"Total hours more than 30000 (approx 40 full time staff) for at least one row\",\"\")","v":""},null,null,null,null,null,null,0]
[null,null,null,{"$f":"IF('Trust - Frontsheet'!T415=1,\"Actual care hours submitted but no CHPPD patients\",\"\")","v":""},null,null,null,null,null,null,0]

{"sheet":"Admin_Controls","index":1,"n_rows":34,"n_cols":2,"rows_kept":34,"cut":false,"hidden":true,"merged":[]}
[]
[]
[]
[]
[]
[]
[]
[]
[]
[]
[]
[]
[]
[]
[]
[]
[]
[]
[]
[]
[null,"Notes"]
[]
[null,"If the organisation lists for the collection changes then a few things need to be changed…"]
[null,"The new org code and name needs to be put onto the Index in the relevant fields"]
[null,"The range for the organisations also need amending - \"Orgs\" to make sure that the new organisations are included where they should be"]
[]
[null,"Make sure all the headers on the front sheet (mockup) are bold and then you can run the above macro to change the colour of the text to the Unify2 Standard"]
[null,"When copying in a backsheet for a new upload the \"header\" information in the mock backsheet should not be altered - only the data below row 8 should be copied in, but the relevant \"header\" cells just manually changed - i.e. 'Collection_Reference and 'Last_Row"]
[null,"No extra worksheets should be added into the workbook"]
[null,"Admin users will need to link the backsheet to the frontsheet when creating the uplaod"]
[]
[null,"If the periof of the collection changes users will need to copy the valide periods in the valid format for the correct period type and put them onto the index sheet, also the relevant range will also need updating"]
[]
[null,"Users must change the periods reference sheet so it ONLY shows the period type applicable for the collection"]

{"sheet":"Index","index":2,"n_rows":2802,"n_cols":15,"rows_kept":2802,"cut":false,"hidden":true,"merged":[]}
["Lookups",null,null,null,null,"Provider Orgs",null,null,null,"Concatenation","Natural Key",null,null,"Provider Orgs","CHPPD"]
["Columns","Row",null,null,null,"RTQ","2gether NHS Foundation Trust",null,null,"April_2016-17",10154,null,null,"RTQ","N"]
[1,1,null,null,null,"RTV","5 Boroughs Partnership NHS Foundation Trust",null,null,"May_2016-17",10155,null,null,"RTV","N"]
[1,2,null,null,null,"REM","Aintree University Hospital NHS Foundation Trust",null,null,"June_2016-17",10156,null,null,"REM","Y"]
[1,3,null,null,null,"RCF","Airedale NHS Foundation Trust",null,null,"July_2016-17",10157,null,null,"RCF","Y"]
[1,4,null,null,null,"RBS","Alder Hey Children's NHS Foundation Trust",null,null,"August_2016-17",10158,null,null,"RBS","Y"]
[1,5,null,null,null,"NQ1","Anglian Community Enterprise",null,null,"September_2016-17",10159,null,null,"NQ1","N"]
[1,6,null,null,null,"RTK","Ashford And St Peter's Hospitals NHS Foundation Trust",null,null,"October_2016-17",10160,null,null,"RTK","Y"]
[1,7,null,null,null,"RVN","Avon and Wiltshire Mental Health Partnership NHS Trust",null,null,"November_2016-17",10161,null,null,"RVN","N"]
[1,8,null,null,null,"RF4","Barking, Havering And Redbridge University Hospitals NHS Trust",null,null,"December_2016-17",10162,null,null,"RF4","Y"]
[1,9,null,null,null,"RRP","Barnet, Enfield and Haringey Mental Health NHS Trust",null,null,"January_2016-17",10163,null,null,"RRP","N"]
[1,10,null,null,null,"RFF","Barnsley Hospital NHS Foundation Trust",null,null,"February_2016-17",10164,null,null,"RFF","Y"]
[1,11,null,null,null,"R1H","Barts Health NHS Trust",null,null,"March_2016-17",10165,null,null,"R1H","Y"]
[1,12,null,null,null,"RDD","Basildon And Thurrock University Hospitals NHS Foundation Trust",null,null,null,null,null,null,"RDD","Y"]
[1,13,null,null,null,"RC1","Bedford Hospital NHS Trust",null,null,null,null,null,null,"RC1","Y"]
[1,14,null,null,null,"RWX","Berkshire Healthcare NHS Foundation Trust",null,null,null,null,null,null,"RWX","N"]
[1,15,null,null,null,"RXT","Birmingham and Solihull Mental Health NHS Foundation Trust",null,null,null,null,null,null,"RXT","N"]
[1,16,null,null,null,"RQ3","Birmingham Children's Hospital NHS Foundation Trust",null,null,null,null,null,null,"RQ3","Y"]
[1,17,null,null,null,"RYW","Birmingham Community HealthCare NHS Trust",null,null,null,null,null,null,"RYW","N"]
[1,18,null,null,null,"RLU","Birmingham Women's NHS Foundation Trust",null,null,null,null,null,null,"RLU","Y"]
[1,19,null,null,null,"TAJ","Black Country Partnership NHS Foundation Trust",null,null,null,null,null,null,"TAJ","N"]
[1,20,null,null,null,"RXL","Blackpool Teaching Hospitals NHS Foundation Trust",null,null,null,null,null,null,"RXL","Y"]
[1,21,null," ",null,"RMC","Bolton NHS Foundation Trust",null,null,null,null,null,null,"RMC","Y"]
[1,22,null,null,null,"TAD","Bradford District Care Trust",null,null,null,null,null,null,"TAD","N"]
[1,23,null,null,null,"RAE","Bradford Teaching Hospitals NHS Foundation Trust",null,null,null,null,null,null,"RAE","Y"]
[1,24,null,null,null,"RY2","Bridgewater Community Healthcare NHS Trust",null,null,null,null,null,null,"RY2","N"]
[1,25,null,null,null,"RXH","Brighton And Sussex University Hospitals NHS Trust",null,null,null,null,null,null,"RXH","Y"]
[1,26,null,null,null,"RXQ","Buckinghamshire Healthcare NHS Trust",null,null,null,null,null,null,"RXQ","Y"]
[1,27,null,null,null,"RJF","Burton Hospitals NHS Foundation Trust",null,null,null,null,null,null,"RJF","Y"]
[1,28,null,null,null,"RWY","Calderdale And Huddersfield NHS Foundation Trust",null,null,null,null,null,null,"RWY","Y"]
[1,29,null,null,null,"RGT","Cambridge University Hospitals NHS Foundation Trust",null,null,null,null,null,null,"RGT","Y"]
[1,30,null,null,null,"RT1","Cambridgeshire And Peterborough NHS Foundation Trust",null,null,null,null,null,null,"RT1","N"]
[1,31,null,null,null,"RYV","Cambridgeshire Community Services NHS Trust",null,null,null,null,null,null,"RYV","N"]
[1,32,null,null,null,"TAF","Camden And Islington NHS Foundation Trust",null,null,null,null,null,null,"TAF","N"]
[1,33,null,null,null,"RV3","Central and North West London NHS Foundation Trust",null,null,null,null,null,null,"RV3","N"]
[1,34,null,null,null,"RYX","Central London Community Healthcare NHS Trust",null,null,null,null,null,null,"RYX","N"]
[1,35,null,null,null,"RW3","Central Manchester University Hospitals NHS Foundation Trust",null,null,null,null,null,null,"RW3","Y"]
[1,36,null,null,null,"RQM","Chelsea And Westminster Hospital NHS Foundation Trust",null,null,null,null,null,null,"RQM","Y"]
[1,37,null,null,null,"RXA","Cheshire and Wirral Partnership NHS Foundation Trust",null,null,null,null,null,null,"RXA","N"]
[1,38,null,null,null,"RFS","Chesterfield Royal Hospital NHS Foundation Trust",null,null,null,null,null,null,"RFS","Y"]
[1,39,null,null,null,"RLN","City Hospitals Sunderland NHS Foundation Trust",null,null,null,null,null,null,"RLN","Y"]
[1,40,null,null,null,"RDE","Colchester Hospital University NHS Foundation Trust",null,null,null,null,null,null,"RDE","Y"]
[1,41,null,null,null,"RJ8","Cornwall Partnership NHS Foundation Trust",null,null,null,null,null,null,"RJ8","N"]
[1,42,null,null,null,"RJR","Countess Of Chester Hospital NHS Foundation Trust",null,null,null,null,null,null,"RJR","Y"]
[1,43,null,null,null,"RXP","County Durham And Darlington NHS Foundation Trust",null,null,null,null,null,null,"RXP","Y"]
[1,44,null,null,null,"RYG","Coventry and Warwickshire Partnership NHS Trust",null,null,null,null,null,null,"RYG","N"]
[1,45,null,null,null,"RJ6","Croydon Health Services NHS Trust",null,null,null,null,null,null,"RJ6","Y"]
[1,46,null,null,null,"RNN","Cumbria Partnership NHS Foundation Trust",null,null,null,null,null,null,"RNN","N"]
[1,47,null,null,null,"RN7","Dartford And Gravesham NHS Trust",null,null,null,null,null,null,"RN7","Y"]
[1,48,null,null,null,"RTG","Derby Hospitals NHS Foundation Trust",null,null,null,null,null,null,"RTG","Y"]
[1,49,null,null,null,"RY8","Derbyshire Community Health Services NHS Trust",null,null,null,null,null,null,"RY8","N"]
[1,50,null,null,null,"RXM","Derbyshire Healthcare NHS Foundation Trust",null,null,null,null,null,null,"RXM","N"]
[1,51,null,null,null,"RWV","Devon Partnership NHS Trust",null,null,null,null,null,null,"RWV","N"]
[1,52,null,null,null,"RP5","Doncaster And Bassetlaw Hospitals NHS Foundation Trust",null,null,null,null,null,null,"RP5","Y"]
[1,53,null,null,null,"RBD","Dorset County Hospital NHS Foundation Trust",null,null,null,null,null,null,"RBD","Y"]
[1,54,null,null,null,"RDY","Dorset HealthCare University NHS Foundation Trust",null,null,null,null,null,null,"RDY","N"]
[1,55,null,null,null,"RYK","Dudley and Walsall Mental Health Partnership NHS Trust",null,null,null,null,null,null,"RYK","N"]
[1,56,null,null,null,"RWH","East And North Hertfordshire NHS Trust",null,null,null,null,null,null,"RWH","Y"]
[1,57,null,null,null,"RJN","East Cheshire NHS Trust",null,null,null,null,null,null,"RJN","Y"]
[1,58,null,null,null,"RVV","East Kent Hospitals University NHS Foundation Trust",null,null,null,null,null,null,"RVV","Y"]
[1,59,null,null,null,"RXR","East Lancashire Hospitals NHS Trust",null,null,null,null,null,null,"RXR","Y"]
[1,60,null,null,null,"RWK","East London Foundation Trust ",null,null,null,null,null,null,"RWK","N"]
[1,61,null,null,null,"RXC","East Sussex Healthcare NHS Trust",null,null,null,null,null,null,"RXC","Y"]
[1,62,null,null,null,"RVR","Epsom And St Helier University Hospitals NHS Trust",null,null,null,null,null,null,"RVR","Y"]
[1,63,null,null,null,"RDU","Frimley Park Hospital NHS Foundation Trust",null,null,null,null,null,null,"RDU","Y"]
[1,64,null,null,null,"RR7","Gateshead Health NHS Foundation Trust",null,null,null,null,null,null,"RR7","Y"]
[1,65,null,null,null,"RLT","George Eliot Hospital NHS Trust",null,null,null,null,null,null,"RLT","Y"]
[1,66,null,null,null,"R1J","Gloucestershire Care Services NHS Trust",null,null,null,null,null,null,"R1J","N"]
[1,67,null,null,null,"RTE","Gloucestershire Hospitals NHS Foundation Trust",null,null,null,null,null,null,"RTE","Y"]
[1,68,null,null,null,"RP4","Great Ormond Street Hospital For Children NHS Foundation Trust",null,null,null,null,null,null,"RP4","Y"]
[1,69,null,null,null,"RN3","Great Western Hospitals NHS Foundation Trust",null,null,null,null,null,null,"RN3","Y"]
[1,70,null,null,null,"RXV","Greater Manchester West Mental Health NHS Foundation Trust",null,null,null,null,null,null,"RXV","N"]
[1,71,null,null,null,"RJ1","Guy's And St Thomas' NHS Foundation Trust",null,null,null,null,null,null,"RJ1","Y"]
[1,72,null,null,null,"RN5","Hampshire Hospitals NHS Foundation Trust",null,null,null,null,null,null,"RN5","Y"]
[1,73,null,null,null,"RCD","Harrogate And District NHS Foundation Trust",null,null,null,null,null,null,"RCD","Y"]
[1,74,null,null,null,"RR1","Heart Of England NHS Foundation Trust",null,null,null,null,null,null,"RR1","Y"]
[1,75,null,null,null,"RY4","Hertfordshire Community NHS Trust",null,null,null,null,null,null,"RY4","N"]
[1,76,null,null,null,"RWR","Hertfordshire Partnership University NHS Foundation Trust",null,null,null,null,null,null,"RWR","N"]
[1,77,null,null,null,"RQQ","Hinchingbrooke Health Care NHS Trust",null,null,null,null,null,null,"RQQ","Y"]
[1,78,null,null,null,"RQX","Homerton University Hospital NHS Foundation Trust",null,null,null,null,null,null,"RQX","Y"]
[1,79,null,null,null,"RY9","Hounslow And Richmond Community Healthcare NHS Trust",null,null,null,null,null,null,"RY9","N"]
[1,80,null,null,null,"RWA","Hull And East Yorkshire Hospitals NHS Trust",null,null,null,null,null,null,"RWA","Y"]
[1,81,null,null,null,"RV9","Humber NHS Foundation Trust",null,null,null,null,null,null,"RV9","N"]
[1,82,null,null,null,"RYJ","Imperial College Healthcare NHS Trust",null,null,null,null,null,null,"RYJ","Y"]
[1,83,null,null,null,"RGQ","Ipswich Hospital NHS Trust",null,null,null,null,null,null,"RGQ","Y"]
[1,84,null,null,null,"R1F","Isle Of Wight NHS Trust",null,null,null,null,null,null,"R1F","Y"]
[1,85,null,null,null,"RGP","James Paget University Hospitals NHS Foundation Trust",null,null,null,null,null,null,"RGP","Y"]
[1,86,null,null,null,"RXY","Kent And Medway NHS And Social Care Partnership Trust",null,null,null,null,null,null,"RXY","N"]
[1,87,null,null,null,"RYY","Kent Community Health NHS Trust",null,null,null,null,null,null,"RYY","N"]
[1,88,null,null,null,"RNQ","Kettering General Hospital NHS Foundation Trust",null,null,null,null,null,null,"RNQ","Y"]
[1,89,null,null,null,"RJZ","King's College Hospital NHS Foundation Trust",null,null,null,null,null,null,"RJZ","Y"]
[1,90,null,null,null,"RAX","Kingston Hospital NHS Trust",null,null,null,null,null,null,"RAX","Y"]
[1,91,null,null,null,"RW5","Lancashire Care NHS Foundation trust",null,null,null,null,null,null,"RW5","N"]
[1,92,null,null,null,"RXN","Lancashire Teaching Hospitals NHS Foundation Trust",null,null,null,null,null,null,"RXN","Y"]
[1,93,null,null,null,"RGD","Leeds and York Partnership NHS Foundation Trust",null,null,null,null,null,null,"RGD","N"]
[1,94,null,null,null,"RY6","Leeds Community Healthcare NHS Trust",null,null,null,null,null,null,"RY6","N"]
[1,95,null,null,null,"RR8","Leeds Teaching Hospitals NHS Trust",null,null,null,null,null,null,"RR8","Y"]
[1,96,null,null,null,"RT5","Leicestershire Partnership NHS Trust",null,null,null,null,null,null,"RT5","N"]
[1,97,null,null,null,"RJ2","Lewisham and Greenwich NHS Trust",null,null,null,null,null,null,"RJ2","Y"]
[1,98,null,null,null,"RY5","Lincolnshire Community Health Services NHS Trust",null,null,null,null,null,null,"RY5","N"]
[1,99,null,null,null,"RP7","Lincolnshire Partnership NHS Foundation Trust",null,null,null,null,null,null,"RP7","N"]
[1,100,null,null,null,"RY1","Liverpool Community Health NHS Trust",null,null,null,null,null,null,"RY1","N"]
[1,101,null,null,null,"RBQ","Liverpool Heart And Chest NHS Foundation Trust",null,null,null,null,null,null,"RBQ","Y"]
[1,102,null,null,null,"REP","Liverpool Women's NHS Foundation Trust",null,null,null,null,null,null,"REP","Y"]
[1,103,null,null,null,"R1K","London North West Healthcare NHS Trust",null,null,null,null,null,null,"R1K","Y"]
[1,104,null,null,null,"RC9","Luton And Dunstable Hospital NHS Foundation Trust",null,null,null,null,null,null,"RC9","Y"]
[1,105,null,null,null,"RWF","Maidstone And Tunbridge Wells NHS Trust",null,null,null,null,null,null,"RWF","Y"]
[1,106,null,null,null,"TAE","Manchester Mental Health and Social Care Trust",null,null,null,null,null,null,"TAE","N"]
[1,107,null,null,null,"RPA","Medway NHS Foundation Trust",null,null,null,null,null,null,"RPA","Y"]
[1,108,null,null,null,"RW4","Mersey Care NHS Trust",null,null,null,null,null,null,"RW4","N"]
[1,109,null,null,null,"RBT","Mid Cheshire Hospitals NHS Foundation Trust",null,null,null,null,null,null,"RBT","Y"]
[1,110,null,null,null,"RQ8","Mid Essex Hospital Services NHS Trust",null,null,null,null,null,null,"RQ8","Y"]
[1,111,null,null,null,"RJD","Mid Staffordshire NHS Foundation Trust",null,null,null,null,null,null,"RJD","N"]
[1,112,null,null,null,"RXF","Mid Yorkshire Hospitals NHS Trust",null,null,null,null,null,null,"RXF","Y"]
[1,113,null,null,null,"RD8","Milton Keynes Hospital NHS Foundation Trust",null,null,null,null,null,null,"RD8","Y"]
[1,114,null,null,null,"RP6","Moorfields Eye Hospital NHS Foundation Trust",null,null,null,null,null,null,"RP6","Y"]
[1,115,null,null,null,"RM1","Norfolk And Norwich University Hospitals NHS Foundation Trust",null,null,null,null,null,null,"RM1","Y"]
[1,116,null,null,null,"RMY","Norfolk and Suffolk NHS Foundation Trust",null,null,null,null,null,null,"RMY","N"]
[1,117,null,null,null,"RY3","Norfolk Community Health And Care NHS Trust",null,null,null,null,null,null,"RY3","N"]
[1,118,null,null,null,"RVJ","North Bristol NHS Trust",null,null,null,null,null,null,"RVJ","Y"]
[1,119,null,null,null,"RNL","North Cumbria University Hospitals NHS Trust",null,null,null,null,null,null,"RNL","Y"]
[1,120,null,null,null,"RAT","North East London NHS Foundation Trust",null,null,null,null,null,null,"RAT","N"]
[1,121,null,null,null,"RRD","North Essex Partnership University NHS Foundation Trust",null,null,null,null,null,null,"RRD","N"]
[1,122,null,null,null,"RAP","North Middlesex University Hospital NHS Trust",null,null,null,null,null,null,"RAP","Y"]
[1,123,null,null,null,"RLY","North Staffordshire Combined Healthcare NHS Trust",null,null,null,null,null,null,"RLY","N"]
[1,124,null,null,null,"RVW","North Tees And Hartlepool NHS Foundation Trust",null,null,null,null,null,null,"RVW","Y"]
[1,125,null,null,null,"RNS","Northampton General Hospital NHS Trust",null,null,null,null,null,null,"RNS","Y"]
[1,126,null,null,null,"RP1","Northamptonshire Healthcare NHS Foundation Trust",null,null,null,null,null,null,"RP1","N"]
[1,127,null,null,null,"RBZ","Northern Devon Healthcare NHS Trust",null,null,null,null,null,null,"RBZ","Y"]
[1,128,null,null,null,"RJL","Northern Lincolnshire And Goole Hospitals NHS Foundation Trust",null,null,null,null,null,null,"RJL","Y"]
[1,129,null,null,null,"RX4","Northumberland, Tyne and Wear NHS Foundation Trust",null,null,null,null,null,null,"RX4","N"]
[1,130,null,null,null,"RTF","Northumbria Healthcare NHS Foundation Trust",null,null,null,null,null,null,"RTF","Y"]
[1,131,null,null,null,"RX1","Nottingham University Hospitals NHS Trust",null,null,null,null,null,null,"RX1","Y"]
[1,132,null,null,null,"RHA","Nottinghamshire Healthcare NHS Trust",null,null,null,null,null,null,"RHA","N"]
[1,133,null,null,null,"RNU","Oxford Health NHS Foundation Trust",null,null,null,null,null,null,"RNU","N"]
[1,134,null,null,null,"RTH","Oxford University Hospitals NHS Trust",null,null,null,null,null,null,"RTH","Y"]
[1,135,null,null,null,"RPG","Oxleas NHS Foundation Trust",null,null,null,null,null,null,"RPG","N"]
[1,136,null,null,null,"RGM","Papworth Hospital NHS Foundation Trust",null,null,null,null,null,null,"RGM","Y"]
[1,137,null,null,null,"RW6","Pennine Acute Hospitals NHS Trust",null,null,null,null,null,null,"RW6","Y"]
[1,138,null,null,null,"RT2","Pennine Care NHS Foundation Trust",null,null,null,null,null,null,"RT2","N"]
[1,139,null,null,null,"RGN","Peterborough And Stamford Hospitals NHS Foundation Trust",null,null,null,null,null,null,"RGN","Y"]
[1,140,null,null,null,"RK9","Plymouth Hospitals NHS Trust",null,null,null,null,null,null,"RK9","Y"]
[1,141,null,null,null,"RD3","Poole Hospital NHS Foundation Trust",null,null,null,null,null,null,"RD3","Y"]
[1,142,null,null,null,"RHU","Portsmouth Hospitals NHS Trust",null,null,null,null,null,null,"RHU","Y"]
[1,143,null,null,null,"RPC","Queen Victoria Hospital NHS Foundation Trust",null,null,null,null,null,null,"RPC","Y"]
[1,144,null,null,null,"NVC","Ramsay Healthcare UK Operations Limited ",null,null,null,null,null,null,"NVC","N"]
[1,145,null,null,null,"RXE","Rotherham Doncaster and South Humber NHS Foundation Trust",null,null,null,null,null,null,"RXE","N"]
[1,146,null,null,null,"RHW","Royal Berkshire NHS Foundation Trust",null,null,null,null,null,null,"RHW","Y"]
[1,147,null,null,null,"RT3","Royal Brompton And Harefield NHS Foundation Trust",null,null,null,null,null,null,"RT3","Y"]
[1,148,null,null,null,"REF","Royal Cornwall Hospitals NHS Trust",null,null,null,null,null,null,"REF","Y"]
[1,149,null,null,null,"RH8","Royal Devon And Exeter NHS Foundation Trust",null,null,null,null,null,null,"RH8","Y"]
[1,150,null,null,null,"RAL","Royal Free London NHS Foundation Trust",null,null,null,null,null,null,"RAL","Y"]
[1,151,null,null,null,"RQ6","Royal Liverpool And Broadgreen University Hospitals NHS Trust",null,null,null,null,null,null,"RQ6","Y"]
[1,152,null,null,null,"RBB","Royal National Hospital For Rheumatic Diseases NHS Foundation Trust",null,null,null,null,null,null,"RBB","N"]
[1,153,null,null,null,"RAN","Royal National Orthopaedic Hospital NHS Trust",null,null,null,null,null,null,"RAN","Y"]
[1,154,null,null,null,"RA2","Royal Surrey County Hospital NHS Foundation Trust",null,null,null,null,null,null,"RA2","Y"]
[1,155,null,null,null,"RD1","Royal United Hospital Bath NHS Trust",null,null,null,null,null,null,"RD1","Y"]
[1,156,null,null,null,"RM3","Salford Royal NHS Foundation Trust",null,null,null,null,null,null,"RM3","Y"]
[1,157,null,null,null,"RNZ","Salisbury NHS Foundation Trust",null,null,null,null,null,null,"RNZ","Y"]
[1,158,null,null,null,"RXK","Sandwell And West Birmingham Hospitals NHS Trust",null,null,null,null,null,null,"RXK","Y"]
[1,159,null,null,null,"RCU","Sheffield Children's NHS Foundation Trust",null,null,null,null,null,null,"RCU","Y"]
[1,160,null,null,null,"TAH","Sheffield Health & Social Care NHS Foundation Trust",null,null,null,null,null,null,"TAH","N"]
[1,161,null,null,null,"RHQ","Sheffield Teaching Hospitals NHS Foundation Trust",null,null,null,null,null,null,"RHQ","Y"]
[1,162,null,null,null,"RK5","Sherwood Forest Hospitals NHS Foundation Trust",null,null,null,null,null,null,"RK5","Y"]
[1,163,null,null,null,"RXW","Shrewsbury And Telford Hospital NHS Trust",null,null,null,null,null,null,"RXW","Y"]
[1,164,null,null,null,"R1D","Shropshire Community Health NHS Trust",null,null,null,null,null,null,"R1D","N"]
[1,165,null,null,null,"NLX","Sirona Care & Health",null,null,null,null,null,null,"NLX","N"]
[1,166,null,null,null,"R1C","Solent NHS Trust",null,null,null,null,null,null,"R1C","N"]
[1,167,null,null,null,"RH5","Somerset Partnership NHS Foundation Trust",null,null,null,null,null,null,"RH5","N"]
[1,168,null,null,null,"RWN","South Essex Partnership University NHS Foundation Trust",null,null,null,null,null,null,"RWN","N"]
[1,169,null,null,null,"RV5","South London And Maudsley NHS Foundation Trust",null,null,null,null,null,null,"RV5","N"]
[1,170,null,null,null,"RYQ","South London Healthcare NHS Trust",null,null,null,null,null,null,"RYQ","N"]
[1,171,null,null,null,"RRE","South Staffordshire And Shropshire Healthcare NHS Foundation Trust",null,null,null,null,null,null,"RRE","N"]
[1,172,null,null,null,"RTR","South Tees Hospitals NHS Foundation Trust",null,null,null,null,null,null,"RTR","Y"]
[1,173,null,null,null,"RE9","South Tyneside NHS Foundation Trust",null,null,null,null,null,null,"RE9","Y"]
[1,174,null,null,null,"RJC","South Warwickshire NHS Foundation Trust",null,null,null,null,null,null,"RJC","Y"]
[1,175,null,null,null,"RQY","South West London And St George's Mental Health NHS Trust",null,null,null,null,null,null,"RQY","N"]
[1,176,null,null,null,"RXG","South West Yorkshire Partnership NHS Foundation Trust",null,null,null,null,null,null,"RXG","N"]
[1,177,null,null,null,"RAJ","Southend University Hospital NHS Foundation Trust",null,null,null,null,null,null,"RAJ","Y"]
[1,178,null,null,null,"RW1","Southern Health NHS Foundation Trust",null,null,null,null,null,null,"RW1","N"]
[1,179,null,null,null,"RVY","Southport And Ormskirk Hospital NHS Trust",null,null,null,null,null,null,"RVY","Y"]
[1,180,null,null,null,"RJ7","St George's Healthcare NHS Trust",null,null,null,null,null,null,"RJ7","Y"]
[1,181,null,null,null,"RBN","St Helens And Knowsley Hospitals NHS Trust",null,null,null,null,null,null,"RBN","Y"]
[1,182,null,null,null,"R1E","Staffordshire and Stoke on Trent Partnership NHS Trust",null,null,null,null,null,null,"R1E","N"]
[1,183,null,null,null,"RWJ","Stockport NHS Foundation Trust",null,null,null,null,null,null,"RWJ","Y"]
[1,184,null,null,null,"NHM","Suffolk Community Healthcare ",null,null,null,null,null,null,"NHM","N"]
[1,185,null,null,null,"RXX","Surrey and Borders Partnership NHS Foundation Trust",null,null,null,null,null,null,"RXX","N"]
[1,186,null,null,null,"RTP","Surrey And Sussex Healthcare NHS Trust",null,null,null,null,null,null,"RTP","Y"]
[1,187,null,null,null,"RDR","Sussex Community NHS Trust",null,null,null,null,null,null,"RDR","N"]
[1,188,null,null,null,"RX2","Sussex Partnership NHS Foundation Trust",null,null,null,null,null,null,"RX2","N"]
[1,189,null,null,null,"RMP","Tameside Hospital NHS Foundation Trust",null,null,null,null,null,null,"RMP","Y"]
[1,190,null,null,null,"RBA","Taunton And Somerset NHS Foundation Trust",null,null,null,null,null,null,"RBA","Y"]
[1,191,null,null,null,"RNK","Tavistock And Portman NHS Foundation Trust",null,null,null,null,null,null,"RNK","N"]
[1,192,null,null,null,"RX3","Tees, Esk and Wear Valleys NHS Foundation Trust",null,null,null,null,null,null,"RX3","N"]
[1,193,null,null,null,"RBV","The Christie NHS Foundation Trust",null,null,null,null,null,null,"RBV","Y"]
[1,194,null,null,null,"REN","The Clatterbridge Cancer Centre NHS Foundation Trust",null,null,null,null,null,null,"REN","Y"]
[1,195,null,null,null,"RNA","The Dudley Group NHS Foundation Trust",null,null,null,null,null,null,"RNA","Y"]
[1,196,null,null,null,"RAS","The Hillingdon Hospitals NHS Foundation Trust",null,null,null,null,null,null,"RAS","Y"]
[1,197,null,null,null,"RTD","The Newcastle Upon Tyne Hospitals NHS Foundation Trust",null,null,null,null,null,null,"RTD","Y"]
[1,198,null,null,null,"RQW","The Princess Alexandra Hospital NHS Trust",null,null,null,null,null,null,"RQW","Y"]
[1,199,null,null,null,"RCX","The Queen Elizabeth Hospital, King's Lynn, NHS Foundation Trust",null,null,null,null,null,null,"RCX","Y"]
[1,200,null,null,null,"RL1","The Robert Jones And Agnes Hunt Orthopaedic Hospital NHS Foundation Trust",null,null,null,null,null,null,"RL1","Y"]
[{"$f":"A3+1","v":2},1,null,null,null,"RFR","The Rotherham NHS Foundation Trust",null,null,null,null,null,null,"RFR","Y"]
[2,2,null,null,null,"RDZ","The Royal Bournemouth And Christchurch Hospitals NHS Foundation Trust",null,null,null,null,null,null,"RDZ","Y"]
[2,3,null,null,null,"RPY","The Royal Marsden NHS Foundation Trust",null,null,null,null,null,null,"RPY","Y"]
[2,4,null,null,null,"RRJ","The Royal Orthopaedic Hospital NHS Foundation Trust",null,null,null,null,null,null,"RRJ","Y"]
[2,5,null,null,null,"RL4","The Royal Wolverhampton NHS Trust",null,null,null,null,null,null,"RL4","Y"]
[2,6,null,null,null,"RET","The Walton Centre NHS Foundation Trust",null,null,null,null,null,null,"RET","Y"]
[2,7,null,null,null,"RKE","The Whittington Hospital NHS Trust",null,null,null,null,null,null,"RKE","Y"]
[2,8,null,null,null,"RA9","Torbay and South Devon NHS Foundation Trust",null,null,null,null,null,null,"RA9","Y"]
[2,9,null,null,null,"RWD","United Lincolnshire Hospitals NHS Trust",null,null,null,null,null,null,"RWD","Y"]
[2,10,null,null,null,"RRV","University College London Hospitals NHS Foundation Trust",null,null,null,null,null,null,"RRV","Y"]
[2,11,null,null,null,"RJE","University Hospital of North Midlands NHS Trust",null,null,null,null,null,null,"RJE","Y"]
[2,12,null,null,null,"RM2","University Hospital Of South Manchester NHS Foundation Trust",null,null,null,null,null,null,"RM2","Y"]
[2,13,null,null,null,"RHM","University Hospital Southampton NHS Foundation Trust",null,null,null,null,null,null,"RHM","Y"]
[2,14,null,null,null,"RRK","University Hospitals Birmingham NHS Foundation Trust",null,null,null,null,null,null,"RRK","Y"]
[2,15,null,null,null,"RA7","University Hospitals Bristol NHS Foundation Trust",null,null,null,null,null,null,"RA7","Y"]
[2,16,null,null,null,"RKB","University Hospitals Coventry And Warwickshire NHS Trust",null,null,null,null,null,null,"RKB","Y"]
[2,17,null,null,null,"RWE","University Hospitals Of Leicester NHS Trust",null,null,null,null,null,null,"RWE","Y"]
[2,18,null,null,null,"RTX","University Hospitals Of Morecambe Bay NHS Foundation Trust",null,null,null,null,null,null,"RTX","Y"]
[2,19,null,null,null,"RBK","Walsall Healthcare NHS Trust",null,null,null,null,null,null,"RBK","Y"]
[2,20,null,null,null,"RWW","Warrington And Halton Hospitals NHS Foundation Trust",null,null,null,null,null,null,"RWW","Y"]
[2,21,null,null,null,"RWG","West Hertfordshire Hospitals NHS Trust",null,null,null,null,null,null,"RWG","Y"]
[2,22,null,null,null,"RKL","West London Mental Health NHS Trust",null,null,null,null,null,null,"RKL","N"]
[2,23,null,null,null,"RGR","West Suffolk NHS Foundation Trust",null,null,null,null,null,null,"RGR","Y"]
[2,24,null,null,null,"RYR","Western Sussex Hospitals NHS Trust",null,null,null,null,null,null,"RYR","Y"]
[2,25,null,null,null,"RA3","Weston Area Health NHS Trust",null,null,null,null,null,null,"RA3","Y"]
[2,26,null,null,null,"AXG","Wiltshire Health & Care LLP",null,null,null,null,null,null,"AXG","Y"]
[2,27,null,null,null,"RBL","Wirral University Teaching Hospital NHS Foundation Trust",null,null,null,null,null,null,"RBL","Y"]
[2,28,null,null,null,"RWP","Worcestershire Acute Hospitals NHS Trust",null,null,null,null,null,null,"RWP","Y"]
[2,29,null,null,null,"R1A","Worcestershire Health and Care NHS Trust",null,null,null,null,null,null,"R1A","N"]
[2,30,null,null,null,"RRF","Wrightington, Wigan And Leigh NHS Foundation Trust",null,null,null,null,null,null,"RRF","Y"]
[2,31,null,null,null,"RLQ","Wye Valley NHS Trust",null,null,null,null,null,null,"RLQ","Y"]
[2,32,null,null,null,"RA4","Yeovil District Hospital NHS Foundation Trust",null,null,null,null,null,null,"RA4","Y"]
[2,33,null,null,null,"RCB","York Teaching Hospital NHS Foundation Trust",null,null,null,null,null,null,"RCB","Y"]
[2,34]
[2,35]
[2,36]
[2,37]
[2,38]
[2,39]
[2,40]
[2,41]
[2,42]
[2,43]
[2,44]
[2,45]
[2,46]
[2,47]
[2,48]
[2,49]
[2,50]
[2,51]
[2,52]
[2,53]
[2,54]
[2,55]
[2,56]
[2,57]
[2,58]
[2,59]
[2,60]
[2,61]
[2,62]
[2,63]
[2,64]
[{"$f":"A67+1","v":2},65]
[2,66]
[2,67]
[2,68]
[2,69]
[2,70]
[2,71]
[2,72]
[2,73]
[2,74]
[2,75]
[2,76]
[2,77]
[2,78]
[2,79]
[2,80]
[2,81]
[2,82]
[2,83]
[2,84]
[2,85]
[2,86]
[2,87]
[2,88]
[2,89]
[2,90]
[2,91]
[2,92]
[2,93]
[2,94]
[2,95]
[2,96]
[2,97]
[2,98]
[2,99]
[2,100]
[2,101]
[2,102]
[2,103]
[2,104]
[2,105]
[2,106]
[2,107]
[2,108]
[2,109]
[2,110]
[2,111]
[2,112]
[2,113]
[2,114]
[2,115]
[2,116]
[2,117]
[2,118]
[2,119]
[2,120]
[2,121]
[2,122]
[2,123]
[2,124]
[2,125]
[2,126]
[2,127]
[2,128]
[{"$f":"A131+1","v":2},129]
[2,130]
[2,131]
[2,132]
[2,133]
[2,134]
[2,135]
[2,136]
[2,137]
[2,138]
[2,139]
[2,140]
[2,141]
[2,142]
[2,143]
[2,144]
[2,145]
[2,146]
[2,147]
[2,148]
[2,149]
[2,150]
[2,151]
[2,152]
[2,153]
[2,154]
[2,155]
[2,156]
[2,157]
[2,158]
[2,159]
[2,160]
[2,161]
[2,162]
[2,163]
[2,164]
[2,165]
[2,166]
[2,167]
[2,168]
[2,169]
[2,170]
[2,171]
[2,172]
[2,173]
[2,174]
[2,175]
[2,176]
[2,177]
[2,178]
[2,179]
[2,180]
[2,181]
[2,182]
[2,183]
[2,184]
[2,185]
[2,186]
[2,187]
[2,188]
[2,189]
[2,190]
[2,191]
[2,192]
[{"$f":"A195+1","v":2},193]
[2,194]
[2,195]
[2,196]
[2,197]
[2,198]
[2,199]
[2,200]
[3,1]
[3,2]
[3,3]
[3,4]
[3,5]
[3,6]
[3,7]
[3,8]
[3,9]
[3,10]
[3,11]
[3,12]
[3,13]
[3,14]
[3,15]
[3,16]
[3,17]
[3,18]
[3,19]
[3,20]
[3,21]
[3,22]
[3,23]
[3,24]
[3,25]
[3,26]
[3,27]
[3,28]
[3,29]
[3,30]
[3,31]
[3,32]
[3,33]
[3,34]
[3,35]
[3,36]
[3,37]
[3,38]
[3,39]
[3,40]
[3,41]
[3,42]
[3,43]
[3,44]
[3,45]
[3,46]
[3,47]
[3,48]
[3,49]
[3,50]
[3,51]
[3,52]
[3,53]
[3,54]
[3,55]
[3,56]
[{"$f":"A259+1","v":3},57]
[3,58]
[3,59]
[3,60]
[3,61]
[3,62]
[3,63]
[3,64]
[3,65]
[3,66]
[3,67]
[3,68]
[3,69]
[3,70]
[3,71]
[3,72]
[3,73]
[3,74]
[3,75]
[3,76]
[3,77]
[3,78]
[3,79]
[3,80]
[3,81]
[3,82]
[3,83]
[3,84]
[3,85]
[3,86]
[3,87]
[3,88]
[3,89]
[3,90]
[3,91]
[3,92]
[3,93]
[3,94]
[3,95]
[3,96]
[3,97]
[3,98]
[3,99]
[3,100]
[3,101]
[3,102]
[3,103]
[3,104]
[3,105]
[3,106]
[3,107]
[3,108]
[3,109]
[3,110]
[3,111]
[3,112]
[3,113]
[3,114]
[3,115]
[3,116]
[3,117]
[3,118]
[3,119]
[3,120]
[{"$f":"A323+1","v":3},121]
[3,122]
[3,123]
[3,124]
[3,125]
[3,126]
[3,127]
[3,128]
[3,129]
[3,130]
[3,131]
[3,132]
[3,133]
[3,134]
[3,135]
[3,136]
[3,137]
[3,138]
[3,139]
[3,140]
[3,141]
[3,142]
[3,143]
[3,144]
[3,145]
[3,146]
[3,147]
[3,148]
[3,149]
[3,150]
[3,151]
[3,152]
[3,153]
[3,154]
[3,155]
[3,156]
[3,157]
[3,158]
[3,159]
[3,160]
[3,161]
[3,162]
[3,163]
[3,164]
[3,165]
[3,166]
[3,167]
[3,168]
[3,169]
[3,170]
[3,171]
[3,172]
[3,173]
[3,174]
[3,175]
[3,176]
[3,177]
[3,178]
[3,179]
[3,180]
[3,181]
[3,182]
[3,183]
[3,184]
[{"$f":"A387+1","v":3},185]
[3,186]
[3,187]
[3,188]
[3,189]
[3,190]
[3,191]
[3,192]
[3,193]
[3,194]
[3,195]
[3,196]
[3,197]
[3,198]
[3,199]
[3,200]
[4,1]
[4,2]
[4,3]
[4,4]
[4,5]
[4,6]
[4,7]
[4,8]
[4,9]
[4,10]
[4,11]
[4,12]
[4,13]
[4,14]
[4,15]
[4,16]
[4,17]
[4,18]
[4,19]
[4,20]
[4,21]
[4,22]
[4,23]
[4,24]
[4,25]
[4,26]
[4,27]
[4,28]
[4,29]
[4,30]
[4,31]
[4,32]
[4,33]
[4,34]
[4,35]
[4,36]
[4,37]
[4,38]
[4,39]
[4,40]
[4,41]
[4,42]
[4,43]
[4,44]
[4,45]
[4,46]
[4,47]
[4,48]
[{"$f":"A451+1","v":4},49]
[4,50]
[4,51]
[4,52]
[4,53]
[4,54]
[4,55]
[4,56]
[4,57]
[4,58]
[4,59]
[4,60]
[4,61]
[4,62]
[4,63]
[4,64]
[4,65]
[4,66]
[4,67]
[4,68]
[4,69]
[4,70]
[4,71]
[4,72]
[4,73]
[4,74]
[4,75]
[4,76]
[4,77]
[4,78]
[4,79]
[4,80]
[4,81]
[4,82]
[4,83]
[4,84]
[4,85]
[4,86]
[4,87]
[4,88]
[4,89]
[4,90]
[4,91]
[4,92]
[4,93]
[4,94]
[4,95]
[4,96]
[4,97]
[4,98]
[4,99]
[4,100]
[4,101]
[4,102]
[4,103]
[4,104]
[4,105]
[4,106]
[4,107]
[4,108]
[4,109]
[4,110]
[4,111]
[4,112]
[{"$f":"A515+1","v":4},113]
[4,114]
[4,115]
[4,116]
[4,117]
[4,118]
[4,119]
[4,120]
[4,121]
[4,122]
[4,123]
[4,124]
[4,125]
[4,126]
[4,127]
[4,128]
[4,129]
[4,130]
[4,131]
[4,132]
[4,133]
[4,134]
[4,135]
[4,136]
[4,137]
[4,138]
[4,139]
[4,140]
[4,141]
[4,142]
[4,143]
[4,144]
[4,145]
[4,146]
[4,147]
[4,148]
[4,149]
[4,150]
[4,151]
[4,152]
[4,153]
[4,154]
[4,155]
[4,156]
[4,157]
[4,158]
[4,159]
[4,160]
[4,161]
[4,162]
[4,163]
[4,164]
[4,165]
[4,166]
[4,167]
[4,168]
[4,169]
[4,170]
[4,171]
[4,172]
[4,173]
[4,174]
[4,175]
[4,176]
[{"$f":"A579+1","v":4},177]
[4,178]
[4,179]
[4,180]
[4,181]
[4,182]
[4,183]
[4,184]
[4,185]
[4,186]
[4,187]
[4,188]
[4,189]
[4,190]
[4,191]
[4,192]
[4,193]
[4,194]
[4,195]
[4,196]
[4,197]
[4,198]
[4,199]
[4,200]
[5,1]
[5,2]
[5,3]
[5,4]
[5,5]
[5,6]
[5,7]
[5,8]
[5,9]
[5,10]
[5,11]
[5,12]
[5,13]
[5,14]
[5,15]
[5,16]
[5,17]
[5,18]
[5,19]
[5,20]
[5,21]
[5,22]
[5,23]
[5,24]
[5,25]
[5,26]
[5,27]
[5,28]
[5,29]
[5,30]
[5,31]
[5,32]
[5,33]
[5,34]
[5,35]
[5,36]
[5,37]
[5,38]
[5,39]
[5,40]
[{"$f":"A643+1","v":5},41]
[5,42]
[5,43]
[5,44]
[5,45]
[5,46]
[5,47]
[5,48]
[5,49]
[5,50]
[5,51]
[5,52]
[5,53]
[5,54]
[5,55]
[5,56]
[5,57]
[5,58]
[5,59]
[5,60]
[5,61]
[5,62]
[5,63]
[5,64]
[5,65]
[5,66]
[5,67]
[5,68]
[5,69]
[5,70]
[5,71]
[5,72]
[5,73]
[5,74]
[5,75]
[5,76]
[5,77]
[5,78]
[5,79]
[5,80]
[5,81]
[5,82]
[5,83]
[5,84]
[5,85]
[5,86]
[5,87]
[5,88]
[5,89]
[5,90]
[5,91]
[5,92]
[5,93]
[5,94]
[5,95]
[5,96]
[5,97]
[5,98]
[5,99]
[5,100]
[5,101]
[5,102]
[5,103]
[5,104]
[{"$f":"A707+1","v":5},105]
[5,106]
[5,107]
[5,108]
[5,109]
[5,110]
[5,111]
[5,112]
[5,113]
[5,114]
[5,115]
[5,116]
[5,117]
[5,118]
[5,119]
[5,120]
[5,121]
[5,122]
[5,123]
[5,124]
[5,125]
[5,126]
[5,127]
[5,128]
[5,129]
[5,130]
[5,131]
[5,132]
[5,133]
[5,134]
[5,135]
[5,136]
[5,137]
[5,138]
[5,139]
[5,140]
[5,141]
[5,142]
[5,143]
[5,144]
[5,145]
[5,146]
[5,147]
[5,148]
[5,149]
[5,150]
[5,151]
[5,152]
[5,153]
[5,154]
[5,155]
[5,156]
[5,157]
[5,158]
[5,159]
[5,160]
[5,161]
[5,162]
[5,163]
[5,164]
[5,165]
[5,166]
[5,167]
[5,168]
[{"$f":"A771+1","v":5},169]
[5,170]
[5,171]
[5,172]
[5,173]
[5,174]
[5,175]
[5,176]
[5,177]
[5,178]
[5,179]
[5,180]
[5,181]
[5,182]
[5,183]
[5,184]
[5,185]
[5,186]
[5,187]
[5,188]
[5,189]
[5,190]
[5,191]
[5,192]
[5,193]
[5,194]
[5,195]
[5,196]
[5,197]
[5,198]
[5,199]
[5,200]
[6,1]
[6,2]
[6,3]
[6,4]
[6,5]
[6,6]
[6,7]
[6,8]
[6,9]
[6,10]
[6,11]
[6,12]
[6,13]
[6,14]
[6,15]
[6,16]
[6,17]
[6,18]
[6,19]
[6,20]
[6,21]
[6,22]
[6,23]
[6,24]
[6,25]
[6,26]
[6,27]
[6,28]
[6,29]
[6,30]
[6,31]
[6,32]
[{"$f":"A835+1","v":6},33]
[6,34]
[6,35]
[6,36]
[6,37]
[6,38]
[6,39]
[6,40]
[6,41]
[6,42]
[6,43]
[6,44]
[6,45]
[6,46]
[6,47]
[6,48]
[6,49]
[6,50]
[6,51]
[6,52]
[6,53]
[6,54]
[6,55]
[6,56]
[6,57]
[6,58]
[6,59]
[6,60]
[6,61]
[6,62]
[6,63]
[6,64]
[6,65]
[6,66]
[6,67]
[6,68]
[6,69]
[6,70]
[6,71]
[6,72]
[6,73]
[6,74]
[6,75]
[6,76]
[6,77]
[6,78]
[6,79]
[6,80]
[6,81]
[6,82]
[6,83]
[6,84]
[6,85]
[6,86]
[6,87]
[6,88]
[6,89]
[6,90]
[6,91]
[6,92]
[6,93]
[6,94]
[6,95]
[6,96]
[{"$f":"A899+1","v":6},97]
[6,98]
[6,99]
[6,100]
[6,101]
[6,102]
[6,103]
[6,104]
[6,105]
[6,106]
[6,107]
[6,108]
[6,109]
[6,110]
[6,111]
[6,112]
[6,113]
[6,114]
[6,115]
[6,116]
[6,117]
[6,118]
[6,119]
[6,120]
[6,121]
[6,122]
[6,123]
[6,124]
[6,125]
[6,126]
[6,127]
[6,128]
[6,129]
[6,130]
[6,131]
[6,132]
[6,133]
[6,134]
[6,135]
[6,136]
[6,137]
[6,138]
[6,139]
[6,140]
[6,141]
[6,142]
[6,143]
[6,144]
[6,145]
[6,146]
[6,147]
[6,148]
[6,149]
[6,150]
[6,151]
[6,152]
[6,153]
[6,154]
[6,155]
[6,156]
[6,157]
[6,158]
[6,159]
[6,160]
[{"$f":"A963+1","v":6},161]
[6,162]
[6,163]
[6,164]
[6,165]
[6,166]
[6,167]
[6,168]
[6,169]
[6,170]
[6,171]
[6,172]
[6,173]
[6,174]
[6,175]
[6,176]
[6,177]
[6,178]
[6,179]
[6,180]
[6,181]
[6,182]
[6,183]
[6,184]
[6,185]
[6,186]
[6,187]
[6,188]
[6,189]
[6,190]
[6,191]
[6,192]
[6,193]
[6,194]
[6,195]
[6,196]
[6,197]
[6,198]
[6,199]
[6,200]
[7,1]
[7,2]
[7,3]
[7,4]
[7,5]
[7,6]
[7,7]
[7,8]
[7,9]
[7,10]
[7,11]
[7,12]
[7,13]
[7,14]
[7,15]
[7,16]
[7,17]
[7,18]
[7,19]
[7,20]
[7,21]
[7,22]
[7,23]
[7,24]
[{"$f":"A1027+1","v":7},25]
[7,26]
[7,27]
[7,28]
[7,29]
[7,30]
[7,31]
[7,32]
[7,33]
[7,34]
[7,35]
[7,36]
[7,37]
[7,38]
[7,39]
[7,40]
[7,41]
[7,42]
[7,43]
[7,44]
[7,45]
[7,46]
[7,47]
[7,48]
[7,49]
[7,50]
[7,51]
[7,52]
[7,53]
[7,54]
[7,55]
[7,56]
[7,57]
[7,58]
[7,59]
[7,60]
[7,61]
[7,62]
[7,63]
[7,64]
[7,65]
[7,66]
[7,67]
[7,68]
[7,69]
[7,70]
[7,71]
[7,72]
[7,73]
[7,74]
[7,75]
[7,76]
[7,77]
[7,78]
[7,79]
[7,80]
[7,81]
[7,82]
[7,83]
[7,84]
[7,85]
[7,86]
[7,87]
[7,88]
[{"$f":"A1091+1","v":7},89]
[7,90]
[7,91]
[7,92]
[7,93]
[7,94]
[7,95]
[7,96]
[7,97]
[7,98]
[7,99]
[7,100]
[7,101]
[7,102]
[7,103]
[7,104]
[7,105]
[7,106]
[7,107]
[7,108]
[7,109]
[7,110]
[7,111]
[7,112]
[7,113]
[7,114]
[7,115]
[7,116]
[7,117]
[7,118]
[7,119]
[7,120]
[7,121]
[7,122]
[7,123]
[7,124]
[7,125]
[7,126]
[7,127]
[7,128]
[7,129]
[7,130]
[7,131]
[7,132]
[7,133]
[7,134]
[7,135]
[7,136]
[7,137]
[7,138]
[7,139]
[7,140]
[7,141]
[7,142]
[7,143]
[7,144]
[7,145]
[7,146]
[7,147]
[7,148]
[7,149]
[7,150]
[7,151]
[7,152]
[{"$f":"A1155+1","v":7},153]
[7,154]
[7,155]
[7,156]
[7,157]
[7,158]
[7,159]
[7,160]
[7,161]
[7,162]
[7,163]
[7,164]
[7,165]
[7,166]
[7,167]
[7,168]
[7,169]
[7,170]
[7,171]
[7,172]
[7,173]
[7,174]
[7,175]
[7,176]
[7,177]
[7,178]
[7,179]
[7,180]
[7,181]
[7,182]
[7,183]
[7,184]
[7,185]
[7,186]
[7,187]
[7,188]
[7,189]
[7,190]
[7,191]
[7,192]
[7,193]
[7,194]
[7,195]
[7,196]
[7,197]
[7,198]
[7,199]
[7,200]
[8,1]
[8,2]
[8,3]
[8,4]
[8,5]
[8,6]
[8,7]
[8,8]
[8,9]
[8,10]
[8,11]
[8,12]
[8,13]
[8,14]
[8,15]
[8,16]
[{"$f":"A1219+1","v":8},17]
[8,18]
[8,19]
[8,20]
[8,21]
[8,22]
[8,23]
[8,24]
[8,25]
[8,26]
[8,27]
[8,28]
[8,29]
[8,30]
[8,31]
[8,32]
[8,33]
[8,34]
[8,35]
[8,36]
[8,37]
[8,38]
[8,39]
[8,40]
[8,41]
[8,42]
[8,43]
[8,44]
[8,45]
[8,46]
[8,47]
[8,48]
[8,49]
[8,50]
[8,51]
[8,52]
[8,53]
[8,54]
[8,55]
[8,56]
[8,57]
[8,58]
[8,59]
[8,60]
[8,61]
[8,62]
[8,63]
[8,64]
[8,65]
[8,66]
[8,67]
[8,68]
[8,69]
[8,70]
[8,71]
[8,72]
[8,73]
[8,74]
[8,75]
[8,76]
[8,77]
[8,78]
[8,79]
[8,80]
[{"$f":"A1283+1","v":8},81]
[8,82]
[8,83]
[8,84]
[8,85]
[8,86]
[8,87]
[8,88]
[8,89]
[8,90]
[8,91]
[8,92]
[8,93]
[8,94]
[8,95]
[8,96]
[8,97]
[8,98]
[8,99]
[8,100]
[8,101]
[8,102]
[8,103]
[8,104]
[8,105]
[8,106]
[8,107]
[8,108]
[8,109]
[8,110]
[8,111]
[8,112]
[8,113]
[8,114]
[8,115]
[8,116]
[8,117]
[8,118]
[8,119]
[8,120]
[8,121]
[8,122]
[8,123]
[8,124]
[8,125]
[8,126]
[8,127]
[8,128]
[8,129]
[8,130]
[8,131]
[8,132]
[8,133]
[8,134]
[8,135]
[8,136]
[8,137]
[8,138]
[8,139]
[8,140]
[8,141]
[8,142]
[8,143]
[8,144]
[{"$f":"A1347+1","v":8},145]
[8,146]
[8,147]
[8,148]
[8,149]
[8,150]
[8,151]
[8,152]
[8,153]
[8,154]
[8,155]
[8,156]
[8,157]
[8,158]
[8,159]
[8,160]
[8,161]
[8,162]
[8,163]
[8,164]
[8,165]
[8,166]
[8,167]
[8,168]
[8,169]
[8,170]
[8,171]
[8,172]
[8,173]
[8,174]
[8,175]
[8,176]
[8,177]
[8,178]
[8,179]
[8,180]
[8,181]
[8,182]
[8,183]
[8,184]
[8,185]
[8,186]
[8,187]
[8,188]
[8,189]
[8,190]
[8,191]
[8,192]
[8,193]
[8,194]
[8,195]
[8,196]
[8,197]
[8,198]
[8,199]
[8,200]
[9,1]
[9,2]
[9,3]
[9,4]
[9,5]
[9,6]
[9,7]
[9,8]
[{"$f":"A1411+1","v":9},9]
[9,10]
[9,11]
[9,12]
[9,13]
[9,14]
[9,15]
[9,16]
[9,17]
[9,18]
[9,19]
[9,20]
[9,21]
[9,22]
[9,23]
[9,24]
[9,25]
[9,26]
[9,27]
[9,28]
[9,29]
[9,30]
[9,31]
[9,32]
[9,33]
[9,34]
[9,35]
[9,36]
[9,37]
[9,38]
[9,39]
[9,40]
[9,41]
[9,42]
[9,43]
[9,44]
[9,45]
[9,46]
[9,47]
[9,48]
[9,49]
[9,50]
[9,51]
[9,52]
[9,53]
[9,54]
[9,55]
[9,56]
[9,57]
[9,58]
[9,59]
[9,60]
[9,61]
[9,62]
[9,63]
[9,64]
[9,65]
[9,66]
[9,67]
[9,68]
[9,69]
[9,70]
[9,71]
[9,72]
[{"$f":"A1475+1","v":9},73]
[9,74]
[9,75]
[9,76]
[9,77]
[9,78]
[9,79]
[9,80]
[9,81]
[9,82]
[9,83]
[9,84]
[9,85]
[9,86]
[9,87]
[9,88]
[9,89]
[9,90]
[9,91]
[9,92]
[9,93]
[9,94]
[9,95]
[9,96]
[9,97]
[9,98]
[9,99]
[9,100]
[9,101]
[9,102]
[9,103]
[9,104]
[9,105]
[9,106]
[9,107]
[9,108]
[9,109]
[9,110]
[9,111]
[9,112]
[9,113]
[9,114]
[9,115]
[9,116]
[9,117]
[9,118]
[9,119]
[9,120]
[9,121]
[9,122]
[9,123]
[9,124]
[9,125]
[9,126]
[9,127]
[9,128]
[9,129]
[9,130]
[9,131]
[9,132]
[9,133]
[9,134]
[9,135]
[9,136]
[{"$f":"A1539+1","v":9},137]
[9,138]
[9,139]
[9,140]
[9,141]
[9,142]
[9,143]
[9,144]
[9,145]
[9,146]
[9,147]
[9,148]
[9,149]
[9,150]
[9,151]
[9,152]
[9,153]
[9,154]
[9,155]
[9,156]
[9,157]
[9,158]
[9,159]
[9,160]
[9,161]
[9,162]
[9,163]
[9,164]
[9,165]
[9,166]
[9,167]
[9,168]
[9,169]
[9,170]
[9,171]
[9,172]
[9,173]
[9,174]
[9,175]
[9,176]
[9,177]
[9,178]
[9,179]
[9,180]
[9,181]
[9,182]
[9,183]
[9,184]
[9,185]
[9,186]
[9,187]
[9,188]
[9,189]
[9,190]
[9,191]
[9,192]
[9,193]
[9,194]
[9,195]
[9,196]
[9,197]
[9,198]
[9,199]
[9,200]
[{"$f":"A1603+1","v":10},1]
[10,2]
[10,3]
[10,4]
[10,5]
[10,6]
[10,7]
[10,8]
[10,9]
[10,10]
[10,11]
[10,12]
[10,13]
[10,14]
[10,15]
[10,16]
[10,17]
[10,18]
[10,19]
[10,20]
[10,21]
[10,22]
[10,23]
[10,24]
[10,25]
[10,26]
[10,27]
[10,28]
[10,29]
[10,30]
[10,31]
[10,32]
[10,33]
[10,34]
[10,35]
[10,36]
[10,37]
[10,38]
[10,39]
[10,40]
[10,41]
[10,42]
[10,43]
[10,44]
[10,45]
[10,46]
[10,47]
[10,48]
[10,49]
[10,50]
[10,51]
[10,52]
[10,53]
[10,54]
[10,55]
[10,56]
[10,57]
[10,58]
[10,59]
[10,60]
[10,61]
[10,62]
[10,63]
[10,64]
[{"$f":"A1667+1","v":10},65]
[10,66]
[10,67]
[10,68]
[10,69]
[10,70]
[10,71]
[10,72]
[10,73]
[10,74]
[10,75]
[10,76]
[10,77]
[10,78]
[10,79]
[10,80]
[10,81]
[10,82]
[10,83]
[10,84]
[10,85]
[10,86]
[10,87]
[10,88]
[10,89]
[10,90]
[10,91]
[10,92]
[10,93]
[10,94]
[10,95]
[10,96]
[10,97]
[10,98]
[10,99]
[10,100]
[10,101]
[10,102]
[10,103]
[10,104]
[10,105]
[10,106]
[10,107]
[10,108]
[10,109]
[10,110]
[10,111]
[10,112]
[10,113]
[10,114]
[10,115]
[10,116]
[10,117]
[10,118]
[10,119]
[10,120]
[10,121]
[10,122]
[10,123]
[10,124]
[10,125]
[10,126]
[10,127]
[10,128]
[{"$f":"A1731+1","v":10},129]
[10,130]
[10,131]
[10,132]
[10,133]
[10,134]
[10,135]
[10,136]
[10,137]
[10,138]
[10,139]
[10,140]
[10,141]
[10,142]
[10,143]
[10,144]
[10,145]
[10,146]
[10,147]
[10,148]
[10,149]
[10,150]
[10,151]
[10,152]
[10,153]
[10,154]
[10,155]
[10,156]
[10,157]
[10,158]
[10,159]
[10,160]
[10,161]
[10,162]
[10,163]
[10,164]
[10,165]
[10,166]
[10,167]
[10,168]
[10,169]
[10,170]
[10,171]
[10,172]
[10,173]
[10,174]
[10,175]
[10,176]
[10,177]
[10,178]
[10,179]
[10,180]
[10,181]
[10,182]
[10,183]
[10,184]
[10,185]
[10,186]
[10,187]
[10,188]
[10,189]
[10,190]
[10,191]
[10,192]
[{"$f":"A1795+1","v":10},193]
[10,194]
[10,195]
[10,196]
[10,197]
[10,198]
[10,199]
[10,200]
[11,1]
[11,2]
[11,3]
[11,4]
[11,5]
[11,6]
[11,7]
[11,8]
[11,9]
[11,10]
[11,11]
[11,12]
[11,13]
[11,14]
[11,15]
[11,16]
[11,17]
[11,18]
[11,19]
[11,20]
[11,21]
[11,22]
[11,23]
[11,24]
[11,25]
[11,26]
[11,27]
[11,28]
[11,29]
[11,30]
[11,31]
[11,32]
[11,33]
[11,34]
[11,35]
[11,36]
[11,37]
[11,38]
[11,39]
[11,40]
[11,41]
[11,42]
[11,43]
[11,44]
[11,45]
[11,46]
[11,47]
[11,48]
[11,49]
[11,50]
[11,51]
[11,52]
[11,53]
[11,54]
[11,55]
[11,56]
[{"$f":"A1859+1","v":11},57]
[11,58]
[11,59]
[11,60]
[11,61]
[11,62]
[11,63]
[11,64]
[11,65]
[11,66]
[11,67]
[11,68]
[11,69]
[11,70]
[11,71]
[11,72]
[11,73]
[11,74]
[11,75]
[11,76]
[11,77]
[11,78]
[11,79]
[11,80]
[11,81]
[11,82]
[11,83]
[11,84]
[11,85]
[11,86]
[11,87]
[11,88]
[11,89]
[11,90]
[11,91]
[11,92]
[11,93]
[11,94]
[11,95]
[11,96]
[11,97]
[11,98]
[11,99]
[11,100]
[11,101]
[11,102]
[11,103]
[11,104]
[11,105]
[11,106]
[11,107]
[11,108]
[11,109]
[11,110]
[11,111]
[11,112]
[11,113]
[11,114]
[11,115]
[11,116]
[11,117]
[11,118]
[11,119]
[11,120]
[{"$f":"A1923+1","v":11},121]
[11,122]
[11,123]
[11,124]
[11,125]
[11,126]
[11,127]
[11,128]
[11,129]
[11,130]
[11,131]
[11,132]
[11,133]
[11,134]
[11,135]
[11,136]
[11,137]
[11,138]
[11,139]
[11,140]
[11,141]
[11,142]
[11,143]
[11,144]
[11,145]
[11,146]
[11,147]
[11,148]
[11,149]
[11,150]
[11,151]
[11,152]
[11,153]
[11,154]
[11,155]
[11,156]
[11,157]
[11,158]
[11,159]
[11,160]
[11,161]
[11,162]
[11,163]
[11,164]
[11,165]
[11,166]
[11,167]
[11,168]
[11,169]
[11,170]
[11,171]
[11,172]
[11,173]
[11,174]
[11,175]
[11,176]
[11,177]
[11,178]
[11,179]
[11,180]
[11,181]
[11,182]
[11,183]
[11,184]
[{"$f":"A1987+1","v":11},185]
[11,186]
[11,187]
[11,188]
[11,189]
[11,190]
[11,191]
[11,192]
[11,193]
[11,194]
[11,195]
[11,196]
[11,197]
[11,198]
[11,199]
[11,200]
[12,1]
[12,2]
[12,3]
[12,4]
[12,5]
[12,6]
[12,7]
[12,8]
[12,9]
[12,10]
[12,11]
[12,12]
[12,13]
[12,14]
[12,15]
[12,16]
[12,17]
[12,18]
[12,19]
[12,20]
[12,21]
[12,22]
[12,23]
[12,24]
[12,25]
[12,26]
[12,27]
[12,28]
[12,29]
[12,30]
[12,31]
[12,32]
[12,33]
[12,34]
[12,35]
[12,36]
[12,37]
[12,38]
[12,39]
[12,40]
[12,41]
[12,42]
[12,43]
[12,44]
[12,45]
[12,46]
[12,47]
[12,48]
[{"$f":"A2051+1","v":12},49]
[12,50]
[12,51]
[12,52]
[12,53]
[12,54]
[12,55]
[12,56]
[12,57]
[12,58]
[12,59]
[12,60]
[12,61]
[12,62]
[12,63]
[12,64]
[12,65]
[12,66]
[12,67]
[12,68]
[12,69]
[12,70]
[12,71]
[12,72]
[12,73]
[12,74]
[12,75]
[12,76]
[12,77]
[12,78]
[12,79]
[12,80]
[12,81]
[12,82]
[12,83]
[12,84]
[12,85]
[12,86]
[12,87]
[12,88]
[12,89]
[12,90]
[12,91]
[12,92]
[12,93]
[12,94]
[12,95]
[12,96]
[12,97]
[12,98]
[12,99]
[12,100]
[12,101]
[12,102]
[12,103]
[12,104]
[12,105]
[12,106]
[12,107]
[12,108]
[12,109]
[12,110]
[12,111]
[12,112]
[{"$f":"A2115+1","v":12},113]
[12,114]
[12,115]
[12,116]
[12,117]
[12,118]
[12,119]
[12,120]
[12,121]
[12,122]
[12,123]
[12,124]
[12,125]
[12,126]
[12,127]
[12,128]
[12,129]
[12,130]
[12,131]
[12,132]
[12,133]
[12,134]
[12,135]
[12,136]
[12,137]
[12,138]
[12,139]
[12,140]
[12,141]
[12,142]
[12,143]
[12,144]
[12,145]
[12,146]
[12,147]
[12,148]
[12,149]
[12,150]
[12,151]
[12,152]
[12,153]
[12,154]
[12,155]
[12,156]
[12,157]
[12,158]
[12,159]
[12,160]
[12,161]
[12,162]
[12,163]
[12,164]
[12,165]
[12,166]
[12,167]
[12,168]
[12,169]
[12,170]
[12,171]
[12,172]
[12,173]
[12,174]
[12,175]
[12,176]
[{"$f":"A2179+1","v":12},177]
[12,178]
[12,179]
[12,180]
[12,181]
[12,182]
[12,183]
[12,184]
[12,185]
[12,186]
[12,187]
[12,188]
[12,189]
[12,190]
[12,191]
[12,192]
[12,193]
[12,194]
[12,195]
[12,196]
[12,197]
[12,198]
[12,199]
[12,200]
[13,1]
[13,2]
[13,3]
[13,4]
[13,5]
[13,6]
[13,7]
[13,8]
[13,9]
[13,10]
[13,11]
[13,12]
[13,13]
[13,14]
[13,15]
[13,16]
[13,17]
[13,18]
[13,19]
[13,20]
[13,21]
[13,22]
[13,23]
[13,24]
[13,25]
[13,26]
[13,27]
[13,28]
[13,29]
[13,30]
[13,31]
[13,32]
[13,33]
[13,34]
[13,35]
[13,36]
[13,37]
[13,38]
[13,39]
[13,40]
[13,41]
[13,42]
[13,43]
[13,44]
[13,45]
[13,46]
[13,47]
[13,48]
[13,49]
[13,50]
[13,51]
[13,52]
[13,53]
[13,54]
[13,55]
[13,56]
[13,57]
[13,58]
[13,59]
[13,60]
[13,61]
[13,62]
[13,63]
[13,64]
[13,65]
[13,66]
[13,67]
[13,68]
[13,69]
[13,70]
[13,71]
[13,72]
[13,73]
[13,74]
[13,75]
[13,76]
[13,77]
[13,78]
[13,79]
[13,80]
[13,81]
[13,82]
[13,83]
[13,84]
[13,85]
[13,86]
[13,87]
[13,88]
[13,89]
[13,90]
[13,91]
[13,92]
[13,93]
[13,94]
[13,95]
[13,96]
[13,97]
[13,98]
[13,99]
[13,100]
[13,101]
[13,102]
[13,103]
[13,104]
[13,105]
[13,106]
[13,107]
[13,108]
[13,109]
[13,110]
[13,111]
[13,112]
[13,113]
[13,114]
[13,115]
[13,116]
[13,117]
[13,118]
[13,119]
[13,120]
[13,121]
[13,122]
[13,123]
[13,124]
[13,125]
[13,126]
[13,127]
[13,128]
[13,129]
[13,130]
[13,131]
[13,132]
[13,133]
[13,134]
[13,135]
[13,136]
[13,137]
[13,138]
[13,139]
[13,140]
[13,141]
[13,142]
[13,143]
[13,144]
[13,145]
[13,146]
[13,147]
[13,148]
[13,149]
[13,150]
[13,151]
[13,152]
[13,153]
[13,154]
[13,155]
[13,156]
[13,157]
[13,158]
[13,159]
[13,160]
[13,161]
[13,162]
[13,163]
[13,164]
[13,165]
[13,166]
[13,167]
[13,168]
[13,169]
[13,170]
[13,171]
[13,172]
[13,173]
[13,174]
[13,175]
[13,176]
[13,177]
[13,178]
[13,179]
[13,180]
[13,181]
[13,182]
[13,183]
[13,184]
[13,185]
[13,186]
[13,187]
[13,188]
[13,189]
[13,190]
[13,191]
[13,192]
[13,193]
[13,194]
[13,195]
[13,196]
[13,197]
[13,198]
[13,199]
[13,200]
[18,1]
[18,2]
[18,3]
[18,4]
[18,5]
[18,6]
[18,7]
[18,8]
[18,9]
[18,10]
[18,11]
[18,12]
[18,13]
[18,14]
[18,15]
[18,16]
[18,17]
[18,18]
[18,19]
[18,20]
[18,21]
[18,22]
[18,23]
[18,24]
[18,25]
[18,26]
[18,27]
[18,28]
[18,29]
[18,30]
[18,31]
[18,32]
[18,33]
[18,34]
[18,35]
[18,36]
[18,37]
[18,38]
[18,39]
[18,40]
[18,41]
[18,42]
[18,43]
[18,44]
[18,45]
[18,46]
[18,47]
[18,48]
[18,49]
[18,50]
[18,51]
[18,52]
[18,53]
[18,54]
[18,55]
[18,56]
[18,57]
[18,58]
[18,59]
[18,60]
[18,61]
[18,62]
[18,63]
[18,64]
[18,65]
[18,66]
[18,67]
[18,68]
[18,69]
[18,70]
[18,71]
[18,72]
[18,73]
[18,74]
[18,75]
[18,76]
[18,77]
[18,78]
[18,79]
[18,80]
[18,81]
[18,82]
[18,83]
[18,84]
[18,85]
[18,86]
[18,87]
[18,88]
[18,89]
[18,90]
[18,91]
[18,92]
[18,93]
[18,94]
[18,95]
[18,96]
[18,97]
[18,98]
[18,99]
[18,100]
[18,101]
[18,102]
[18,103]
[18,104]
[18,105]
[18,106]
[18,107]
[18,108]
[18,109]
[18,110]
[18,111]
[18,112]
[18,113]
[18,114]
[18,115]
[18,116]
[18,117]
[18,118]
[18,119]
[18,120]
[18,121]
[18,122]
[18,123]
[18,124]
[18,125]
[18,126]
[18,127]
[18,128]
[18,129]
[18,130]
[18,131]
[18,132]
[18,133]
[18,134]
[18,135]
[18,136]
[18,137]
[18,138]
[18,139]
[18,140]
[18,141]
[18,142]
[18,143]
[18,144]
[18,145]
[18,146]
[18,147]
[18,148]
[18,149]
[18,150]
[18,151]
[18,152]
[18,153]
[18,154]
[18,155]
[18,156]
[18,157]
[18,158]
[18,159]
[18,160]
[18,161]
[18,162]
[18,163]
[18,164]
[18,165]
[18,166]
[18,167]
[18,168]
[18,169]
[18,170]
[18,171]
[18,172]
[18,173]
[18,174]
[18,175]
[18,176]
[18,177]
[18,178]
[18,179]
[18,180]
[18,181]
[18,182]
[18,183]
[18,184]
[18,185]
[18,186]
[18,187]
[18,188]
[18,189]
[18,190]
[18,191]
[18,192]
[18,193]
[18,194]
[18,195]
[18,196]
[18,197]
[18,198]
[18,199]
[18,200]

{"sheet":"Full_Period_References","index":3,"n_rows":14,"n_cols":5,"rows_kept":14,"cut":false,"hidden":true,"merged":[]}
["PERIOD TYPE","PK_PERIODID","YEAR NUMBER","PERIOD NAME","CALENDAR YEAR NUMBER"]
["Month",7901,"2010-11","April",2016]
["Month",10083,"2010-11","May",2016]
["Month",10084,"2010-11","June",2016]
["Month",10085,"2010-11","July",2016]
["Month",10086,"2010-11","August",2016]
["Month",10087,"2010-11","September",2016]
["Month",10088,"2010-11","October",2016]
["Month",10089,"2010-11","November",2016]
["Month",10090,"2010-11","December",2016]
["Month",10091,"2010-11","January",2017]
["Month",10092,"2010-11","February",2011]
["Month",10093,"2010-11","March",2011]
["Month",10094,"2011-12","April",2011]

{"sheet":"Trust - Frontsheet","index":4,"n_rows":5186,"n_cols":51,"rows_kept":1125,"cut":true,"hidden":false,"merged":[[10,19,10,22],[11,19,12,19],[11,20,12,20],[11,21,12,21],[11,22,12,22],[12,0,12,1],[11,2,11,3],[11,4,12,4],[11,7,11,8],[11,11,11,12],[2,9,2,14],[10,2,10,3],[9,2,9,3],[4,4,4,12],[10,7,10,10],[11,13,11,14],[11,5,11,6],[10,11,10,14],[6,4,6,12],[8,4,8,12],[11,9,11,10],[10,15,10,16],[10,17,10,18],[11,16,12,16],[11,17,12,17],[11,18,12,18],[11,15,12,15]],"bounds":{"rows_first":500,"rows_last":125,"rows_between":500,"halvings":2}}
[{"$f":"IF(VLOOKUP($B$2,Index!$N:$O,2,0)=\"Y\",\"Y\",\"N\")","v":"Y"},null,null,null,null,null,"Fill rate indicator return",null,null,null,null,null,null,null,null,null,null,null,null,null,null,null,null,null,null,null,null,null,null,null,null,null,null,null,null,null,null,null,null,null,null,null,null,null,"Concat","Clinic code","Clinic list","Site code","Site List","Parent Org"]
["Org:",{"$f":"Control_Panel!OrgCodeSelection","v":"RWD"},{"$f":"IF(Control_Panel!OrgNameSelection=\"\",\"\",Control_Panel!OrgNameSelection)","v":"United Lincolnshire Hospitals NHS Trust"},null,null,"Staffing: Nursing, midwifery and care staff",null,null,null,null,null,null,null,null,null,null,null,null,null,null,null,null,null,null,null,null,null,null,null,null,null,null,null,null,null,null,null,null,null,null,null,null,null,null,{"$f":"CONCATENATE(LEFT(AT2, 3),AU2)","v":"AXGWILTSHIRE HEALTH & CARE (CHIPPENHAM COMMUNITY HOSPITAL)"},"AXG01","WILTSHIRE HEALTH & CARE (CHIPPENHAM COMMUNITY HOSPITAL)","AXG01","WILTSHIRE HEALTH & CARE (CHIPPENHAM COMMUNITY HOSPITAL)",{"$f":"LEFT(AV2,3)","v":"AXG"}]
["Period:",{"$f":"IF(Control_Panel!PeriodSelection=\"\",\"\",Control_Panel!PeriodSelection)","v":"December_2016-17"},null,null,null,null,null,null,null,null,null,null,null,null,null,null,null,null,null,null,null,null,null,null,null,null,null,null,null,null,null,null,null,null,null,null,null,null,null,null,null,null,null,null,{"$f":"CONCATENATE(LEFT(AT3, 3),AU3)","v":"AXGSAVERNAKE COMMUNITY HOSPITAL"},"AXG02","SAVERNAKE COMMUNITY HOSPITAL","AXG02","SAVERNAKE COMMUNITY HOSPITAL",{"$f":"LEFT(AV3,3)","v":"AXG"}]
[null,null,null,null,null,null,null,null,null,null,null,null,null,null,null,null,null,null,null,null,null,null,null,null,null,null,null,null,null,null,null,null,null,null,null,null,null,null,null,null,null,null,null,null,{"$f":"CONCATENATE(LEFT(AT4, 3),AU4)","v":"AXGWARMINSTER COMMUNITY HOSPITAL"},"AXG03","WARMINSTER COMMUNITY HOSPITAL","AXG03","WARMINSTER COMMUNITY HOSPITAL",{"$f":"LEFT(AV4,3)","v":"AXG"}]
[null,null,null,null,"Please provide the URL to the page on your trust website where your staffing information is available",null,null,null,null,null,null,null,null,null,null,null,null,null,null,null,null,null,null,null,null,null,null,null,null,null,null,null,null,null,null,null,null,null,null,null,null,null,null,null,{"$f":"CONCATENATE(LEFT(AT5, 3),AU5)","v":"NHMALDEBURGH COMMUNITY HOSPITAL"},"NHM02","ALDEBURGH COMMUNITY HOSPITAL","NHM02","ALDEBURGH COMMUNITY HOSPITAL",{"$f":"LEFT(AV5,3)","v":"NHM"}]
[null,null,null,null,"(Please can you ensure that the URL you attach to the spreadsheet is correct and links to the correct web page and include 'http://' in your URL)",null,null,null,null,null,null,null,null,null,null,null,null,null,null,null,null,null,null,null,null,null,null,null,null,null,null,null,null,null,null,null,null,null,null,null,null,null,null,null,"NHMBLUEBIRD LODGE ","NHM03","BLUEBIRD LODGE ","NHM03","BLUEBIRD LODGE ","NHM"]
[null,null,{"$f":"IF(K415=1,\"MISSING SITE CODE - RESELECT VALID SITE NAME\",\"\")","v":""},null,"http://www.ulh.nhs.uk/for_patients/staffing",null,null,null,null,null,null,null,null,null,null,null,null,null,null,null,null,null,null,null,null,null,null,null,null,null,null,null,null,null,null,null,null,null,null,null,null,null,null,null,"NHMFELIXSTOWE COMMUNITY HOSPITAL","NHM05","FELIXSTOWE COMMUNITY HOSPITAL","NHM05","FELIXSTOWE COMMUNITY HOSPITAL","NHM"]
[null,null,null,null,"Comments",null,null,null,null,null,null,null,null,null,null,null,null,null,null,null,null,null,null,null,null,null,null,null,null,null,null,null,null,null,null,null,null,null,null,null,null,null,null,null,"NHMGLASTONBURY COURT","NHM26","GLASTONBURY COURT","NHM26","GLASTONBURY COURT","NHM"]
[null,null,null,null,null,null,null,null,null,null,null,null,null,null,null,null,null,null,null,null,null,null,null,null,null,null,null,null,null,null,null,null,null,null,null,null,null,null,null,null,null,null,null,null,"NHMNEWMARKET COMMUNITY HOSPITAL","NHM04","NEWMARKET COMMUNITY HOSPITAL","NHM04","NEWMARKET COMMUNITY HOSPITAL","NHM"]
[{"$f":"IF(D14=\"\",1,0)","v":0},null,{"$f":"IF(B415=1,\"At least one Hospital Site Name entered is not recognised\",\"\")","v":""},null,null,{"$f":"IF(I415=1,\"Invalid Specialty 1 selection\",\"\")","v":""},{"$f":"IF(J415=1,\"Invalid Specialty 2 selection\",\"\")","v":""},null,null,null,null,null,null,null,null,null,null,null,null,null,null,null,null,null,null,null,null,null,null,null,null,null,null,null,null,null,null,null,null,null,null,null,null,null,"NLXCHIPPENHAM COMMUNITY HOSPITAL","NLX17","CHIPPENHAM COMMUNITY HOSPITAL","NLX17","CHIPPENHAM COMMUNITY HOSPITAL","NLX"]
[null,null,{"$f":"IF(C415=1,\"Trust is not Responsible for at least 1 site\",\"\")","v":""},null,"Only complete sites your organisation is accountable for ",null,null,"Day",null,null,null,"Night",null,null,null,"Day",null,"Night",null,"Care Hours Per Patient Day (CHPPD)",null,null,null,null,null,null,null,null,null,null,null,null,null,null,null,null,null,null,null,null,null,null,null,null,"NLXCOSSHAM HOSPITAL","NLX23","COSSHAM HOSPITAL","NLX23","COSSHAM HOSPITAL","NLX"]
[null,null,"Hospital Site Details",null,"Ward name","Main 2 Specialties on each ward",null,"Registered midwives/nurses",null,"Care Staff",null,"Registered midwives/nurses",null,"Care Staff",null,"Average fill rate - registered nurses/midwives  (%)","Average fill rate - care staff (%)","Average fill rate - registered nurses/midwives  (%)","Average fill rate - care staff (%)","Cumulative count over the month of patients at 23:59 each day","Registered midwives/ nurses","Care Staff","Overall",null,null,null,null,null,null,null,null,null,null,null,null,null,null,null,null,null,null,null,null,null,"NLXDEVIZES COMMUNITY HOSPITAL","NLX18","DEVIZES COMMUNITY HOSPITAL","NLX18","DEVIZES COMMUNITY HOSPITAL","NLX"]
["Validation alerts (see control panel)",null,"Site code *The Site code is automatically populated when a Site name is selected","Hospital Site name",null,"Specialty 1","Specialty 2","Total monthly planned staff hours","Total monthly actual staff hours","Total monthly planned staff hours","Total monthly actual staff hours","Total monthly planned staff hours","Total monthly actual staff hours","Total monthly planned staff hours","Total monthly actual staff hours",null,null,null,null,null,null,null,null,null,"Specialties",null,null,null,null,null,null,null,null,null,null,null,null,null,null,null,null,null,null,null,"NLXGREYSTONES","NLX12","GREYSTONES","NLX12","GREYSTONES","NLX"]
[{"$f":"IF(L215=1,\"No Site Selected\",IF(M215=1,\"No Ward Name\",\"\"))","v":""},{"$f":"IF(SUM(D215:F215,L215:M215)>0,1,IF(X215>0,2,0))","v":2},{"$f":"IF(ISNA(VLOOKUP($B$2&D14,$AS:$AT,2,FALSE)),\"\",VLOOKUP($B$2&D14,$AS:$AT,2,FALSE))","v":"RWDLP"},"Grantham and District Hospital - RWDLP","Ward 1","300 - GENERAL MEDICINE","320 - CARDIOLOGY",1385,1479.7500000000002,1392.25,1230.6666666666667,1023,1036,682,614.5,{"$f":"IF(ISERROR(IF($H14=\"\",\"\",I14/H14)),\"-\",(IF($H14=\"\",\"\",I14/H14)))","v":1.0684115523465705},{"$f":"IF(ISERROR(IF(J14=\"\",\"\",K14/J14)),\"-\",(IF(J14=\"\",\"\",K14/J14)))","v":0.88394086311127074},{"$f":"IF(ISERROR(IF(L14=\"\",\"\",M14/L14)),\"-\",(IF(L14=\"\",\"\",M14/L14)))","v":1.0127077223851417},{"$f":"IF(ISERROR(IF(N14=\"\",\"\",O14/N14)),\"-\",IF(N14=\"\",\"\",O14/N14))","v":0.90102639296187681},706,{"$f":"IF(ISERROR(IF($T14=\"\",\"\",SUM(I14,M14)/$T14)),\"-\",(IF($T14=\"\",\"\",SUM(I14,M14)/$T14)))","v":3.5633852691218131},{"$f":"IF(ISERROR(IF($T14=\"\",\"\",SUM(K14,O14)/$T14)),\"-\",(IF($T14=\"\",\"\",SUM(K14,O14)/$T14)))","v":2.6135505193578847},{"$f":"IF(ISERROR(IF($T14=\"\",\"\",SUM(I14,K14,M14,O14)/$T14)),\"-\",(IF($T14=\"\",\"\",SUM(I14,K14,M14,O14)/$T14)))","v":6.1769357884796978},null,"100 - GENERAL SURGERY",null,null,null,null,null,null,null,null,null,null,null,null,null,null,null,null,null,null,null,"NLXHANHAM HEALTH","NLX27","HANHAM HEALTH","NLX27","HANHAM HEALTH","NLX"]
[{"$f":"IF(L216=1,\"No Site Selected\",IF(M216=1,\"No Ward Name\",\"\"))","v":""},{"$f":"IF(SUM(D216:F216,L216:M216)>0,1,IF(X216>0,2,0))","v":0},"RWDLP","Grantham and District Hospital - RWDLP","Ward 2","100 - GENERAL SURGERY","110 - TRAUMA & ORTHOPAEDICS",1399,1349.5,1173,1040.5,1023,963.5,682,589,{"$f":"IF(ISERROR(IF($H15=\"\",\"\",I15/H15)),\"-\",(IF($H15=\"\",\"\",I15/H15)))","v":0.96461758398856323},{"$f":"IF(ISERROR(IF(J15=\"\",\"\",K15/J15)),\"-\",(IF(J15=\"\",\"\",K15/J15)))","v":0.88704177323103151},{"$f":"IF(ISERROR(IF(L15=\"\",\"\",M15/L15)),\"-\",(IF(L15=\"\",\"\",M15/L15)))","v":0.94183773216031286},{"$f":"IF(ISERROR(IF(N15=\"\",\"\",O15/N15)),\"-\",IF(N15=\"\",\"\",O15/N15))","v":0.86363636363636365},714,{"$f":"IF(ISERROR(IF($T15=\"\",\"\",SUM(I15,M15)/$T15)),\"-\",(IF($T15=\"\",\"\",SUM(I15,M15)/$T15)))","v":3.2394957983193278},{"$f":"IF(ISERROR(IF($T15=\"\",\"\",SUM(K15,O15)/$T15)),\"-\",(IF($T15=\"\",\"\",SUM(K15,O15)/$T15)))","v":2.2822128851540615},{"$f":"IF(ISERROR(IF($T15=\"\",\"\",SUM(I15,K15,M15,O15)/$T15)),\"-\",(IF($T15=\"\",\"\",SUM(I15,K15,M15,O15)/$T15)))","v":5.5217086834733893},null,"101 - UROLOGY",null,null,null,null,null,null,null,null,null,null,null,null,null,null,null,null,null,null,null,"NLXHOMELINK & COMMUNITY OPTIONS","NLX14","HOMELINK & COMMUNITY OPTIONS","NLX14","HOMELINK & COMMUNITY OPTIONS","NLX"]
[{"$f":"IF(L217=1,\"No Site Selected\",IF(M217=1,\"No Ward Name\",\"\"))","v":""},{"$f":"IF(SUM(D217:F217,L217:M217)>0,1,IF(X217>0,2,0))","v":2},"RWDLP","Grantham and District Hospital - RWDLP","Ward 6","300 - GENERAL MEDICINE","301 - GASTROENTEROLOGY",1178.8,1140.9166666666667,966,941.5,682,847,682,649,0.96786279832598132,0.97463768115942029,1.2419354838709677,0.95161290322580649,430,4.6230620155038764,3.6988372093023254,8.3218992248062023,null,"103-BREAST SURGERY ",null,null,null,null,null,null,null,null,null,null,null,null,null,null,null,null,null,null,null,"NLXMELKSHAM COMMUNITY HOSPITAL","NLX19","MELKSHAM COMMUNITY HOSPITAL","NLX19","MELKSHAM COMMUNITY HOSPITAL","NLX"]
[{"$f":"IF(L218=1,\"No Site Selected\",IF(M218=1,\"No Ward Name\",\"\"))","v":""},2,"RWDLP","Grantham and District Hospital - RWDLP","EAU","300 - GENERAL MEDICINE","",1955.8333333333335,1926.45,804.4666666666667,716.48333333333335,1023,1199,682,580.5,0.98497656582871751,0.89063147426866662,1.1720430107526882,0.85117302052785926,731,4.2755813953488371,1.7742590059279526,6.0498404012767901,null,"110 - TRAUMA & ORTHOPAEDICS",null,null,null,null,null,null,null,null,null,null,null,null,null,null,null,null,null,null,null,"NLXPAULTON MEMORIAL HOSPITAL","NLX02","PAULTON MEMORIAL HOSPITAL","NLX02","PAULTON MEMORIAL HOSPITAL","NLX","Selected Org:"]
["",2,"RWDLP","Grantham and District Hospital - RWDLP","Acute Care Unit/High Dependency Unit","192 - CRITICAL CARE MEDICINE","",1195.25,1188,217,170,1023,996.25,0,0,0.99393432336331311,0.78341013824884798,0.97385141739980452,"-",151,14.465231788079469,1.1258278145695364,15.591059602649006,null,"120 - ENT",null,null,null,null,null,null,null,null,null,null,null,null,null,null,null,null,null,null,null,"NLXST MARTINS HOSPITAL","NLX01","ST MARTINS HOSPITAL","NLX01","ST MARTINS HOSPITAL","NLX",{"$f":"$B$2","v":"RWD"}]
["",2,"RWDDA","Lincoln County Hospital - RWDDA","Ashby","314 - REHABILITATION","",799.5,752.5,589.29999999999995,773,682,670,341,473,0.94121325828642899,1.311725776344816,0.98240469208211145,1.3870967741935485,362,3.9295580110497239,3.4419889502762433,7.3715469613259668,null,"130 - OPHTHALMOLOGY",null,null,null,null,null,null,null,null,null,null,null,null,null,null,null,null,null,null,null,"NLXTHORNBURY HOSPITAL","NLX22","THORNBURY HOSPITAL","NLX22","THORNBURY HOSPITAL","NLX"]
["",0,"RWDDA","Lincoln County Hospital - RWDDA","Bardney","502 - GYNAECOLOGY","",1156,1076.25,774.5,684.25,677.5,638.16666666666674,682,563.5,0.93101211072664358,0.88347320852162681,0.94194341943419446,0.82624633431085048,236,7.2644774011299438,5.2870762711864403,12.551553672316386,null,"140 - ORAL SURGERY",null,null,null,null,null,null,null,null,null,null,null,null,null,null,null,null,null,null,null,"NLXTROWBRIDGE COMMUNITY HOSPITAL","NLX20","TROWBRIDGE COMMUNITY HOSPITAL","NLX20","TROWBRIDGE COMMUNITY HOSPITAL","NLX","Match:"]
["",2,"RWDDA","Lincoln County Hospital - RWDDA","Branston","502 - GYNAECOLOGY","",1325.5,1177.5,506,445,682,682.5,341,318.5,0.88834402112410416,0.87944664031620556,1.000733137829912,0.93401759530791784,221,8.4162895927601813,3.4547511312217196,11.871040723981901,null,"141 - RESTORATIVE DENTISTRY",null,null,null,null,null,null,null,null,null,null,null,null,null,null,null,null,null,null,null,"NQ1ACE (THE CRESCENT, COLCHESTER)","NQ114","ACE (THE CRESCENT, COLCHESTER)","NQ114","ACE (THE CRESCENT, COLCHESTER)","NQ1",{"$f":"MATCH($AY$18,$AX$1:$AX$5071,0)","v":3097}]
["",2,"RWDDA","Lincoln County Hospital - RWDDA","Burton","430 - GERIATRIC MEDICINE","361 - NEPHROLOGY",1305,1310,1174,1208.5,682,686,682,655.5,1.0038314176245211,1.0293867120954003,1.0058651026392962,0.96114369501466279,663,3.0105580693815988,2.8114630467571642,5.8220211161387629,null,"142 - PAEDIATRIC DENTISTRY",null,null,null,null,null,null,null,null,null,null,null,null,null,null,null,null,null,null,null,"NQ1ACE CIC (CLACTON ON SEA)","NQ101","ACE CIC (CLACTON ON SEA)","NQ101","ACE CIC (CLACTON ON SEA)","NQ1","Countif:"]
["",2,"RWDDA","Lincoln County Hospital - RWDDA","Carlton Coleby","340 - RESPIRATORY MEDICINE","",1910.5,1891.5833333333333,1158,1062.5,1023,1333.5,661.5,654.5,0.99009857803367352,0.91753022452504318,1.3035190615835777,0.98941798941798942,842,3.8302652414885192,2.039192399049881,5.8694576405384007,null,"143 - ORTHODONTICS",null,null,null,null,null,null,null,null,null,null,null,null,null,null,null,null,null,null,null,"NQ1CLACTON HOSPITAL","NQ108","CLACTON HOSPITAL","NQ108","CLACTON HOSPITAL","NQ1",{"$f":"SUM(COUNTIF($AW$1:$AX$5071,$AY$18)+$AY$21-1)","v":3107}]
["",2,"RWDDA","Lincoln County Hospital - RWDDA","Clayton","430 - GERIATRIC MEDICINE","",1709.5,1619.25,957.5,990.5,1364,1364,341,396,0.94720678560982741,1.0344647519582246,1,1.1612903225806452,804,3.7105099502487562,1.724502487562189,5.4350124378109452,null,"145 - ORAL & MAXILLO FACIAL SURGERY",null,null,null,null,null,null,null,null,null,null,null,null,null,null,null,null,null,null,null,"NQ1COLCHESTER GENERAL HOSPITAL","NQ107","COLCHESTER GENERAL HOSPITAL","NQ107","COLCHESTER GENERAL HOSPITAL","NQ1","Concat Items:"]
["",2,"RWDDA","Lincoln County Hospital - RWDDA","Dixon","301 - GASTROENTEROLOGY","",1183.5,1410.0833333333335,1381.5,1140,1023,1001.5,682,630,1.1914519081819464,0.82519001085776333,0.97898338220918868,0.92375366568914952,902,2.6735957132298598,1.9623059866962307,4.6359016999260909,null,"150 - NEUROSURGERY",null,null,null,null,null,null,null,null,null,null,null,null,null,null,null,null,null,null,null,"NQ1CONNAUGHT MEWS SUITES 6-10","NQ126","CONNAUGHT MEWS SUITES 6-10","NQ126","CONNAUGHT MEWS SUITES 6-10","NQ1","$AU"]
["",2,"RWDDA","Lincoln County Hospital - RWDDA","Digby","100 - GENERAL SURGERY","",211,202.66666666666666,124,115,132,132.75,44,44,0.96050552922590837,0.92741935483870963,1.0056818181818181,1,212,1.5821540880503142,0.75,2.3321540880503142,null,"160 - PLASTIC SURGERY",null,null,null,null,null,null,null,null,null,null,null,null,null,null,null,null,null,null,null,"NQ1CORNERSTONE","NQ123","CORNERSTONE","NQ123","CORNERSTONE","NQ1",":$AU"]
["",2,"RWDDA","Lincoln County Hospital - RWDDA","Greetwell","100 - GENERAL SURGERY","",1689.5,1549,960.5,941,1023,1029.3333333333335,341,404,0.91683930156851134,0.97969807391983343,1.0061909416748127,1.18475073313783,663,3.8888888888888893,2.0286576168929109,5.9175465057818002,null,"170 - CARDIOTHORACIC SURGERY",null,null,null,null,null,null,null,null,null,null,null,null,null,null,null,null,null,null,null,"NQ1FRYATT HOSPITAL","NQ106","FRYATT HOSPITAL","NQ106","FRYATT HOSPITAL","NQ1"]
["",2,"RWDDA","Lincoln County Hospital - RWDDA","Hatton","100 - GENERAL SURGERY","",1701.3,1571,1031.5,954.83333333333326,1023,991,385,407,0.92341150884617651,0.92567458393924695,0.96871945259042036,1.0571428571428572,783,3.2720306513409962,1.7392507449978714,5.0112813963388669,null,"171 - PAEDIATRIC SURGERY",null,null,null,null,null,null,null,null,null,null,null,null,null,null,null,null,null,null,null,"NVCASHTEAD HOSPITAL","NVC01","ASHTEAD HOSPITAL","NVC01","ASHTEAD HOSPITAL","NVC","Concat Final:"]
["",0,"RWDDA","Lincoln County Hospital - RWDDA","ICU","192 - CRITICAL CARE MEDICINE","",4623,4261.166666666667,770.5,526,4627.5,4144.25,356.5,69,0.92173192010959704,0.68267358857884486,0.89556996218260398,0.19354838709677419,374,22.474376114081998,1.5909090909090908,24.065285204991092,null,"180 - ACCIDENT & EMERGENCY",null,null,null,null,null,null,null,null,null,null,null,null,null,null,null,null,null,null,null,"NVCBLAKELANDS HOSPITAL","NVC31","BLAKELANDS HOSPITAL","NVC31","BLAKELANDS HOSPITAL","NVC",{"$f":"CONCATENATE($AY$25,$AY$21,$AY$26,$AY$23)","v":"$AU3097:$AU3107"}]
["",2,"RWDDA","Lincoln County Hospital - RWDDA","Johnson","320 - CARDIOLOGY","",3649,3472.583333333333,1527.5,1661.1666666666665,2728,2697.25,682,799.5,0.95165342102859218,1.087506819421713,0.98872800586510268,1.1722873900293256,726,8.4983930211202932,3.3893480257116617,11.887741046831955,null,"190 - ANAESTHETICS",null,null,null,null,null,null,null,null,null,null,null,null,null,null,null,null,null,null,null,"NVCBODMIN NHS TREATMENT CENTRE","NVC24","BODMIN NHS TREATMENT CENTRE","NVC24","BODMIN NHS TREATMENT CENTRE","NVC"]
["",2,"RWDDA","Lincoln County Hospital - RWDDA","Lancaster","430 - GERIATRIC MEDICINE","",1150,1056.6666666666667,1162.5,1078.25,682,683,682,705,0.91884057971014499,0.92752688172043007,1.001466275659824,1.033724340175953,653,2.6641143440530883,2.7308575803981623,5.3949719244512515,null,"192 - CRITICAL CARE MEDICINE",null,null,null,null,null,null,null,null,null,null,null,null,null,null,null,null,null,null,null,"NVCBOSTON WEST HOSPITAL","NVC27","BOSTON WEST HOSPITAL","NVC27","BOSTON WEST HOSPITAL","NVC"]
["",2,"RWDDA","Lincoln County Hospital - RWDDA","Navenby","340 - RESPIRATORY MEDICINE","302 - ENDOCRINOLOGY",1143.5,1123.6666666666667,942,949.5,1023,1023.6666666666667,682,661.5,0.98265558956420351,1.0079617834394905,1.0006516780710331,0.96994134897360706,758,2.8328935795954266,2.1253298153034299,4.9582233948988579,null,"300 - GENERAL MEDICINE",null,null,null,null,null,null,null,null,null,null,null,null,null,null,null,null,null,null,null,"NVCCLIFTON PARK HOSPITAL","NVC28","CLIFTON PARK HOSPITAL","NVC28","CLIFTON PARK HOSPITAL","NVC"]
["",0,"RWDDA","Lincoln County Hospital - RWDDA","Nettleham","502 - GYNAECOLOGY","",372,357.75,801.5,739.16666666666663,341,334.58333333333337,682,529.33333333333326,0.96169354838709675,0.92222915367020164,0.98118279569892486,0.77614858260019537,772,0.89680483592400695,1.6431347150259068,2.5399395509499136,null,"301 - GASTROENTEROLOGY",null,null,null,null,null,null,null,null,null,null,null,null,null,null,null,null,null,null,null,"NVCCOBALT HOSPITAL","NVC29","COBALT HOSPITAL","NVC29","COBALT HOSPITAL","NVC"]
["",2,"RWDDA","Lincoln County Hospital - RWDDA","Neustadt Welton","110 - TRAUMA & ORTHOPAEDICS","",1622,1543.4166666666665,960.5,1034,1023,1012.5,1023,949.5,0.95155158240854898,1.0765226444560125,0.98973607038123168,0.92815249266862165,802,3.1869285120532003,2.4731920199501247,5.6601205320033241,null,"302 - ENDOCRINOLOGY",null,null,null,null,null,null,null,null,null,null,null,null,null,null,null,null,null,null,null,"NVCDUCHY HOSPITAL","NVC04","DUCHY HOSPITAL","NVC04","DUCHY HOSPITAL","NVC"]
["",0,"RWDDA","Lincoln County Hospital - RWDDA","Nocton","422- NEONATOLOGY","",1490,1479.5833333333333,1117,646,1705,1262.5,462,332,0.99300894854586119,0.57833482542524617,0.7404692082111437,0.7186147186147186,262,10.465966921119591,3.7328244274809159,14.198791348600508,null,"303 - CLINICAL HAEMATOLOGY",null,null,null,null,null,null,null,null,null,null,null,null,null,null,null,null,null,null,null,"NVCEUXTON HALL HOSPITAL","NVC05","EUXTON HALL HOSPITAL","NVC05","EUXTON HALL HOSPITAL","NVC"]
["",2,"RWDDA","Lincoln County Hospital - RWDDA","Rainforest","420 - PAEDIATRICS","",1699,1707.75,790,1069.6666666666667,1023,1037,341,540,1.0051500882872277,1.3540084388185656,1.0136852394916911,1.5835777126099706,419,6.5507159904534609,3.8416865552903743,10.392402545743835,null,"304 - CLINICAL PHYSIOLOGY",null,null,null,null,null,null,null,null,null,null,null,null,null,null,null,null,null,null,null,"NVCFITZWILLIAM HOSPITAL","NVC06","FITZWILLIAM HOSPITAL","NVC06","FITZWILLIAM HOSPITAL","NVC"]
["",0,"RWDDA","Lincoln County Hospital - RWDDA","Scampton","430 - GERIATRIC MEDICINE","",1489.5,1079.25,1333.5,1241,891,605,589,560.5,0.72457200402819744,0.93063367079115111,0.67901234567901236,0.95161290322580649,652,2.5832055214723928,2.7630368098159508,5.3462423312883436,null,"305 - CLINICAL PHARMACOLOGY",null,null,null,null,null,null,null,null,null,null,null,null,null,null,null,null,null,null,null,"NVCFULWOOD HALL HOSPITAL","NVC07","FULWOOD HALL HOSPITAL","NVC07","FULWOOD HALL HOSPITAL","NVC"]
["",0,"RWDDA","Lincoln County Hospital - RWDDA","Shuttleworth","110 - TRAUMA & ORTHOPAEDICS","",2055.1333333333332,1966.3833333333334,1362.9,1205.9000000000001,1364,1355.5,682,648.5,0.95681545398514301,0.88480446107564747,0.99376832844574781,0.95087976539589447,847,3.9219401810310899,2.1893742621015351,6.1113144431326258,null,"307-DIABETIC MEDICINE",null,null,null,null,null,null,null,null,null,null,null,null,null,null,null,null,null,null,null,"NVCHORTON NHS TREATMENT CENTRE","NVC25","HORTON NHS TREATMENT CENTRE","NVC25","HORTON NHS TREATMENT CENTRE","NVC"]
["",0,"RWDDA","Lincoln County Hospital - RWDDA","Stroke Unit","300 - GENERAL MEDICINE","",2425.583333333333,2180,1375,1292.25,1364,1344.75,682,659.5,0.89875287731473541,0.93981818181818177,0.98588709677419351,0.96700879765395897,841,4.1911414982164095,2.3207491082045184,6.5118906064209279,null,"310 - AUDIOLOGICAL MEDICINE",null,null,null,null,null,null,null,null,null,null,null,null,null,null,null,null,null,null,null,"NVCMOUNT STUART HOSPITAL","NVC08","MOUNT STUART HOSPITAL","NVC08","MOUNT STUART HOSPITAL","NVC"]
["",2,"RWDDA","Lincoln County Hospital - RWDDA","Waddington Unit","303 - CLINICAL HAEMATOLOGY","800 - CLINICAL ONCOLOGY",2034.6,1981.3833333333332,1115.5,979,1364,1386.5,341,402.5,0.97384416265277363,0.87763334827431649,1.0164956011730206,1.1803519061583578,909,3.7050421708837549,1.5198019801980198,5.2248441510817747,null,"313 - CLINICAL IMMUNOLOGY and ALLERGY",null,null,null,null,null,null,null,null,null,null,null,null,null,null,null,null,null,null,null,"NVCNEW HALL HOSPITAL","NVC09","NEW HALL HOSPITAL","NVC09","NEW HALL HOSPITAL","NVC"]
["",0,"RWDDA","Lincoln County Hospital - RWDDA","MEAU","300 - GENERAL MEDICINE","",2785,2475,1459,1169.1666666666665,2065,1926.6666666666665,1022,945,0.88868940754039494,0.80134795522047053,0.9330104923325262,0.92465753424657537,679,6.4825724104074611,3.1136475208640153,9.5962199312714773,null,"314 - REHABILITATION",null,null,null,null,null,null,null,null,null,null,null,null,null,null,null,null,null,null,null,"NVCNORTH DOWNS HOSPITAL","NVC11","NORTH DOWNS HOSPITAL","NVC11","NORTH DOWNS HOSPITAL","NVC"]
["",0,"RWDDA","Lincoln County Hospital - RWDDA","SEAU","300 - GENERAL MEDICINE","",2456,2277.25,1145.5,1040.25,1705,1651.5,682,636.5,0.92721905537459282,0.90811872544740291,0.9686217008797654,0.93328445747800581,752,5.2244015957446805,2.2297207446808511,7.4541223404255321,null,"315 - PALLIATIVE MEDICINE",null,null,null,null,null,null,null,null,null,null,null,null,null,null,null,null,null,null,null,"NVCNOTTINGHAM WOODTHORPE HOSPITAL","NVC40","NOTTINGHAM WOODTHORPE HOSPITAL","NVC40","NOTTINGHAM WOODTHORPE HOSPITAL","NVC"]
["",0,"RWDLA","Pilgrim Hospital - RWDLA","Acute Cardiac Unit (formerly Coronary Care Unit)","320 - CARDIOLOGY","",1476,1419,718.5,540,1023,1023,340,340,0.96138211382113825,0.75156576200417535,1,1,502,4.8645418326693228,1.7529880478087649,6.617529880478088,null,"318- INTERMEDIATE CARE ",null,null,null,null,null,null,null,null,null,null,null,null,null,null,null,null,null,null,null,"NVCOAKLANDS HOSPITAL","NVC12","OAKLANDS HOSPITAL","NVC12","OAKLANDS HOSPITAL","NVC"]
["",2,"RWDLA","Pilgrim Hospital - RWDLA","Labour Ward","502 - GYNAECOLOGY","",372,396,373,314.5,341,346,341,333.5,1.064516129032258,0.84316353887399464,1.0146627565982405,0.97800586510263932,105,7.0666666666666664,6.1714285714285717,13.238095238095237,null,"320 - CARDIOLOGY",null,null,null,null,null,null,null,null,null,null,null,null,null,null,null,null,null,null,null,"NVCOAKS HOSPITAL","NVC13","OAKS HOSPITAL","NVC13","OAKS HOSPITAL","NVC"]
["",2,"RWDLA","Pilgrim Hospital - RWDLA","Neonatal","422- NEONATOLOGY","",1489,1211,374,384.5,1023,806,341,462,0.81329751511081261,1.0280748663101604,0.78787878787878785,1.3548387096774193,91,22.164835164835164,9.3021978021978029,31.467032967032967,null,"321 - PAEDIATRIC CARDIOLOGY",null,null,null,null,null,null,null,null,null,null,null,null,null,null,null,null,null,null,null,"NVCPARK HILL HOSPITAL","NVC14","PARK HILL HOSPITAL","NVC14","PARK HILL HOSPITAL","NVC"]
["",2,{"$f":"IF(ISNA(VLOOKUP($B$2&D46,$AS:$AT,2,FALSE)),\"\",VLOOKUP($B$2&D46,$AS:$AT,2,FALSE))","v":"RWDLA"},"Pilgrim Hospital - RWDLA","Stroke Unit","300 - GENERAL MEDICINE","",1918,1983.75,1529.5,1663.3333333333335,1364,1331,682,735,1.0342805005213764,1.0875013621009046,0.97580645161290325,1.0777126099706744,821,4.0374543239951279,2.9212342671538774,6.9586885911490057,null,"323- SPINAL INJURIES",null,null,null,null,null,null,null,null,null,null,null,null,null,null,null,null,null,null,null,"NVCPINEHILL HOSPITAL","NVC15","PINEHILL HOSPITAL","NVC15","PINEHILL HOSPITAL","NVC"]
["",2,"RWDLA","Pilgrim Hospital - RWDLA","3A","110 - TRAUMA & ORTHOPAEDICS","",1309,1285.9999999999998,958,1098.5,682,682,680.5,674,0.98242933537051169,1.1466597077244258,1,0.99044819985304922,728,2.703296703296703,2.4347527472527473,5.1380494505494507,null,"325 - SPORTS AND EXERCISE MEDICINE",null,null,null,null,null,null,null,null,null,null,null,null,null,null,null,null,null,null,null,"NVCRENACRES HOSPITAL","NVC16","RENACRES HOSPITAL","NVC16","RENACRES HOSPITAL","NVC"]
["",2,"RWDLA","Pilgrim Hospital - RWDLA","3B","110 - TRAUMA & ORTHOPAEDICS","",1867.5,1791.1666666666665,1330.5,1331.5,1023,1017,682,870.25,0.95912539045069156,1.0007515971439309,0.99413489736070382,1.2760263929618769,871,3.2240719479525448,2.5278415614236511,5.7519135093761955,null,"326 - ACUTE INTERNAL MEDICINE",null,null,null,null,null,null,null,null,null,null,null,null,null,null,null,null,null,null,null,"NVCRIVERS HOSPITAL","NVC19","RIVERS HOSPITAL","NVC19","RIVERS HOSPITAL","NVC"]
["",0,"RWDLA","Pilgrim Hospital - RWDLA","4A","420 - PAEDIATRICS","",2580.5,1791.7499999999998,1980,1193,1023,895.25,682,374,0.69434218174772322,0.60252525252525257,0.87512218963831867,0.54838709677419351,346,7.7658959537572256,4.5289017341040463,12.294797687861271,null,"328-STROKE MEDICINE",null,null,null,null,null,null,null,null,null,null,null,null,null,null,null,null,null,null,null,"NVCROWLEY HALL HOSPITAL","NVC17","ROWLEY HALL HOSPITAL","NVC17","ROWLEY HALL HOSPITAL","NVC"]
["",2,"RWDLA","Pilgrim Hospital - RWDLA","5A","100 - GENERAL SURGERY","",1926.5,1754.25,1178,1416.5,1023,1067.5,682,840.5,0.91058915131066698,1.2024617996604414,1.0434995112414467,1.2324046920821115,708,3.9855225988700567,3.1878531073446328,7.1733757062146895,null,"330 - DERMATOLOGY",null,null,null,null,null,null,null,null,null,null,null,null,null,null,null,null,null,null,null,"NVCSPRINGFIELD HOSPITAL","NVC18","SPRINGFIELD HOSPITAL","NVC18","SPRINGFIELD HOSPITAL","NVC"]
["",2,"RWDLA","Pilgrim Hospital - RWDLA","5B","100 - GENERAL SURGERY","",1951.2,1492.9166666666667,1172.4000000000001,1386,1023,986.5,682,650.5,0.76512744294109614,1.1821903787103376,0.96432062561094822,0.95381231671554256,663,3.7396933132227255,3.0716440422322777,6.8113373554550032,null,"340 - RESPIRATORY MEDICINE",null,null,null,null,null,null,null,null,null,null,null,null,null,null,null,null,null,null,null,"NVCTEES VALLEY TREATMENT CENTRE","NVC35","TEES VALLEY TREATMENT CENTRE","NVC35","TEES VALLEY TREATMENT CENTRE","NVC"]
["",2,"RWDLA","Pilgrim Hospital - RWDLA","6A","430 - GERIATRIC MEDICINE","",1964.4333333333334,1879.1833333333334,1732.5666666666668,1604.5666666666668,1023,1012,1023,1027.75,0.95660326133066365,0.92612116897858665,0.989247311827957,1.0046432062561095,888,3.255837087087087,2.9643205705705706,6.2201576576576576,null,"350 - INFECTIOUS DISEASES",null,null,null,null,null,null,null,null,null,null,null,null,null,null,null,null,null,null,null,"NVCTHE BERKSHIRE INDEPENDENT HOSPITAL","NVC02","THE BERKSHIRE INDEPENDENT HOSPITAL","NVC02","THE BERKSHIRE INDEPENDENT HOSPITAL","NVC"]
["",2,"RWDLA","Pilgrim Hospital - RWDLA","6B","430 - GERIATRIC MEDICINE","",2105,1990,1580.5,1585,1023,1016.8333333333334,1015.5,982.5,0.94536817102137771,1.0028472002530844,0.99397197784294566,0.96750369276218606,876,3.4324581430745815,2.9309360730593608,6.3633942161339414,null,"352 - TROPICAL MEDICINE",null,null,null,null,null,null,null,null,null,null,null,null,null,null,null,null,null,null,null,"NVCTHE WESTBOURNE CENTRE","NVC44","THE WESTBOURNE CENTRE","NVC44","THE WESTBOURNE CENTRE","NVC"]
["",0,"RWDLA","Pilgrim Hospital - RWDLA","7A","800 - CLINICAL ONCOLOGY","303 - CLINICAL HAEMATOLOGY",1570.8,1397.55,1012,919,682,671,341,340.25,0.88970588235294112,0.90810276679841895,0.9838709677419355,0.99780058651026393,626,3.3043929712460067,2.0115814696485623,5.3159744408945686,null,"360 - GENITOURINARY MEDICINE",null,null,null,null,null,null,null,null,null,null,null,null,null,null,null,null,null,null,null,"NVCTHE YORKSHIRE CLINIC","NVC20","THE YORKSHIRE CLINIC","NVC20","THE YORKSHIRE CLINIC","NVC"]
["",2,"RWDLA","Pilgrim Hospital - RWDLA","7B","340 - RESPIRATORY MEDICINE","320 - CARDIOLOGY",2063,1863.5,1591.95,1447.9666666666667,1023,1102.5,681.01666666666665,669.5,0.90329617062530299,0.90955536710742591,1.0777126099706744,0.98308900907956243,777,3.8172458172458175,2.7251823251823253,6.5424281424281432,null,"361 - NEPHROLOGY",null,null,null,null,null,null,null,null,null,null,null,null,null,null,null,null,null,null,null,"NVCWEST MIDLANDS HOSPITAL","NVC21","WEST MIDLANDS HOSPITAL","NVC21","WEST MIDLANDS HOSPITAL","NVC"]
["",2,"RWDLA","Pilgrim Hospital - RWDLA","8A","301 - GASTROENTEROLOGY","320 - CARDIOLOGY",2019.5,1885.3166666666666,1521,1370,1023,1034,1023,1015,0.93355616076586612,0.90072320841551612,1.010752688172043,0.99217986314760509,900,3.2436851851851851,2.65,5.893685185185185,null,"370 - MEDICAL ONCOLOGY",null,null,null,null,null,null,null,null,null,null,null,null,null,null,null,null,null,null,null,"NVCWINFIELD HOSPITAL","NVC22","WINFIELD HOSPITAL","NVC22","WINFIELD HOSPITAL","NVC"]
["",0,"RWDLA","Pilgrim Hospital - RWDLA","M2","502 - GYNAECOLOGY","",1339.25,1259.4166666666665,1344,1229.5833333333333,682,679.16666666666663,680.5,621,0.94038952149835098,0.91486855158730152,0.99584555229716509,0.91256429096252756,341,5.684995112414466,5.4269305962854348,11.111925708699902,null,"399-PSYCHIATRY SERVICES",null,null,null,null,null,null,null,null,null,null,null,null,null,null,null,null,null,null,null,"NVCWOODLAND HOSPITAL","NVC23","WOODLAND HOSPITAL","NVC23","WOODLAND HOSPITAL","NVC"]
["",2,"RWDLA","Pilgrim Hospital - RWDLA","AMU (formerly CDU)","300 - GENERAL MEDICINE","",2540.75,2099.416666666667,1505,1570.75,1364,1647.5,982,1035.5,0.82629800911804274,1.0436877076411961,1.2078445747800586,1.0544806517311609,704,5.3223248106060614,3.7020596590909092,9.0243844696969706,null,"400 - NEUROLOGY",null,null,null,null,null,null,null,null,null,null,null,null,null,null,null,null,null,null,null,"R1AACONBURY UNIT","R1ADY","ACONBURY UNIT","R1ADY","ACONBURY UNIT","R1A"]
["",2,"RWDLA","Pilgrim Hospital - RWDLA","Bostonian","100 - GENERAL SURGERY","",1527.5,1393,818.5,814,682,682,341,395,0.91194762684124386,0.99450213805742216,1,1.1583577712609971,573,3.6212914485165792,2.1099476439790577,5.7312390924956373,null,"401 - CLINICAL NEURO-PHYSIOLOGY",null,null,null,null,null,null,null,null,null,null,null,null,null,null,null,null,null,null,null,"R1AALEXANDRA HOSPITAL","R1AAL","ALEXANDRA HOSPITAL","R1AAL","ALEXANDRA HOSPITAL","R1A"]
["",2,"RWDLA","Pilgrim Hospital - RWDLA","ICU","192 - CRITICAL CARE MEDICINE","",3905,3312.5,868,610,2728,2486,0,32,0.84827144686299616,0.70276497695852536,0.91129032258064513,"-",227,25.544052863436125,2.8281938325991192,28.372246696035241,null,"410 - RHEUMATOLOGY",null,null,null,null,null,null,null,null,null,null,null,null,null,null,null,null,null,null,null,"R1AARROWSIDE UNIT (ALEXANDRA HOSPITAL)","R1A1X","ARROWSIDE UNIT (ALEXANDRA HOSPITAL)","R1A1X","ARROWSIDE UNIT (ALEXANDRA HOSPITAL)","R1A"]
["",0,"",null,null,null,null,null,null,null,null,null,null,null,null,"","","","",null,"","","",null,"420 - PAEDIATRICS",null,null,null,null,null,null,null,null,null,null,null,null,null,null,null,null,null,null,null,"R1ABATCHLEY FIRST NURSERY PLUS","R1AHC","BATCHLEY FIRST NURSERY PLUS","R1AHC","BATCHLEY FIRST NURSERY PLUS","R1A"]
["",0,"",null,null,null,null,null,null,null,null,null,null,null,null,"","","","",null,"","","",null,"421 - PAEDIATRIC NEUROLOGY",null,null,null,null,null,null,null,null,null,null,null,null,null,null,null,null,null,null,null,"R1ABEACONSIDE AUTISM BASE","R1A05","BEACONSIDE AUTISM BASE","R1A05","BEACONSIDE AUTISM BASE","R1A"]
["",0,"",null,null,null,null,null,null,null,null,null,null,null,null,"","","","",null,"","","",null,"422- NEONATOLOGY",null,null,null,null,null,null,null,null,null,null,null,null,null,null,null,null,null,null,null,"R1ABIRMINGHAM CHILDREN'S HOSPITAL","R1A03","BIRMINGHAM CHILDREN'S HOSPITAL","R1A03","BIRMINGHAM CHILDREN'S HOSPITAL","R1A"]
["",0,"",null,null,null,null,null,null,null,null,null,null,null,null,"","","","",null,"","","",null,"424- WELL BABIES",null,null,null,null,null,null,null,null,null,null,null,null,null,null,null,null,null,null,null,"R1ACHURCHVIEW HOUSE","R1ACD","CHURCHVIEW HOUSE","R1ACD","CHURCHVIEW HOUSE","R1A"]
["",0,"",null,null,null,null,null,null,null,null,null,null,null,null,"","","","",null,"","","",null,"430 - GERIATRIC MEDICINE",null,null,null,null,null,null,null,null,null,null,null,null,null,null,null,null,null,null,null,"R1ACOMM HOSP WARDS (EVESHAM)","R1ARE","COMM HOSP WARDS (EVESHAM)","R1ARE","COMM HOSP WARDS (EVESHAM)","R1A"]
["",0,"",null,null,null,null,null,null,null,null,null,null,null,null,"","","","",null,"","","",null,"450 - DENTAL MEDICINE SPECIALTIES",null,null,null,null,null,null,null,null,null,null,null,null,null,null,null,null,null,null,null,"R1ACOMM HOSP WARDS (MALVERN)","R1ARG","COMM HOSP WARDS (MALVERN)","R1ARG","COMM HOSP WARDS (MALVERN)","R1A"]
["",0,"",null,null,null,null,null,null,null,null,null,null,null,null,"","","","",null,"","","",null,"460 - MEDICAL OPHTHALMOLOGY",null,null,null,null,null,null,null,null,null,null,null,null,null,null,null,null,null,null,null,"R1ACOMM HOSP WARDS (PERSHORE)","R1ARJ","COMM HOSP WARDS (PERSHORE)","R1ARJ","COMM HOSP WARDS (PERSHORE)","R1A"]
["",0,"",null,null,null,null,null,null,null,null,null,null,null,null,"","","","",null,"","","",null,"501 - OBSTETRICS",null,null,null,null,null,null,null,null,null,null,null,null,null,null,null,null,null,null,null,"R1ACOMM HOSP WARDS (TENBURY)","R1ARL","COMM HOSP WARDS (TENBURY)","R1ARL","COMM HOSP WARDS (TENBURY)","R1A"]
["",0,"",null,null,null,null,null,null,null,null,null,null,null,null,"","","","",null,"","","",null,"502 - GYNAECOLOGY",null,null,null,null,null,null,null,null,null,null,null,null,null,null,null,null,null,null,null,"R1ACOMM HOSP WARDS (WF GP UNIT)","R1ARN","COMM HOSP WARDS (WF GP UNIT)","R1ARN","COMM HOSP WARDS (WF GP UNIT)","R1A"]
["",0,"",null,null,null,null,null,null,null,null,null,null,null,null,"","","","",null,"","","",null,"560- MIDWIFE LED CARE",null,null,null,null,null,null,null,null,null,null,null,null,null,null,null,null,null,null,null,{"$f":"CONCATENATE(LEFT(AT70, 3),AU70)","v":"R1ACOMMUNITY FIRST"},"R1A94","COMMUNITY FIRST","R1A94","COMMUNITY FIRST",{"$f":"LEFT(AV70,3)","v":"R1A"}]
["",0,"",null,null,null,null,null,null,null,null,null,null,null,null,"","","","",null,"","","",null,"700- LEARNING DISABILITY",null,null,null,null,null,null,null,null,null,null,null,null,null,null,null,null,null,null,null,"R1ACOMMUNITY HOSP WARDS (POWCH)","R1ARK","COMMUNITY HOSP WARDS (POWCH)","R1ARK","COMMUNITY HOSP WARDS (POWCH)","R1A"]
["",0,"",null,null,null,null,null,null,null,null,null,null,null,null,"","","","",null,"","","",null,"710 - ADULT MENTAL ILLNESS",null,null,null,null,null,null,null,null,null,null,null,null,null,null,null,null,null,null,null,"R1ACOMMUNITY INREACH EVESHAM","R1AJX","COMMUNITY INREACH EVESHAM","R1AJX","COMMUNITY INREACH EVESHAM","R1A"]
["",0,"",null,null,null,null,null,null,null,null,null,null,null,null,"","","","",null,"","","",null,"711- CHILD and ADOLESCENT PSYCHIATRY",null,null,null,null,null,null,null,null,null,null,null,null,null,null,null,null,null,null,null,"R1ACOMMUNITY INREACH REDDITCH 6","R1AJV","COMMUNITY INREACH REDDITCH 6","R1AJV","COMMUNITY INREACH REDDITCH 6","R1A"]
["",0,"",null,null,null,null,null,null,null,null,null,null,null,null,"","","","",null,"","","",null,"712 - FORENSIC PSYCHIATRY",null,null,null,null,null,null,null,null,null,null,null,null,null,null,null,null,null,null,null,"R1ACOMMUNITY INREACH REDDITCH 8","R1AJY","COMMUNITY INREACH REDDITCH 8","R1AJY","COMMUNITY INREACH REDDITCH 8","R1A"]
["",0,"",null,null,null,null,null,null,null,null,null,null,null,null,"","","","",null,"","","",null,"713- PSYCHOTHERAPY",null,null,null,null,null,null,null,null,null,null,null,null,null,null,null,null,null,null,null,"R1ACOMMUNITY PAEDESTRICIANS-1","R1AQQ","COMMUNITY PAEDESTRICIANS-1","R1AQQ","COMMUNITY PAEDESTRICIANS-1","R1A"]
["",0,"",null,null,null,null,null,null,null,null,null,null,null,null,"","","","",null,"","","",null,"715 - OLD AGE PSYCHIATRY",null,null,null,null,null,null,null,null,null,null,null,null,null,null,null,null,null,null,null,"R1ACOMMUNITY UNIT","R1ADV","COMMUNITY UNIT","R1ADV","COMMUNITY UNIT","R1A"]
["",0,"",null,null,null,null,null,null,null,null,null,null,null,null,"","","","",null,"","","",null,"800 - CLINICAL ONCOLOGY",null,null,null,null,null,null,null,null,null,null,null,null,null,null,null,null,null,null,null,"R1ACOMMUNITY VENUE","R1A76","COMMUNITY VENUE","R1A76","COMMUNITY VENUE","R1A"]
["",0,{"$f":"IF(ISNA(VLOOKUP($B$2&D78,$AS:$AT,2,FALSE)),\"\",VLOOKUP($B$2&D78,$AS:$AT,2,FALSE))","v":""},null,null,null,null,null,null,null,null,null,null,null,null,"","","","",null,"","","",null,"810 - RADIOLOGY",null,null,null,null,null,null,null,null,null,null,null,null,null,null,null,null,null,null,null,"R1ACOVERCROFT","R1APF","COVERCROFT","R1APF","COVERCROFT","R1A"]
["",0,"",null,null,null,null,null,null,null,null,null,null,null,null,{"$f":"IF(ISERROR(IF($H79=\"\",\"\",I79/H79)),\"-\",(IF($H79=\"\",\"\",I79/H79)))","v":""},{"$f":"IF(ISERROR(IF(J79=\"\",\"\",K79/J79)),\"-\",(IF(J79=\"\",\"\",K79/J79)))","v":""},{"$f":"IF(ISERROR(IF(L79=\"\",\"\",M79/L79)),\"-\",(IF(L79=\"\",\"\",M79/L79)))","v":""},{"$f":"IF(ISERROR(IF(N79=\"\",\"\",O79/N79)),\"-\",IF(N79=\"\",\"\",O79/N79))","v":""},null,{"$f":"IF(ISERROR(IF($T79=\"\",\"\",SUM(I79,M79)/$T79)),\"-\",(IF($T79=\"\",\"\",SUM(I79,M79)/$T79)))","v":""},{"$f":"IF(ISERROR(IF($T79=\"\",\"\",SUM(K79,O79)/$T79)),\"-\",(IF($T79=\"\",\"\",SUM(K79,O79)/$T79)))","v":""},{"$f":"IF(ISERROR(IF($T79=\"\",\"\",SUM(I79,K79,M79,O79)/$T79)),\"-\",(IF($T79=\"\",\"\",SUM(I79,K79,M79,O79)/$T79)))","v":""},null,"822 - CHEMICAL PATHOLOGY",null,null,null,null,null,null,null,null,null,null,null,null,null,null,null,null,null,null,null,"R1ACROMWELL HOUSE","R1AAV","CROMWELL HOUSE","R1AAV","CROMWELL HOUSE","R1A"]
["",{"$f":"IF(SUM(D281:F281,L281:M281)>0,1,IF(X281>0,2,0))","v":0},"",null,null,null,null,null,null,null,null,null,null,null,null,"","","","",null,"","","",null,"823 - HAEMATOLOGY",null,null,null,null,null,null,null,null,null,null,null,null,null,null,null,null,null,null,null,"R1ACROWNGATE PHYSIOTHERAPY","R1A82","CROWNGATE PHYSIOTHERAPY","R1A82","CROWNGATE PHYSIOTHERAPY","R1A"]
[{"$f":"IF(L282=1,\"No Site Selected\",IF(M282=1,\"No Ward Name\",\"\"))","v":""},0,"",null,null,null,null,null,null,null,null,null,null,null,null,"","","","",null,"","","",null,"879-COMMUNITY NURSING",null,null,null,null,null,null,null,null,null,null,null,null,null,null,null,null,null,null,null,"R1ADROITWICH SPA PRIVATE HOSPITAL","R1AFT","DROITWICH SPA PRIVATE HOSPITAL","R1AFT","DROITWICH SPA PRIVATE HOSPITAL","R1A"]
["",0,"",null,null,null,null,null,null,null,null,null,null,null,null,"","","","",null,"","","",null,"901 - OCCUPATIONAL MEDICINE",null,null,null,null,null,null,null,null,null,null,null,null,null,null,null,null,null,null,null,"R1AELGAR UNIT","R1ADW","ELGAR UNIT","R1ADW","ELGAR UNIT","R1A"]
["",0,"",null,null,null,null,null,null,null,null,null,null,null,null,"","","","",null,"","","",null,"903- PUBLIC HEALTH MEDICINE",null,null,null,null,null,null,null,null,null,null,null,null,null,null,null,null,null,null,null,"R1AESTATES BUILDING","R1ACE","ESTATES BUILDING","R1ACE","ESTATES BUILDING","R1A"]
["",0,"",null,null,null,null,null,null,null,null,null,null,null,null,"","","","",null,"","","",null,"920 - ORTHOTICS AND PROSTHETICS",null,null,null,null,null,null,null,null,null,null,null,null,null,null,null,null,null,null,null,"R1AEVESHAM COMMUNITY HOSPITAL","R1A1P","EVESHAM COMMUNITY HOSPITAL","R1A1P","EVESHAM COMMUNITY HOSPITAL","R1A"]
["",0,"",null,null,null,null,null,null,null,null,null,null,null,null,"","","","",null,"","","",null,"921 - GENETICS",null,null,null,null,null,null,null,null,null,null,null,null,null,null,null,null,null,null,null,"R1AGOLD HILL CARE HOME","R1AKK","GOLD HILL CARE HOME","R1AKK","GOLD HILL CARE HOME","R1A"]
["",0,"",null,null,null,null,null,null,null,null,null,null,null,null,"","","","",null,"","","",null,"922 - SEXUAL HEALTH SERVICES",null,null,null,null,null,null,null,null,null,null,null,null,null,null,null,null,null,null,null,"R1AHASTINGS CARE HOME","R1AKG","HASTINGS CARE HOME","R1AKG","HASTINGS CARE HOME","R1A"]
["",0,"",null,null,null,null,null,null,null,null,null,null,null,null,"","","","",null,"","","",null,"923 - DIAGNOSTIC PATHOLOGY",null,null,null,null,null,null,null,null,null,null,null,null,null,null,null,null,null,null,null,"R1AHILL CREST 1","R1APM","HILL CREST 1","R1APM","HILL CREST 1","R1A"]
["",0,"",null,null,null,null,null,null,null,null,null,null,null,null,"","","","",null,"","","",null,"924 - BLOOD DONOR CENTRES",null,null,null,null,null,null,null,null,null,null,null,null,null,null,null,null,null,null,null,"R1AHILL CREST 2","R1APQ","HILL CREST 2","R1APQ","HILL CREST 2","R1A"]
["",0,"",null,null,null,null,null,null,null,null,null,null,null,null,"","","","",null,"","","",null,"925 - COMMUNITY CARE SERVICES",null,null,null,null,null,null,null,null,null,null,null,null,null,null,null,null,null,null,null,"R1AHILL CREST MENTAL HEALTH UNIT","R1A49","HILL CREST MENTAL HEALTH UNIT","R1A49","HILL CREST MENTAL HEALTH UNIT","R1A"]
["",0,"",null,null,null,null,null,null,null,null,null,null,null,null,"","","","",null,"","","",null,"926 - THERAPY SERVICES",null,null,null,null,null,null,null,null,null,null,null,null,null,null,null,null,null,null,null,"R1AHOME FARM TRUST","R1A89","HOME FARM TRUST","R1A89","HOME FARM TRUST","R1A"]
["",0,"",null,null,null,null,null,null,null,null,null,null,null,null,"","","","",null,"","","",null,"996 - PSYCHIATRIC INTENSIVE CARE UNIT",null,null,null,null,null,null,null,null,null,null,null,null,null,null,null,null,null,null,null,"R1AHOME TREATMENT 1","R1APL","HOME TREATMENT 1","R1APL","HOME TREATMENT 1","R1A"]
["",0,"",null,null,null,null,null,null,null,null,null,null,null,null,"","","","",null,"","","",null,null,null,null,null,null,null,null,null,null,null,null,null,null,null,null,null,null,null,null,null,"R1AHOME TREATMENT 2","R1APN","HOME TREATMENT 2","R1APN","HOME TREATMENT 2","R1A"]
["",0,"",null,null,null,null,null,null,null,null,null,null,null,null,"","","","",null,"","","",null,null,null,null,null,null,null,null,null,null,null,null,null,null,null,null,null,null,null,null,null,"R1AHOMEWARD BOUND UNIT","R1ADE","HOMEWARD BOUND UNIT","R1ADE","HOMEWARD BOUND UNIT","R1A"]
["",0,"",null,null,null,null,null,null,null,null,null,null,null,null,"","","","",null,"","","",null,null,null,null,null,null,null,null,null,null,null,null,null,null,null,null,null,null,null,null,null,"R1AKEITH WINTER CLOSE MENTAL HEALTH UNIT","R1A22","KEITH WINTER CLOSE MENTAL HEALTH UNIT","R1A22","KEITH WINTER CLOSE MENTAL HEALTH UNIT","R1A"]
["",0,"",null,null,null,null,null,null,null,null,null,null,null,null,"","","","",null,"","","",null,null,null,null,null,null,null,null,null,null,null,null,null,null,null,null,null,null,null,null,null,"R1AKEMPSEY PARISH HALL","R1AHL","KEMPSEY PARISH HALL","R1AHL","KEMPSEY PARISH HALL","R1A"]
["",0,"",null,null,null,null,null,null,null,null,null,null,null,null,"","","","",null,"","","",null,null,null,null,null,null,null,null,null,null,null,null,null,null,null,null,null,null,null,null,null,"R1ALICKEY LANGUAGE UNIT","R1AHV","LICKEY LANGUAGE UNIT","R1AHV","LICKEY LANGUAGE UNIT","R1A"]
["",0,"",null,null,null,null,null,null,null,null,null,null,null,null,"","","","",null,"","","",null,null,null,null,null,null,null,null,null,null,null,null,null,null,null,null,null,null,null,null,null,"R1ALINK HORTICULTURIAL NURSERIES - SHELTERED EMPLOYMENT","R1AAE","LINK HORTICULTURIAL NURSERIES - SHELTERED EMPLOYMENT","R1AAE","LINK HORTICULTURIAL NURSERIES - SHELTERED EMPLOYMENT","R1A"]
["",0,"",null,null,null,null,null,null,null,null,null,null,null,null,"","","","",null,"","","",null,null,null,null,null,null,null,null,null,null,null,null,null,null,null,null,null,null,null,null,null,"R1ALUDLOW ROAD","R1A58","LUDLOW ROAD","R1A58","LUDLOW ROAD","R1A"]
["",0,"",null,null,null,null,null,null,null,null,null,null,null,null,"","","","",null,"","","",null,null,null,null,null,null,null,null,null,null,null,null,null,null,null,null,null,null,null,null,null,"R1AMALVERN COMMUNITY HOSPITAL","R1ADC","MALVERN COMMUNITY HOSPITAL","R1ADC","MALVERN COMMUNITY HOSPITAL","R1A"]
["",0,"",null,null,null,null,null,null,null,null,null,null,null,null,"","","","",null,"","","",null,null,null,null,null,null,null,null,null,null,null,null,null,null,null,null,null,null,null,null,null,"R1AMATCHBOROUGH FIRST NURSERY PLUS","R1AHF","MATCHBOROUGH FIRST NURSERY PLUS","R1AHF","MATCHBOROUGH FIRST NURSERY PLUS","R1A"]
["",0,"",null,null,null,null,null,null,null,null,null,null,null,null,"","","","",null,"","","",null,null,null,null,null,null,null,null,null,null,null,null,null,null,null,null,null,null,null,null,null,"R1ANEW BROOK","R1ACF","NEW BROOK","R1ACF","NEW BROOK","R1A"]
["",0,"",null,null,null,null,null,null,null,null,null,null,null,null,"","","","",null,"","","",null,null,null,null,null,null,null,null,null,null,null,null,null,null,null,null,null,null,null,null,null,"R1ANEW BROOK UNIT 1","R1APK","NEW BROOK UNIT 1","R1APK","NEW BROOK UNIT 1","R1A"]
["",0,"",null,null,null,null,null,null,null,null,null,null,null,null,"","","","",null,"","","",null,null,null,null,null,null,null,null,null,null,null,null,null,null,null,null,null,null,null,null,null,"R1ANEW BROOK UNIT 2","R1APP","NEW BROOK UNIT 2","R1APP","NEW BROOK UNIT 2","R1A"]
["",0,"",null,null,null,null,null,null,null,null,null,null,null,null,"","","","",null,"","","",null,null,null,null,null,null,null,null,null,null,null,null,null,null,null,null,null,null,null,null,null,"R1ANEW CROSS HOSPITAL","R1A1N","NEW CROSS HOSPITAL","R1A1N","NEW CROSS HOSPITAL","R1A"]
["",0,"",null,null,null,null,null,null,null,null,null,null,null,null,"","","","",null,"","","",null,null,null,null,null,null,null,null,null,null,null,null,null,null,null,null,null,null,null,null,null,"R1ANEW HAVEN (MENTAL HEALTH UNIT)","R1ACC","NEW HAVEN (MENTAL HEALTH UNIT)","R1ACC","NEW HAVEN (MENTAL HEALTH UNIT)","R1A"]
["",0,"",null,null,null,null,null,null,null,null,null,null,null,null,"","","","",null,"","","",null,null,null,null,null,null,null,null,null,null,null,null,null,null,null,null,null,null,null,null,null,"R1ANEWTOWN HOSPITAL ","R1A07","NEWTOWN HOSPITAL ","R1A07","NEWTOWN HOSPITAL ","R1A"]
["",0,"",null,null,null,null,null,null,null,null,null,null,null,null,"","","","",null,"","","",null,null,null,null,null,null,null,null,null,null,null,null,null,null,null,null,null,null,null,null,null,"R1AORCHARD PLACE","R1A37","ORCHARD PLACE","R1A37","ORCHARD PLACE","R1A"]
["",0,"",null,null,null,null,null,null,null,null,null,null,null,null,"","","","",null,"","","",null,null,null,null,null,null,null,null,null,null,null,null,null,null,null,null,null,null,null,null,null,"R1AOSBORNE COURT","R1ACY","OSBORNE COURT","R1ACY","OSBORNE COURT","R1A"]
["",0,"",null,null,null,null,null,null,null,null,null,null,null,null,"","","","",null,"","","",null,null,null,null,null,null,null,null,null,null,null,null,null,null,null,null,null,null,null,null,null,"R1AOT STORES","R1AGK","OT STORES","R1AGK","OT STORES","R1A"]
["",0,{"$f":"IF(ISNA(VLOOKUP($B$2&D110,$AS:$AT,2,FALSE)),\"\",VLOOKUP($B$2&D110,$AS:$AT,2,FALSE))","v":""},null,null,null,null,null,null,null,null,null,null,null,null,"","","","",null,"","","",null,null,null,null,null,null,null,null,null,null,null,null,null,null,null,null,null,null,null,null,null,"R1APALLIATIVE CARE (R&B)","R1AQP","PALLIATIVE CARE (R&B)","R1AQP","PALLIATIVE CARE (R&B)","R1A"]
["",0,"",null,null,null,null,null,null,null,null,null,null,null,null,"","","","",null,"","","",null,null,null,null,null,null,null,null,null,null,null,null,null,null,null,null,null,null,null,null,null,"R1APALLIATIVE CARE (SW)","R1ART","PALLIATIVE CARE (SW)","R1ART","PALLIATIVE CARE (SW)","R1A"]
["",0,"",null,null,null,null,null,null,null,null,null,null,null,null,"","","","",null,"","","",null,null,null,null,null,null,null,null,null,null,null,null,null,null,null,null,null,null,null,null,null,"R1APALLIATIVE CARE (WF)","R1ARR","PALLIATIVE CARE (WF)","R1ARR","PALLIATIVE CARE (WF)","R1A"]
["",0,"",null,null,null,null,null,null,null,null,null,null,null,null,"","","","",null,"","","",null,null,null,null,null,null,null,null,null,null,null,null,null,null,null,null,null,null,null,null,null,"R1APARKSIDE MIDDLE AUTISM BASE","R1AEM","PARKSIDE MIDDLE AUTISM BASE","R1AEM","PARKSIDE MIDDLE AUTISM BASE","R1A"]
["",0,"",null,null,null,null,null,null,null,null,null,null,null,null,"","","","",null,"","","",null,null,null,null,null,null,null,null,null,null,null,null,null,null,null,null,null,null,null,null,null,"R1APERSHORE HOSPITAL","R1ACW","PERSHORE HOSPITAL","R1ACW","PERSHORE HOSPITAL","R1A"]
["",0,"",null,null,null,null,null,null,null,null,null,null,null,null,"","","","",null,"","","",null,null,null,null,null,null,null,null,null,null,null,null,null,null,null,null,null,null,null,null,null,"R1APHYSIO UNIT ROSEHILL","R1AA6","PHYSIO UNIT ROSEHILL","R1AA6","PHYSIO UNIT ROSEHILL","R1A"]
["",0,"",null,null,null,null,null,null,null,null,null,null,null,null,"","","","",null,"","","",null,null,null,null,null,null,null,null,null,null,null,null,null,null,null,null,null,null,null,null,null,"R1APHYSIO UNIT THORNTON","R1A1A","PHYSIO UNIT THORNTON","R1A1A","PHYSIO UNIT THORNTON","R1A"]
["",0,"",null,null,null,null,null,null,null,null,null,null,null,null,"","","","",null,"","","",null,null,null,null,null,null,null,null,null,null,null,null,null,null,null,null,null,null,null,null,null,"R1APOSTNATAL UNIT","R1ADM","POSTNATAL UNIT","R1ADM","POSTNATAL UNIT","R1A"]
["",0,"",null,null,null,null,null,null,null,null,null,null,null,null,"","","","",null,"","","",null,null,null,null,null,null,null,null,null,null,null,null,null,null,null,null,null,null,null,null,null,"R1APRINCESS OF WALES HOSPITAL","R1ACG","PRINCESS OF WALES HOSPITAL","R1ACG","PRINCESS OF WALES HOSPITAL","R1A"]
["",0,"",null,null,null,null,null,null,null,null,null,null,null,null,"","","","",null,"","","",null,null,null,null,null,null,null,null,null,null,null,null,null,null,null,null,null,null,null,null,null,"R1APUPIL REFERRAL UNIT","R1A60","PUPIL REFERRAL UNIT","R1A60","PUPIL REFERRAL UNIT","R1A"]
["",0,"",null,null,null,null,null,null,null,null,null,null,null,null,"","","","",null,"","","",null,null,null,null,null,null,null,null,null,null,null,null,null,null,null,null,null,null,null,null,null,"R1AQUEEN ELIZABETH HOSPITAL","R1A02","QUEEN ELIZABETH HOSPITAL","R1A02","QUEEN ELIZABETH HOSPITAL","R1A"]
["",0,"",null,null,null,null,null,null,null,null,null,null,null,null,"","","","",null,"","","",null,null,null,null,null,null,null,null,null,null,null,null,null,null,null,null,null,null,null,null,null,"R1ARIVENDELL","R1A14","RIVENDELL","R1A14","RIVENDELL","R1A"]
["",0,"",null,null,null,null,null,null,null,null,null,null,null,null,"","","","",null,"","","",null,null,null,null,null,null,null,null,null,null,null,null,null,null,null,null,null,null,null,null,null,"R1ARIVERBANK NEONATAL UNIT","R1ADN","RIVERBANK NEONATAL UNIT","R1ADN","RIVERBANK NEONATAL UNIT","R1A"]
["",0,"",null,null,null,null,null,null,null,null,null,null,null,null,"","","","",null,"","","",null,null,null,null,null,null,null,null,null,null,null,null,null,null,null,null,null,null,null,null,null,"R1ARUSSELLS HALL HOSPITAL","R1A56","RUSSELLS HALL HOSPITAL","R1A56","RUSSELLS HALL HOSPITAL","R1A"]
["",0,"",null,null,null,null,null,null,null,null,null,null,null,null,"","","","",null,"","","",null,null,null,null,null,null,null,null,null,null,null,null,null,null,null,null,null,null,null,null,null,"R1ASILVERBIRCH","R1ACH","SILVERBIRCH","R1ACH","SILVERBIRCH","R1A"]
["",0,"",null,null,null,null,null,null,null,null,null,null,null,null,"","","","",null,"","","",null,null,null,null,null,null,null,null,null,null,null,null,null,null,null,null,null,null,null,null,null,"R1ASTUDDERT KENNEDY OA","R1APG","STUDDERT KENNEDY OA","R1APG","STUDDERT KENNEDY OA","R1A"]
["",0,"",null,null,null,null,null,null,null,null,null,null,null,null,"","","","",null,"","","",null,null,null,null,null,null,null,null,null,null,null,null,null,null,null,null,null,null,null,null,null,"R1ATENBURY COMMUNITY HOSPITAL","R1AAN","TENBURY COMMUNITY HOSPITAL","R1AAN","TENBURY COMMUNITY HOSPITAL","R1A"]
["",0,"",null,null,null,null,null,null,null,null,null,null,null,null,"","","","",null,"","","",null,null,null,null,null,null,null,null,null,null,null,null,null,null,null,null,null,null,null,null,null,"R1ATESCO KIDDERMINSTER","R1A67","TESCO KIDDERMINSTER","R1A67","TESCO KIDDERMINSTER","R1A"]
["",0,"",null,null,null,null,null,null,null,null,null,null,null,null,"","","","",null,"","","",null,null,null,null,null,null,null,null,null,null,null,null,null,null,null,null,null,null,null,null,null,"R1ATESCO REDDITCH","R1A43","TESCO REDDITCH","R1A43","TESCO REDDITCH","R1A"]
["",0,"",null,null,null,null,null,null,null,null,null,null,null,null,"","","","",null,"","","",null,null,null,null,null,null,null,null,null,null,null,null,null,null,null,null,null,null,null,null,null,"R1ATESCO ST PETERS","R1A1G","TESCO ST PETERS","R1A1G","TESCO ST PETERS","R1A"]
["",0,"",null,null,null,null,null,null,null,null,null,null,null,null,"","","","",null,"","","",null,null,null,null,null,null,null,null,null,null,null,null,null,null,null,null,null,null,null,null,null,"R1ATESCO WARNDON","R1AA1","TESCO WARNDON","R1AA1","TESCO WARNDON","R1A"]
["",0,"",null,null,null,null,null,null,null,null,null,null,null,null,"","","","",null,"","","",null,null,null,null,null,null,null,null,null,null,null,null,null,null,null,null,null,null,null,null,null,"R1ATHE FIRS REST HOME","R1A1F","THE FIRS REST HOME","R1A1F","THE FIRS REST HOME","R1A"]
["",0,"",null,null,null,null,null,null,null,null,null,null,null,null,"","","","",null,"","","",null,null,null,null,null,null,null,null,null,null,null,null,null,null,null,null,null,null,null,null,null,"R1ATHE GRANGE","R1A66","THE GRANGE","R1A66","THE GRANGE","R1A"]
["",0,"",null,null,null,null,null,null,null,null,null,null,null,null,"","","","",null,"","","",null,null,null,null,null,null,null,null,null,null,null,null,null,null,null,null,null,null,null,null,null,"R1ATHE HIVE","R1AKX","THE HIVE","R1AKX","THE HIVE","R1A"]
["",0,"",null,null,null,null,null,null,null,null,null,null,null,null,"","","","",null,"","","",null,null,null,null,null,null,null,null,null,null,null,null,null,null,null,null,null,null,null,null,null,{"$f":"CONCATENATE(LEFT(AT134, 3),AU134)","v":"R1ATHE OLD VICARAGE"},"R1AKL","THE OLD VICARAGE","R1AKL","THE OLD VICARAGE",{"$f":"LEFT(AV134,3)","v":"R1A"}]
["",0,"",null,null,null,null,null,null,null,null,null,null,null,null,"","","","",null,"","","",null,null,null,null,null,null,null,null,null,null,null,null,null,null,null,null,null,null,null,null,null,"R1ATHE PINES","R1AHX","THE PINES","R1AHX","THE PINES","R1A"]
["",0,"",null,null,null,null,null,null,null,null,null,null,null,null,"","","","",null,"","","",null,null,null,null,null,null,null,null,null,null,null,null,null,null,null,null,null,null,null,null,null,"R1ATHE ROBERTSON CENTRE (D BLOCK)","R1ACN","THE ROBERTSON CENTRE (D BLOCK)","R1ACN","THE ROBERTSON CENTRE (D BLOCK)","R1A"]
["",0,"",null,null,null,null,null,null,null,null,null,null,null,null,"","","","",null,"","","",null,null,null,null,null,null,null,null,null,null,null,null,null,null,null,null,null,null,null,null,null,"R1ATHE WOODLANDS","R1A44","THE WOODLANDS","R1A44","THE WOODLANDS","R1A"]
["",0,"",null,null,null,null,null,null,null,null,null,null,null,null,"","","","",null,"","","",null,null,null,null,null,null,null,null,null,null,null,null,null,null,null,null,null,null,null,null,null,"R1ATIMBERDINE HOME RESIDENTIAL CARE","R1AHM","TIMBERDINE HOME RESIDENTIAL CARE","R1AHM","TIMBERDINE HOME RESIDENTIAL CARE","R1A"]
["",0,"",null,null,null,null,null,null,null,null,null,null,null,null,"","","","",null,"","","",null,null,null,null,null,null,null,null,null,null,null,null,null,null,null,null,null,null,null,null,null,"R1ATOUCHSTONE UNIT","R1AAD","TOUCHSTONE UNIT","R1AAD","TOUCHSTONE UNIT","R1A"]
["",0,"",null,null,null,null,null,null,null,null,null,null,null,null,"","","","",null,"","","",null,null,null,null,null,null,null,null,null,null,null,null,null,null,null,null,null,null,null,null,null,"R1AWALKWOOD MIDDLE AUTISM BASE","R1A31","WALKWOOD MIDDLE AUTISM BASE","R1A31","WALKWOOD MIDDLE AUTISM BASE","R1A"]
["",0,"",null,null,null,null,null,null,null,null,null,null,null,null,"","","","",null,"","","",null,null,null,null,null,null,null,null,null,null,null,null,null,null,null,null,null,null,null,null,null,"R1AWALSGRAVE HOSPITAL","R1A55","WALSGRAVE HOSPITAL","R1A55","WALSGRAVE HOSPITAL","R1A"]
["",0,{"$f":"IF(ISNA(VLOOKUP($B$2&D142,$AS:$AT,2,FALSE)),\"\",VLOOKUP($B$2&D142,$AS:$AT,2,FALSE))","v":""},null,null,null,null,null,null,null,null,null,null,null,null,"","","","",null,"","","",null,null,null,null,null,null,null,null,null,null,null,null,null,null,null,null,null,null,null,null,null,"R1AWASELY HIGH AUTISM BASE","R1A06","WASELY HIGH AUTISM BASE","R1A06","WASELY HIGH AUTISM BASE","R1A"]
["",0,"",null,null,null,null,null,null,null,null,null,null,null,null,{"$f":"IF(ISERROR(IF($H143=\"\",\"\",I143/H143)),\"-\",(IF($H143=\"\",\"\",I143/H143)))","v":""},{"$f":"IF(ISERROR(IF(J143=\"\",\"\",K143/J143)),\"-\",(IF(J143=\"\",\"\",K143/J143)))","v":""},{"$f":"IF(ISERROR(IF(L143=\"\",\"\",M143/L143)),\"-\",(IF(L143=\"\",\"\",M143/L143)))","v":""},{"$f":"IF(ISERROR(IF(N143=\"\",\"\",O143/N143)),\"-\",IF(N143=\"\",\"\",O143/N143))","v":""},null,{"$f":"IF(ISERROR(IF($T143=\"\",\"\",SUM(I143,M143)/$T143)),\"-\",(IF($T143=\"\",\"\",SUM(I143,M143)/$T143)))","v":""},{"$f":"IF(ISERROR(IF($T143=\"\",\"\",SUM(K143,O143)/$T143)),\"-\",(IF($T143=\"\",\"\",SUM(K143,O143)/$T143)))","v":""},{"$f":"IF(ISERROR(IF($T143=\"\",\"\",SUM(I143,K143,M143,O143)/$T143)),\"-\",(IF($T143=\"\",\"\",SUM(I143,K143,M143,O143)/$T143)))","v":""},null,null,null,null,null,null,null,null,null,null,null,null,null,null,null,null,null,null,null,null,null,"R1AWATERSIDE","R1AQG","WATERSIDE","R1AQG","WATERSIDE","R1A"]
["",{"$f":"IF(SUM(D345:F345,L345:M345)>0,1,IF(X345>0,2,0))","v":0},"",null,null,null,null,null,null,null,null,null,null,null,null,"","","","",null,"","","",null,null,null,null,null,null,null,null,null,null,null,null,null,null,null,null,null,null,null,null,null,"R1AWATERSIDE CARE HOME","R1AKR","WATERSIDE CARE HOME","R1AKR","WATERSIDE CARE HOME","R1A"]
[{"$f":"IF(L346=1,\"No Site Selected\",IF(M346=1,\"No Ward Name\",\"\"))","v":""},0,"",null,null,null,null,null,null,null,null,null,null,null,null,"","","","",null,"","","",null,null,null,null,null,null,null,null,null,null,null,null,null,null,null,null,null,null,null,null,null,"R1AWATERSIDE MENTAL HEALTH DAY HOSPITAL","R1A1V","WATERSIDE MENTAL HEALTH DAY HOSPITAL","R1A1V","WATERSIDE MENTAL HEALTH DAY HOSPITAL","R1A"]
["",0,"",null,null,null,null,null,null,null,null,null,null,null,null,"","","","",null,"","","",null,null,null,null,null,null,null,null,null,null,null,null,null,null,null,null,null,null,null,null,null,"R1AWHCT HEALTHCARE FEATHERSTONE","R1AHY","WHCT HEALTHCARE FEATHERSTONE","R1AHY","WHCT HEALTHCARE FEATHERSTONE","R1A"]
["",0,"",null,null,null,null,null,null,null,null,null,null,null,null,"","","","",null,"","","",null,null,null,null,null,null,null,null,null,null,null,null,null,null,null,null,null,null,null,null,null,"R1AWILDMOOR MILL FARM","R1A21","WILDMOOR MILL FARM","R1A21","WILDMOOR MILL FARM","R1A"]
["",0,"",null,null,null,null,null,null,null,null,null,null,null,null,"","","","",null,"","","",null,null,null,null,null,null,null,null,null,null,null,null,null,null,null,null,null,null,null,null,null,"R1AWISHMOOR REST HOME","R1AKN","WISHMOOR REST HOME","R1AKN","WISHMOOR REST HOME","R1A"]
["",0,"",null,null,null,null,null,null,null,null,null,null,null,null,"","","","",null,"","","",null,null,null,null,null,null,null,null,null,null,null,null,null,null,null,null,null,null,null,null,null,"R1AWOODSIDE","R1A1C","WOODSIDE","R1A1C","WOODSIDE","R1A"]
["",0,"",null,null,null,null,null,null,null,null,null,null,null,null,"","","","",null,"","","",null,null,null,null,null,null,null,null,null,null,null,null,null,null,null,null,null,null,null,null,null,"R1AWORCESTER CITY MH 1","R1AQF","WORCESTER CITY MH 1","R1AQF","WORCESTER CITY MH 1","R1A"]
["",0,"",null,null,null,null,null,null,null,null,null,null,null,null,"","","","",null,"","","",null,null,null,null,null,null,null,null,null,null,null,null,null,null,null,null,null,null,null,null,null,"R1AWORCESTER CITY MH 2","R1AQH","WORCESTER CITY MH 2","R1AQH","WORCESTER CITY MH 2","R1A"]
["",0,"",null,null,null,null,null,null,null,null,null,null,null,null,"","","","",null,"","","",null,null,null,null,null,null,null,null,null,null,null,null,null,null,null,null,null,null,null,null,null,"R1AWORCESTER CITY MH 3","R1AQK","WORCESTER CITY MH 3","R1AQK","WORCESTER CITY MH 3","R1A"]
["",0,"",null,null,null,null,null,null,null,null,null,null,null,null,"","","","",null,"","","",null,null,null,null,null,null,null,null,null,null,null,null,null,null,null,null,null,null,null,null,null,"R1AWORCESTER INTERMEDIATE CARE UNIT (WICU)","R1A1Q","WORCESTER INTERMEDIATE CARE UNIT (WICU)","R1A1Q","WORCESTER INTERMEDIATE CARE UNIT (WICU)","R1A"]
["",0,"",null,null,null,null,null,null,null,null,null,null,null,null,"","","","",null,"","","",null,null,null,null,null,null,null,null,null,null,null,null,null,null,null,null,null,null,null,null,null,"R1AWORCESTERSHIRE ROYAL HOSPITAL","R1ADP","WORCESTERSHIRE ROYAL HOSPITAL","R1ADP","WORCESTERSHIRE ROYAL HOSPITAL","R1A"]
["",0,"",null,null,null,null,null,null,null,null,null,null,null,null,"","","","",null,"","","",null,null,null,null,null,null,null,null,null,null,null,null,null,null,null,null,null,null,null,null,null,"R1AWULSTAN UNIT","R1AEC","WULSTAN UNIT","R1AEC","WULSTAN UNIT","R1A"]
["",0,"",null,null,null,null,null,null,null,null,null,null,null,null,"","","","",null,"","","",null,null,null,null,null,null,null,null,null,null,null,null,null,null,null,null,null,null,null,null,null,"R1AWULSTAN UNIT REHABILITATION","R1AED","WULSTAN UNIT REHABILITATION","R1AED","WULSTAN UNIT REHABILITATION","R1A"]
["",0,"",null,null,null,null,null,null,null,null,null,null,null,null,"","","","",null,"","","",null,null,null,null,null,null,null,null,null,null,null,null,null,null,null,null,null,null,null,null,null,"R1AWYCHAVON OA","R1AQJ","WYCHAVON OA","R1AQJ","WYCHAVON OA","R1A"]
["",0,"",null,null,null,null,null,null,null,null,null,null,null,null,"","","","",null,"","","",null,null,null,null,null,null,null,null,null,null,null,null,null,null,null,null,null,null,null,null,null,"R1CADULT MENTAL HEALTH","R1C19","ADULT MENTAL HEALTH","R1C19","ADULT MENTAL HEALTH","R1C"]
["",0,"",null,null,null,null,null,null,null,null,null,null,null,null,"","","","",null,"","","",null,null,null,null,null,null,null,null,null,null,null,null,null,null,null,null,null,null,null,null,null,"R1CAMULREE DAY HOSPITAL","R1C14","AMULREE DAY HOSPITAL","R1C14","AMULREE DAY HOSPITAL","R1C"]
["",0,"",null,null,null,null,null,null,null,null,null,null,null,null,"","","","",null,"","","",null,null,null,null,null,null,null,null,null,null,null,null,null,null,null,null,null,null,null,null,null,"R1CASHURST HOSPITAL","R1C07","ASHURST HOSPITAL","R1C07","ASHURST HOSPITAL","R1C"]
["",0,"",null,null,null,null,null,null,null,null,null,null,null,null,"","","","",null,"","","",null,null,null,null,null,null,null,null,null,null,null,null,null,null,null,null,null,null,null,null,null,"R1CBEHAVIOUR RESOURCE (BRS)","R1C54","BEHAVIOUR RESOURCE (BRS)","R1C54","BEHAVIOUR RESOURCE (BRS)","R1C"]
["",0,"",null,null,null,null,null,null,null,null,null,null,null,null,"","","","",null,"","","",null,null,null,null,null,null,null,null,null,null,null,null,null,null,null,null,null,null,null,null,null,"R1CBRAMBLES WARD","R1C48","BRAMBLES WARD","R1C48","BRAMBLES WARD","R1C"]
["",0,"",null,null,null,null,null,null,null,null,null,null,null,null,"","","","",null,"","","",null,null,null,null,null,null,null,null,null,null,null,null,null,null,null,null,null,null,null,null,null,"R1CC&SH ANDOVER","R1C62","C&SH ANDOVER","R1C62","C&SH ANDOVER","R1C"]
["",0,"",null,null,null,null,null,null,null,null,null,null,null,null,"","","","",null,"","","",null,null,null,null,null,null,null,null,null,null,null,null,null,null,null,null,null,null,null,null,null,"R1CC&SH BASINGSTOKE","R1C45","C&SH BASINGSTOKE","R1C45","C&SH BASINGSTOKE","R1C"]
["",0,"",null,null,null,null,null,null,null,null,null,null,null,null,"","","","",null,"","","",null,null,null,null,null,null,null,null,null,null,null,null,null,null,null,null,null,null,null,null,null,"R1CC&SH PORTSMOUTH","R1C17","C&SH PORTSMOUTH","R1C17","C&SH PORTSMOUTH","R1C"]
["",0,"",null,null,null,null,null,null,null,null,null,null,null,null,"","","","",null,"","","",null,null,null,null,null,null,null,null,null,null,null,null,null,null,null,null,null,null,null,null,null,"R1CC&SH SOUTHAMPTON","R1C51","C&SH SOUTHAMPTON","R1C51","C&SH SOUTHAMPTON","R1C"]
["",0,"",null,null,null,null,null,null,null,null,null,null,null,null,"","","","",null,"","","",null,null,null,null,null,null,null,null,null,null,null,null,null,null,null,null,null,null,null,null,null,"R1CC&SH WINCHESTER","R1C58","C&SH WINCHESTER","R1C58","C&SH WINCHESTER","R1C"]
["",0,"",null,null,null,null,null,null,null,null,null,null,null,null,"","","","",null,"","","",null,null,null,null,null,null,null,null,null,null,null,null,null,null,null,null,null,null,null,null,null,"R1CCAMPION PLACE","R1C90","CAMPION PLACE","R1C90","CAMPION PLACE","R1C"]
["",0,"",null,null,null,null,null,null,null,null,null,null,null,null,"","","","",null,"","","",null,null,null,null,null,null,null,null,null,null,null,null,null,null,null,null,null,null,null,null,null,"R1CCHASE COMMUNITY HOSPITAL","R1CG1","CHASE COMMUNITY HOSPITAL","R1CG1","CHASE COMMUNITY HOSPITAL","R1C"]
["",0,"",null,null,null,null,null,null,null,null,null,null,null,null,"","","","",null,"","","",null,null,null,null,null,null,null,null,null,null,null,null,null,null,null,null,null,null,null,null,null,"R1CCOMMUNITY PAEDIATRICS - EAST","R1C22","COMMUNITY PAEDIATRICS - EAST","R1C22","COMMUNITY PAEDIATRICS - EAST","R1C"]
["",0,"",null,null,null,null,null,null,null,null,null,null,null,null,"","","","",null,"","","",null,null,null,null,null,null,null,null,null,null,null,null,null,null,null,null,null,null,null,null,null,"R1CCOMMUNITY PAEDIATRICS - WEST","R1C55","COMMUNITY PAEDIATRICS - WEST","R1C55","COMMUNITY PAEDIATRICS - WEST","R1C"]
["",0,"",null,null,null,null,null,null,null,null,null,null,null,null,"","","","",null,"","","",null,null,null,null,null,null,null,null,null,null,null,null,null,null,null,null,null,null,null,null,null,"R1CCOMMUNITY PAEDS N.FOREST","R1CA6","COMMUNITY PAEDS N.FOREST","R1CA6","COMMUNITY PAEDS N.FOREST","R1C"]
["",0,"",null,null,null,null,null,null,null,null,null,null,null,null,"","","","",null,"","","",null,null,null,null,null,null,null,null,null,null,null,null,null,null,null,null,null,null,null,null,null,"R1CCROWN HEIGHTS","R1CH3","CROWN HEIGHTS","R1CH3","CROWN HEIGHTS","R1C"]
["",0,{"$f":"IF(ISNA(VLOOKUP($B$2&D174,$AS:$AT,2,FALSE)),\"\",VLOOKUP($B$2&D174,$AS:$AT,2,FALSE))","v":""},null,null,null,null,null,null,null,null,null,null,null,null,"","","","",null,"","","",null,null,null,null,null,null,null,null,null,null,null,null,null,null,null,null,null,null,null,null,null,"R1CEASTLEIGH DAS","R1CR3","EASTLEIGH DAS","R1CR3","EASTLEIGH DAS","R1C"]
["",0,"",null,null,null,null,null,null,null,null,null,null,null,null,"","","","",null,"","","",null,null,null,null,null,null,null,null,null,null,null,null,null,null,null,null,null,null,null,null,null,"R1CELMLEIGH HOSPITAL","R1CM8","ELMLEIGH HOSPITAL","R1CM8","ELMLEIGH HOSPITAL","R1C"]
["",0,"",null,null,null,null,null,null,null,null,null,null,null,null,"","","","",null,"","","",null,null,null,null,null,null,null,null,null,null,null,null,null,null,null,null,null,null,null,null,null,"R1CFANSHAWE WARD","R1C49","FANSHAWE WARD","R1C49","FANSHAWE WARD","R1C"]
["",0,"",null,null,null,null,null,null,null,null,null,null,null,null,"","","","",null,"","","",null,null,null,null,null,null,null,null,null,null,null,null,null,null,null,null,null,null,null,null,null,"R1CFAREHAM COMMUNITY HOSPITAL","R1CF4","FAREHAM COMMUNITY HOSPITAL","R1CF4","FAREHAM COMMUNITY HOSPITAL","R1C"]
["",0,"",null,null,null,null,null,null,null,null,null,null,null,null,"","","","",null,"","","",null,null,null,null,null,null,null,null,null,null,null,null,null,null,null,null,null,null,null,null,null,"R1CFAREHAM REACH UNIT","R1C89","FAREHAM REACH UNIT","R1C89","FAREHAM REACH UNIT","R1C"]
["",0,"",null,null,null,null,null,null,null,null,null,null,null,null,"","","","",null,"","","",null,null,null,null,null,null,null,null,null,null,null,null,null,null,null,null,null,null,null,null,null,"R1CFENWICK HOSPITAL","R1CT7","FENWICK HOSPITAL","R1CT7","FENWICK HOSPITAL","R1C"]
["",0,"",null,null,null,null,null,null,null,null,null,null,null,null,"","","","",null,"","","",null,null,null,null,null,null,null,null,null,null,null,null,null,null,null,null,null,null,null,null,null,"R1CFLEET COMMUNITY HOSPITAL","R1CG3","FLEET COMMUNITY HOSPITAL","R1CG3","FLEET COMMUNITY HOSPITAL","R1C"]
["",0,"",null,null,null,null,null,null,null,null,null,null,null,null,"","","","",null,"","","",null,null,null,null,null,null,null,null,null,null,null,null,null,null,null,null,null,null,null,null,null,"R1CFRITH COTTAGE DAS","R1C09","FRITH COTTAGE DAS","R1C09","FRITH COTTAGE DAS","R1C"]
["",0,"",null,null,null,null,null,null,null,null,null,null,null,null,"","","","",null,"","","",null,null,null,null,null,null,null,null,null,null,null,null,null,null,null,null,null,null,null,null,null,"R1CGOSPORT WAR MEMORIAL HOSPITAL","R1C70","GOSPORT WAR MEMORIAL HOSPITAL","R1C70","GOSPORT WAR MEMORIAL HOSPITAL","R1C"]
["",0,"",null,null,null,null,null,null,null,null,null,null,null,null,"","","","",null,"","","",null,null,null,null,null,null,null,null,null,null,null,null,null,null,null,null,null,null,null,null,null,"R1CHAVANT WAR MEMORIAL HOSPITAL","R1CJ2","HAVANT WAR MEMORIAL HOSPITAL","R1CJ2","HAVANT WAR MEMORIAL HOSPITAL","R1C"]
["",0,"",null,null,null,null,null,null,null,null,null,null,null,null,"","","","",null,"","","",null,null,null,null,null,null,null,null,null,null,null,null,null,null,null,null,null,null,null,null,null,"R1CHOOK SHADIE AT THE BASE","R1CE8","HOOK SHADIE AT THE BASE","R1CE8","HOOK SHADIE AT THE BASE","R1C"]
["",0,"",null,null,null,null,null,null,null,null,null,null,null,null,"","","","",null,"","","",null,null,null,null,null,null,null,null,null,null,null,null,null,null,null,null,null,null,null,null,null,"R1CHUNTERCOMBE MANOR HOSPITAL","R1CA9","HUNTERCOMBE MANOR HOSPITAL","R1CA9","HUNTERCOMBE MANOR HOSPITAL","R1C"]
["",0,"",null,null,null,null,null,null,null,null,null,null,null,null,"","","","",null,"","","",null,null,null,null,null,null,null,null,null,null,null,null,null,null,null,null,null,null,null,null,null,"R1CHYTHE HOSPITAL","R1CG7","HYTHE HOSPITAL","R1CG7","HYTHE HOSPITAL","R1C"]
["",0,"",null,null,null,null,null,null,null,null,null,null,null,null,"","","","",null,"","","",null,null,null,null,null,null,null,null,null,null,null,null,null,null,null,null,null,null,null,null,null,"R1CINSCAPE","R1C95","INSCAPE","R1C95","INSCAPE","R1C"]
["",0,"",null,null,null,null,null,null,null,null,null,null,null,null,"","","","",null,"","","",null,null,null,null,null,null,null,null,null,null,null,null,null,null,null,null,null,null,null,null,null,"R1CINTEGRATED DRUG TREATMENT","R1C59","INTEGRATED DRUG TREATMENT","R1C59","INTEGRATED DRUG TREATMENT","R1C"]
["",0,"",null,null,null,null,null,null,null,null,null,null,null,null,"","","","",null,"","","",null,null,null,null,null,null,null,null,null,null,null,null,null,null,null,null,null,null,null,null,null,"R1CLOWER MOUNTBATTON GALLERY","R1C12","LOWER MOUNTBATTON GALLERY","R1C12","LOWER MOUNTBATTON GALLERY","R1C"]
["",0,"",null,null,null,null,null,null,null,null,null,null,null,null,"","","","",null,"","","",null,null,null,null,null,null,null,null,null,null,null,null,null,null,null,null,null,null,null,null,null,"R1CLYMINGTON NEW FOREST HOSPITAL","R1CG4","LYMINGTON NEW FOREST HOSPITAL","R1CG4","LYMINGTON NEW FOREST HOSPITAL","R1C"]
["",0,"",null,null,null,null,null,null,null,null,null,null,null,null,"","","","",null,"","","",null,null,null,null,null,null,null,null,null,null,null,null,null,null,null,null,null,null,null,null,null,"R1CMILFORD WAR MEMORIAL HOSPITAL","R1CG5","MILFORD WAR MEMORIAL HOSPITAL","R1CG5","MILFORD WAR MEMORIAL HOSPITAL","R1C"]
["",0,"",null,null,null,null,null,null,null,null,null,null,null,null,"","","","",null,"","","",null,null,null,null,null,null,null,null,null,null,null,null,null,null,null,null,null,null,null,null,null,"R1CMINOR INJURIES UNIT","R1CH0","MINOR INJURIES UNIT","R1CH0","MINOR INJURIES UNIT","R1C"]
["",0,"",null,null,null,null,null,null,null,null,null,null,null,null,"","","","",null,"","","",null,null,null,null,null,null,null,null,null,null,null,null,null,null,null,null,null,null,null,null,null,"R1CMOORGREEN HOSPITAL","R1C02","MOORGREEN HOSPITAL","R1C02","MOORGREEN HOSPITAL","R1C"]
["",0,"",null,null,null,null,null,null,null,null,null,null,null,null,"","","","",null,"","","",null,null,null,null,null,null,null,null,null,null,null,null,null,null,null,null,null,null,null,null,null,"R1CNEW FOREST DAS","R1C65","NEW FOREST DAS","R1C65","NEW FOREST DAS","R1C"]
["",0,"",null,null,null,null,null,null,null,null,null,null,null,null,"","","","",null,"","","",null,null,null,null,null,null,null,null,null,null,null,null,null,null,null,null,null,null,null,null,null,"R1CNO LIMITS","R1CG6","NO LIMITS","R1CG6","NO LIMITS","R1C"]
["",0,"",null,null,null,null,null,null,null,null,null,null,null,null,"","","","",null,"","","",null,null,null,null,null,null,null,null,null,null,null,null,null,null,null,null,null,null,null,null,null,"R1CNO LIMITS - SHIRLEY","R1CL2","NO LIMITS - SHIRLEY","R1CL2","NO LIMITS - SHIRLEY","R1C"]
["",0,"",null,null,null,null,null,null,null,null,null,null,null,null,"","","","",null,"","","",null,null,null,null,null,null,null,null,null,null,null,null,null,null,null,null,null,null,null,null,null,"R1CNO LIMITS - SHOLING","R1CL3","NO LIMITS - SHOLING","R1CL3","NO LIMITS - SHOLING","R1C"]
["",0,"",null,null,null,null,null,null,null,null,null,null,null,null,"","","","",null,"","","",null,null,null,null,null,null,null,null,null,null,null,null,null,null,null,null,null,null,null,null,null,{"$f":"CONCATENATE(LEFT(AT198, 3),AU198)","v":"R1COAKRIDGE HALL FOR ALL"},"R1CL5","OAKRIDGE HALL FOR ALL","R1CL5","OAKRIDGE HALL FOR ALL",{"$f":"LEFT(AV198,3)","v":"R1C"}]
["",0,"",null,null,null,null,null,null,null,null,null,null,null,null,"","","","",null,"","","",null,null,null,null,null,null,null,null,null,null,null,null,null,null,null,null,null,null,null,null,null,"R1COLDER PERS MENTAL HEALTH","R1C26","OLDER PERS MENTAL HEALTH","R1C26","OLDER PERS MENTAL HEALTH","R1C"]
["",0,"",null,null,null,null,null,null,null,null,null,null,null,null,"","","","",null,"","","",null,null,null,null,null,null,null,null,null,null,null,null,null,null,null,null,null,null,null,null,null,"R1CPETERSFIELD HOSPITAL","R1CD8","PETERSFIELD HOSPITAL","R1CD8","PETERSFIELD HOSPITAL","R1C"]
["",0,"",null,null,null,null,null,null,null,null,null,null,null,null,"","","","",null,"","","",null,null,null,null,null,null,null,null,null,null,null,null,null,null,null,null,null,null,null,null,null,"R1CPICKLES COPPICE","R1C44","PICKLES COPPICE","R1C44","PICKLES COPPICE","R1C"]
["",0,"",null,null,null,null,null,null,null,null,null,null,null,null,"","","","",null,"","","",null,null,null,null,null,null,null,null,null,null,null,null,null,null,null,null,null,null,null,null,null,"R1CPRINCESS ANNE HOSPITAL","R1C36","PRINCESS ANNE HOSPITAL","R1C36","PRINCESS ANNE HOSPITAL","R1C"]
["",0,"",null,null,null,null,null,null,null,null,null,null,null,null,"","","","",null,"","","",null,null,null,null,null,null,null,null,null,null,null,null,null,null,null,null,null,null,null,null,null,"R1CQUEEN ALEXANDRA HOSPITAL","R1CJ7","QUEEN ALEXANDRA HOSPITAL","R1CJ7","QUEEN ALEXANDRA HOSPITAL","R1C"]
["",0,"",null,null,null,null,null,null,null,null,null,null,null,null,"","","","",null,"","","",null,null,null,null,null,null,null,null,null,null,null,null,null,null,null,null,null,null,null,null,null,"R1CROMSEY HOSPITAL","R1C46","ROMSEY HOSPITAL","R1C46","ROMSEY HOSPITAL","R1C"]
["",0,"",null,null,null,null,null,null,null,null,null,null,null,null,"","","","",null,"","","",null,null,null,null,null,null,null,null,null,null,null,null,null,null,null,null,null,null,null,null,null,"R1CSAINSBURYS","R1CV7","SAINSBURYS","R1CV7","SAINSBURYS","R1C"]
["",0,{"$f":"IF(ISNA(VLOOKUP($B$2&D206,$AS:$AT,2,FALSE)),\"\",VLOOKUP($B$2&D206,$AS:$AT,2,FALSE))","v":""},null,null,null,null,null,null,null,null,null,null,null,null,"","","","",null,"","","",null,null,null,null,null,null,null,null,null,null,null,null,null,null,null,null,null,null,null,null,null,"R1CSNOWDON NEURO REHAB UNIT","R1C52","SNOWDON NEURO REHAB UNIT","R1C52","SNOWDON NEURO REHAB UNIT","R1C"]
["",0,"",null,null,null,null,null,null,null,null,null,null,null,null,{"$f":"IF(ISERROR(IF($H207=\"\",\"\",I207/H207)),\"-\",(IF($H207=\"\",\"\",I207/H207)))","v":""},{"$f":"IF(ISERROR(IF(J207=\"\",\"\",K207/J207)),\"-\",(IF(J207=\"\",\"\",K207/J207)))","v":""},{"$f":"IF(ISERROR(IF(L207=\"\",\"\",M207/L207)),\"-\",(IF(L207=\"\",\"\",M207/L207)))","v":""},{"$f":"IF(ISERROR(IF(N207=\"\",\"\",O207/N207)),\"-\",IF(N207=\"\",\"\",O207/N207))","v":""},null,{"$f":"IF(ISERROR(IF($T207=\"\",\"\",SUM(I207,M207)/$T207)),\"-\",(IF($T207=\"\",\"\",SUM(I207,M207)/$T207)))","v":""},{"$f":"IF(ISERROR(IF($T207=\"\",\"\",SUM(K207,O207)/$T207)),\"-\",(IF($T207=\"\",\"\",SUM(K207,O207)/$T207)))","v":""},{"$f":"IF(ISERROR(IF($T207=\"\",\"\",SUM(I207,K207,M207,O207)/$T207)),\"-\",(IF($T207=\"\",\"\",SUM(I207,K207,M207,O207)/$T207)))","v":""},null,null,null,null,null,null,null,null,null,null,null,null,null,null,null,null,null,null,null,null,null,"R1CSOUTHAMPTON GENERAL HOSPITAL","R1C40","SOUTHAMPTON GENERAL HOSPITAL","R1C40","SOUTHAMPTON GENERAL HOSPITAL","R1C"]
["",{"$f":"IF(SUM(D409:F409,L409:M409)>0,1,IF(X409>0,2,0))","v":0},"",null,null,null,null,null,null,null,null,null,null,null,null,"","","","",null,"","","",null,null,null,null,null,null,null,null,null,null,null,null,null,null,null,null,null,null,null,null,null,"R1CSPINNAKER WARD","R1CC3","SPINNAKER WARD","R1CC3","SPINNAKER WARD","R1C"]
[{"$f":"IF(L410=1,\"No Site Selected\",IF(M410=1,\"No Ward Name\",\"\"))","v":""},0,"",null,null,null,null,null,null,null,null,null,null,null,null,"","","","",null,"","","",null,null,null,null,null,null,null,null,null,null,null,null,null,null,null,null,null,null,null,null,null,"R1CST JAMES' HOSPITAL","R1CF2","ST JAMES' HOSPITAL","R1CF2","ST JAMES' HOSPITAL","R1C"]
[{"$f":"IF(L411=1,\"No Site Selected\",IF(M411=1,\"No Ward Name\",\"\"))","v":""},0,"",null,null,null,null,null,null,null,null,null,null,null,null,"","","","",null,"","","",null,null,null,null,null,null,null,null,null,null,null,null,null,null,null,null,null,null,null,null,null,"R1CST MARY'S HEALTH CAMPUS","R1CD4","ST MARY'S HEALTH CAMPUS","R1CD4","ST MARY'S HEALTH CAMPUS","R1C"]
[{"$f":"IF(L412=1,\"No Site Selected\",IF(M412=1,\"No Ward Name\",\"\"))","v":""},0,"",null,null,null,null,null,null,null,null,null,null,null,null,"","","","",null,"","","",null,null,null,null,null,null,null,null,null,null,null,null,null,null,null,null,null,null,null,null,null,"R1CSTONEHAM MUSCULOSKELETAL","R1C60","STONEHAM MUSCULOSKELETAL","R1C60","STONEHAM MUSCULOSKELETAL","R1C"]
[{"$f":"IF(L413=1,\"No Site Selected\",IF(M413=1,\"No Ward Name\",\"\"))","v":""},0,"",null,null,null,null,null,null,null,null,null,null,null,null,"","","","",null,"","","",null,null,null,null,null,null,null,null,null,null,null,null,null,null,null,null,null,null,null,null,null,"R1CTHE ORIGINAL PLACE","R1C79","THE ORIGINAL PLACE","R1C79","THE ORIGINAL PLACE","R1C"]
[{"$f":"IF(L414=1,\"No Site Selected\",IF(M414=1,\"No Ward Name\",\"\"))","v":""},0,"",null,null,null,null,null,null,null,null,null,null,null,null,"","","","",null,"","","",null,null,null,null,null,null,null,null,null,null,null,null,null,null,null,null,null,null,null,null,null,"R1CTHE POTTERIES","R1CP5","THE POTTERIES","R1CP5","THE POTTERIES","R1C"]
[null,null,null,null,"Total",null,null,{"$f":"SUM(H14:H213)","v":83024.433333333334},76812.016666666677,50659.833333333336,47523.750000000007,53746,52520.416666666672,27336.516666666666,{"$f":"SUM(O14:O213)","v":26815.583333333336},null,null,null,null,{"$f":"SUM(T14:T213)","v":28613},null,null,null,null,null,null,null,null,null,null,null,null,null,null,null,null,null,null,null,null,null,null,null,null,"R1CTHE ROYAL SOUTH HANTS HOSPITAL","R1C34","THE ROYAL SOUTH HANTS HOSPITAL","R1C34","THE ROYAL SOUTH HANTS HOSPITAL","R1C"]
[{"$f":"VLOOKUP($C14,$AT:$AT,1,0)","v":"RWDLP"},{"$f":"VLOOKUP($D14,$AU:$AU,1,0)","v":"GRANTHAM AND DISTRICT HOSPITAL - RWDLP"},{"$f":"IF(C14=\"\",0,IF(ISERROR(VLOOKUP(C14,$AT$5:$AT$249,1,0)),0,IF(VLOOKUP(C14,$AT$5:$AX$249,5,0)=$B$2,0,1)))","v":0},{"$f":"IF(D14=\"\",0,IF(F14=\"\",1,0))","v":0},{"$f":"IF(D14=\"\",0,IF(SUM(H14,J14,L14,N14)=0,1,0))","v":0},{"$f":"IF(D14=\"\",0,IF(SUM(I14,K14,M14,O14)=0,1,0))","v":0},{"$f":"IF(D14=\"\",0,IF(SUM(H14:O14)<1448,1,0))","v":0},{"$f":"IF(D14=\"\",0,IF(SUM(H14:O14)>30000,1,0))","v":0},{"$f":"IF(F14=\"\",0,IF(ISERROR(VLOOKUP(F14,$Y$14:$Y$98,1,FALSE)),1,0))","v":0},{"$f":"IF(G14=\"\",0,IF(ISERROR(VLOOKUP(G14,$Y$14:$Y$98,1,FALSE)),1,0))","v":0},{"$f":"IF(D14=\"\",0,IF(C14=\"\",1,0))","v":0},{"$f":"IF(OR(H14<>\"\",J14<>\"\",I14<>\"\",K14<>\"\",L14<>\"\",M14<>\"\",N14<>\"\",O14<>\"\",E14<>\"\",F14<>\"\",G14<>\"\"),IF(D14=\"\",1,0),0)","v":0},{"$f":"IF(D14=\"\",0,IF(E14=\"\",1,0))","v":0},null,null,{"$f":"IF(P14=\"\",0,IF(P14>100%,1,0))","v":1},0,1,0,{"$f":"IF(AND(SUM(I14,K14,M14,O14)>0,T14=0),1,0)","v":0},null,null,null,{"$f":"SUM(G215:S215)","v":2},null,null,null,null,null,null,null,null,null,null,null,null,null,null,null,null,null,null,null,null,"R1CVICTORY UNIT","R1CD3","VICTORY UNIT","R1CD3","VICTORY UNIT","R1C"]
["RWDLP","GRANTHAM AND DISTRICT HOSPITAL - RWDLP",0,{"$f":"IF(D15=\"\",0,IF(F15=\"\",1,0))","v":0},{"$f":"IF(D15=\"\",0,IF(SUM(H15,J15,L15,N15)=0,1,0))","v":0},{"$f":"IF(D15=\"\",0,IF(SUM(I15,K15,M15,O15)=0,1,0))","v":0},{"$f":"IF(D15=\"\",0,IF(SUM(H15:O15)<1448,1,0))","v":0},{"$f":"IF(D15=\"\",0,IF(SUM(H15:O15)>30000,1,0))","v":0},0,0,{"$f":"IF(D15=\"\",0,IF(C15=\"\",1,0))","v":0},{"$f":"IF(OR(H15<>\"\",J15<>\"\",I15<>\"\",K15<>\"\",L15<>\"\",M15<>\"\",N15<>\"\",O15<>\"\",E15<>\"\",F15<>\"\",G15<>\"\"),IF(D15=\"\",1,0),0)","v":0},{"$f":"IF(D15=\"\",0,IF(E15=\"\",1,0))","v":0},null,null,0,0,0,0,{"$f":"IF(AND(SUM(I15,K15,M15,O15)>0,T15=0),1,0)","v":0},null,null,null,{"$f":"SUM(G216:S216)","v":0},null,null,null,null,null,null,null,null,null,null,null,null,null,null,null,null,null,null,null,null,"R1CWESTERN COMMUNITY HOSPITAL","R1C03","WESTERN COMMUNITY HOSPITAL","R1C03","WESTERN COMMUNITY HOSPITAL","R1C"]
["RWDLP","GRANTHAM AND DISTRICT HOSPITAL - RWDLP",0,0,0,0,0,0,0,0,0,0,0,null,null,0,0,1,0,0,null,null,null,1,null,null,null,null,null,null,null,null,null,null,null,null,null,null,null,null,null,null,null,null,"R1DAPCS SHREWSBURY","R1DD3","APCS SHREWSBURY","R1DD3","APCS SHREWSBURY","R1D"]
["RWDLP","GRANTHAM AND DISTRICT HOSPITAL - RWDLP",0,{"$f":"IF(D17=\"\",0,IF(F17=\"\",1,0))","v":0},0,0,0,0,0,0,0,0,0,null,null,0,0,1,0,0,null,null,null,1,null,null,null,null,null,null,null,null,null,null,null,null,null,null,null,null,null,null,null,null,"R1DBEECHES HOSPITAL","R1DAM","BEECHES HOSPITAL","R1DAM","BEECHES HOSPITAL","R1D"]
["RWDLP","GRANTHAM AND DISTRICT HOSPITAL - RWDLP",0,0,0,0,0,0,0,0,0,0,0,null,null,0,0,0,1,0,null,null,null,1,null,null,null,null,null,null,null,null,null,null,null,null,null,null,null,null,null,null,null,null,"R1DBELLE VUE (GP)","R1D53","BELLE VUE (GP)","R1D53","BELLE VUE (GP)","R1D"]
["RWDDA","LINCOLN COUNTY HOSPITAL - RWDDA",0,0,0,0,0,0,0,0,0,0,0,null,null,0,1,0,1,0,null,null,null,2,null,null,null,null,null,null,null,null,null,null,null,null,null,null,null,null,null,null,null,null,"R1DBISHOPS CASTLE COMMUNITY HOSPITAL","R1DG4","BISHOPS CASTLE COMMUNITY HOSPITAL","R1DG4","BISHOPS CASTLE COMMUNITY HOSPITAL","R1D"]
["RWDDA","LINCOLN COUNTY HOSPITAL - RWDDA",0,0,0,0,0,0,0,0,0,0,0,null,null,0,0,0,0,0,null,null,null,0,null,null,null,null,null,null,null,null,null,null,null,null,null,null,null,null,null,null,null,null,"R1DBISHOPS CASTLE HOSP OPD1","R1DJ3","BISHOPS CASTLE HOSP OPD1","R1DJ3","BISHOPS CASTLE HOSP OPD1","R1D"]
["RWDDA","LINCOLN COUNTY HOSPITAL - RWDDA",0,0,0,0,0,0,0,0,0,0,0,null,null,0,0,1,0,0,null,null,null,1,null,null,null,null,null,null,null,null,null,null,null,null,null,null,null,null,null,null,null,null,"R1DBISHOPS CASTLE HOSPITAL","R1D25","BISHOPS CASTLE HOSPITAL","R1D25","BISHOPS CASTLE HOSPITAL","R1D"]
["RWDDA","LINCOLN COUNTY HOSPITAL - RWDDA",0,0,0,0,0,0,0,0,0,0,0,null,null,1,1,1,0,0,null,null,null,3,null,null,null,null,null,null,null,null,null,null,null,null,null,null,null,null,null,null,null,null,"R1DBRIDGNORTH COMMUNITY HOSPITAL","R1DG2","BRIDGNORTH COMMUNITY HOSPITAL","R1DG2","BRIDGNORTH COMMUNITY HOSPITAL","R1D"]
["RWDDA","LINCOLN COUNTY HOSPITAL - RWDDA",0,0,0,0,0,0,0,0,0,0,0,null,null,0,0,1,0,0,null,null,null,1,null,null,null,null,null,null,null,null,null,null,null,null,null,null,null,null,null,null,null,null,"R1DBRIDGNORTH HOSP OPD1","R1DJ1","BRIDGNORTH HOSP OPD1","R1DJ1","BRIDGNORTH HOSP OPD1","R1D"]
["RWDDA","LINCOLN COUNTY HOSPITAL - RWDDA",0,0,0,0,0,0,0,0,0,0,0,null,null,0,1,0,1,0,null,null,null,2,null,null,null,null,null,null,null,null,null,null,null,null,null,null,null,null,null,null,null,null,"R1DBRIDGNORTH HOSPITAL","R1D22","BRIDGNORTH HOSPITAL","R1D22","BRIDGNORTH HOSPITAL","R1D"]
["RWDDA","LINCOLN COUNTY HOSPITAL - RWDDA",0,0,0,0,0,0,0,0,0,0,0,null,null,1,0,0,0,0,null,null,null,1,null,null,null,null,null,null,null,null,null,null,null,null,null,null,null,null,null,null,null,null,"R1DBUTCHER ROW (GP)","R1D55","BUTCHER ROW (GP)","R1D55","BUTCHER ROW (GP)","R1D"]
["RWDDA","LINCOLN COUNTY HOSPITAL - RWDDA",0,0,0,0,1,0,0,0,0,0,0,null,null,0,0,1,0,0,null,null,null,2,null,null,null,null,null,null,null,null,null,null,null,null,null,null,null,null,null,null,null,null,"R1DCASTLE CARE CASTLEHAVEN","R1D88","CASTLE CARE CASTLEHAVEN","R1D88","CASTLE CARE CASTLEHAVEN","R1D"]
["RWDDA","LINCOLN COUNTY HOSPITAL - RWDDA",0,0,0,0,0,0,0,0,0,0,0,null,null,0,0,1,1,0,null,null,null,2,null,null,null,null,null,null,null,null,null,null,null,null,null,null,null,null,null,null,null,null,"R1DCLAREMONT BANK SITE (GP)","R1D56","CLAREMONT BANK SITE (GP)","R1D56","CLAREMONT BANK SITE (GP)","R1D"]
["RWDDA","LINCOLN COUNTY HOSPITAL - RWDDA",0,0,0,0,0,0,0,0,0,0,0,null,null,0,0,0,1,0,null,null,null,1,null,null,null,null,null,null,null,null,null,null,null,null,null,null,null,null,null,null,null,null,"R1DCLEE HILL (GP)","R1D67","CLEE HILL (GP)","R1D67","CLEE HILL (GP)","R1D"]
["RWDDA","LINCOLN COUNTY HOSPITAL - RWDDA",0,0,0,0,0,0,0,0,0,0,0,null,null,0,0,0,0,0,null,null,null,0,null,null,null,null,null,null,null,null,null,null,null,null,null,null,null,null,null,null,null,null,"R1DCRAVEN ARMS (GP)","R1D69","CRAVEN ARMS (GP)","R1D69","CRAVEN ARMS (GP)","R1D"]
["RWDDA","LINCOLN COUNTY HOSPITAL - RWDDA",0,0,0,0,0,0,0,0,0,0,0,null,null,{"$f":"IF(P30=\"\",0,IF(P30>100%,1,0))","v":0},1,0,1,0,null,null,null,2,null,null,null,null,null,null,null,null,null,null,null,null,null,null,null,null,null,null,null,null,"R1DCSMS 1","R1D97","CSMS 1","R1D97","CSMS 1","R1D"]
["RWDDA","LINCOLN COUNTY HOSPITAL - RWDDA",0,0,0,0,0,0,0,0,0,0,0,null,null,0,0,1,1,0,null,null,null,2,null,null,null,null,null,null,null,null,null,null,null,null,null,null,null,null,null,null,null,null,"R1DCSMS 2","R1DAK","CSMS 2","R1DAK","CSMS 2","R1D"]
["RWDDA","LINCOLN COUNTY HOSPITAL - RWDDA",0,0,0,0,0,0,0,0,0,0,0,null,null,0,1,1,0,0,null,null,null,2,null,null,null,null,null,null,null,null,null,null,null,null,null,null,null,null,null,null,null,null,"R1DDALE ACRE - SHROPSHIRE COMMUNITY HEALTH","R1DF9","DALE ACRE - SHROPSHIRE COMMUNITY HEALTH","R1DF9","DALE ACRE - SHROPSHIRE COMMUNITY HEALTH","R1D"]
["RWDDA","LINCOLN COUNTY HOSPITAL - RWDDA",0,0,0,0,0,0,0,0,0,0,0,null,null,0,0,0,0,0,null,null,null,0,null,null,null,null,null,null,null,null,null,null,null,null,null,null,null,null,null,null,null,null,"R1DDIMENSIONS (NSO) RESIDENTIAL HOME","R1D78","DIMENSIONS (NSO) RESIDENTIAL HOME","R1D78","DIMENSIONS (NSO) RESIDENTIAL HOME","R1D"]
["RWDDA","LINCOLN COUNTY HOSPITAL - RWDDA",0,0,0,0,0,0,0,0,0,0,0,null,null,0,1,0,0,0,null,null,null,1,null,null,null,null,null,null,null,null,null,null,null,null,null,null,null,null,null,null,null,null,"R1DFAMILY CONNECT","R1DHY","FAMILY CONNECT","R1DHY","FAMILY CONNECT","R1D"]
["RWDDA","LINCOLN COUNTY HOSPITAL - RWDDA",0,0,0,0,0,0,0,0,0,0,0,null,null,0,0,0,0,0,null,null,null,0,null,null,null,null,null,null,null,null,null,null,null,null,null,null,null,null,null,null,null,null,"R1DGLENVIEW","R1D89","GLENVIEW","R1D89","GLENVIEW","R1D"]
["RWDDA","LINCOLN COUNTY HOSPITAL - RWDDA",0,0,0,0,0,0,0,0,0,0,0,null,null,1,1,1,1,0,null,null,null,4,null,null,null,null,null,null,null,null,null,null,null,null,null,null,null,null,null,null,null,null,"R1DHADLEY LEARNING COMMUNITY","R1DEG","HADLEY LEARNING COMMUNITY","R1DEG","HADLEY LEARNING COMMUNITY","R1D"]
["RWDDA","LINCOLN COUNTY HOSPITAL - RWDDA",0,0,0,0,0,0,0,0,0,0,0,null,null,0,0,0,0,0,null,null,null,0,null,null,null,null,null,null,null,null,null,null,null,null,null,null,null,null,null,null,null,null,"R1DHIGHLEY (GP)","R1D70","HIGHLEY (GP)","R1D70","HIGHLEY (GP)","R1D"]
["RWDDA","LINCOLN COUNTY HOSPITAL - RWDDA",0,0,0,0,0,0,0,0,0,0,0,null,null,0,0,0,0,0,null,null,null,0,null,null,null,null,null,null,null,null,null,null,null,null,null,null,null,null,null,null,null,null,"R1DHINSTOCK MANOR","R1DA8","HINSTOCK MANOR","R1DA8","HINSTOCK MANOR","R1D"]
["RWDDA","LINCOLN COUNTY HOSPITAL - RWDDA",0,0,0,0,0,0,0,0,0,0,0,null,null,0,0,0,0,0,null,null,null,0,null,null,null,null,null,null,null,null,null,null,null,null,null,null,null,null,null,null,null,null,"R1DHODNET (GP)","R1D75","HODNET (GP)","R1D75","HODNET (GP)","R1D"]
["RWDDA","LINCOLN COUNTY HOSPITAL - RWDDA",0,0,0,0,0,0,0,0,0,0,0,null,null,0,0,1,1,0,null,null,null,2,null,null,null,null,null,null,null,null,null,null,null,null,null,null,null,null,null,null,null,null,"R1DIRONBRIDGE (GP)","R1D64","IRONBRIDGE (GP)","R1D64","IRONBRIDGE (GP)","R1D"]
["RWDDA","LINCOLN COUNTY HOSPITAL - RWDDA",0,0,0,0,0,0,0,0,0,0,0,null,null,0,0,0,0,0,null,null,null,0,null,null,null,null,null,null,null,null,null,null,null,null,null,null,null,null,null,null,null,null,"R1DKEEPER'S CRESCENT","R1D91","KEEPER'S CRESCENT","R1D91","KEEPER'S CRESCENT","R1D"]
["RWDDA","LINCOLN COUNTY HOSPITAL - RWDDA",0,0,0,0,0,0,0,0,0,0,0,null,null,0,0,0,0,0,null,null,null,0,null,null,null,null,null,null,null,null,null,null,null,null,null,null,null,null,null,null,null,null,"R1DLABURNHAMS","R1D82","LABURNHAMS","R1D82","LABURNHAMS","R1D"]
["RWDLA","PILGRIM HOSPITAL - RWDLA",0,0,0,0,0,0,0,0,0,0,0,null,null,0,0,0,0,0,null,null,null,0,null,null,null,null,null,null,null,null,null,null,null,null,null,null,null,null,null,null,null,null,"R1DLIFESOURCE COLLABORATIVE PROCUREMENT HUB","R1DD8","LIFESOURCE COLLABORATIVE PROCUREMENT HUB","R1DD8","LIFESOURCE COLLABORATIVE PROCUREMENT HUB","R1D"]
["RWDLA","PILGRIM HOSPITAL - RWDLA",0,0,0,0,0,0,0,0,0,0,0,null,null,1,0,1,0,0,null,null,null,2,null,null,null,null,null,null,null,null,null,null,null,null,null,null,null,null,null,null,null,null,"R1DLUDLOW COMMUNITY HOSPITAL","R1DG3","LUDLOW COMMUNITY HOSPITAL","R1DG3","LUDLOW COMMUNITY HOSPITAL","R1D"]
["RWDLA","PILGRIM HOSPITAL - RWDLA",0,0,0,0,0,0,0,0,0,0,0,null,null,0,1,0,1,0,null,null,null,2,null,null,null,null,null,null,null,null,null,null,null,null,null,null,null,null,null,null,null,null,"R1DLUDLOW HOSP OPD1","R1DJ2","LUDLOW HOSP OPD1","R1DJ2","LUDLOW HOSP OPD1","R1D"]
[{"$f":"VLOOKUP($C46,$AT:$AT,1,0)","v":"RWDLA"},{"$f":"VLOOKUP($D46,$AU:$AU,1,0)","v":"PILGRIM HOSPITAL - RWDLA"},{"$f":"IF(C46=\"\",0,IF(ISERROR(VLOOKUP(C46,$AT$5:$AT$249,1,0)),0,IF(VLOOKUP(C46,$AT$5:$AX$249,5,0)=$B$2,0,1)))","v":0},0,0,0,0,0,{"$f":"IF(F46=\"\",0,IF(ISERROR(VLOOKUP(F46,$Y$14:$Y$98,1,FALSE)),1,0))","v":0},{"$f":"IF(G46=\"\",0,IF(ISERROR(VLOOKUP(G46,$Y$14:$Y$98,1,FALSE)),1,0))","v":0},0,0,0,null,null,{"$f":"IF(P46=\"\",0,IF(P46>100%,1,0))","v":1},1,0,1,0,null,null,null,3,null,null,null,null,null,null,null,null,null,null,null,null,null,null,null,null,null,null,null,null,"R1DLUDLOW HOSPITAL","R1D21","LUDLOW HOSPITAL","R1D21","LUDLOW HOSPITAL","R1D"]
["RWDLA","PILGRIM HOSPITAL - RWDLA",0,0,0,0,0,0,0,0,0,0,0,null,null,0,1,0,0,0,null,null,null,1,null,null,null,null,null,null,null,null,null,null,null,null,null,null,null,null,null,null,null,null,"R1DMARKET DRAYTON COTTAGE HOSPITAL","R1D07","MARKET DRAYTON COTTAGE HOSPITAL","R1D07","MARKET DRAYTON COTTAGE HOSPITAL","R1D"]
["RWDLA","PILGRIM HOSPITAL - RWDLA",0,0,0,0,0,0,0,0,0,0,0,null,null,0,1,0,1,0,null,null,null,2,null,null,null,null,null,null,null,null,null,null,null,null,null,null,null,null,null,null,null,null,"R1DNEWPORT (GP)","R1D63","NEWPORT (GP)","R1D63","NEWPORT (GP)","R1D"]
["RWDLA","PILGRIM HOSPITAL - RWDLA",0,0,0,0,0,0,0,0,0,0,0,null,null,0,0,0,0,0,null,null,null,0,null,null,null,null,null,null,null,null,null,null,null,null,null,null,null,null,null,null,null,null,"R1DNEWPORT HOSPITAL","R1DAF","NEWPORT HOSPITAL","R1DAF","NEWPORT HOSPITAL","R1D"]
["RWDLA","PILGRIM HOSPITAL - RWDLA",0,0,0,0,0,0,0,0,0,0,0,null,null,0,1,1,1,0,null,null,null,3,null,null,null,null,null,null,null,null,null,null,null,null,null,null,null,null,null,null,null,null,"R1DOCCUPATIONAL HEALTH DEPARTMENT - FENTON","R1DEK","OCCUPATIONAL HEALTH DEPARTMENT - FENTON","R1DEK","OCCUPATIONAL HEALTH DEPARTMENT - FENTON","R1D"]
["RWDLA","PILGRIM HOSPITAL - RWDLA",0,0,0,0,0,0,0,0,0,0,0,null,null,0,1,0,0,0,null,null,null,1,null,null,null,null,null,null,null,null,null,null,null,null,null,null,null,null,null,null,null,null,"R1DOCCUPATIONAL HEALTH FENTON","R1DG7","OCCUPATIONAL HEALTH FENTON","R1DG7","OCCUPATIONAL HEALTH FENTON","R1D"]
["RWDLA","PILGRIM HOSPITAL - RWDLA",0,0,0,0,0,0,0,0,0,0,0,null,null,0,0,0,1,0,null,null,null,1,null,null,null,null,null,null,null,null,null,null,null,null,null,null,null,null,null,null,null,null,"R1DOCCUPATIONAL HEALTH GAINS PARK","R1DD9","OCCUPATIONAL HEALTH GAINS PARK","R1DD9","OCCUPATIONAL HEALTH GAINS PARK","R1D"]
["RWDLA","PILGRIM HOSPITAL - RWDLA",0,0,0,0,0,0,0,0,0,0,0,null,null,0,1,0,0,0,null,null,null,1,null,null,null,null,null,null,null,null,null,null,null,null,null,null,null,null,null,null,null,null,"R1DOLDFIELD RESIDENTIAL HOME","R1D92","OLDFIELD RESIDENTIAL HOME","R1D92","OLDFIELD RESIDENTIAL HOME","R1D"]
["RWDLA","PILGRIM HOSPITAL - RWDLA",0,0,0,0,0,0,0,0,0,0,0,null,null,0,0,0,0,0,null,null,null,0,null,null,null,null,null,null,null,null,null,null,null,null,null,null,null,null,null,null,null,null,"R1DOSWESTRY SOCIAL & HEALTH CARE","R1DDC","OSWESTRY SOCIAL & HEALTH CARE","R1DDC","OSWESTRY SOCIAL & HEALTH CARE","R1D"]
["RWDLA","PILGRIM HOSPITAL - RWDLA",0,0,0,0,0,0,0,0,0,0,0,null,null,0,0,1,0,0,null,null,null,1,null,null,null,null,null,null,null,null,null,null,null,null,null,null,null,null,null,null,null,null,"R1DPLAS NEWYDD","R1DA6","PLAS NEWYDD","R1DA6","PLAS NEWYDD","R1D"]
["RWDLA","PILGRIM HOSPITAL - RWDLA",0,0,0,0,0,0,0,0,0,0,0,null,null,0,0,1,0,0,null,null,null,1,null,null,null,null,null,null,null,null,null,null,null,null,null,null,null,null,null,null,null,null,"R1DPRINCESS ROYAL HOSPITAL","R1D03","PRINCESS ROYAL HOSPITAL","R1D03","PRINCESS ROYAL HOSPITAL","R1D"]
["RWDLA","PILGRIM HOSPITAL - RWDLA",0,0,0,0,0,0,0,0,0,0,0,null,null,0,0,0,0,0,null,null,null,0,null,null,null,null,null,null,null,null,null,null,null,null,null,null,null,null,null,null,null,null,"R1DROBERT JONES & AGNES HUNT ORTHOPAEDIC HOSPITAL","R1DAC","ROBERT JONES & AGNES HUNT ORTHOPAEDIC HOSPITAL","R1DAC","ROBERT JONES & AGNES HUNT ORTHOPAEDIC HOSPITAL","R1D"]
["RWDLA","PILGRIM HOSPITAL - RWDLA",0,0,0,0,0,0,0,0,0,0,0,null,null,0,1,1,1,0,null,null,null,3,null,null,null,null,null,null,null,null,null,null,null,null,null,null,null,null,null,null,null,null,"R1DROYAL SHREWSBURY HOSPITAL","R1D16","ROYAL SHREWSBURY HOSPITAL","R1D16","ROYAL SHREWSBURY HOSPITAL","R1D"]
["RWDLA","PILGRIM HOSPITAL - RWDLA",0,0,0,0,0,0,0,0,0,0,0,null,null,0,0,0,1,0,null,null,null,1,null,null,null,null,null,null,null,null,null,null,null,null,null,null,null,null,null,null,null,null,"R1DSEVERN FIELDS HEALTH VILLAGE","R1DFC","SEVERN FIELDS HEALTH VILLAGE","R1DFC","SEVERN FIELDS HEALTH VILLAGE","R1D"]
["RWDLA","PILGRIM HOSPITAL - RWDLA",0,0,0,0,0,0,0,0,0,0,0,null,null,0,0,0,1,0,null,null,null,1,null,null,null,null,null,null,null,null,null,null,null,null,null,null,null,null,null,null,null,null,"R1DSHELTON HOSPITAL","R1D01","SHELTON HOSPITAL","R1D01","SHELTON HOSPITAL","R1D"]
[{"$error":"#N/A"},{"$error":"#N/A"},0,0,0,0,0,0,0,0,0,0,0,null,null,0,0,0,0,0,null,null,null,0,null,null,null,null,null,null,null,null,null,null,null,null,null,null,null,null,null,null,null,null,{"$f":"CONCATENATE(LEFT(AT262, 3),AU262)","v":"R1DSHERBOURNE"},"R1D90","SHERBOURNE","R1D90","SHERBOURNE",{"$f":"LEFT(AV262,3)","v":"R1D"}]
[{"$error":"#N/A"},{"$error":"#N/A"},0,0,0,0,0,0,0,0,0,0,0,null,null,{"$f":"IF(P62=\"\",0,IF(P62>100%,1,0))","v":0},0,0,0,0,null,null,null,0,null,null,null,null,null,null,null,null,null,null,null,null,null,null,null,null,null,null,null,null,"R1DSINGLE POINT OF ACCESS","R1DJ5","SINGLE POINT OF ACCESS","R1DJ5","SINGLE POINT OF ACCESS","R1D"]
[{"$error":"#N/A"},{"$error":"#N/A"},0,0,0,0,0,0,0,0,0,0,0,null,null,0,0,0,0,0,null,null,null,0,null,null,null,null,null,null,null,null,null,null,null,null,null,null,null,null,null,null,null,null,"R1DTELFORD AND WREKIN PCT COMMISSIONERS","R1DEJ","TELFORD AND WREKIN PCT COMMISSIONERS","R1DEJ","TELFORD AND WREKIN PCT COMMISSIONERS","R1D"]
[{"$error":"#N/A"},{"$error":"#N/A"},0,0,0,0,0,0,0,0,0,0,0,null,null,0,0,0,0,0,null,null,null,0,null,null,null,null,null,null,null,null,null,null,null,null,null,null,null,null,null,null,null,null,"R1DTERRENCE HIGGINS TRUST WELLINGTON","R1DFL","TERRENCE HIGGINS TRUST WELLINGTON","R1DFL","TERRENCE HIGGINS TRUST WELLINGTON","R1D"]
[{"$error":"#N/A"},{"$error":"#N/A"},0,0,0,0,0,0,0,0,0,0,0,null,null,0,0,0,0,0,null,null,null,0,null,null,null,null,null,null,null,null,null,null,null,null,null,null,null,null,null,null,null,null,"R1DTHE HEATHERS","R1D80","THE HEATHERS","R1D80","THE HEATHERS","R1D"]
[{"$error":"#N/A"},{"$error":"#N/A"},0,0,0,0,0,0,0,0,0,0,0,null,null,0,0,0,0,0,null,null,null,0,null,null,null,null,null,null,null,null,null,null,null,null,null,null,null,null,null,null,null,null,"R1DTHE LAUREL'S","R1DC1","THE LAUREL'S","R1DC1","THE LAUREL'S","R1D"]
[{"$error":"#N/A"},{"$error":"#N/A"},0,0,0,0,0,0,0,0,0,0,0,null,null,0,0,0,0,0,null,null,null,0,null,null,null,null,null,null,null,null,null,null,null,null,null,null,null,null,null,null,null,null,"R1DTHE MEWS","R1DDD","THE MEWS","R1DDD","THE MEWS","R1D"]
[{"$error":"#N/A"},{"$error":"#N/A"},0,0,0,0,0,0,0,0,0,0,0,null,null,0,0,0,0,0,null,null,null,0,null,null,null,null,null,null,null,null,null,null,null,null,null,null,null,null,null,null,null,null,"R1DTHE MOUNT","R1D02","THE MOUNT","R1D02","THE MOUNT","R1D"]
[{"$error":"#N/A"},{"$error":"#N/A"},0,0,0,0,0,0,0,0,0,0,0,null,null,0,0,0,0,0,null,null,null,0,null,null,null,null,null,null,null,null,null,null,null,null,null,null,null,null,null,null,null,null,"R1DTHE OLD BARN","R1D93","THE OLD BARN","R1D93","THE OLD BARN","R1D"]
[{"$error":"#N/A"},{"$error":"#N/A"},0,0,0,0,0,0,0,0,0,0,0,null,null,0,0,0,0,0,null,null,null,0,null,null,null,null,null,null,null,null,null,null,null,null,null,null,null,null,null,null,null,null,"R1DVISION HOMES (1A)","R1D84","VISION HOMES (1A)","R1D84","VISION HOMES (1A)","R1D"]
[{"$error":"#N/A"},{"$error":"#N/A"},0,0,0,0,0,0,0,0,0,0,0,null,null,0,0,0,0,0,null,null,null,0,null,null,null,null,null,null,null,null,null,null,null,null,null,null,null,null,null,null,null,null,"R1DWEST BANK","R1D11","WEST BANK","R1D11","WEST BANK","R1D"]
[{"$error":"#N/A"},{"$error":"#N/A"},0,0,0,0,0,0,0,0,0,0,0,null,null,0,0,0,0,0,null,null,null,0,null,null,null,null,null,null,null,null,null,null,null,null,null,null,null,null,null,null,null,null,"R1DWHITCHURCH COMMUNITY HOSPITAL","R1DG5","WHITCHURCH COMMUNITY HOSPITAL","R1DG5","WHITCHURCH COMMUNITY HOSPITAL","R1D"]
[{"$error":"#N/A"},{"$error":"#N/A"},0,0,0,0,0,0,0,0,0,0,0,null,null,0,0,0,0,0,null,null,null,0,null,null,null,null,null,null,null,null,null,null,null,null,null,null,null,null,null,null,null,null,"R1DWHITCHURCH HOSP OPD1","R1DJ4","WHITCHURCH HOSP OPD1","R1DJ4","WHITCHURCH HOSP OPD1","R1D"]
[{"$error":"#N/A"},{"$error":"#N/A"},0,0,0,0,0,0,0,0,0,0,0,null,null,0,0,0,0,0,null,null,null,0,null,null,null,null,null,null,null,null,null,null,null,null,null,null,null,null,null,null,null,null,"R1DWHITCHURCH HOSPITAL ","R1D34","WHITCHURCH HOSPITAL ","R1D34","WHITCHURCH HOSPITAL ","R1D"]
[{"$error":"#N/A"},{"$error":"#N/A"},0,0,0,0,0,0,0,0,0,0,0,null,null,0,0,0,0,0,null,null,null,0,null,null,null,null,null,null,null,null,null,null,null,null,null,null,null,null,null,null,null,null,"R1DWREXHAM MAELOR HOSPITAL","R1DD4","WREXHAM MAELOR HOSPITAL","R1DD4","WREXHAM MAELOR HOSPITAL","R1D"]
[{"$error":"#N/A"},{"$error":"#N/A"},0,0,0,0,0,0,0,0,0,0,0,null,null,0,0,0,0,0,null,null,null,0,null,null,null,null,null,null,null,null,null,null,null,null,null,null,null,null,null,null,null,null,"R1EAIRS - CHEADLE HOSPITAL","R1EL7","AIRS - CHEADLE HOSPITAL","R1EL7","AIRS - CHEADLE HOSPITAL","R1E"]
[{"$error":"#N/A"},{"$error":"#N/A"},0,0,0,0,0,0,0,0,0,0,0,null,null,0,0,0,0,0,null,null,null,0,null,null,null,null,null,null,null,null,null,null,null,null,null,null,null,null,null,null,null,null,"R1EAIRS - HAYWOOD HOSPTIAL","R1EK8","AIRS - HAYWOOD HOSPTIAL","R1EK8","AIRS - HAYWOOD HOSPTIAL","R1E"]
[{"$f":"VLOOKUP($C78,$AT:$AT,1,0)","v":{"$error":"#N/A"}},{"$f":"VLOOKUP($D78,$AU:$AU,1,0)","v":{"$error":"#N/A"}},{"$f":"IF(C78=\"\",0,IF(ISERROR(VLOOKUP(C78,$AT$5:$AT$249,1,0)),0,IF(VLOOKUP(C78,$AT$5:$AX$249,5,0)=$B$2,0,1)))","v":0},0,0,0,0,0,{"$f":"IF(F78=\"\",0,IF(ISERROR(VLOOKUP(F78,$Y$14:$Y$98,1,FALSE)),1,0))","v":0},{"$f":"IF(G78=\"\",0,IF(ISERROR(VLOOKUP(G78,$Y$14:$Y$98,1,FALSE)),1,0))","v":0},0,0,0,null,null,{"$f":"IF(P78=\"\",0,IF(P78>100%,1,0))","v":0},0,0,0,0,null,null,null,0,null,null,null,null,null,null,null,null,null,null,null,null,null,null,null,null,null,null,null,null,"R1EAIRS - LEEK MOORLANDS HOSPITAL","R1EL8","AIRS - LEEK MOORLANDS HOSPITAL","R1EL8","AIRS - LEEK MOORLANDS HOSPITAL","R1E"]
[{"$error":"#N/A"},{"$error":"#N/A"},0,{"$f":"IF(D79=\"\",0,IF(F79=\"\",1,0))","v":0},{"$f":"IF(D79=\"\",0,IF(SUM(H79,J79,L79,N79)=0,1,0))","v":0},{"$f":"IF(D79=\"\",0,IF(SUM(I79,K79,M79,O79)=0,1,0))","v":0},{"$f":"IF(D79=\"\",0,IF(SUM(H79:O79)<1448,1,0))","v":0},{"$f":"IF(D79=\"\",0,IF(SUM(H79:O79)>30000,1,0))","v":0},0,0,{"$f":"IF(D79=\"\",0,IF(C79=\"\",1,0))","v":0},{"$f":"IF(OR(H79<>\"\",J79<>\"\",I79<>\"\",K79<>\"\",L79<>\"\",M79<>\"\",N79<>\"\",O79<>\"\",E79<>\"\",F79<>\"\",G79<>\"\"),IF(D79=\"\",1,0),0)","v":0},{"$f":"IF(D79=\"\",0,IF(E79=\"\",1,0))","v":0},null,null,0,0,0,0,{"$f":"IF(AND(SUM(I79,K79,M79,O79)>0,T79=0),1,0)","v":0},null,null,null,{"$f":"SUM(G280:S280)","v":0},null,null,null,null,null,null,null,null,null,null,null,null,null,null,null,null,null,null,null,null,"R1EAIRS - LONGTON COTTAGE HOSPTIAL","R1EK7","AIRS - LONGTON COTTAGE HOSPTIAL","R1EK7","AIRS - LONGTON COTTAGE HOSPTIAL","R1E"]
[{"$error":"#N/A"},{"$error":"#N/A"},0,0,0,0,0,0,0,0,0,0,0,null,null,0,0,0,0,0,null,null,null,0,null,null,null,null,null,null,null,null,null,null,null,null,null,null,null,null,null,null,null,null,"R1EAIRS -BRADWELL HOSPITAL","R1EL6","AIRS -BRADWELL HOSPITAL","R1EL6","AIRS -BRADWELL HOSPITAL","R1E"]
[{"$error":"#N/A"},{"$error":"#N/A"},0,0,0,0,0,0,0,0,0,0,0,null,null,0,0,0,0,0,null,null,null,0,null,null,null,null,null,null,null,null,null,null,null,null,null,null,null,null,null,null,null,null,"R1EAQUEDUCT","R1EM1","AQUEDUCT","R1EM1","AQUEDUCT","R1E"]
[{"$error":"#N/A"},{"$error":"#N/A"},0,0,0,0,0,0,0,0,0,0,0,null,null,0,0,0,0,0,null,null,null,0,null,null,null,null,null,null,null,null,null,null,null,null,null,null,null,null,null,null,null,null,"R1EBARTON UNDER NEEDWOOD COTTAGE HOSPITAL","R1E04","BARTON UNDER NEEDWOOD COTTAGE HOSPITAL","R1E04","BARTON UNDER NEEDWOOD COTTAGE HOSPITAL","R1E"]
[{"$error":"#N/A"},{"$error":"#N/A"},0,0,0,0,0,0,0,0,0,0,0,null,null,0,0,0,0,0,null,null,null,0,null,null,null,null,null,null,null,null,null,null,null,null,null,null,null,null,null,null,null,null,"R1EBRADWELL HOSPITAL","R1EE5","BRADWELL HOSPITAL","R1EE5","BRADWELL HOSPITAL","R1E"]
[{"$error":"#N/A"},{"$error":"#N/A"},0,0,0,0,0,0,0,0,0,0,0,null,null,0,0,0,0,0,null,null,null,0,null,null,null,null,null,null,null,null,null,null,null,null,null,null,null,null,null,null,null,null,"R1EBUCKNALL HOSPITAL","R1E74","BUCKNALL HOSPITAL","R1E74","BUCKNALL HOSPITAL","R1E"]
[{"$error":"#N/A"},{"$error":"#N/A"},0,0,0,0,0,0,0,0,0,0,0,null,null,0,0,0,0,0,null,null,null,0,null,null,null,null,null,null,null,null,null,null,null,null,null,null,null,null,null,null,null,null,"R1ECANNOCK CHASE HOSPITAL","R1E07","CANNOCK CHASE HOSPITAL","R1E07","CANNOCK CHASE HOSPITAL","R1E"]
[{"$error":"#N/A"},{"$error":"#N/A"},0,0,0,0,0,0,0,0,0,0,0,null,null,0,0,0,0,0,null,null,null,0,null,null,null,null,null,null,null,null,null,null,null,null,null,null,null,null,null,null,null,null,"R1ECHEADLE HOSPITAL","R1EE4","CHEADLE HOSPITAL","R1EE4","CHEADLE HOSPITAL","R1E"]
[{"$error":"#N/A"},{"$error":"#N/A"},0,0,0,0,0,0,0,0,0,0,0,null,null,0,0,0,0,0,null,null,null,0,null,null,null,null,null,null,null,null,null,null,null,null,null,null,null,null,null,null,null,null,"R1EDR PARIKH AND PARTNER","R1E97","DR PARIKH AND PARTNER","R1E97","DR PARIKH AND PARTNER","R1E"]
[{"$error":"#N/A"},{"$error":"#N/A"},0,0,0,0,0,0,0,0,0,0,0,null,null,0,0,0,0,0,null,null,null,0,null,null,null,null,null,null,null,null,null,null,null,null,null,null,null,null,null,null,null,null,"R1EDRUG LINK","R1EA2","DRUG LINK","R1EA2","DRUG LINK","R1E"]
[{"$error":"#N/A"},{"$error":"#N/A"},0,0,0,0,0,0,0,0,0,0,0,null,null,0,0,0,0,0,null,null,null,0,null,null,null,null,null,null,null,null,null,null,null,null,null,null,null,null,null,null,null,null,"R1EHAYWOOD HOSPITAL","R1E56","HAYWOOD HOSPITAL","R1E56","HAYWOOD HOSPITAL","R1E"]
[{"$error":"#N/A"},{"$error":"#N/A"},0,0,0,0,0,0,0,0,0,0,0,null,null,0,0,0,0,0,null,null,null,0,null,null,null,null,null,null,null,null,null,null,null,null,null,null,null,null,null,null,null,null,"R1EHILLTOP / ST MICHAELS","R1EA4","HILLTOP / ST MICHAELS","R1EA4","HILLTOP / ST MICHAELS","R1E"]
[{"$error":"#N/A"},{"$error":"#N/A"},0,0,0,0,0,0,0,0,0,0,0,null,null,0,0,0,0,0,null,null,null,0,null,null,null,null,null,null,null,null,null,null,null,null,null,null,null,null,null,null,null,null,"R1EKEELE UNIVERSITY","R1ED4","KEELE UNIVERSITY","R1ED4","KEELE UNIVERSITY","R1E"]
[{"$error":"#N/A"},{"$error":"#N/A"},0,0,0,0,0,0,0,0,0,0,0,null,null,0,0,0,0,0,null,null,null,0,null,null,null,null,null,null,null,null,null,null,null,null,null,null,null,null,null,null,null,null,"R1ELEEK MOORLANDS HOSPITAL","R1EE3","LEEK MOORLANDS HOSPITAL","R1EE3","LEEK MOORLANDS HOSPITAL","R1E"]
[{"$error":"#N/A"},{"$error":"#N/A"},0,0,0,0,0,0,0,0,0,0,0,null,null,0,0,0,0,0,null,null,null,0,null,null,null,null,null,null,null,null,null,null,null,null,null,null,null,null,null,null,null,null,"R1ELONGTON HOSPITAL","R1E75","LONGTON HOSPITAL","R1E75","LONGTON HOSPITAL","R1E"]
[{"$error":"#N/A"},{"$error":"#N/A"},0,0,0,0,0,0,0,0,0,0,0,null,null,{"$f":"IF(P94=\"\",0,IF(P94>100%,1,0))","v":0},0,0,0,0,null,null,null,0,null,null,null,null,null,null,null,null,null,null,null,null,null,null,null,null,null,null,null,null,"R1EMAIN BUILDING CITY GENERAL HOSPITAL","R1EH2","MAIN BUILDING CITY GENERAL HOSPITAL","R1EH2","MAIN BUILDING CITY GENERAL HOSPITAL","R1E"]
[{"$error":"#N/A"},{"$error":"#N/A"},0,0,0,0,0,0,0,0,0,0,0,null,null,0,0,0,0,0,null,null,null,0,null,null,null,null,null,null,null,null,null,null,null,null,null,null,null,null,null,null,null,null,"R1ENORTH STAFFS URGENT CARE","R1E89","NORTH STAFFS URGENT CARE","R1E89","NORTH STAFFS URGENT CARE","R1E"]
[{"$error":"#N/A"},{"$error":"#N/A"},0,0,0,0,0,0,0,0,0,0,0,null,null,0,0,0,0,0,null,null,null,0,null,null,null,null,null,null,null,null,null,null,null,null,null,null,null,null,null,null,null,null,"R1EOAKWOOD","R1EH1","OAKWOOD","R1EH1","OAKWOOD","R1E"]
[{"$error":"#N/A"},{"$error":"#N/A"},0,0,0,0,0,0,0,0,0,0,0,null,null,0,0,0,0,0,null,null,null,0,null,null,null,null,null,null,null,null,null,null,null,null,null,null,null,null,null,null,null,null,"R1EREHABILITATION MEDICINE","R1EL9","REHABILITATION MEDICINE","R1EL9","REHABILITATION MEDICINE","R1E"]
[{"$error":"#N/A"},{"$error":"#N/A"},0,0,0,0,0,0,0,0,0,0,0,null,null,0,0,0,0,0,null,null,null,0,null,null,null,null,null,null,null,null,null,null,null,null,null,null,null,null,null,null,null,null,"R1ESAMUEL JOHNSON COMMUNITY HOSPITAL","R1E28","SAMUEL JOHNSON COMMUNITY HOSPITAL","R1E28","SAMUEL JOHNSON COMMUNITY HOSPITAL","R1E"]
[{"$error":"#N/A"},{"$error":"#N/A"},0,0,0,0,0,0,0,0,0,0,0,null,null,0,0,0,0,0,null,null,null,0,null,null,null,null,null,null,null,null,null,null,null,null,null,null,null,null,null,null,null,null,"R1ESIR ROBERT PEEL HOSPITAL","R1E30","SIR ROBERT PEEL HOSPITAL","R1E30","SIR ROBERT PEEL HOSPITAL","R1E"]
[{"$error":"#N/A"},{"$error":"#N/A"},0,0,0,0,0,0,0,0,0,0,0,null,null,0,0,0,0,0,null,null,null,0,null,null,null,null,null,null,null,null,null,null,null,null,null,null,null,null,null,null,null,null,"R1EST MICHAEL'S HOSPITAL","R1E33","ST MICHAEL'S HOSPITAL","R1E33","ST MICHAEL'S HOSPITAL","R1E"]
[{"$error":"#N/A"},{"$error":"#N/A"},0,0,0,0,0,0,0,0,0,0,0,null,null,0,0,0,0,0,null,null,null,0,null,null,null,null,null,null,null,null,null,null,null,null,null,null,null,null,null,null,null,null,"R1ESTOKE SPEAKS OUT","R1EC4","STOKE SPEAKS OUT","R1EC4","STOKE SPEAKS OUT","R1E"]
[{"$error":"#N/A"},{"$error":"#N/A"},0,0,0,0,0,0,0,0,0,0,0,null,null,0,0,0,0,0,null,null,null,0,null,null,null,null,null,null,null,null,null,null,null,null,null,null,null,null,null,null,null,null,"R1ETHE MEADOWS RETIREMENT HOME","R1ED5","THE MEADOWS RETIREMENT HOME","R1ED5","THE MEADOWS RETIREMENT HOME","R1E"]
[{"$error":"#N/A"},{"$error":"#N/A"},0,0,0,0,0,0,0,0,0,0,0,null,null,0,0,0,0,0,null,null,null,0,null,null,null,null,null,null,null,null,null,null,null,null,null,null,null,null,null,null,null,null,"R1EUNIVERSITY HOSPITAL OF NORTH STAFFS","R1E58","UNIVERSITY HOSPITAL OF NORTH STAFFS","R1E58","UNIVERSITY HOSPITAL OF NORTH STAFFS","R1E"]
[{"$error":"#N/A"},{"$error":"#N/A"},0,0,0,0,0,0,0,0,0,0,0,null,null,0,0,0,0,0,null,null,null,0,null,null,null,null,null,null,null,null,null,null,null,null,null,null,null,null,null,null,null,null,"R1EWHITFIELD UNIT","R1EL4","WHITFIELD UNIT","R1EL4","WHITFIELD UNIT","R1E"]
[{"$error":"#N/A"},{"$error":"#N/A"},0,0,0,0,0,0,0,0,0,0,0,null,null,0,0,0,0,0,null,null,null,0,null,null,null,null,null,null,null,null,null,null,null,null,null,null,null,null,null,null,null,null,"R1FST MARY'S HOSPITAL - R1F01","R1F01","ST MARY'S HOSPITAL - R1F01","R1F01","ST MARY'S HOSPITAL","R1F"]
[{"$error":"#N/A"},{"$error":"#N/A"},0,0,0,0,0,0,0,0,0,0,0,null,null,0,0,0,0,0,null,null,null,0,null,null,null,null,null,null,null,null,null,null,null,null,null,null,null,null,null,null,null,null,"R1GASHBURTON AND BUCKFASTLEIGH HOSPITAL","R1G09","ASHBURTON AND BUCKFASTLEIGH HOSPITAL","R1G09","ASHBURTON AND BUCKFASTLEIGH HOSPITAL","R1G"]
[{"$error":"#N/A"},{"$error":"#N/A"},0,0,0,0,0,0,0,0,0,0,0,null,null,0,0,0,0,0,null,null,null,0,null,null,null,null,null,null,null,null,null,null,null,null,null,null,null,null,null,null,null,null,"R1GBOVEY TRACEY HOSPITAL","R1G54","BOVEY TRACEY HOSPITAL","R1G54","BOVEY TRACEY HOSPITAL","R1G"]
[{"$error":"#N/A"},{"$error":"#N/A"},0,0,0,0,0,0,0,0,0,0,0,null,null,0,0,0,0,0,null,null,null,0,null,null,null,null,null,null,null,null,null,null,null,null,null,null,null,null,null,null,null,null,"R1GBRISEHAM UNIT","R1G06","BRISEHAM UNIT","R1G06","BRISEHAM UNIT","R1G"]
[{"$error":"#N/A"},{"$error":"#N/A"},0,0,0,0,0,0,0,0,0,0,0,null,null,0,0,0,0,0,null,null,null,0,null,null,null,null,null,null,null,null,null,null,null,null,null,null,null,null,null,null,null,null,"R1GBRIXHAM CARERS","R1G65","BRIXHAM CARERS","R1G65","BRIXHAM CARERS","R1G"]
[{"$f":"VLOOKUP($C110,$AT:$AT,1,0)","v":{"$error":"#N/A"}},{"$f":"VLOOKUP($D110,$AU:$AU,1,0)","v":{"$error":"#N/A"}},{"$f":"IF(C110=\"\",0,IF(ISERROR(VLOOKUP(C110,$AT$5:$AT$249,1,0)),0,IF(VLOOKUP(C110,$AT$5:$AX$249,5,0)=$B$2,0,1)))","v":0},0,0,0,0,0,{"$f":"IF(F110=\"\",0,IF(ISERROR(VLOOKUP(F110,$Y$14:$Y$98,1,FALSE)),1,0))","v":0},{"$f":"IF(G110=\"\",0,IF(ISERROR(VLOOKUP(G110,$Y$14:$Y$98,1,FALSE)),1,0))","v":0},0,0,0,null,null,{"$f":"IF(P110=\"\",0,IF(P110>100%,1,0))","v":0},0,0,0,0,null,null,null,0,null,null,null,null,null,null,null,null,null,null,null,null,null,null,null,null,null,null,null,null,"R1GBRIXHAM HOSPITAL","R1G02","BRIXHAM HOSPITAL","R1G02","BRIXHAM HOSPITAL","R1G"]
[{"$error":"#N/A"},{"$error":"#N/A"},0,0,0,0,0,0,0,0,0,0,0,null,null,0,0,0,0,0,null,null,null,0,null,null,null,null,null,null,null,null,null,null,null,null,null,null,null,null,null,null,null,null,"R1GBRIXHAM MIU","R1G66","BRIXHAM MIU","R1G66","BRIXHAM MIU","R1G"]
[{"$error":"#N/A"},{"$error":"#N/A"},0,0,0,0,0,0,0,0,0,0,0,null,null,0,0,0,0,0,null,null,null,0,null,null,null,null,null,null,null,null,null,null,null,null,null,null,null,null,null,null,null,null,"R1GCHADWELL OPMH","R1G68","CHADWELL OPMH","R1G68","CHADWELL OPMH","R1G"]
[{"$error":"#N/A"},{"$error":"#N/A"},0,0,0,0,0,0,0,0,0,0,0,null,null,0,0,0,0,0,null,null,null,0,null,null,null,null,null,null,null,null,null,null,null,null,null,null,null,null,null,null,null,null,"R1GDARTMOUTH HOSPITAL","R1G10","DARTMOUTH HOSPITAL","R1G10","DARTMOUTH HOSPITAL","R1G"]
[{"$error":"#N/A"},{"$error":"#N/A"},0,0,0,0,0,0,0,0,0,0,0,null,null,0,0,0,0,0,null,null,null,0,null,null,null,null,null,null,null,null,null,null,null,null,null,null,null,null,null,null,null,null,"R1GDAWLISH HOSPITAL","R1G11","DAWLISH HOSPITAL","R1G11","DAWLISH HOSPITAL","R1G"]
[{"$error":"#N/A"},{"$error":"#N/A"},0,0,0,0,0,0,0,0,0,0,0,null,null,0,0,0,0,0,null,null,null,0,null,null,null,null,null,null,null,null,null,null,null,null,null,null,null,null,null,null,null,null,"R1GNEWTON ABBOT HOSPITAL","R1G12","NEWTON ABBOT HOSPITAL","R1G12","NEWTON ABBOT HOSPITAL","R1G"]
[{"$error":"#N/A"},{"$error":"#N/A"},0,0,0,0,0,0,0,0,0,0,0,null,null,0,0,0,0,0,null,null,null,0,null,null,null,null,null,null,null,null,null,null,null,null,null,null,null,null,null,null,null,null,"R1GNHS CONTINUING CARE RETROSPECTIVE REVIEW","R1G48","NHS CONTINUING CARE RETROSPECTIVE REVIEW","R1G48","NHS CONTINUING CARE RETROSPECTIVE REVIEW","R1G"]
[{"$error":"#N/A"},{"$error":"#N/A"},0,0,0,0,0,0,0,0,0,0,0,null,null,0,0,0,0,0,null,null,null,0,null,null,null,null,null,null,null,null,null,null,null,null,null,null,null,null,null,null,null,null,"R1GPAIGNTON HOSPITAL","R1G01","PAIGNTON HOSPITAL","R1G01","PAIGNTON HOSPITAL","R1G"]
[{"$error":"#N/A"},{"$error":"#N/A"},0,0,0,0,0,0,0,0,0,0,0,null,null,0,0,0,0,0,null,null,null,0,null,null,null,null,null,null,null,null,null,null,null,null,null,null,null,null,null,null,null,null,"R1GSAFER COMMUNITIES TORBAY","R1G51","SAFER COMMUNITIES TORBAY","R1G51","SAFER COMMUNITIES TORBAY","R1G"]
[{"$error":"#N/A"},{"$error":"#N/A"},0,0,0,0,0,0,0,0,0,0,0,null,null,0,0,0,0,0,null,null,null,0,null,null,null,null,null,null,null,null,null,null,null,null,null,null,null,null,null,null,null,null,"R1GSOUTH HAMS (KINGSBRIDGE) HOSPITAL","R1G55","SOUTH HAMS (KINGSBRIDGE) HOSPITAL","R1G55","SOUTH HAMS (KINGSBRIDGE) HOSPITAL","R1G"]
[{"$error":"#N/A"},{"$error":"#N/A"},0,0,0,0,0,0,0,0,0,0,0,null,null,0,0,0,0,0,null,null,null,0,null,null,null,null,null,null,null,null,null,null,null,null,null,null,null,null,null,null,null,null,"R1GST EDMUNDS","R1G08","ST EDMUNDS","R1G08","ST EDMUNDS","R1G"]
[{"$error":"#N/A"},{"$error":"#N/A"},0,0,0,0,0,0,0,0,0,0,0,null,null,0,0,0,0,0,null,null,null,0,null,null,null,null,null,null,null,null,null,null,null,null,null,null,null,null,null,null,null,null,"R1GTAVISTOCK HOSPITAL","R1G56","TAVISTOCK HOSPITAL","R1G56","TAVISTOCK HOSPITAL","R1G"]
[{"$error":"#N/A"},{"$error":"#N/A"},0,0,0,0,0,0,0,0,0,0,0,null,null,0,0,0,0,0,null,null,null,0,null,null,null,null,null,null,null,null,null,null,null,null,null,null,null,null,null,null,null,null,"R1GTEIGNMOUTH HOSPITAL","R1G13","TEIGNMOUTH HOSPITAL","R1G13","TEIGNMOUTH HOSPITAL","R1G"]
[{"$error":"#N/A"},{"$error":"#N/A"},0,0,0,0,0,0,0,0,0,0,0,null,null,0,0,0,0,0,null,null,null,0,null,null,null,null,null,null,null,null,null,null,null,null,null,null,null,null,null,null,null,null,"R1GTOTNES HOSPITAL","R1G14","TOTNES HOSPITAL","R1G14","TOTNES HOSPITAL","R1G"]
[{"$error":"#N/A"},{"$error":"#N/A"},0,0,0,0,0,0,0,0,0,0,0,null,null,0,0,0,0,0,null,null,null,0,null,null,null,null,null,null,null,null,null,null,null,null,null,null,null,null,null,null,null,null,"R1GUNIT 3","R1G64","UNIT 3","R1G64","UNIT 3","R1G"]
[{"$error":"#N/A"},{"$error":"#N/A"},0,0,0,0,0,0,0,0,0,0,0,null,null,0,0,0,0,0,null,null,null,0,null,null,null,null,null,null,null,null,null,null,null,null,null,null,null,null,null,null,null,null,{"$f":"CONCATENATE(LEFT(AT326, 3),AU326)","v":"R1HAINSLEY UNIT"},"R1H42","AINSLEY UNIT","R1H42","AINSLEY UNIT",{"$f":"LEFT(AV326,3)","v":"R1H"}]
[{"$error":"#N/A"},{"$error":"#N/A"},0,0,0,0,0,0,0,0,0,0,0,null,null,{"$f":"IF(P126=\"\",0,IF(P126>100%,1,0))","v":0},0,0,0,0,null,null,null,0,null,null,null,null,null,null,null,null,null,null,null,null,null,null,null,null,null,null,null,null,"R1HBLT BIRTH CENTRE - R1H90","R1H90","BLT BIRTH CENTRE - R1H90","R1H90","BLT BIRTH CENTRE","R1H"]
[{"$error":"#N/A"},{"$error":"#N/A"},0,0,0,0,0,0,0,0,0,0,0,null,null,0,0,0,0,0,null,null,null,0,null,null,null,null,null,null,null,null,null,null,null,null,null,null,null,null,null,null,null,null,"R1HBLT PRIVATE HOSPITALS - R1H86","R1H86","BLT PRIVATE HOSPITALS - R1H86","R1H86","BLT PRIVATE HOSPITALS","R1H"]
[{"$error":"#N/A"},{"$error":"#N/A"},0,0,0,0,0,0,0,0,0,0,0,null,null,0,0,0,0,0,null,null,null,0,null,null,null,null,null,null,null,null,null,null,null,null,null,null,null,null,null,null,null,null,"R1HGATEWAY SURGICAL CENTRE - R1H11","R1H11","GATEWAY SURGICAL CENTRE - R1H11","R1H11","GATEWAY SURGICAL CENTRE","R1H"]
[{"$error":"#N/A"},{"$error":"#N/A"},0,0,0,0,0,0,0,0,0,0,0,null,null,0,0,0,0,0,null,null,null,0,null,null,null,null,null,null,null,null,null,null,null,null,null,null,null,null,null,null,null,null,"R1HMILE END HOSPITAL - R1H13","R1H13","MILE END HOSPITAL - R1H13","R1H13","MILE END HOSPITAL","R1H"]
[{"$error":"#N/A"},{"$error":"#N/A"},0,0,0,0,0,0,0,0,0,0,0,null,null,0,0,0,0,0,null,null,null,0,null,null,null,null,null,null,null,null,null,null,null,null,null,null,null,null,null,null,null,null,"R1HNEWHAM GENERAL HOSPITAL - R1HNH","R1HNH","NEWHAM GENERAL HOSPITAL - R1HNH","R1HNH","NEWHAM GENERAL HOSPITAL","R1H"]
[{"$error":"#N/A"},{"$error":"#N/A"},0,0,0,0,0,0,0,0,0,0,0,null,null,0,0,0,0,0,null,null,null,0,null,null,null,null,null,null,null,null,null,null,null,null,null,null,null,null,null,null,null,null,"R1HST BARTHOLOMEW'S HOSPITAL - R1HM0","R1HM0","ST BARTHOLOMEW'S HOSPITAL - R1HM0","R1HM0","ST BARTHOLOMEW'S HOSPITAL","R1H"]
[{"$error":"#N/A"},{"$error":"#N/A"},0,0,0,0,0,0,0,0,0,0,0,null,null,0,0,0,0,0,null,null,null,0,null,null,null,null,null,null,null,null,null,null,null,null,null,null,null,null,null,null,null,null,"R1HTHE LONDON CHEST HOSPITAL - R1H83","R1H83","THE LONDON CHEST HOSPITAL - R1H83","R1H83","THE LONDON CHEST HOSPITAL","R1H"]
[{"$error":"#N/A"},{"$error":"#N/A"},0,0,0,0,0,0,0,0,0,0,0,null,null,0,0,0,0,0,null,null,null,0,null,null,null,null,null,null,null,null,null,null,null,null,null,null,null,null,null,null,null,null,"R1HTHE ROYAL LONDON HOSPITAL - R1H12","R1H12","THE ROYAL LONDON HOSPITAL - R1H12","R1H12","THE ROYAL LONDON HOSPITAL","R1H"]
[{"$error":"#N/A"},{"$error":"#N/A"},0,0,0,0,0,0,0,0,0,0,0,null,null,0,0,0,0,0,null,null,null,0,null,null,null,null,null,null,null,null,null,null,null,null,null,null,null,null,null,null,null,null,"R1HWHIPPS CROSS AT SILVERTHORN MEDICAL - R1HCMC","R1HMC","WHIPPS CROSS AT SILVERTHORN MEDICAL - R1HCMC","R1HMC","WHIPPS CROSS AT SILVERTHORN MEDICAL","R1H"]
[{"$error":"#N/A"},{"$error":"#N/A"},0,0,0,0,0,0,0,0,0,0,0,null,null,0,0,0,0,0,null,null,null,0,null,null,null,null,null,null,null,null,null,null,null,null,null,null,null,null,null,null,null,null,"R1HWHIPPS CROSS UNIVERSITY HOSPITAL - R1HKH","R1HKH","WHIPPS CROSS UNIVERSITY HOSPITAL - R1HKH","R1HKH","WHIPPS CROSS UNIVERSITY HOSPITAL","R1H"]
[{"$error":"#N/A"},{"$error":"#N/A"},0,0,0,0,0,0,0,0,0,0,0,null,null,0,0,0,0,0,null,null,null,0,null,null,null,null,null,null,null,null,null,null,null,null,null,null,null,null,null,null,null,null,"R1JBADGERS CROFT","R1J51","BADGERS CROFT","R1J51","BADGERS CROFT","R1J"]
[{"$error":"#N/A"},{"$error":"#N/A"},0,0,0,0,0,0,0,0,0,0,0,null,null,0,0,0,0,0,null,null,null,0,null,null,null,null,null,null,null,null,null,null,null,null,null,null,null,null,null,null,null,null,"R1JBVALE ASSESS & TREAT (ICATS)","R1J90","BVALE ASSESS & TREAT (ICATS)","R1J90","BVALE ASSESS & TREAT (ICATS)","R1J"]
[{"$error":"#N/A"},{"$error":"#N/A"},0,0,0,0,0,0,0,0,0,0,0,null,null,0,0,0,0,0,null,null,null,0,null,null,null,null,null,null,null,null,null,null,null,null,null,null,null,null,null,null,null,null,"R1JCHELTENHAM GENERAL HOSPITAL","R1J05","CHELTENHAM GENERAL HOSPITAL","R1J05","CHELTENHAM GENERAL HOSPITAL","R1J"]
[{"$error":"#N/A"},{"$error":"#N/A"},0,0,0,0,0,0,0,0,0,0,0,null,null,0,0,0,0,0,null,null,null,0,null,null,null,null,null,null,null,null,null,null,null,null,null,null,null,null,null,null,null,null,"R1JCIRENCESTER HOSPITAL","R1J06","CIRENCESTER HOSPITAL","R1J06","CIRENCESTER HOSPITAL","R1J"]
[{"$error":"#N/A"},{"$error":"#N/A"},0,0,0,0,0,0,0,0,0,0,0,null,null,0,0,0,0,0,null,null,null,0,null,null,null,null,null,null,null,null,null,null,null,null,null,null,null,null,null,null,null,null,"R1JDERMATOLOGY GPSI-TEWKESBURY","R1J92","DERMATOLOGY GPSI-TEWKESBURY","R1J92","DERMATOLOGY GPSI-TEWKESBURY","R1J"]
[{"$error":"#N/A"},{"$error":"#N/A"},0,0,0,0,0,0,0,0,0,0,0,null,null,0,0,0,0,0,null,null,null,0,null,null,null,null,null,null,null,null,null,null,null,null,null,null,null,null,null,null,null,null,"R1JDILKE MEMORIAL HOSPITAL","R1J10","DILKE MEMORIAL HOSPITAL","R1J10","DILKE MEMORIAL HOSPITAL","R1J"]
[{"$f":"VLOOKUP($C142,$AT:$AT,1,0)","v":{"$error":"#N/A"}},{"$f":"VLOOKUP($D142,$AU:$AU,1,0)","v":{"$error":"#N/A"}},{"$f":"IF(C142=\"\",0,IF(ISERROR(VLOOKUP(C142,$AT$5:$AT$249,1,0)),0,IF(VLOOKUP(C142,$AT$5:$AX$249,5,0)=$B$2,0,1)))","v":0},0,0,0,0,0,{"$f":"IF(F142=\"\",0,IF(ISERROR(VLOOKUP(F142,$Y$14:$Y$98,1,FALSE)),1,0))","v":0},{"$f":"IF(G142=\"\",0,IF(ISERROR(VLOOKUP(G142,$Y$14:$Y$98,1,FALSE)),1,0))","v":0},0,0,0,null,null,{"$f":"IF(P142=\"\",0,IF(P142>100%,1,0))","v":0},0,0,0,0,null,null,null,0,null,null,null,null,null,null,null,null,null,null,null,null,null,null,null,null,null,null,null,null,"R1JFAIRFORD HOSPITAL","R1J12","FAIRFORD HOSPITAL","R1J12","FAIRFORD HOSPITAL","R1J"]
[{"$error":"#N/A"},{"$error":"#N/A"},0,{"$f":"IF(D143=\"\",0,IF(F143=\"\",1,0))","v":0},{"$f":"IF(D143=\"\",0,IF(SUM(H143,J143,L143,N143)=0,1,0))","v":0},{"$f":"IF(D143=\"\",0,IF(SUM(I143,K143,M143,O143)=0,1,0))","v":0},{"$f":"IF(D143=\"\",0,IF(SUM(H143:O143)<1448,1,0))","v":0},{"$f":"IF(D143=\"\",0,IF(SUM(H143:O143)>30000,1,0))","v":0},0,0,{"$f":"IF(D143=\"\",0,IF(C143=\"\",1,0))","v":0},{"$f":"IF(OR(H143<>\"\",J143<>\"\",I143<>\"\",K143<>\"\",L143<>\"\",M143<>\"\",N143<>\"\",O143<>\"\",E143<>\"\",F143<>\"\",G143<>\"\"),IF(D143=\"\",1,0),0)","v":0},{"$f":"IF(D143=\"\",0,IF(E143=\"\",1,0))","v":0},null,null,0,0,0,0,{"$f":"IF(AND(SUM(I143,K143,M143,O143)>0,T143=0),1,0)","v":0},null,null,null,{"$f":"SUM(G344:S344)","v":0},null,null,null,null,null,null,null,null,null,null,null,null,null,null,null,null,null,null,null,null,"R1JGLOUCESTER EAPC","R1J64","GLOUCESTER EAPC","R1J64","GLOUCESTER EAPC","R1J"]
[{"$error":"#N/A"},{"$error":"#N/A"},0,0,0,0,0,0,0,0,0,0,0,null,null,0,0,0,0,0,null,null,null,0,null,null,null,null,null,null,null,null,null,null,null,null,null,null,null,null,null,null,null,null,"R1JGLOUCESTERSHIRE ROYAL HOSPITAL","R1J04","GLOUCESTERSHIRE ROYAL HOSPITAL","R1J04","GLOUCESTERSHIRE ROYAL HOSPITAL","R1J"]
[{"$error":"#N/A"},{"$error":"#N/A"},0,0,0,0,0,0,0,0,0,0,0,null,null,0,0,0,0,0,null,null,null,0,null,null,null,null,null,null,null,null,null,null,null,null,null,null,null,null,null,null,null,null,"R1JGWC INTERMEDIATE CARE","R1J84","GWC INTERMEDIATE CARE","R1J84","GWC INTERMEDIATE CARE","R1J"]
[{"$error":"#N/A"},{"$error":"#N/A"},0,0,0,0,0,0,0,0,0,0,0,null,null,0,0,0,0,0,null,null,null,0,null,null,null,null,null,null,null,null,null,null,null,null,null,null,null,null,null,null,null,null,"R1JLYDNEY & DISTRICT HOSPITAL SITE","R1J11","LYDNEY & DISTRICT HOSPITAL SITE","R1J11","LYDNEY & DISTRICT HOSPITAL SITE","R1J"]
[{"$error":"#N/A"},{"$error":"#N/A"},0,0,0,0,0,0,0,0,0,0,0,null,null,0,0,0,0,0,null,null,null,0,null,null,null,null,null,null,null,null,null,null,null,null,null,null,null,null,null,null,null,null,"R1JMOORE COTTAGE HOSPITAL","R1J14","MOORE COTTAGE HOSPITAL","R1J14","MOORE COTTAGE HOSPITAL","R1J"]
[{"$error":"#N/A"},{"$error":"#N/A"},0,0,0,0,0,0,0,0,0,0,0,null,null,0,0,0,0,0,null,null,null,0,null,null,null,null,null,null,null,null,null,null,null,null,null,null,null,null,null,null,null,null,"R1JNEW TEWKESBURY COMMUNITY HOSPITAL","R1J18","NEW TEWKESBURY COMMUNITY HOSPITAL","R1J18","NEW TEWKESBURY COMMUNITY HOSPITAL","R1J"]
[{"$error":"#N/A"},{"$error":"#N/A"},0,0,0,0,0,0,0,0,0,0,0,null,null,0,0,0,0,0,null,null,null,0,null,null,null,null,null,null,null,null,null,null,null,null,null,null,null,null,null,null,null,null,"R1JNORTH COTSWOLD HOSPITAL","R1J21","NORTH COTSWOLD HOSPITAL","R1J21","NORTH COTSWOLD HOSPITAL","R1J"]
[{"$error":"#N/A"},{"$error":"#N/A"},0,0,0,0,0,0,0,0,0,0,0,null,null,0,0,0,0,0,null,null,null,0,null,null,null,null,null,null,null,null,null,null,null,null,null,null,null,null,null,null,null,null,"R1JNORTH COTSWOLDS INTERMEDIATE CARE UNIT","R1J94","NORTH COTSWOLDS INTERMEDIATE CARE UNIT","R1J94","NORTH COTSWOLDS INTERMEDIATE CARE UNIT","R1J"]
[{"$error":"#N/A"},{"$error":"#N/A"},0,0,0,0,0,0,0,0,0,0,0,null,null,0,0,0,0,0,null,null,null,0,null,null,null,null,null,null,null,null,null,null,null,null,null,null,null,null,null,null,null,null,"R1JREDWOOD","R1JAT","REDWOOD","R1JAT","REDWOOD","R1J"]
[{"$error":"#N/A"},{"$error":"#N/A"},0,0,0,0,0,0,0,0,0,0,0,null,null,0,0,0,0,0,null,null,null,0,null,null,null,null,null,null,null,null,null,null,null,null,null,null,null,null,null,null,null,null,"R1JSOUTHGATE MOORINGS","R1J58","SOUTHGATE MOORINGS","R1J58","SOUTHGATE MOORINGS","R1J"]
[{"$error":"#N/A"},{"$error":"#N/A"},0,0,0,0,0,0,0,0,0,0,0,null,null,0,0,0,0,0,null,null,null,0,null,null,null,null,null,null,null,null,null,null,null,null,null,null,null,null,null,null,null,null,"R1JSTROUD GENERAL HOSPITAL","R1J13","STROUD GENERAL HOSPITAL","R1J13","STROUD GENERAL HOSPITAL","R1J"]
[{"$error":"#N/A"},{"$error":"#N/A"},0,0,0,0,0,0,0,0,0,0,0,null,null,0,0,0,0,0,null,null,null,0,null,null,null,null,null,null,null,null,null,null,null,null,null,null,null,null,null,null,null,null,"R1JSUE RYDER CARE HOME","R1J17","SUE RYDER CARE HOME","R1J17","SUE RYDER CARE HOME","R1J"]
[{"$error":"#N/A"},{"$error":"#N/A"},0,0,0,0,0,0,0,0,0,0,0,null,null,0,0,0,0,0,null,null,null,0,null,null,null,null,null,null,null,null,null,null,null,null,null,null,null,null,null,null,null,null,"R1JTETBURY HOSPITAL","R1J16","TETBURY HOSPITAL","R1J16","TETBURY HOSPITAL","R1J"]
[{"$error":"#N/A"},{"$error":"#N/A"},0,0,0,0,0,0,0,0,0,0,0,null,null,0,0,0,0,0,null,null,null,0,null,null,null,null,null,null,null,null,null,null,null,null,null,null,null,null,null,null,null,null,"R1JTEWKESBURY HOSPITAL","R1J08","TEWKESBURY HOSPITAL","R1J08","TEWKESBURY HOSPITAL","R1J"]
[{"$error":"#N/A"},{"$error":"#N/A"},0,0,0,0,0,0,0,0,0,0,0,null,null,0,0,0,0,0,null,null,null,0,null,null,null,null,null,null,null,null,null,null,null,null,null,null,null,null,null,null,null,null,"R1JTHE WINCHCOMBE UNIT","R1J15","THE WINCHCOMBE UNIT","R1J15","THE WINCHCOMBE UNIT","R1J"]
[{"$error":"#N/A"},{"$error":"#N/A"},0,0,0,0,0,0,0,0,0,0,0,null,null,{"$f":"IF(P158=\"\",0,IF(P158>100%,1,0))","v":0},0,0,0,0,null,null,null,0,null,null,null,null,null,null,null,null,null,null,null,null,null,null,null,null,null,null,null,null,"R1JTHE WINCHCOMBE UNIT","R1J86","THE WINCHCOMBE UNIT","R1J86","THE WINCHCOMBE UNIT","R1J"]
[{"$error":"#N/A"},{"$error":"#N/A"},0,0,0,0,0,0,0,0,0,0,0,null,null,0,0,0,0,0,null,null,null,0,null,null,null,null,null,null,null,null,null,null,null,null,null,null,null,null,null,null,null,null,"R1JVALE COMMUNITY HOSPITAL","R1J07","VALE COMMUNITY HOSPITAL","R1J07","VALE COMMUNITY HOSPITAL","R1J"]
[{"$error":"#N/A"},{"$error":"#N/A"},0,0,0,0,0,0,0,0,0,0,0,null,null,0,0,0,0,0,null,null,null,0,null,null,null,null,null,null,null,null,null,null,null,null,null,null,null,null,null,null,null,null,"R1K EDGWARE COMMUNITY HOSPITAL","R1K21"," EDGWARE COMMUNITY HOSPITAL","R1K21"," EDGWARE COMMUNITY HOSPITAL","R1K"]
[{"$error":"#N/A"},{"$error":"#N/A"},0,0,0,0,0,0,0,0,0,0,0,null,null,0,0,0,0,0,null,null,null,0,null,null,null,null,null,null,null,null,null,null,null,null,null,null,null,null,null,null,null,null,"R1KCENTRAL MIDDLESEX HOSPITAL","R1K02","CENTRAL MIDDLESEX HOSPITAL","R1K02","CENTRAL MIDDLESEX HOSPITAL","R1K"]
[{"$error":"#N/A"},{"$error":"#N/A"},0,0,0,0,0,0,0,0,0,0,0,null,null,0,0,0,0,0,null,null,null,0,null,null,null,null,null,null,null,null,null,null,null,null,null,null,null,null,null,null,null,null,"R1KEALING HOSPITAL","R1K04","EALING HOSPITAL","R1K04","EALING HOSPITAL","R1K"]
[{"$error":"#N/A"},{"$error":"#N/A"},0,0,0,0,0,0,0,0,0,0,0,null,null,0,0,0,0,0,null,null,null,0,null,null,null,null,null,null,null,null,null,null,null,null,null,null,null,null,null,null,null,null,"R1KNORTHWICK PARK HOSPITAL","R1K01","NORTHWICK PARK HOSPITAL","R1K01","NORTHWICK PARK HOSPITAL","R1K"]
[{"$error":"#N/A"},{"$error":"#N/A"},0,0,0,0,0,0,0,0,0,0,0,null,null,0,0,0,0,0,null,null,null,0,null,null,null,null,null,null,null,null,null,null,null,null,null,null,null,null,null,null,null,null,"R1KNORTHWICK PARK HOSPITAL  STARRS HARROW","R1K46","NORTHWICK PARK HOSPITAL  STARRS HARROW","R1K46","NORTHWICK PARK HOSPITAL  STARRS HARROW","R1K"]
[{"$error":"#N/A"},{"$error":"#N/A"},0,0,0,0,0,0,0,0,0,0,0,null,null,0,0,0,0,0,null,null,null,0,null,null,null,null,null,null,null,null,null,null,null,null,null,null,null,null,null,null,null,null,"R1KNORTHWICK PARK HOSPITAL ELCO COMMUNITY","R1K59","NORTHWICK PARK HOSPITAL ELCO COMMUNITY","R1K59","NORTHWICK PARK HOSPITAL ELCO COMMUNITY","R1K"]
[{"$error":"#N/A"},{"$error":"#N/A"},0,0,0,0,0,0,0,0,0,0,0,null,null,0,0,0,0,0,null,null,null,0,null,null,null,null,null,null,null,null,null,null,null,null,null,null,null,null,null,null,null,null,"R1KST MARKS HOSPITAL ","R1K03","ST MARKS HOSPITAL ","R1K03","ST MARKS HOSPITAL ","R1K"]
[{"$error":"#N/A"},{"$error":"#N/A"},0,0,0,0,0,0,0,0,0,0,0,null,null,0,0,0,0,0,null,null,null,0,null,null,null,null,null,null,null,null,null,null,null,null,null,null,null,null,null,null,null,null,"R1KURGENT CARE CENTRE CENTAL MIDDLESEX HOSPITAL","R1K12","URGENT CARE CENTRE CENTAL MIDDLESEX HOSPITAL","R1K12","URGENT CARE CENTRE CENTAL MIDDLESEX HOSPITAL","R1K"]
[{"$error":"#N/A"},{"$error":"#N/A"},0,0,0,0,0,0,0,0,0,0,0,null,null,0,0,0,0,0,null,null,null,0,null,null,null,null,null,null,null,null,null,null,null,null,null,null,null,null,null,null,null,null,"R1KURGENT CARE CENTRE EALING HOSPITAL","R1K14","URGENT CARE CENTRE EALING HOSPITAL","R1K14","URGENT CARE CENTRE EALING HOSPITAL","R1K"]
[{"$error":"#N/A"},{"$error":"#N/A"},0,0,0,0,0,0,0,0,0,0,0,null,null,0,0,0,0,0,null,null,null,0,null,null,null,null,null,null,null,null,null,null,null,null,null,null,null,null,null,null,null,null,"RA2FARNHAM HOSPITAL - RA215","RA215","FARNHAM HOSPITAL - RA215","RA215","FARNHAM HOSPITAL","RA2"]
[{"$error":"#N/A"},{"$error":"#N/A"},0,0,0,0,0,0,0,0,0,0,0,null,null,0,0,0,0,0,null,null,null,0,null,null,null,null,null,null,null,null,null,null,null,null,null,null,null,null,null,null,null,null,"RA2FRIMLEY PARK HOSPITAL - RA245","RA245","FRIMLEY PARK HOSPITAL - RA245","RA245","FRIMLEY PARK HOSPITAL","RA2"]
[{"$error":"#N/A"},{"$error":"#N/A"},0,0,0,0,0,0,0,0,0,0,0,null,null,0,0,0,0,0,null,null,null,0,null,null,null,null,null,null,null,null,null,null,null,null,null,null,null,null,null,null,null,null,"RA2HASLEMERE HOSPITAL - RA219","RA219","HASLEMERE HOSPITAL - RA219","RA219","HASLEMERE HOSPITAL","RA2"]
[{"$error":"#N/A"},{"$error":"#N/A"},0,0,0,0,0,0,0,0,0,0,0,null,null,0,0,0,0,0,null,null,null,0,null,null,null,null,null,null,null,null,null,null,null,null,null,null,null,null,null,null,null,null,"RA2ROYAL SURREY COUNTY HOSPITAL - RA201","RA201","ROYAL SURREY COUNTY HOSPITAL - RA201","RA201","ROYAL SURREY COUNTY HOSPITAL","RA2"]
[{"$error":"#N/A"},{"$error":"#N/A"},0,0,0,0,0,0,0,0,0,0,0,null,null,0,0,0,0,0,null,null,null,0,null,null,null,null,null,null,null,null,null,null,null,null,null,null,null,null,null,null,null,null,"RA3CHILDREN'S SERVICES SOUTH - RA305","RA305","CHILDREN'S SERVICES SOUTH - RA305","RA305","CHILDREN'S SERVICES SOUTH","RA3"]
[{"$f":"VLOOKUP($C174,$AT:$AT,1,0)","v":{"$error":"#N/A"}},{"$f":"VLOOKUP($D174,$AU:$AU,1,0)","v":{"$error":"#N/A"}},{"$f":"IF(C174=\"\",0,IF(ISERROR(VLOOKUP(C174,$AT$5:$AT$249,1,0)),0,IF(VLOOKUP(C174,$AT$5:$AX$249,5,0)=$B$2,0,1)))","v":0},0,0,0,0,0,{"$f":"IF(F174=\"\",0,IF(ISERROR(VLOOKUP(F174,$Y$14:$Y$98,1,FALSE)),1,0))","v":0},{"$f":"IF(G174=\"\",0,IF(ISERROR(VLOOKUP(G174,$Y$14:$Y$98,1,FALSE)),1,0))","v":0},0,0,0,null,null,{"$f":"IF(P174=\"\",0,IF(P174>100%,1,0))","v":0},0,0,0,0,null,null,null,0,null,null,null,null,null,null,null,null,null,null,null,null,null,null,null,null,null,null,null,null,"RA3WESTON GENERAL HOSPITAL - RA301","RA301","WESTON GENERAL HOSPITAL - RA301","RA301","WESTON GENERAL HOSPITAL","RA3"]
[{"$error":"#N/A"},{"$error":"#N/A"},0,0,0,0,0,0,0,0,0,0,0,null,null,0,0,0,0,0,null,null,null,0,null,null,null,null,null,null,null,null,null,null,null,null,null,null,null,null,null,null,null,null,"RA4YEOVIL DISTRICT HOSPITAL - RA430","RA430","YEOVIL DISTRICT HOSPITAL - RA430","RA430","YEOVIL DISTRICT HOSPITAL","RA4"]
[{"$error":"#N/A"},{"$error":"#N/A"},0,0,0,0,0,0,0,0,0,0,0,null,null,0,0,0,0,0,null,null,null,0,null,null,null,null,null,null,null,null,null,null,null,null,null,null,null,null,null,null,null,null,"RA7BRISTOL EYE HOSPITAL - RA708","RA708","BRISTOL EYE HOSPITAL - RA708","RA708","BRISTOL EYE HOSPITAL","RA7"]
[{"$error":"#N/A"},{"$error":"#N/A"},0,0,0,0,0,0,0,0,0,0,0,null,null,0,0,0,0,0,null,null,null,0,null,null,null,null,null,null,null,null,null,null,null,null,null,null,null,null,null,null,null,null,"RA7BRISTOL GENERAL HOSPITAL - RA702","RA702","BRISTOL GENERAL HOSPITAL - RA702","RA702","BRISTOL GENERAL HOSPITAL","RA7"]
[{"$error":"#N/A"},{"$error":"#N/A"},0,0,0,0,0,0,0,0,0,0,0,null,null,0,0,0,0,0,null,null,null,0,null,null,null,null,null,null,null,null,null,null,null,null,null,null,null,null,null,null,null,null,"RA7BRISTOL HAEMATOLOGY AND ONCOLOGY CENTRE - RA710","RA710","BRISTOL HAEMATOLOGY AND ONCOLOGY CENTRE - RA710","RA710","BRISTOL HAEMATOLOGY AND ONCOLOGY CENTRE","RA7"]
[{"$error":"#N/A"},{"$error":"#N/A"},0,0,0,0,0,0,0,0,0,0,0,null,null,0,0,0,0,0,null,null,null,0,null,null,null,null,null,null,null,null,null,null,null,null,null,null,null,null,null,null,null,null,"RA7BRISTOL HOMEOPATHIC HOSPITAL - RA703","RA703","BRISTOL HOMEOPATHIC HOSPITAL - RA703","RA703","BRISTOL HOMEOPATHIC HOSPITAL","RA7"]
[{"$error":"#N/A"},{"$error":"#N/A"},0,0,0,0,0,0,0,0,0,0,0,null,null,0,0,0,0,0,null,null,null,0,null,null,null,null,null,null,null,null,null,null,null,null,null,null,null,null,null,null,null,null,"RA7BRISTOL ROYAL HOSPITAL FOR CHILDREN - RA723","RA723","BRISTOL ROYAL HOSPITAL FOR CHILDREN - RA723","RA723","BRISTOL ROYAL HOSPITAL FOR CHILDREN","RA7"]
[{"$error":"#N/A"},{"$error":"#N/A"},0,0,0,0,0,0,0,0,0,0,0,null,null,0,0,0,0,0,null,null,null,0,null,null,null,null,null,null,null,null,null,null,null,null,null,null,null,null,null,null,null,null,"RA7BRISTOL ROYAL INFIRMARY - RA701","RA701","BRISTOL ROYAL INFIRMARY - RA701","RA701","BRISTOL ROYAL INFIRMARY","RA7"]
[{"$error":"#N/A"},{"$error":"#N/A"},0,0,0,0,0,0,0,0,0,0,0,null,null,0,0,0,0,0,null,null,null,0,null,null,null,null,null,null,null,null,null,null,null,null,null,null,null,null,null,null,null,null,"RA7KEYNSHAM HOSPITAL - RA705","RA705","KEYNSHAM HOSPITAL - RA705","RA705","KEYNSHAM HOSPITAL","RA7"]
[{"$error":"#N/A"},{"$error":"#N/A"},0,0,0,0,0,0,0,0,0,0,0,null,null,0,0,0,0,0,null,null,null,0,null,null,null,null,null,null,null,null,null,null,null,null,null,null,null,null,null,null,null,null,"RA7SOUTH BRISTOL COMMUNITY HOSPITAL - RA773","RA773","SOUTH BRISTOL COMMUNITY HOSPITAL - RA773","RA773","SOUTH BRISTOL COMMUNITY HOSPITAL","RA7"]
[{"$error":"#N/A"},{"$error":"#N/A"},0,0,0,0,0,0,0,0,0,0,0,null,null,0,0,0,0,0,null,null,null,0,null,null,null,null,null,null,null,null,null,null,null,null,null,null,null,null,null,null,null,null,"RA7ST MICHAEL'S HOSPITAL - RA707","RA707","ST MICHAEL'S HOSPITAL - RA707","RA707","ST MICHAEL'S HOSPITAL","RA7"]
[{"$error":"#N/A"},{"$error":"#N/A"},0,0,0,0,0,0,0,0,0,0,0,null,null,0,0,0,0,0,null,null,null,0,null,null,null,null,null,null,null,null,null,null,null,null,null,null,null,null,null,null,null,null,"RA7UNIVERSITY OF BRISTOL DENTAL HOSPITAL - RA709","RA709","UNIVERSITY OF BRISTOL DENTAL HOSPITAL - RA709","RA709","UNIVERSITY OF BRISTOL DENTAL HOSPITAL","RA7"]
[{"$error":"#N/A"},{"$error":"#N/A"},0,0,0,0,0,0,0,0,0,0,0,null,null,0,0,0,0,0,null,null,null,0,null,null,null,null,null,null,null,null,null,null,null,null,null,null,null,null,null,null,null,null,"RA9ASHBURTON AND BUCKFASTLEIGH HOSPITAL","RA952","ASHBURTON AND BUCKFASTLEIGH HOSPITAL","RA952","ASHBURTON AND BUCKFASTLEIGH HOSPITAL","RA9"]
[{"$error":"#N/A"},{"$error":"#N/A"},0,0,0,0,0,0,0,0,0,0,0,null,null,0,0,0,0,0,null,null,null,0,null,null,null,null,null,null,null,null,null,null,null,null,null,null,null,null,null,null,null,null,"RA9BOVEY TRACEY HOSPITAL","RA953","BOVEY TRACEY HOSPITAL","RA953","BOVEY TRACEY HOSPITAL","RA9"]
[{"$error":"#N/A"},{"$error":"#N/A"},0,0,0,0,0,0,0,0,0,0,0,null,null,0,0,0,0,0,null,null,null,0,null,null,null,null,null,null,null,null,null,null,null,null,null,null,null,null,null,null,null,null,"RA9BRIXHAM HOSPITAL","RA954","BRIXHAM HOSPITAL","RA954","BRIXHAM HOSPITAL ","RA9"]
[{"$error":"#N/A"},{"$error":"#N/A"},0,0,0,0,0,0,0,0,0,0,0,null,null,0,0,0,0,0,null,null,null,0,null,null,null,null,null,null,null,null,null,null,null,null,null,null,null,null,null,null,null,null,{"$f":"CONCATENATE(LEFT(AT390, 3),AU390)","v":"RA9DARTMOUTH HOSPITAL"},"RA955","DARTMOUTH HOSPITAL","RA955","DARTMOUTH HOSPITAL",{"$f":"LEFT(AV390,3)","v":"RA9"}]
[{"$error":"#N/A"},{"$error":"#N/A"},0,0,0,0,0,0,0,0,0,0,0,null,null,{"$f":"IF(P190=\"\",0,IF(P190>100%,1,0))","v":0},0,0,0,0,null,null,null,0,null,null,null,null,null,null,null,null,null,null,null,null,null,null,null,null,null,null,null,null,"RA9DAWLISH HOSPITAL","RA956","DAWLISH HOSPITAL","RA956","DAWLISH HOSPITAL","RA9"]
[{"$error":"#N/A"},{"$error":"#N/A"},0,0,0,0,0,0,0,0,0,0,0,null,null,0,0,0,0,0,null,null,null,0,null,null,null,null,null,null,null,null,null,null,null,null,null,null,null,null,null,null,null,null,"RA9NEWTON ABBOT HOSPITAL","RA957","NEWTON ABBOT HOSPITAL","RA957","NEWTON ABBOT HOSPITAL","RA9"]
[{"$error":"#N/A"},{"$error":"#N/A"},0,0,0,0,0,0,0,0,0,0,0,null,null,0,0,0,0,0,null,null,null,0,null,null,null,null,null,null,null,null,null,null,null,null,null,null,null,null,null,null,null,null,"RA9PAIGNTON HOSPITAL","RA958","PAIGNTON HOSPITAL","RA958","PAIGNTON HOSPITAL","RA9"]
[{"$error":"#N/A"},{"$error":"#N/A"},0,0,0,0,0,0,0,0,0,0,0,null,null,0,0,0,0,0,null,null,null,0,null,null,null,null,null,null,null,null,null,null,null,null,null,null,null,null,null,null,null,null,"RA9TEIGNMOUTH HOSPITAL","RA959","TEIGNMOUTH HOSPITAL","RA959","TEIGNMOUTH HOSPITAL","RA9"]
[{"$error":"#N/A"},{"$error":"#N/A"},0,0,0,0,0,0,0,0,0,0,0,null,null,0,0,0,0,0,null,null,null,0,null,null,null,null,null,null,null,null,null,null,null,null,null,null,null,null,null,null,null,null,"RA9TORBAY HOSPITAL - RA901","RA901","TORBAY HOSPITAL - RA901","RA901","TORBAY HOSPITAL","RA9"]
[{"$error":"#N/A"},{"$error":"#N/A"},0,0,0,0,0,0,0,0,0,0,0,null,null,0,0,0,0,0,null,null,null,0,null,null,null,null,null,null,null,null,null,null,null,null,null,null,null,null,null,null,null,null,"RA9TOTNES HOSPITAL","RA979","TOTNES HOSPITAL","RA979","TOTNES HOSPITAL","RA9"]
[{"$error":"#N/A"},{"$error":"#N/A"},0,0,0,0,0,0,0,0,0,0,0,null,null,0,0,0,0,0,null,null,null,0,null,null,null,null,null,null,null,null,null,null,null,null,null,null,null,null,null,null,null,null,"RAEBRADFORD ROYAL INFIRMARY - RAE01","RAE01","BRADFORD ROYAL INFIRMARY - RAE01","RAE01","BRADFORD ROYAL INFIRMARY","RAE"]
[{"$error":"#N/A"},{"$error":"#N/A"},0,0,0,0,0,0,0,0,0,0,0,null,null,0,0,0,0,0,null,null,null,0,null,null,null,null,null,null,null,null,null,null,null,null,null,null,null,null,null,null,null,null,"RAEST LUKES HOSPITAL - RAE05","RAE05","ST LUKES HOSPITAL - RAE05","RAE05","ST LUKES HOSPITAL","RAE"]
[{"$error":"#N/A"},{"$error":"#N/A"},0,0,0,0,0,0,0,0,0,0,0,null,null,0,0,0,0,0,null,null,null,0,null,null,null,null,null,null,null,null,null,null,null,null,null,null,null,null,null,null,null,null,"RAJBASILDON HOSPITAL","RAJ12","BASILDON HOSPITAL","RAJ12","BASILDON HOSPITAL","RAJ"]
[{"$error":"#N/A"},{"$error":"#N/A"},0,0,0,0,0,0,0,0,0,0,0,null,null,0,0,0,0,0,null,null,null,0,null,null,null,null,null,null,null,null,null,null,null,null,null,null,null,null,null,null,null,null,"RAJBRENTWOOD COMMUNITY HOSPITAL - RAJ25","RAJ25","BRENTWOOD COMMUNITY HOSPITAL - RAJ25","RAJ25","BRENTWOOD COMMUNITY HOSPITAL","RAJ"]
[{"$error":"#N/A"},{"$error":"#N/A"},0,0,0,0,0,0,0,0,0,0,0,null,null,0,0,0,0,0,null,null,null,0,null,null,null,null,null,null,null,null,null,null,null,null,null,null,null,null,null,null,null,null,"RAJSOUTHEND HOSPITAL - RAJ01","RAJ01","SOUTHEND HOSPITAL - RAJ01","RAJ01","SOUTHEND HOSPITAL","RAJ"]
[{"$error":"#N/A"},{"$error":"#N/A"},0,0,0,0,0,0,0,0,0,0,0,null,null,0,0,0,0,0,null,null,null,0,null,null,null,null,null,null,null,null,null,null,null,null,null,null,null,null,null,null,null,null,"RALBARNET HOSPITAL","RAL26","BARNET HOSPITAL","RAL26","BARNET HOSPITAL","RAL"]
[{"$error":"#N/A"},{"$error":"#N/A"},0,0,0,0,0,0,0,0,0,0,0,null,null,0,0,0,0,0,null,null,null,0,null,null,null,null,null,null,null,null,null,null,null,null,null,null,null,null,null,null,null,null,"RALCHASE FARM HOSPITAL","RALC7 ","CHASE FARM HOSPITAL","RALC7 ","CHASE FARM HOSPITAL","RAL"]
[{"$error":"#N/A"},{"$error":"#N/A"},0,0,0,0,0,0,0,0,0,0,0,null,null,0,0,0,0,0,null,null,null,0,null,null,null,null,null,null,null,null,null,null,null,null,null,null,null,null,null,null,null,null,"RALEDGWARE COMMUNITY HOSPITAL - RALRA","RALRA","EDGWARE COMMUNITY HOSPITAL - RALRA","RALRA","EDGWARE COMMUNITY HOSPITAL","RAL"]
[{"$error":"#N/A"},{"$error":"#N/A"},0,0,0,0,0,0,0,0,0,0,0,null,null,0,0,0,0,0,null,null,null,0,null,null,null,null,null,null,null,null,null,null,null,null,null,null,null,null,null,null,null,null,"RALFINCHLEY MEMORIAL HOSPITAL - RAL22","RAL22","FINCHLEY MEMORIAL HOSPITAL - RAL22","RAL22","FINCHLEY MEMORIAL HOSPITAL","RAL"]
[{"$error":"#N/A"},{"$error":"#N/A"},0,0,0,0,0,0,0,0,0,0,0,null,null,0,0,0,0,0,null,null,null,0,null,null,null,null,null,null,null,null,null,null,null,null,null,null,null,null,null,null,null,null,"RALHARPENDEN MEMORIAL HOSPITAL - RALHA","RALHA","HARPENDEN MEMORIAL HOSPITAL - RALHA","RALHA","HARPENDEN MEMORIAL HOSPITAL","RAL"]
[{"$f":"VLOOKUP($C206,$AT:$AT,1,0)","v":{"$error":"#N/A"}},{"$f":"VLOOKUP($D206,$AU:$AU,1,0)","v":{"$error":"#N/A"}},{"$f":"IF(C206=\"\",0,IF(ISERROR(VLOOKUP(C206,$AT$5:$AT$249,1,0)),0,IF(VLOOKUP(C206,$AT$5:$AX$249,5,0)=$B$2,0,1)))","v":0},0,0,0,0,0,{"$f":"IF(F206=\"\",0,IF(ISERROR(VLOOKUP(F206,$Y$14:$Y$98,1,FALSE)),1,0))","v":0},0,0,0,0,null,null,{"$f":"IF(P206=\"\",0,IF(P206>100%,1,0))","v":0},0,0,0,0,null,null,null,0,null,null,null,null,null,null,null,null,null,null,null,null,null,null,null,null,null,null,null,null,"RALMOUNT VERNON HOSPITAL - RALMV","RALMV","MOUNT VERNON HOSPITAL - RALMV","RALMV","MOUNT VERNON HOSPITAL","RAL"]
[{"$error":"#N/A"},{"$error":"#N/A"},0,{"$f":"IF(D207=\"\",0,IF(F207=\"\",1,0))","v":0},{"$f":"IF(D207=\"\",0,IF(SUM(H207,J207,L207,N207)=0,1,0))","v":0},{"$f":"IF(D207=\"\",0,IF(SUM(I207,K207,M207,O207)=0,1,0))","v":0},{"$f":"IF(D207=\"\",0,IF(SUM(H207:O207)<1448,1,0))","v":0},{"$f":"IF(D207=\"\",0,IF(SUM(H207:O207)>30000,1,0))","v":0},0,0,{"$f":"IF(D207=\"\",0,IF(C207=\"\",1,0))","v":0},{"$f":"IF(OR(H207<>\"\",J207<>\"\",I207<>\"\",K207<>\"\",L207<>\"\",M207<>\"\",N207<>\"\",O207<>\"\",E207<>\"\",F207<>\"\",G207<>\"\"),IF(D207=\"\",1,0),0)","v":0},{"$f":"IF(D207=\"\",0,IF(E207=\"\",1,0))","v":0},null,null,0,0,0,0,{"$f":"IF(AND(SUM(I207,K207,M207,O207)>0,T207=0),1,0)","v":0},null,null,null,{"$f":"SUM(G408:S408)","v":0},null,null,null,null,null,null,null,null,null,null,null,null,null,null,null,null,null,null,null,null,"RALQUEEN MARY'S HOUSE - RAL02","RAL02","QUEEN MARY'S HOUSE - RAL02","RAL02","QUEEN MARY'S HOUSE","RAL"]
[{"$error":"#N/A"},{"$error":"#N/A"},0,0,0,0,0,0,0,0,0,0,0,null,null,0,0,0,0,0,null,null,null,0,null,null,null,null,null,null,null,null,null,null,null,null,null,null,null,null,null,null,null,null,"RALROYAL FREE HOSPITAL - RAL01","RAL01","ROYAL FREE HOSPITAL - RAL01","RAL01","ROYAL FREE HOSPITAL","RAL"]
[{"$error":"#N/A"},{"$error":"#N/A"},0,0,0,0,0,0,0,0,0,0,0,null,null,0,0,0,0,0,null,null,null,0,null,null,null,null,null,null,null,null,null,null,null,null,null,null,null,null,null,null,null,null,"RALST. ALBANS CITY HOSPITAL - RALAL","RALAL","ST. ALBANS CITY HOSPITAL - RALAL","RALAL","ST. ALBANS CITY HOSPITAL","RAL"]
[{"$error":"#N/A"},{"$error":"#N/A"},0,0,0,0,0,0,0,0,0,0,0,null,null,0,0,0,0,0,null,null,null,0,null,null,null,null,null,null,null,null,null,null,null,null,null,null,null,null,null,null,null,null,"RALWATFORD GENERAL HOSPITAL - RALWA","RALWA","WATFORD GENERAL HOSPITAL - RALWA","RALWA","WATFORD GENERAL HOSPITAL","RAL"]
[{"$error":"#N/A"},{"$error":"#N/A"},0,0,0,0,0,0,0,0,0,0,0,null,null,0,0,0,0,0,null,null,null,0,null,null,null,null,null,null,null,null,null,null,null,null,null,null,null,null,null,null,null,null,"RANROYAL NATIONAL ORTHOPAEDIC HOSPITAL (BOLSOVER STREET) - RAN02","RAN02","ROYAL NATIONAL ORTHOPAEDIC HOSPITAL (BOLSOVER STREET) - RAN02","RAN02","ROYAL NATIONAL ORTHOPAEDIC HOSPITAL (BOLSOVER STREET)","RAN"]
[{"$error":"#N/A"},{"$error":"#N/A"},0,0,0,0,0,0,0,0,0,0,0,null,null,0,0,0,0,0,null,null,null,0,null,null,null,null,null,null,null,null,null,null,null,null,null,null,null,null,null,null,null,null,"RANTHE ROYAL NATIONAL ORTHOPAEDIC HOSPITAL (STANMORE) - RAN01","RAN01","THE ROYAL NATIONAL ORTHOPAEDIC HOSPITAL (STANMORE) - RAN01","RAN01","THE ROYAL NATIONAL ORTHOPAEDIC HOSPITAL (STANMORE)","RAN"]
[{"$error":"#N/A"},{"$error":"#N/A"},0,0,0,0,0,0,0,0,0,0,0,null,null,0,0,0,0,0,null,null,null,0,null,null,null,null,null,null,null,null,null,null,null,null,null,null,null,null,null,null,null,null,"RAPNORTH MIDDLESEX HOSPITAL - RAPNM","RAPNM","NORTH MIDDLESEX HOSPITAL - RAPNM","RAPNM","NORTH MIDDLESEX HOSPITAL","RAP"]
[{"$f":"IF((COUNTIF(C14:C213,\"\")=400),2,IF((COUNTIF(A215:A414,ERROR.TYPE(7)))=(COUNTIF(C14:C213,\"\")),0,1))","v":0},{"$f":"IF((COUNTIF(D14:D213,\"\")=400),2,IF((COUNTIF(B215:B414,ERROR.TYPE(7)))=(COUNTIF(D14:D213,\"\")),0,1))","v":0},{"$f":"IF(COUNTIF(C215:C414,1)>0,1,0)","v":0},{"$f":"IF(COUNTIF(D215:D414,1)>0,1,0)","v":0},{"$f":"IF(COUNTIF(E215:E414,1)>0,1,0)","v":0},{"$f":"IF(COUNTIF(F215:F414,1)>0,1,0)","v":0},{"$f":"IF(COUNTIF(G215:G414,1)>0,1,0)","v":1},{"$f":"IF(COUNTIF(H215:H414,1)>0,1,0)","v":0},0,0,0,0,0,0,{"$f":"IF(COUNTIF(O215:O414,1)>0,1,0)","v":0},1,1,1,1,0,{"$f":"IF(AND($A$1=\"N\",$T$214>0),1,0)","v":0},null,null,5,null,null,null,null,null,null,null,null,null,null,null,null,null,null,null,null,null,null,null,null,"RAPST ANNS HOSPITAL (ACUTE WARDS) - RAPST","RAPST","ST ANNS HOSPITAL (ACUTE WARDS) - RAPST","RAPST","ST ANNS HOSPITAL (ACUTE WARDS)","RAP"]
["got to equal 0","got to equal 0","got to equal 0","got to equal 0","got to equal 0","got to equal 0","got to equal 0",null,null,null,null,null,null,null,null,null,null,null,null,"Care hours, no patients","Should not submit CHPPD",null,null,null,null,null,null,null,null,null,null,null,null,null,null,null,null,null,null,null,null,null,null,null,"RASHILLINGDON HOSPITAL - RAS01","RAS01","HILLINGDON HOSPITAL - RAS01","RAS01","HILLINGDON HOSPITAL","RAS"]
[null,null,null,"List one specialty","Total planned hrs >0","Total actual hrs >0","Total hrs >1448",null,"Check Spec 1 name","Check Spec 2 Name","Missing site code",null,null,null,null,null,null,null,null,null,null,null,null,null,null,null,null,null,null,null,null,null,null,null,null,null,null,null,null,null,null,null,null,null,"RASMOUNT VERNON HOSPITAL SITE - RAS02","RAS02","MOUNT VERNON HOSPITAL SITE - RAS02","RAS02","MOUNT VERNON HOSPITAL SITE","RAS"]
["code in list","name in list","does site belong to trust",null,null,null,null,null,null,null,null,null,null,null,null,null,null,null,null,null,null,null,null,null,null,null,null,null,null,null,null,null,null,null,null,null,null,null,null,null,null,null,null,null,"RATALISTAIR FARQUHARSON CENTRE","RATAF","ALISTAIR FARQUHARSON CENTRE","RATAF","ALISTAIR FARQUHARSON CENTRE","RAT"]
[null,null,null,null,null,null,null,null,null,null,null,null,null,null,null,null,null,null,null,null,null,null,null,null,null,null,null,null,null,null,null,null,null,null,null,null,null,null,null,null,null,null,null,null,"RATBARKING HOSPITAL","RATAP","BARKING HOSPITAL","RATAP","BARKING HOSPITAL","RAT"]
["2- all blank","2- all blank",null,null,null,null,null,null,null,null,null,null,null,null,null,null,null,null,null,null,null,null,null,null,null,null,null,null,null,null,null,null,null,null,null,null,null,null,null,null,null,null,null,null,"RATBASILDON HOSPITAL","RATJC","BASILDON HOSPITAL","RATJC","BASILDON HOSPITAL","RAT"]
[null,null,null,null,null,null,null,null,null,null,null,null,null,null,null,null,null,null,null,null,null,null,null,null,null,null,null,null,null,null,null,null,null,null,null,null,null,null,null,null,null,null,null,null,"RATBILLERICAY COMMUNITY HOSPITAL","RATDK","BILLERICAY COMMUNITY HOSPITAL","RATDK","BILLERICAY COMMUNITY HOSPITAL","RAT"]
[null,null,null,null,null,null,null,null,null,null,null,null,null,null,null,null,null,null,null,null,null,null,null,null,null,null,null,null,null,null,null,null,null,null,null,null,null,null,null,null,null,null,null,null,"RATBRENTWOOD COMMUNITY HOSPITAL","RATRM","BRENTWOOD COMMUNITY HOSPITAL","RATRM","BRENTWOOD COMMUNITY HOSPITAL","RAT"]
[null,null,null,null,null,null,null,null,null,null,null,null,null,null,null,null,null,null,null,null,null,null,null,null,null,null,null,null,null,null,null,null,null,null,null,null,null,null,null,null,null,null,null,null,"RATBROOKSIDE","RATRY","BROOKSIDE","RATRY","BROOKSIDE","RAT"]
[null,null,null,null,null,null,null,null,null,null,null,null,null,null,null,null,null,null,null,null,null,null,null,null,null,null,null,null,null,null,null,null,null,null,null,null,null,null,null,null,null,null,null,null,"RATCHADWELL HEATH (CHS)","RATCS","CHADWELL HEATH (CHS)","RATCS","CHADWELL HEATH (CHS)","RAT"]
[null,null,null,null,null,null,null,null,null,null,null,null,null,null,null,null,null,null,null,null,null,null,null,null,null,null,null,null,null,null,null,null,null,null,null,null,null,null,null,null,null,null,null,null,"RATCHILD & FAMILY FOREST","RATWC","CHILD & FAMILY FOREST","RATWC","CHILD & FAMILY FOREST","RAT"]
[null,null,null,null,null,null,null,null,null,null,null,null,null,null,null,null,null,null,null,null,null,null,null,null,null,null,null,null,null,null,null,null,null,null,null,null,null,null,null,null,null,null,null,null,"RATCOMMUNITY PAEDIATRICS - CDC","RATE3","COMMUNITY PAEDIATRICS - CDC","RATE3","COMMUNITY PAEDIATRICS - CDC","RAT"]
[null,null,null,null,null,null,null,null,null,null,null,null,null,null,null,null,null,null,null,null,null,null,null,null,null,null,null,null,null,null,null,null,null,null,null,null,null,null,null,null,null,null,null,null,"RATDRUG & ALCOHOL ILFORD","RATRD","DRUG & ALCOHOL ILFORD","RATRD","DRUG & ALCOHOL ILFORD","RAT"]
[null,null,null,null,null,null,null,null,null,null,null,null,null,null,null,null,null,null,null,null,null,null,null,null,null,null,null,null,null,null,null,null,null,null,null,null,null,null,null,null,null,null,null,null,"RATFACE TO FACE","RATFF","FACE TO FACE","RATFF","FACE TO FACE","RAT"]
[null,null,null,null,null,null,null,null,null,null,null,null,null,null,null,null,null,null,null,null,null,null,null,null,null,null,null,null,null,null,null,null,null,null,null,null,null,null,null,null,null,null,null,null,"RATFIVE ELMS (CHS)","RATFG","FIVE ELMS (CHS)","RATFG","FIVE ELMS (CHS)","RAT"]
[null,null,null,null,null,null,null,null,null,null,null,null,null,null,null,null,null,null,null,null,null,null,null,null,null,null,null,null,null,null,null,null,null,null,null,null,null,null,null,null,null,null,null,null,"RATFOXGLOVE WARD","RATKG","FOXGLOVE WARD","RATKG","FOXGLOVE WARD","RAT"]
[null,null,null,null,null,null,null,null,null,null,null,null,null,null,null,null,null,null,null,null,null,null,null,null,null,null,null,null,null,null,null,null,null,null,null,null,null,null,null,null,null,null,null,null,"RATGALLEON AND HERONWOOD","RATGF","GALLEON AND HERONWOOD","RATGF","GALLEON AND HERONWOOD","RAT"]
[null,null,null,null,null,null,null,null,null,null,null,null,null,null,null,null,null,null,null,null,null,null,null,null,null,null,null,null,null,null,null,null,null,null,null,null,null,null,null,null,null,null,null,null,"RATGOODMAYES HOSPITAL","RATGM","GOODMAYES HOSPITAL","RATGM","GOODMAYES HOSPITAL","RAT"]
[null,null,null,null,null,null,null,null,null,null,null,null,null,null,null,null,null,null,null,null,null,null,null,null,null,null,null,null,null,null,null,null,null,null,null,null,null,null,null,null,null,null,null,null,"RATGREENTHORNE","RATGT","GREENTHORNE","RATGT","GREENTHORNE","RAT"]
[null,null,null,null,null,null,null,null,null,null,null,null,null,null,null,null,null,null,null,null,null,null,null,null,null,null,null,null,null,null,null,null,null,null,null,null,null,null,null,null,null,null,null,null,"RATGREENTHORNE","RATWF","GREENTHORNE","RATWF","GREENTHORNE","RAT"]
[null,null,null,null,null,null,null,null,null,null,null,null,null,null,null,null,null,null,null,null,null,null,null,null,null,null,null,null,null,null,null,null,null,null,null,null,null,null,null,null,null,null,null,null,"RATGROVELANDS DAY HOSPITAL","RATRJ","GROVELANDS DAY HOSPITAL","RATRJ","GROVELANDS DAY HOSPITAL","RAT"]
[null,null,null,null,null,null,null,null,null,null,null,null,null,null,null,null,null,null,null,null,null,null,null,null,null,null,null,null,null,null,null,null,null,null,null,null,null,null,null,null,null,null,null,null,"RATHAWKWELL COURT","RATHC","HAWKWELL COURT","RATHC","HAWKWELL COURT","RAT"]
[null,null,null,null,null,null,null,null,null,null,null,null,null,null,null,null,null,null,null,null,null,null,null,null,null,null,null,null,null,null,null,null,null,null,null,null,null,null,null,null,null,null,null,null,"RATHERONWOOD AND GALLEON","RATC5","HERONWOOD AND GALLEON","RATC5","HERONWOOD AND GALLEON","RAT"]
[null,null,null,null,null,null,null,null,null,null,null,null,null,null,null,null,null,null,null,null,null,null,null,null,null,null,null,null,null,null,null,null,null,null,null,null,null,null,null,null,null,null,null,null,"RATICAT","RATC2","ICAT","RATC2","ICAT","RAT"]
[null,null,null,null,null,null,null,null,null,null,null,null,null,null,null,null,null,null,null,null,null,null,null,null,null,null,null,null,null,null,null,null,null,null,null,null,null,null,null,null,null,null,null,null,"RATINITIAL ASSESSMENT (HAV)","RATHA","INITIAL ASSESSMENT (HAV)","RATHA","INITIAL ASSESSMENT (HAV)","RAT"]
[null,null,null,null,null,null,null,null,null,null,null,null,null,null,null,null,null,null,null,null,null,null,null,null,null,null,null,null,null,null,null,null,null,null,null,null,null,null,null,null,null,null,null,null,"RATJONES UNIT - RIVERSIDE","RATRV","JONES UNIT - RIVERSIDE","RATRV","JONES UNIT - RIVERSIDE","RAT"]
[null,null,null,null,null,null,null,null,null,null,null,null,null,null,null,null,null,null,null,null,null,null,null,null,null,null,null,null,null,null,null,null,null,null,null,null,null,null,null,null,null,null,null,null,"RATJULIA ENGWELL (CHS)","RATJE","JULIA ENGWELL (CHS)","RATJE","JULIA ENGWELL (CHS)","RAT"]
[null,null,null,null,null,null,null,null,null,null,null,null,null,null,null,null,null,null,null,null,null,null,null,null,null,null,null,null,null,null,null,null,null,null,null,null,null,null,null,null,null,null,null,null,"RATKING GEORGES HOSPITAL","RATDG","KING GEORGES HOSPITAL","RATDG","KING GEORGES HOSPITAL","RAT"]
[null,null,null,null,null,null,null,null,null,null,null,null,null,null,null,null,null,null,null,null,null,null,null,null,null,null,null,null,null,null,null,null,null,null,null,null,null,null,null,null,null,null,null,null,"RATLITTLE HIGHWOOD","RATLH","LITTLE HIGHWOOD","RATLH","LITTLE HIGHWOOD","RAT"]
[null,null,null,null,null,null,null,null,null,null,null,null,null,null,null,null,null,null,null,null,null,null,null,null,null,null,null,null,null,null,null,null,null,null,null,null,null,null,null,null,null,null,null,null,"RATLOXFORD HALL","RATLX","LOXFORD HALL","RATLX","LOXFORD HALL","RAT"]
[null,null,null,null,null,null,null,null,null,null,null,null,null,null,null,null,null,null,null,null,null,null,null,null,null,null,null,null,null,null,null,null,null,null,null,null,null,null,null,null,null,null,null,null,"RATLOXFORD HALL","RATRQ","LOXFORD HALL","RATRQ","LOXFORD HALL","RAT"]
[null,null,null,null,null,null,null,null,null,null,null,null,null,null,null,null,null,null,null,null,null,null,null,null,null,null,null,null,null,null,null,null,null,null,null,null,null,null,null,null,null,null,null,null,"RATMARKS GATE (CHS)","RATMG","MARKS GATE (CHS)","RATMG","MARKS GATE (CHS)","RAT"]
[null,null,null,null,null,null,null,null,null,null,null,null,null,null,null,null,null,null,null,null,null,null,null,null,null,null,null,null,null,null,null,null,null,null,null,null,null,null,null,null,null,null,null,null,"RATMASCALLS OLDER PEOPLE HAV","RATHG","MASCALLS OLDER PEOPLE HAV","RATHG","MASCALLS OLDER PEOPLE HAV","RAT"]
[null,null,null,null,null,null,null,null,null,null,null,null,null,null,null,null,null,null,null,null,null,null,null,null,null,null,null,null,null,null,null,null,null,null,null,null,null,null,null,null,null,null,null,null,"RATNEW DIRECTIONS","RATHP","NEW DIRECTIONS","RATHP","NEW DIRECTIONS","RAT"]
[null,null,null,null,null,null,null,null,null,null,null,null,null,null,null,null,null,null,null,null,null,null,null,null,null,null,null,null,null,null,null,null,null,null,null,null,null,null,null,null,null,null,null,null,"RATOAHTT (BARKING HOSPITAL)","RATT3","OAHTT (BARKING HOSPITAL)","RATT3","OAHTT (BARKING HOSPITAL)","RAT"]
[null,null,null,null,null,null,null,null,null,null,null,null,null,null,null,null,null,null,null,null,null,null,null,null,null,null,null,null,null,null,null,null,null,null,null,null,null,null,null,null,null,null,null,null,"RATORSETT HOSPITAL","RATPH","ORSETT HOSPITAL","RATPH","ORSETT HOSPITAL","RAT"]
[null,null,null,null,null,null,null,null,null,null,null,null,null,null,null,null,null,null,null,null,null,null,null,null,null,null,null,null,null,null,null,null,null,null,null,null,null,null,null,null,null,null,null,null,"RATQUEENS HOSPITAL","RATQH","QUEENS HOSPITAL","RATQH","QUEENS HOSPITAL","RAT"]
[null,null,null,null,null,null,null,null,null,null,null,null,null,null,null,null,null,null,null,null,null,null,null,null,null,null,null,null,null,null,null,null,null,null,null,null,null,null,null,null,null,null,null,null,"RATREDBRIDGE HTT","RATRN","REDBRIDGE HTT","RATRN","REDBRIDGE HTT","RAT"]
[null,null,null,null,null,null,null,null,null,null,null,null,null,null,null,null,null,null,null,null,null,null,null,null,null,null,null,null,null,null,null,null,null,null,null,null,null,null,null,null,null,null,null,null,"RATROMFORD CRT","RATH3","ROMFORD CRT","RATH3","ROMFORD CRT","RAT"]
[null,null,null,null,null,null,null,null,null,null,null,null,null,null,null,null,null,null,null,null,null,null,null,null,null,null,null,null,null,null,null,null,null,null,null,null,null,null,null,null,null,null,null,null,{"$f":"CONCATENATE(LEFT(AT454, 3),AU454)","v":"RATST GEORGES"},"RATGK","ST GEORGES","RATGK","ST GEORGES",{"$f":"LEFT(AV454,3)","v":"RAT"}]
[null,null,null,null,null,null,null,null,null,null,null,null,null,null,null,null,null,null,null,null,null,null,null,null,null,null,null,null,null,null,null,null,null,null,null,null,null,null,null,null,null,null,null,null,"RATST GEORGES DAY HOSPITAL","RATC3","ST GEORGES DAY HOSPITAL","RATC3","ST GEORGES DAY HOSPITAL","RAT"]
[null,null,null,null,null,null,null,null,null,null,null,null,null,null,null,null,null,null,null,null,null,null,null,null,null,null,null,null,null,null,null,null,null,null,null,null,null,null,null,null,null,null,null,null,"RATSTONELEA","RATTL","STONELEA","RATTL","STONELEA","RAT"]
[null,null,null,null,null,null,null,null,null,null,null,null,null,null,null,null,null,null,null,null,null,null,null,null,null,null,null,null,null,null,null,null,null,null,null,null,null,null,null,null,null,null,null,null,"RATTHAMES VIEW (CHS)","RATTV","THAMES VIEW (CHS)","RATTV","THAMES VIEW (CHS)","RAT"]
[null,null,null,null,null,null,null,null,null,null,null,null,null,null,null,null,null,null,null,null,null,null,null,null,null,null,null,null,null,null,null,null,null,null,null,null,null,null,null,null,null,null,null,null,"RATTHE AINSLIE REHAB UNIT","RAT42","THE AINSLIE REHAB UNIT","RAT42","THE AINSLIE REHAB UNIT","RAT"]
[null,null,null,null,null,null,null,null,null,null,null,null,null,null,null,null,null,null,null,null,null,null,null,null,null,null,null,null,null,null,null,null,null,null,null,null,null,null,null,null,null,null,null,null,"RATTHORNEBURY UNIT","RATHN","THORNEBURY UNIT","RATHN","THORNEBURY UNIT","RAT"]
[null,null,null,null,null,null,null,null,null,null,null,null,null,null,null,null,null,null,null,null,null,null,null,null,null,null,null,null,null,null,null,null,null,null,null,null,null,null,null,null,null,null,null,null,"RATTHORPE COOMBE","RATTH","THORPE COOMBE","RATTH","THORPE COOMBE","RAT"]
[null,null,null,null,null,null,null,null,null,null,null,null,null,null,null,null,null,null,null,null,null,null,null,null,null,null,null,null,null,null,null,null,null,null,null,null,null,null,null,null,null,null,null,null,"RATTHURROCK COMMUNITY HOSPITAL","RATH7","THURROCK COMMUNITY HOSPITAL","RATH7","THURROCK COMMUNITY HOSPITAL","RAT"]
[null,null,null,null,null,null,null,null,null,null,null,null,null,null,null,null,null,null,null,null,null,null,null,null,null,null,null,null,null,null,null,null,null,null,null,null,null,null,null,null,null,null,null,null,"RATTOMSWOOD REHAB. UNIT","RATWT","TOMSWOOD REHAB. UNIT","RATWT","TOMSWOOD REHAB. UNIT","RAT"]
[null,null,null,null,null,null,null,null,null,null,null,null,null,null,null,null,null,null,null,null,null,null,null,null,null,null,null,null,null,null,null,null,null,null,null,null,null,null,null,null,null,null,null,null,"RATUPMINSTER CRT1","RATH5","UPMINSTER CRT1","RATH5","UPMINSTER CRT1","RAT"]
[null,null,null,null,null,null,null,null,null,null,null,null,null,null,null,null,null,null,null,null,null,null,null,null,null,null,null,null,null,null,null,null,null,null,null,null,null,null,null,null,null,null,null,null,"RATVICARAGE FIELDS (CHS)","RATVF","VICARAGE FIELDS (CHS)","RATVF","VICARAGE FIELDS (CHS)","RAT"]
[null,null,null,null,null,null,null,null,null,null,null,null,null,null,null,null,null,null,null,null,null,null,null,null,null,null,null,null,null,null,null,null,null,null,null,null,null,null,null,null,null,null,null,null,"RATWOODBURY UNIT","RATWD","WOODBURY UNIT","RATWD","WOODBURY UNIT","RAT"]
[null,null,null,null,null,null,null,null,null,null,null,null,null,null,null,null,null,null,null,null,null,null,null,null,null,null,null,null,null,null,null,null,null,null,null,null,null,null,null,null,null,null,null,null,"RAXKINGSTON HOSPITAL - RAX01","RAX01","KINGSTON HOSPITAL - RAX01","RAX01","KINGSTON HOSPITAL","RAX"]
[null,null,null,null,null,null,null,null,null,null,null,null,null,null,null,null,null,null,null,null,null,null,null,null,null,null,null,null,null,null,null,null,null,null,null,null,null,null,null,null,null,null,null,null,"RBAFROME VICTORIA HOSPITAL - RBAD1","RBAD1","FROME VICTORIA HOSPITAL - RBAD1","RBAD1","FROME VICTORIA HOSPITAL","RBA"]
[null,null,null,null,null,null,null,null,null,null,null,null,null,null,null,null,null,null,null,null,null,null,null,null,null,null,null,null,null,null,null,null,null,null,null,null,null,null,null,null,null,null,null,null,"RBAMUSGROVE PARK HOSPITAL - RBA11","RBA11","MUSGROVE PARK HOSPITAL - RBA11","RBA11","MUSGROVE PARK HOSPITAL","RBA"]
[null,null,null,null,null,null,null,null,null,null,null,null,null,null,null,null,null,null,null,null,null,null,null,null,null,null,null,null,null,null,null,null,null,null,null,null,null,null,null,null,null,null,null,null,"RBASHEPTON MALLET COMMUNITY HOSPITAL - RBAD2","RBAD2","SHEPTON MALLET COMMUNITY HOSPITAL - RBAD2","RBAD2","SHEPTON MALLET COMMUNITY HOSPITAL","RBA"]
[null,null,null,null,null,null,null,null,null,null,null,null,null,null,null,null,null,null,null,null,null,null,null,null,null,null,null,null,null,null,null,null,null,null,null,null,null,null,null,null,null,null,null,null,"RBBCHIPPENHAM HOSPITAL - RBBP1","RBBP1","CHIPPENHAM HOSPITAL - RBBP1","RBBP1","CHIPPENHAM HOSPITAL","RBB"]
[null,null,null,null,null,null,null,null,null,null,null,null,null,null,null,null,null,null,null,null,null,null,null,null,null,null,null,null,null,null,null,null,null,null,null,null,null,null,null,null,null,null,null,null,"RBBDEVIZES HOSPITAL - RBBP2","RBBP2","DEVIZES HOSPITAL - RBBP2","RBBP2","DEVIZES HOSPITAL","RBB"]
[null,null,null,null,null,null,null,null,null,null,null,null,null,null,null,null,null,null,null,null,null,null,null,null,null,null,null,null,null,null,null,null,null,null,null,null,null,null,null,null,null,null,null,null,"RBBFROME COMMUNITY HOSPITAL - RBBP3","RBBP3","FROME COMMUNITY HOSPITAL - RBBP3","RBBP3","FROME COMMUNITY HOSPITAL","RBB"]
[null,null,null,null,null,null,null,null,null,null,null,null,null,null,null,null,null,null,null,null,null,null,null,null,null,null,null,null,null,null,null,null,null,null,null,null,null,null,null,null,null,null,null,null,"RBBPAULTON MEMORIAL HOSPITAL - RBBP4","RBBP4","PAULTON MEMORIAL HOSPITAL - RBBP4","RBBP4","PAULTON MEMORIAL HOSPITAL","RBB"]
[null,null,null,null,null,null,null,null,null,null,null,null,null,null,null,null,null,null,null,null,null,null,null,null,null,null,null,null,null,null,null,null,null,null,null,null,null,null,null,null,null,null,null,null,"RBBWARMINSTER HOSPITAL - RBBP5","RBBP5","WARMINSTER HOSPITAL - RBBP5","RBBP5","WARMINSTER HOSPITAL","RBB"]
[null,null,null,null,null,null,null,null,null,null,null,null,null,null,null,null,null,null,null,null,null,null,null,null,null,null,null,null,null,null,null,null,null,null,null,null,null,null,null,null,null,null,null,null,"RBDBLANDFORD COMMUNITY HOSPITAL - RBD20","RBD20","BLANDFORD COMMUNITY HOSPITAL - RBD20","RBD20","BLANDFORD COMMUNITY HOSPITAL","RBD"]
[null,null,null,null,null,null,null,null,null,null,null,null,null,null,null,null,null,null,null,null,null,null,null,null,null,null,null,null,null,null,null,null,null,null,null,null,null,null,null,null,null,null,null,null,"RBDBRIDPORT COMMUNITY HOSPITAL - RBD42","RBD42","BRIDPORT COMMUNITY HOSPITAL - RBD42","RBD42","BRIDPORT COMMUNITY HOSPITAL","RBD"]
[null,null,null,null,null,null,null,null,null,null,null,null,null,null,null,null,null,null,null,null,null,null,null,null,null,null,null,null,null,null,null,null,null,null,null,null,null,null,null,null,null,null,null,null,"RBDDORSET COUNTY HOSPITAL - RBD01","RBD01","DORSET COUNTY HOSPITAL - RBD01","RBD01","DORSET COUNTY HOSPITAL","RBD"]
[null,null,null,null,null,null,null,null,null,null,null,null,null,null,null,null,null,null,null,null,null,null,null,null,null,null,null,null,null,null,null,null,null,null,null,null,null,null,null,null,null,null,null,null,"RBDPORTLAND HOSPITAL - RBD08","RBD08","PORTLAND HOSPITAL - RBD08","RBD08","PORTLAND HOSPITAL","RBD"]
[null,null,null,null,null,null,null,null,null,null,null,null,null,null,null,null,null,null,null,null,null,null,null,null,null,null,null,null,null,null,null,null,null,null,null,null,null,null,null,null,null,null,null,null,"RBDWEYMOUTH COMMUNITY HOSPITAL - RBD05","RBD05","WEYMOUTH COMMUNITY HOSPITAL - RBD05","RBD05","WEYMOUTH COMMUNITY HOSPITAL","RBD"]
[null,null,null,null,null,null,null,null,null,null,null,null,null,null,null,null,null,null,null,null,null,null,null,null,null,null,null,null,null,null,null,null,null,null,null,null,null,null,null,null,null,null,null,null,"RBDYEATMAN HOSPITAL - RBD30","RBD30","YEATMAN HOSPITAL - RBD30","RBD30","YEATMAN HOSPITAL","RBD"]
[null,null,null,null,null,null,null,null,null,null,null,null,null,null,null,null,null,null,null,null,null,null,null,null,null,null,null,null,null,null,null,null,null,null,null,null,null,null,null,null,null,null,null,null,"RBKGOSCOTE HOSPITAL - RBK03","RBK03","GOSCOTE HOSPITAL - RBK03","RBK03","GOSCOTE HOSPITAL","RBK"]
[null,null,null,null,null,null,null,null,null,null,null,null,null,null,null,null,null,null,null,null,null,null,null,null,null,null,null,null,null,null,null,null,null,null,null,null,null,null,null,null,null,null,null,null,"RBKMANOR HOSPITAL - RBK02","RBK02","MANOR HOSPITAL - RBK02","RBK02","MANOR HOSPITAL","RBK"]
[null,null,null,null,null,null,null,null,null,null,null,null,null,null,null,null,null,null,null,null,null,null,null,null,null,null,null,null,null,null,null,null,null,null,null,null,null,null,null,null,null,null,null,null,"RBLARROWE PARK HOSPITAL - RBL14","RBL14","ARROWE PARK HOSPITAL - RBL14","RBL14","ARROWE PARK HOSPITAL","RBL"]
[null,null,null,null,null,null,null,null,null,null,null,null,null,null,null,null,null,null,null,null,null,null,null,null,null,null,null,null,null,null,null,null,null,null,null,null,null,null,null,null,null,null,null,null,"RBLCLATTERBRIDGE HOSPITAL - RBL20","RBL20","CLATTERBRIDGE HOSPITAL - RBL20","RBL20","CLATTERBRIDGE HOSPITAL","RBL"]
[null,null,null,null,null,null,null,null,null,null,null,null,null,null,null,null,null,null,null,null,null,null,null,null,null,null,null,null,null,null,null,null,null,null,null,null,null,null,null,null,null,null,null,null,"RBLOUTPATIENTS DEPARTMENT (ST JOHN'S HOSPICE) - RBL25","RBL25","OUTPATIENTS DEPARTMENT (ST JOHN'S HOSPICE) - RBL25","RBL25","OUTPATIENTS DEPARTMENT (ST JOHN'S HOSPICE)","RBL"]
[null,null,null,null,null,null,null,null,null,null,null,null,null,null,null,null,null,null,null,null,null,null,null,null,null,null,null,null,null,null,null,null,null,null,null,null,null,null,null,null,null,null,null,null,"RBLST. CATHERINES HOSPITAL - RBL01","RBL01","ST. CATHERINES HOSPITAL - RBL01","RBL01","ST. CATHERINES HOSPITAL","RBL"]
[null,null,null,null,null,null,null,null,null,null,null,null,null,null,null,null,null,null,null,null,null,null,null,null,null,null,null,null,null,null,null,null,null,null,null,null,null,null,null,null,null,null,null,null,"RBLVICTORIA CENTRAL HOSPITAL - RBL02","RBL02","VICTORIA CENTRAL HOSPITAL - RBL02","RBL02","VICTORIA CENTRAL HOSPITAL","RBL"]
[null,null,null,null,null,null,null,null,null,null,null,null,null,null,null,null,null,null,null,null,null,null,null,null,null,null,null,null,null,null,null,null,null,null,null,null,null,null,null,null,null,null,null,null,"RBNNEWTON COMMUNITY HOSPITAL - RBN03","RBN03","NEWTON COMMUNITY HOSPITAL - RBN03","RBN03","NEWTON COMMUNITY HOSPITAL","RBN"]
[null,null,null,null,null,null,null,null,null,null,null,null,null,null,null,null,null,null,null,null,null,null,null,null,null,null,null,null,null,null,null,null,null,null,null,null,null,null,null,null,null,null,null,null,"RBNST HELENS HOSPITAL - RBN02","RBN02","ST HELENS HOSPITAL - RBN02","RBN02","ST HELENS HOSPITAL","RBN"]
[null,null,null,null,null,null,null,null,null,null,null,null,null,null,null,null,null,null,null,null,null,null,null,null,null,null,null,null,null,null,null,null,null,null,null,null,null,null,null,null,null,null,null,null,"RBNWHISTON HEALTH CENTRE - RBN34","RBN34","WHISTON HEALTH CENTRE - RBN34","RBN34","WHISTON HEALTH CENTRE","RBN"]
[null,null,null,null,null,null,null,null,null,null,null,null,null,null,null,null,null,null,null,null,null,null,null,null,null,null,null,null,null,null,null,null,null,null,null,null,null,null,null,null,null,null,null,null,"RBNWHISTON HOSPITAL - RBN01","RBN01","WHISTON HOSPITAL - RBN01","RBN01","WHISTON HOSPITAL","RBN"]
[null,null,null,null,null,null,null,null,null,null,null,null,null,null,null,null,null,null,null,null,null,null,null,null,null,null,null,null,null,null,null,null,null,null,null,null,null,null,null,null,null,null,null,null,"RBQLIVERPOOL HEART AND CHEST HOSPITAL NHS TRUST HQ - RBQHQ","RBQHQ","LIVERPOOL HEART AND CHEST HOSPITAL NHS TRUST HQ - RBQHQ","RBQHQ","LIVERPOOL HEART AND CHEST HOSPITAL NHS TRUST HQ","RBQ"]
[null,null,null,null,null,null,null,null,null,null,null,null,null,null,null,null,null,null,null,null,null,null,null,null,null,null,null,null,null,null,null,null,null,null,null,null,null,null,null,null,null,null,null,null,"RBSALDER HEY CHILDREN'S NHS - RBS25","RBS25","ALDER HEY CHILDREN'S NHS - RBS25","RBS25","ALDER HEY CHILDREN'S NHS","RBS"]
[null,null,null,null,null,null,null,null,null,null,null,null,null,null,null,null,null,null,null,null,null,null,null,null,null,null,null,null,null,null,null,null,null,null,null,null,null,null,null,null,null,null,null,null,"RBSLIVERPOOL WOMEN'S HOSPITAL - RBS76","RBS76","LIVERPOOL WOMEN'S HOSPITAL - RBS76","RBS76","LIVERPOOL WOMEN'S HOSPITAL","RBS"]
[null,null,null,null,null,null,null,null,null,null,null,null,null,null,null,null,null,null,null,null,null,null,null,null,null,null,null,null,null,null,null,null,null,null,null,null,null,null,null,null,null,null,null,null,"RBTLEIGHTON HOSPITAL - RBT20","RBT20","LEIGHTON HOSPITAL - RBT20","RBT20","LEIGHTON HOSPITAL","RBT"]
[null,null,null,null,null,null,null,null,null,null,null,null,null,null,null,null,null,null,null,null,null,null,null,null,null,null,null,null,null,null,null,null,null,null,null,null,null,null,null,null,null,null,null,null,"RBTTARPORLEY WAR MEMORIAL HOSPITAL - RBT22","RBT22","TARPORLEY WAR MEMORIAL HOSPITAL - RBT22","RBT22","TARPORLEY WAR MEMORIAL HOSPITAL","RBT"]
[null,null,null,null,null,null,null,null,null,null,null,null,null,null,null,null,null,null,null,null,null,null,null,null,null,null,null,null,null,null,null,null,null,null,null,null,null,null,null,null,null,null,null,null,"RBTVICTORIA INFIRMARY (NORTHWICH) - RBT21","RBT21","VICTORIA INFIRMARY (NORTHWICH) - RBT21","RBT21","VICTORIA INFIRMARY (NORTHWICH)","RBT"]
[null,null,null,null,null,null,null,null,null,null,null,null,null,null,null,null,null,null,null,null,null,null,null,null,null,null,null,null,null,null,null,null,null,null,null,null,null,null,null,null,null,null,null,null,"RBVTHE CHRISTIE - RBV01","RBV01","THE CHRISTIE - RBV01","RBV01","THE CHRISTIE","RBV"]
[null,null,null,null,null,null,null,null,null,null,null,null,null,null,null,null,null,null,null,null,null,null,null,null,null,null,null,null,null,null,null,null,null,null,null,null,null,null,null,null,null,null,null,null,"RBZAXMINSTER HOSPITAL","RBZ82","AXMINSTER HOSPITAL","RBZ82","AXMINSTER HOSPITAL","RBZ"]
[null,null,null,null,null,null,null,null,null,null,null,null,null,null,null,null,null,null,null,null,null,null,null,null,null,null,null,null,null,null,null,null,null,null,null,null,null,null,null,null,null,null,null,null,"RBZBIDEFORD HOSPITAL - RBZ95","RBZ95","BIDEFORD HOSPITAL - RBZ95","RBZ95","BIDEFORD HOSPITAL","RBZ"]
[null,null,null,null,null,null,null,null,null,null,null,null,null,null,null,null,null,null,null,null,null,null,null,null,null,null,null,null,null,null,null,null,null,null,null,null,null,null,null,null,null,null,null,null,"RBZNORTH DEVON DISTRICT HOSPITAL - RBZ12","RBZ12","NORTH DEVON DISTRICT HOSPITAL - RBZ12","RBZ12","NORTH DEVON DISTRICT HOSPITAL","RBZ"]
[null,null,null,null,null,null,null,null,null,null,null,null,null,null,null,null,null,null,null,null,null,null,null,null,null,null,null,null,null,null,null,null,null,null,null,null,null,null,null,null,null,null,null,null,"RBZTORRINGTON HOSPITAL - RBZ98","RBZ98","TORRINGTON HOSPITAL - RBZ98","RBZ98","TORRINGTON HOSPITAL","RBZ"]
[null,null,null,null,null,null,null,null,null,null,null,null,null,null,null,null,null,null,null,null,null,null,null,null,null,null,null,null,null,null,null,null,null,null,null,null,null,null,null,null,null,null,null,null,"RCBBOOTHAM PARK HOSPITAL - RCB16","RCB16","BOOTHAM PARK HOSPITAL - RCB16","RCB16","BOOTHAM PARK HOSPITAL","RCB"]
[null,null,null,null,null,null,null,null,null,null,null,null,null,null,null,null,null,null,null,null,null,null,null,null,null,null,null,null,null,null,null,null,null,null,null,null,null,null,null,null,null,null,null,null,"RCBST MARY'S HOSPITAL - RCBN2","RCBN2","ST MARY'S HOSPITAL - RCBN2","RCBN2","ST MARY'S HOSPITAL","RCB"]
[null,null,null,null,null,null,null,null,null,null,null,null,null,null,null,null,null,null,null,null,null,null,null,null,null,null,null,null,null,null,null,null,null,null,null,null,null,null,null,null,null,null,null,null,"RCFCASTLEBERG HOSPITAL - RCF30","RCF30","CASTLEBERG HOSPITAL - RCF30","RCF30","CASTLEBERG HOSPITAL","RCF"]
[null,null,null,null,null,null,null,null,null,null,null,null,null,null,null,null,null,null,null,null,null,null,null,null,null,null,null,null,null,null,null,null,null,null,null,null,null,null,null,null,null,null,null,null,"RCFSCALEBOR PARK HOSPITAL - RCF25","RCF25","SCALEBOR PARK HOSPITAL - RCF25","RCF25","SCALEBOR PARK HOSPITAL","RCF"]
[null,null,null,null,null,null,null,null,null,null,null,null,null,null,null,null,null,null,null,null,null,null,null,null,null,null,null,null,null,null,null,null,null,null,null,null,null,null,null,null,null,null,null,null,"RCXTHE QUEEN ELIZABETH HOSPITAL - RCX70","RCX70","THE QUEEN ELIZABETH HOSPITAL - RCX70","RCX70","THE QUEEN ELIZABETH HOSPITAL","RCX"]
[null,null,null,null,null,null,null,null,null,null,null,null,null,null,null,null,null,null,null,null,null,null,null,null,null,null,null,null,null,null,null,null,null,null,null,null,null,null,null,null,null,null,null,null,"RD1ST MARTINS HOSPITAL (BATH) - RD132","RD132","ST MARTINS HOSPITAL (BATH) - RD132","RD132","ST MARTINS HOSPITAL (BATH)","RD1"]
[null,null,null,null,null,null,null,null,null,null,null,null,null,null,null,null,null,null,null,null,null,null,null,null,null,null,null,null,null,null,null,null,null,null,null,null,null,null,null,null,null,null,null,null,{"$f":"CONCATENATE(LEFT(AT582, 3),AU582)","v":"RD7ST MARK'S HOSPITAL - RD754"},"RD754","ST MARK'S HOSPITAL - RD754","RD754","ST MARK'S HOSPITAL",{"$f":"LEFT(AV582,3)","v":"RD7"}]
[null,null,null,null,null,null,null,null,null,null,null,null,null,null,null,null,null,null,null,null,null,null,null,null,null,null,null,null,null,null,null,null,null,null,null,null,null,null,null,null,null,null,null,null,"RDDBRENTWOOD COMMUNITY HOSPITAL","RDDH6","BRENTWOOD COMMUNITY HOSPITAL","RDDH6","BRENTWOOD COMMUNITY HOSPITAL","RDD"]
[null,null,null,null,null,null,null,null,null,null,null,null,null,null,null,null,null,null,null,null,null,null,null,null,null,null,null,null,null,null,null,null,null,null,null,null,null,null,null,null,null,null,null,null,"RDRBATTLE SCA","RDR01","BATTLE SCA","RDR01","BATTLE SCA","RDR"]
[null,null,null,null,null,null,null,null,null,null,null,null,null,null,null,null,null,null,null,null,null,null,null,null,null,null,null,null,null,null,null,null,null,null,null,null,null,null,null,null,null,null,null,null,"RDRCOUNTY BUILDINGS","RDRCT","COUNTY BUILDINGS","RDRCT","COUNTY BUILDINGS","RDR"]
[null,null,null,null,null,null,null,null,null,null,null,null,null,null,null,null,null,null,null,null,null,null,null,null,null,null,null,null,null,null,null,null,null,null,null,null,null,null,null,null,null,null,null,null,"RDRICS CRAVEN VALE","RDRCV","ICS CRAVEN VALE","RDRCV","ICS CRAVEN VALE","RDR"]
[null,null,null,null,null,null,null,null,null,null,null,null,null,null,null,null,null,null,null,null,null,null,null,null,null,null,null,null,null,null,null,null,null,null,null,null,null,null,null,null,null,null,null,null,"RDRLEWES INTERMEDIATE CARE","RDRLC","LEWES INTERMEDIATE CARE","RDRLC","LEWES INTERMEDIATE CARE","RDR"]
[null,null,null,null,null,null,null,null,null,null,null,null,null,null,null,null,null,null,null,null,null,null,null,null,null,null,null,null,null,null,null,null,null,null,null,null,null,null,null,null,null,null,null,null,"RDRNEWHAVEN REHAB CENTRE","RDRNW","NEWHAVEN REHAB CENTRE","RDRNW","NEWHAVEN REHAB CENTRE","RDR"]
[null,null,null,null,null,null,null,null,null,null,null,null,null,null,null,null,null,null,null,null,null,null,null,null,null,null,null,null,null,null,null,null,null,null,null,null,null,null,null,null,null,null,null,null,"RDRTHE ASHINGTON VILLAGE SPORTS PAVILION","RDR4P","THE ASHINGTON VILLAGE SPORTS PAVILION","RDR4P","THE ASHINGTON VILLAGE SPORTS PAVILION","RDR"]
[null,null,null,null,null,null,null,null,null,null,null,null,null,null,null,null,null,null,null,null,null,null,null,null,null,null,null,null,null,null,null,null,null,null,null,null,null,null,null,null,null,null,null,null,"RDUBERKSHIRE INDEPENDENT HOSPITAL - RDU17","RDU17","BERKSHIRE INDEPENDENT HOSPITAL - RDU17","RDU17","BERKSHIRE INDEPENDENT HOSPITAL","RDU"]
[null,null,null,null,null,null,null,null,null,null,null,null,null,null,null,null,null,null,null,null,null,null,null,null,null,null,null,null,null,null,null,null,null,null,null,null,null,null,null,null,null,null,null,null,"RDUFRIMLEY CHILDREN'S CENTRE - RDU14","RDU14","FRIMLEY CHILDREN'S CENTRE - RDU14","RDU14","FRIMLEY CHILDREN'S CENTRE","RDU"]
[null,null,null,null,null,null,null,null,null,null,null,null,null,null,null,null,null,null,null,null,null,null,null,null,null,null,null,null,null,null,null,null,null,null,null,null,null,null,null,null,null,null,null,null,"RDYALDERNEY HOSPITAL","RDY22","ALDERNEY HOSPITAL","RDY22","ALDERNEY HOSPITAL","RDY"]
[null,null,null,null,null,null,null,null,null,null,null,null,null,null,null,null,null,null,null,null,null,null,null,null,null,null,null,null,null,null,null,null,null,null,null,null,null,null,null,null,null,null,null,null,"RDYBLANDFORD MIU","RDYJH","BLANDFORD MIU","RDYJH","BLANDFORD MIU","RDY"]
[null,null,null,null,null,null,null,null,null,null,null,null,null,null,null,null,null,null,null,null,null,null,null,null,null,null,null,null,null,null,null,null,null,null,null,null,null,null,null,null,null,null,null,null,"RDYCADAS","RDYEN","CADAS","RDYEN","CADAS","RDY"]
[null,null,null,null,null,null,null,null,null,null,null,null,null,null,null,null,null,null,null,null,null,null,null,null,null,null,null,null,null,null,null,null,null,null,null,null,null,null,null,null,null,null,null,null,"RDYDORCHESTER MINTERNE WARD","RDYHE","DORCHESTER MINTERNE WARD","RDYHE","DORCHESTER MINTERNE WARD","RDY"]
[null,null,null,null,null,null,null,null,null,null,null,null,null,null,null,null,null,null,null,null,null,null,null,null,null,null,null,null,null,null,null,null,null,null,null,null,null,null,null,null,null,null,null,null,"RDYFINIGAN UNIT","RDY46","FINIGAN UNIT","RDY46","FINIGAN UNIT","RDY"]
[null,null,null,null,null,null,null,null,null,null,null,null,null,null,null,null,null,null,null,null,null,null,null,null,null,null,null,null,null,null,null,null,null,null,null,null,null,null,null,null,null,null,null,null,"RDYIN-REACH VERNE","RDYLY","IN-REACH VERNE","RDYLY","IN-REACH VERNE","RDY"]
[null,null,null,null,null,null,null,null,null,null,null,null,null,null,null,null,null,null,null,null,null,null,null,null,null,null,null,null,null,null,null,null,null,null,null,null,null,null,null,null,null,null,null,null,"RDYPEBBLE LODGE","RDYMR","PEBBLE LODGE","RDYMR","PEBBLE LODGE","RDY"]
[null,null,null,null,null,null,null,null,null,null,null,null,null,null,null,null,null,null,null,null,null,null,null,null,null,null,null,null,null,null,null,null,null,null,null,null,null,null,null,null,null,null,null,null,"RDYSHAFTESBURY MIU","RDYJJ","SHAFTESBURY MIU","RDYJJ","SHAFTESBURY MIU","RDY"]
[null,null,null,null,null,null,null,null,null,null,null,null,null,null,null,null,null,null,null,null,null,null,null,null,null,null,null,null,null,null,null,null,null,null,null,null,null,null,null,null,null,null,null,null,"RDYSWANAGE HOSPITAL MIU","RDYLE","SWANAGE HOSPITAL MIU","RDYLE","SWANAGE HOSPITAL MIU","RDY"]
[null,null,null,null,null,null,null,null,null,null,null,null,null,null,null,null,null,null,null,null,null,null,null,null,null,null,null,null,null,null,null,null,null,null,null,null,null,null,null,null,null,null,null,null,"RDYTHE OAKS","RDY23","THE OAKS","RDY23","THE OAKS","RDY"]
[null,null,null,null,null,null,null,null,null,null,null,null,null,null,null,null,null,null,null,null,null,null,null,null,null,null,null,null,null,null,null,null,null,null,null,null,null,null,null,null,null,null,null,null,"RDYWEYMOUTH COMMUNITY HOSPITAL","RDYEF","WEYMOUTH COMMUNITY HOSPITAL","RDYEF","WEYMOUTH COMMUNITY HOSPITAL","RDY"]
[null,null,null,null,null,null,null,null,null,null,null,null,null,null,null,null,null,null,null,null,null,null,null,null,null,null,null,null,null,null,null,null,null,null,null,null,null,null,null,null,null,null,null,null,"RDZCHRISTCHURCH HOSPITAL - RDZ05","RDZ05","CHRISTCHURCH HOSPITAL - RDZ05","RDZ05","CHRISTCHURCH HOSPITAL","RDZ"]
[null,null,null,null,null,null,null,null,null,null,null,null,null,null,null,null,null,null,null,null,null,null,null,null,null,null,null,null,null,null,null,null,null,null,null,null,null,null,null,null,null,null,null,null,{"$f":"CONCATENATE(LEFT(AT774, 3),AU774)","v":"RE9BOKER LANE HEALTH CENTRE - RE901"},"RE901","BOKER LANE HEALTH CENTRE - RE901","RE901","BOKER LANE HEALTH CENTRE",{"$f":"LEFT(AV774,3)","v":"RE9"}]
[null,null,null,null,null,null,null,null,null,null,null,null,null,null,null,null,null,null,null,null,null,null,null,null,null,null,null,null,null,null,null,null,null,null,null,null,null,null,null,null,null,null,null,null,"RE9ST BENEDICT'S HOSPICE","RE922","ST BENEDICT'S HOSPICE","RE922","ST BENEDICT'S HOSPICE","RE9"]
[null,null,null,null,null,null,null,null,null,null,null,null,null,null,null,null,null,null,null,null,null,null,null,null,null,null,null,null,null,null,null,null,null,null,null,null,null,null,null,null,null,null,null,null,"REMST. CATHERINE'S HOSPITAL - REM34","REM34","ST. CATHERINE'S HOSPITAL - REM34","REM34","ST. CATHERINE'S HOSPITAL","REM"]
[null,null,null,null,null,null,null,null,null,null,null,null,null,null,null,null,null,null,null,null,null,null,null,null,null,null,null,null,null,null,null,null,null,null,null,null,null,null,null,null,null,null,null,null,"RF4OLDCHURCH HOSPITAL - RF4OC","RF4OC","OLDCHURCH HOSPITAL - RF4OC","RF4OC","OLDCHURCH HOSPITAL","RF4"]
[null,null,null,null,null,null,null,null,null,null,null,null,null,null,null,null,null,null,null,null,null,null,null,null,null,null,null,null,null,null,null,null,null,null,null,null,null,null,null,null,null,null,null,null,"RGDALPHA HOSPITAL BURY","RGDAH","ALPHA HOSPITAL BURY","RGDAH","ALPHA HOSPITAL BURY","RGD"]
[null,null,null,null,null,null,null,null,null,null,null,null,null,null,null,null,null,null,null,null,null,null,null,null,null,null,null,null,null,null,null,null,null,null,null,null,null,null,null,null,null,null,null,null,"RGDCHAPEL ALLERTON HOSPITAL","RGD21","CHAPEL ALLERTON HOSPITAL","RGD21","CHAPEL ALLERTON HOSPITAL","RGD"]
[null,null,null,null,null,null,null,null,null,null,null,null,null,null,null,null,null,null,null,null,null,null,null,null,null,null,null,null,null,null,null,null,null,null,null,null,null,null,null,null,null,null,null,null,"RGDLIME TREES","RGDT9","LIME TREES","RGDT9","LIME TREES","RGD"]
[null,null,null,null,null,null,null,null,null,null,null,null,null,null,null,null,null,null,null,null,null,null,null,null,null,null,null,null,null,null,null,null,null,null,null,null,null,null,null,null,null,null,null,null,"RGDNEWSAM CENTRE","RGDAB","NEWSAM CENTRE","RGDAB","NEWSAM CENTRE","RGD"]
[null,null,null,null,null,null,null,null,null,null,null,null,null,null,null,null,null,null,null,null,null,null,null,null,null,null,null,null,null,null,null,null,null,null,null,null,null,null,null,null,null,null,null,null,"RGDOAK RISE","RGDT2","OAK RISE","RGDT2","OAK RISE","RGD"]
[null,null,null,null,null,null,null,null,null,null,null,null,null,null,null,null,null,null,null,null,null,null,null,null,null,null,null,null,null,null,null,null,null,null,null,null,null,null,null,null,null,null,null,null,"RGDSELBY WAR MEMORIAL HOSPITAL","RGDVP","SELBY WAR MEMORIAL HOSPITAL","RGDVP","SELBY WAR MEMORIAL HOSPITAL","RGD"]
[null,null,null,null,null,null,null,null,null,null,null,null,null,null,null,null,null,null,null,null,null,null,null,null,null,null,null,null,null,null,null,null,null,null,null,null,null,null,null,null,null,null,null,null,"RGDTHE MOUNT","RGD05","THE MOUNT","RGD05","THE MOUNT","RGD"]
[null,null,null,null,null,null,null,null,null,null,null,null,null,null,null,null,null,null,null,null,null,null,null,null,null,null,null,null,null,null,null,null,null,null,null,null,null,null,null,null,null,null,null,null,"RGPJAMES PAGET UNIVERSITY HOSPITAL - RGP75","RGP75","JAMES PAGET UNIVERSITY HOSPITAL - RGP75","RGP75","JAMES PAGET UNIVERSITY HOSPITAL","RGP"]
[null,null,null,null,null,null,null,null,null,null,null,null,null,null,null,null,null,null,null,null,null,null,null,null,null,null,null,null,null,null,null,null,null,null,null,null,null,null,null,null,null,null,null,null,"RGRTHINGOE HOUSE - RGR99","RGR99","THINGOE HOUSE - RGR99","RGR99","THINGOE HOUSE","RGR"]
[null,null,null,null,null,null,null,null,null,null,null,null,null,null,null,null,null,null,null,null,null,null,null,null,null,null,null,null,null,null,null,null,null,null,null,null,null,null,null,null,null,null,null,null,"RH5BROADWAY REHABILITATION SERVICE (WILLOW WARD)","RH5D1","BROADWAY REHABILITATION SERVICE (WILLOW WARD)","RH5D1","BROADWAY REHABILITATION SERVICE (WILLOW WARD)","RH5"]
[null,null,null,null,null,null,null,null,null,null,null,null,null,null,null,null,null,null,null,null,null,null,null,null,null,null,null,null,null,null,null,null,null,null,null,null,null,null,null,null,null,null,null,null,"RH5MAGNOLIA","RH508","MAGNOLIA","RH508","MAGNOLIA","RH5"]
[null,null,null,null,null,null,null,null,null,null,null,null,null,null,null,null,null,null,null,null,null,null,null,null,null,null,null,null,null,null,null,null,null,null,null,null,null,null,null,null,null,null,null,null,"RH5SHEPTON MALLET COMMUNITY HOSPITAL","RH5F7","SHEPTON MALLET COMMUNITY HOSPITAL","RH5F7","SHEPTON MALLET COMMUNITY HOSPITAL","RH5"]
[null,null,null,null,null,null,null,null,null,null,null,null,null,null,null,null,null,null,null,null,null,null,null,null,null,null,null,null,null,null,null,null,null,null,null,null,null,null,null,null,null,null,null,null,"RH5TAUNTON ADULT","RH5D2","TAUNTON ADULT","RH5D2","TAUNTON ADULT","RH5"]
[null,null,null,null,null,null,null,null,null,null,null,null,null,null,null,null,null,null,null,null,null,null,null,null,null,null,null,null,null,null,null,null,null,null,null,null,null,null,null,null,null,null,null,null,"RH5WYVERN LINK","RH591","WYVERN LINK","RH591","WYVERN LINK","RH5"]
[null,null,null,null,null,null,null,null,null,null,null,null,null,null,null,null,null,null,null,null,null,null,null,null,null,null,null,null,null,null,null,null,null,null,null,null,null,null,null,null,null,null,null,null,"RH8SCOTT HOSPITAL - RH809","RH809","SCOTT HOSPITAL - RH809","RH809","SCOTT HOSPITAL","RH8"]
[null,null,null,null,null,null,null,null,null,null,null,null,null,null,null,null,null,null,null,null,null,null,null,null,null,null,null,null,null,null,null,null,null,null,null,null,null,null,null,null,null,null,null,null,"RHABASSETLAW MHSOP (RHAW6) - RX","RHAW6","BASSETLAW MHSOP (RHAW6) - RX","RHAW6","BASSETLAW MHSOP (RHAW6) - RX","RHA"]
[null,null,null,null,null,null,null,null,null,null,null,null,null,null,null,null,null,null,null,null,null,null,null,null,null,null,null,null,null,null,null,null,null,null,null,null,null,null,null,null,null,null,null,null,"RHACHILD & FAMILY THERAPY UNIT (NEWARK & SHERWOOD)","RHAAT","CHILD & FAMILY THERAPY UNIT (NEWARK & SHERWOOD)","RHAAT","CHILD & FAMILY THERAPY UNIT (NEWARK & SHERWOOD)","RHA"]
[null,null,null,null,null,null,null,null,null,null,null,null,null,null,null,null,null,null,null,null,null,null,null,null,null,null,null,null,null,null,null,null,null,null,null,null,null,null,null,null,null,null,null,null,"RHAHEATHCOAT BUILDINGS","RHAFQ","HEATHCOAT BUILDINGS","RHAFQ","HEATHCOAT BUILDINGS","RHA"]
[null,null,null,null,null,null,null,null,null,null,null,null,null,null,null,null,null,null,null,null,null,null,null,null,null,null,null,null,null,null,null,null,null,null,null,null,null,null,null,null,null,null,null,null,"RHANEWARK HOSPITAL","RHAHP","NEWARK HOSPITAL","RHAHP","NEWARK HOSPITAL","RHA"]
[null,null,null,null,null,null,null,null,null,null,null,null,null,null,null,null,null,null,null,null,null,null,null,null,null,null,null,null,null,null,null,null,null,null,null,null,null,null,null,null,null,null,null,null,"RHANORTH NOTTS FORENSIC - RX","RHAYK","NORTH NOTTS FORENSIC - RX","RHAYK","NORTH NOTTS FORENSIC - RX","RHA"]
[null,null,null,null,null,null,null,null,null,null,null,null,null,null,null,null,null,null,null,null,null,null,null,null,null,null,null,null,null,null,null,null,null,null,null,null,null,null,null,null,null,null,null,null,"RHANORTH NOTTS LD YW - RX","RHAYW","NORTH NOTTS LD YW - RX","RHAYW","NORTH NOTTS LD YW - RX","RHA"]
[null,null,null,null,null,null,null,null,null,null,null,null,null,null,null,null,null,null,null,null,null,null,null,null,null,null,null,null,null,null,null,null,null,null,null,null,null,null,null,null,null,null,null,null,"RHANORTH NOTTS MILLBROOK YT - RX","RHAYT","NORTH NOTTS MILLBROOK YT - RX","RHAYT","NORTH NOTTS MILLBROOK YT - RX","RHA"]
[null,null,null,null,null,null,null,null,null,null,null,null,null,null,null,null,null,null,null,null,null,null,null,null,null,null,null,null,null,null,null,null,null,null,null,null,null,null,null,null,null,null,null,null,"RHANORTH NOTTS NEWARK-RX","RHAXH","NORTH NOTTS NEWARK-RX","RHAXH","NORTH NOTTS NEWARK-RX","RHA"]
[null,null,null,null,null,null,null,null,null,null,null,null,null,null,null,null,null,null,null,null,null,null,null,null,null,null,null,null,null,null,null,null,null,null,null,null,null,null,null,null,null,null,null,null,"RHAREES ROW","RHAJ9","REES ROW","RHAJ9","REES ROW","RHA"]
[null,null,null,null,null,null,null,null,null,null,null,null,null,null,null,null,null,null,null,null,null,null,null,null,null,null,null,null,null,null,null,null,null,null,null,null,null,null,null,null,null,null,null,null,"RHATHE LODGES (WATHWOOD HOSPITAL)","RHARX","THE LODGES (WATHWOOD HOSPITAL)","RHARX","THE LODGES (WATHWOOD HOSPITAL)","RHA"]
[null,null,null,null,null,null,null,null,null,null,null,null,null,null,null,null,null,null,null,null,null,null,null,null,null,null,null,null,null,null,null,null,null,null,null,null,null,null,null,null,null,null,null,null,"RHAWATHWOOD HOSPITAL","RHARY","WATHWOOD HOSPITAL","RHARY","WATHWOOD HOSPITAL","RHA"]
[null,null,null,null,null,null,null,null,null,null,null,null,null,null,null,null,null,null,null,null,null,null,null,null,null,null,null,null,null,null,null,null,null,null,null,null,null,null,null,null,null,null,null,null,"RHQDONCASTER ROYAL INFIRMARY - RHQDR","RHQDR","DONCASTER ROYAL INFIRMARY - RHQDR","RHQDR","DONCASTER ROYAL INFIRMARY","RHQ"]
[null,null,null,null,null,null,null,null,null,null,null,null,null,null,null,null,null,null,null,null,null,null,null,null,null,null,null,null,null,null,null,null,null,null,null,null,null,null,null,null,null,null,null,null,"RHUQUEEN ALEXANDRA HOSPITAL - RHU03","RHU03","QUEEN ALEXANDRA HOSPITAL - RHU03","RHU03","QUEEN ALEXANDRA HOSPITAL","RHU"]
[null,null,null,null,null,null,null,null,null,null,null,null,null,null,null,null,null,null,null,null,null,null,null,null,null,null,null,null,null,null,null,null,null,null,null,null,null,null,null,null,null,null,null,null,"RHUST MARY'S HOSPITAL - RHU02","RHU02","ST MARY'S HOSPITAL - RHU02","RHU02","ST MARY'S HOSPITAL","RHU"]
[null,null,null,null,null,null,null,null,null,null,null,null,null,null,null,null,null,null,null,null,null,null,null,null,null,null,null,null,null,null,null,null,null,null,null,null,null,null,null,null,null,null,null,null,"RHWSKIMPED HILL SURGERY - RHW09","RHW09","SKIMPED HILL SURGERY - RHW09","RHW09","SKIMPED HILL SURGERY","RHW"]
[null,null,null,null,null,null,null,null,null,null,null,null,null,null,null,null,null,null,null,null,null,null,null,null,null,null,null,null,null,null,null,null,null,null,null,null,null,null,null,null,null,null,null,null,"RHWTHE CASTLE SCHOOL - RHW18","RHW18","THE CASTLE SCHOOL - RHW18","RHW18","THE CASTLE SCHOOL","RHW"]
[null,null,null,null,null,null,null,null,null,null,null,null,null,null,null,null,null,null,null,null,null,null,null,null,null,null,null,null,null,null,null,null,null,null,null,null,null,null,null,null,null,null,null,null,"RHWWINDSOR DIALYSIS CENTRE - RHW22","RHW22","WINDSOR DIALYSIS CENTRE - RHW22","RHW22","WINDSOR DIALYSIS CENTRE","RHW"]
[null,null,null,null,null,null,null,null,null,null,null,null,null,null,null,null,null,null,null,null,null,null,null,null,null,null,null,null,null,null,null,null,null,null,null,null,null,null,null,null,null,null,null,null,"RJ7DAWES HOUSE - RJ723","RJ723","DAWES HOUSE - RJ723","RJ723","DAWES HOUSE","RJ7"]
[null,null,null,null,null,null,null,null,null,null,null,null,null,null,null,null,null,null,null,null,null,null,null,null,null,null,null,null,null,null,null,null,null,null,null,null,null,null,null,null,null,null,null,null,"RJ8BODMIN HOSPITAL","RJ866","BODMIN HOSPITAL","RJ866","BODMIN HOSPITAL","RJ8"]
[null,null,null,null,null,null,null,null,null,null,null,null,null,null,null,null,null,null,null,null,null,null,null,null,null,null,null,null,null,null,null,null,null,null,null,null,null,null,null,null,null,null,null,null,"RJ8HEATHLANDS","RJ8H2","HEATHLANDS","RJ8H2","HEATHLANDS","RJ8"]
[null,null,null,null,null,null,null,null,null,null,null,null,null,null,null,null,null,null,null,null,null,null,null,null,null,null,null,null,null,null,null,null,null,null,null,null,null,null,null,null,null,null,null,null,"RJ8LD NMP TWO","RJ83L","LD NMP TWO","RJ83L","LD NMP TWO","RJ8"]
[null,null,null,null,null,null,null,null,null,null,null,null,null,null,null,null,null,null,null,null,null,null,null,null,null,null,null,null,null,null,null,null,null,null,null,null,null,null,null,null,null,null,null,null,"RJ8MANOR VILLAS","RJ8AW","MANOR VILLAS","RJ8AW","MANOR VILLAS","RJ8"]
[null,null,null,null,null,null,null,null,null,null,null,null,null,null,null,null,null,null,null,null,null,null,null,null,null,null,null,null,null,null,null,null,null,null,null,null,null,null,null,null,null,null,null,null,"RJ8THE WILLOWS","RJ8AG","THE WILLOWS","RJ8AG","THE WILLOWS","RJ8"]
[null,null,null,null,null,null,null,null,null,null,null,null,null,null,null,null,null,null,null,null,null,null,null,null,null,null,null,null,null,null,null,null,null,null,null,null,null,null,null,null,null,null,null,null,"RJ8TRENGWEATH","RJ827","TRENGWEATH","RJ827","TRENGWEATH","RJ8"]
[null,null,null,null,null,null,null,null,null,null,null,null,null,null,null,null,null,null,null,null,null,null,null,null,null,null,null,null,null,null,null,null,null,null,null,null,null,null,null,null,null,null,null,null,"RJECOUNTY HOSPITAL","RJE09","COUNTY HOSPITAL","RJE09","COUNTY HOSPITAL","RJE"]
[null,null,null,null,null,null,null,null,null,null,null,null,null,null,null,null,null,null,null,null,null,null,null,null,null,null,null,null,null,null,null,null,null,null,null,null,null,null,null,null,null,null,null,null,"RJFQUEEN'S HOSPITAL, BURTON UPON TRENT - RJF02","RJF02","QUEEN'S HOSPITAL, BURTON UPON TRENT - RJF02","RJF02","QUEEN'S HOSPITAL, BURTON UPON TRENT","RJF"]
[null,null,null,null,null,null,null,null,null,null,null,null,null,null,null,null,null,null,null,null,null,null,null,null,null,null,null,null,null,null,null,null,null,null,null,null,null,null,null,null,null,null,null,null,"RJNSPIRE REGENCY HOSPITAL","RJN03","SPIRE REGENCY HOSPITAL","RJN03","SPIRE REGENCY HOSPITAL","RJN"]
[null,null,null,null,null,null,null,null,null,null,null,null,null,null,null,null,null,null,null,null,null,null,null,null,null,null,null,null,null,null,null,null,null,null,null,null,null,null,null,null,null,null,null,null,"RJXPENDLE VIEW","RJX07","PENDLE VIEW","RJX07","PENDLE VIEW","RJX"]
[null,null,null,null,null,null,null,null,null,null,null,null,null,null,null,null,null,null,null,null,null,null,null,null,null,null,null,null,null,null,null,null,null,null,null,null,null,null,null,null,null,null,null,null,"RK5ASHFIELD COMMUNITY HOSPITAL - RK5FJ","RK5FJ","ASHFIELD COMMUNITY HOSPITAL - RK5FJ","RK5FJ","ASHFIELD COMMUNITY HOSPITAL","RK5"]
[null,null,null,null,null,null,null,null,null,null,null,null,null,null,null,null,null,null,null,null,null,null,null,null,null,null,null,null,null,null,null,null,null,null,null,null,null,null,null,null,null,null,null,null,"RK5NEWARK HOSPITAL - RK5HP","RK5HP","NEWARK HOSPITAL - RK5HP","RK5HP","NEWARK HOSPITAL","RK5"]
[null,null,null,null,null,null,null,null,null,null,null,null,null,null,null,null,null,null,null,null,null,null,null,null,null,null,null,null,null,null,null,null,null,null,null,null,null,null,null,null,null,null,null,null,"RKLBROADMOOR HOSPITAL","RKL51","BROADMOOR HOSPITAL","RKL51","BROADMOOR HOSPITAL","RKL"]
[null,null,null,null,null,null,null,null,null,null,null,null,null,null,null,null,null,null,null,null,null,null,null,null,null,null,null,null,null,null,null,null,null,null,null,null,null,null,null,null,null,null,null,null,"RKLCLAYPONDS REHABILITATION HOSPITAL","RKL18","CLAYPONDS REHABILITATION HOSPITAL","RKL18","CLAYPONDS REHABILITATION HOSPITAL ","RKL"]
[null,null,null,null,null,null,null,null,null,null,null,null,null,null,null,null,null,null,null,null,null,null,null,null,null,null,null,null,null,null,null,null,null,null,null,null,null,null,null,null,null,null,null,null,"RKLIMPACT","RKL2R","IMPACT","RKL2R","IMPACT","RKL"]
[null,null,null,null,null,null,null,null,null,null,null,null,null,null,null,null,null,null,null,null,null,null,null,null,null,null,null,null,null,null,null,null,null,null,null,null,null,null,null,null,null,null,null,null,"RKLOLDER PEOPLES DAY HOSPITAL","RKL2C","OLDER PEOPLES DAY HOSPITAL","RKL2C","OLDER PEOPLES DAY HOSPITAL","RKL"]
[null,null,null,null,null,null,null,null,null,null,null,null,null,null,null,null,null,null,null,null,null,null,null,null,null,null,null,null,null,null,null,null,null,null,null,null,null,null,null,null,null,null,null,null,"RL4CANNOCK CHASE HOSPITAL","RL4TC","CANNOCK CHASE HOSPITAL","RL4TC","CANNOCK CHASE HOSPITAL","RL4"]
[null,null,null,null,null,null,null,null,null,null,null,null,null,null,null,null,null,null,null,null,null,null,null,null,null,null,null,null,null,null,null,null,null,null,null,null,null,null,null,null,null,null,null,null,"RLNRYHOPE GENERAL HOSPITAL - RLNGP","RLNGP","RYHOPE GENERAL HOSPITAL - RLNGP","RLNGP","RYHOPE GENERAL HOSPITAL","RLN"]
[null,null,null,null,null,null,null,null,null,null,null,null,null,null,null,null,null,null,null,null,null,null,null,null,null,null,null,null,null,null,null,null,null,null,null,null,null,null,null,null,null,null,null,null,"RLYCHEADLE HOSPITAL- NORTH STAFFS COMBINED HEALTHCARE","RLY14","CHEADLE HOSPITAL- NORTH STAFFS COMBINED HEALTHCARE","RLY14","CHEADLE HOSPITAL- NORTH STAFFS COMBINED HEALTHCARE","RLY"]
[null,null,null,null,null,null,null,null,null,null,null,null,null,null,null,null,null,null,null,null,null,null,null,null,null,null,null,null,null,null,null,null,null,null,null,null,null,null,null,null,null,null,null,null,"RLYCITY GENERAL HOSPITAL- NORTH STAFFS COMBINED HEALTHCARE","RLY02","CITY GENERAL HOSPITAL- NORTH STAFFS COMBINED HEALTHCARE","RLY02","CITY GENERAL HOSPITAL- NORTH STAFFS COMBINED HEALTHCARE","RLY"]
[null,null,null,null,null,null,null,null,null,null,null,null,null,null,null,null,null,null,null,null,null,null,null,null,null,null,null,null,null,null,null,null,null,null,null,null,null,null,null,null,null,null,null,null,"RLYTHE HOLBORN","RLYA6","THE HOLBORN","RLYA6","THE HOLBORN","RLY"]
[null,null,null,null,null,null,null,null,null,null,null,null,null,null,null,null,null,null,null,null,null,null,null,null,null,null,null,null,null,null,null,null,null,null,null,null,null,null,null,null,null,null,null,null,"RM1NORFOLK AND NORWICH UNIVERSITY HOSPITAL - RM102","RM102","NORFOLK AND NORWICH UNIVERSITY HOSPITAL - RM102","RM102","NORFOLK AND NORWICH UNIVERSITY HOSPITAL","RM1"]
[null,null,null,null,null,null,null,null,null,null,null,null,null,null,null,null,null,null,null,null,null,null,null,null,null,null,null,null,null,null,null,null,null,null,null,null,null,null,null,null,null,null,null,null,"RMYCOLEGATE","RMY52","COLEGATE","RMY52","COLEGATE","RMY"]
[null,null,null,null,null,null,null,null,null,null,null,null,null,null,null,null,null,null,null,null,null,null,null,null,null,null,null,null,null,null,null,null,null,null,null,null,null,null,null,null,null,null,null,null,"RMYKEEBLES YARD","RMYME","KEEBLES YARD","RMYME","KEEBLES YARD","RMY"]
[null,null,null,null,null,null,null,null,null,null,null,null,null,null,null,null,null,null,null,null,null,null,null,null,null,null,null,null,null,null,null,null,null,null,null,null,null,null,null,null,null,null,null,null,"RMYPATRICK STEAD HOSPITAL","RMY70","PATRICK STEAD HOSPITAL","RMY70","PATRICK STEAD HOSPITAL","RMY"]
[null,null,null,null,null,null,null,null,null,null,null,null,null,null,null,null,null,null,null,null,null,null,null,null,null,null,null,null,null,null,null,null,null,null,null,null,null,null,null,null,null,null,null,null,"RMYST. LEONARDS HOSPITAL","RMYMF","ST. LEONARDS HOSPITAL","RMYMF","ST. LEONARDS HOSPITAL","RMY"]
[null,null,null,null,null,null,null,null,null,null,null,null,null,null,null,null,null,null,null,null,null,null,null,null,null,null,null,null,null,null,null,null,null,null,null,null,null,null,null,null,null,null,null,null,"RN3SHEPTON MALLET COMMUNITY HOSPITAL","RN3C4","SHEPTON MALLET COMMUNITY HOSPITAL","RN3C4","SHEPTON MALLET COMMUNITY HOSPITAL","RN3"]
[null,null,null,null,null,null,null,null,null,null,null,null,null,null,null,null,null,null,null,null,null,null,null,null,null,null,null,null,null,null,null,null,null,null,null,null,null,null,null,null,null,null,null,null,"RN3TROWBRIDGE COMMUNITY HOSPITAL - RN334","RN334","TROWBRIDGE COMMUNITY HOSPITAL - RN334","RN334","TROWBRIDGE COMMUNITY HOSPITAL","RN3"]
[null,null,null,null,null,null,null,null,null,null,null,null,null,null,null,null,null,null,null,null,null,null,null,null,null,null,null,null,null,null,null,null,null,null,null,null,null,null,null,null,null,null,null,null,"RNLMARY HEWETSON COTTAGE HOSPITAL (KESWICK) - RNL02","RNL02","MARY HEWETSON COTTAGE HOSPITAL (KESWICK) - RNL02","RNL02","MARY HEWETSON COTTAGE HOSPITAL (KESWICK)","RNL"]
[null,null,null,null,null,null,null,null,null,null,null,null,null,null,null,null,null,null,null,null,null,null,null,null,null,null,null,null,null,null,null,null,null,null,null,null,null,null,null,null,null,null,null,null,"RNLRUTH LANCASTER JAMES HOSPITAL (ALSTON MATERNITY) - RNLBG","RNLBG","RUTH LANCASTER JAMES HOSPITAL (ALSTON MATERNITY) - RNLBG","RNLBG","RUTH LANCASTER JAMES HOSPITAL (ALSTON MATERNITY)","RNL"]
[null,null,null,null,null,null,null,null,null,null,null,null,null,null,null,null,null,null,null,null,null,null,null,null,null,null,null,null,null,null,null,null,null,null,null,null,null,null,null,null,null,null,null,null,"RNNCOMMUNITY PAEDIATRICS","RNNHT","COMMUNITY PAEDIATRICS","RNNHT","COMMUNITY PAEDIATRICS","RNN"]
[null,null,null,null,null,null,null,null,null,null,null,null,null,null,null,null,null,null,null,null,null,null,null,null,null,null,null,null,null,null,null,null,null,null,null,null,null,null,null,null,null,null,null,null,"RNNCUMBERLAND INFIRMARY","RNN62","CUMBERLAND INFIRMARY","RNN62","CUMBERLAND INFIRMARY","RNN"]
[null,null,null,null,null,null,null,null,null,null,null,null,null,null,null,null,null,null,null,null,null,null,null,null,null,null,null,null,null,null,null,null,null,null,null,null,null,null,null,null,null,null,null,null,"RNNKESWICK MINOR INJURY UNIT","RNNKM","KESWICK MINOR INJURY UNIT","RNNKM","KESWICK MINOR INJURY UNIT","RNN"]
[null,null,null,null,null,null,null,null,null,null,null,null,null,null,null,null,null,null,null,null,null,null,null,null,null,null,null,null,null,null,null,null,null,null,null,null,null,null,null,null,null,null,null,null,"RNNMARYPORT MINOR INJURY UNIT","RNNMM","MARYPORT MINOR INJURY UNIT","RNNMM","MARYPORT MINOR INJURY UNIT","RNN"]
[null,null,null,null,null,null,null,null,null,null,null,null,null,null,null,null,null,null,null,null,null,null,null,null,null,null,null,null,null,null,null,null,null,null,null,null,null,null,null,null,null,null,null,null,"RNNROSEHILL BUILDING","RNN02","ROSEHILL BUILDING","RNN02","ROSEHILL BUILDING","RNN"]
[null,null,null,null,null,null,null,null,null,null,null,null,null,null,null,null,null,null,null,null,null,null,null,null,null,null,null,null,null,null,null,null,null,null,null,null,null,null,null,null,null,null,null,null,"RNNSEACROFT","RNNEL","SEACROFT","RNNEL","SEACROFT","RNN"]
[null,null,null,null,null,null,null,null,null,null,null,null,null,null,null,null,null,null,null,null,null,null,null,null,null,null,null,null,null,null,null,null,null,null,null,null,null,null,null,null,null,null,null,null,"RNUABINGDON COMMUNITY HOSPITAL","RNUDQ","ABINGDON COMMUNITY HOSPITAL","RNUDQ","ABINGDON COMMUNITY HOSPITAL","RNU"]
[null,null,null,null,null,null,null,null,null,null,null,null,null,null,null,null,null,null,null,null,null,null,null,null,null,null,null,null,null,null,null,null,null,null,null,null,null,null,null,null,null,null,null,null,"RNUCLEMENTS MEWS","RNU11","CLEMENTS MEWS","RNU11","CLEMENTS MEWS","RNU"]
[null,null,null,null,null,null,null,null,null,null,null,null,null,null,null,null,null,null,null,null,null,null,null,null,null,null,null,null,null,null,null,null,null,null,null,null,null,null,null,null,null,null,null,null,"RNUOCHPS","RNUFA","OCHPS","RNUFA","OCHPS","RNU"]
[null,null,null,null,null,null,null,null,null,null,null,null,null,null,null,null,null,null,null,null,null,null,null,null,null,null,null,null,null,null,null,null,null,null,null,null,null,null,null,null,null,null,null,null,"RNUOXFORDSHIRE C&B MSK HUB","RNUDA","OXFORDSHIRE C&B MSK HUB","RNUDA","OXFORDSHIRE C&B MSK HUB","RNU"]
[null,null,null,null,null,null,null,null,null,null,null,null,null,null,null,null,null,null,null,null,null,null,null,null,null,null,null,null,null,null,null,null,null,null,null,null,null,null,null,null,null,null,null,null,"RNUWITNEY EMU","RNUGR","WITNEY EMU","RNUGR","WITNEY EMU","RNU"]
[null,null,null,null,null,null,null,null,null,null,null,null,null,null,null,null,null,null,null,null,null,null,null,null,null,null,null,null,null,null,null,null,null,null,null,null,null,null,null,null,null,null,null,null,"RNZSALISBURY HEALTH CARE NHS TRUST - RNZ00","RNZ00","SALISBURY HEALTH CARE NHS TRUST - RNZ00","RNZ00","SALISBURY HEALTH CARE NHS TRUST","RNZ"]
[null,null,null,null,null,null,null,null,null,null,null,null,null,null,null,null,null,null,null,null,null,null,null,null,null,null,null,null,null,null,null,null,null,null,null,null,null,null,null,null,null,null,null,null,"RP1CORBY COMMUNITY HOSPITAL","RP1N8","CORBY COMMUNITY HOSPITAL","RP1N8","CORBY COMMUNITY HOSPITAL","RP1"]
[null,null,null,null,null,null,null,null,null,null,null,null,null,null,null,null,null,null,null,null,null,null,null,null,null,null,null,null,null,null,null,null,null,null,null,null,null,null,null,null,null,null,null,null,"RP1HEADLANDS","RP1D1","HEADLANDS","RP1D1","HEADLANDS","RP1"]
[null,null,null,null,null,null,null,null,null,null,null,null,null,null,null,null,null,null,null,null,null,null,null,null,null,null,null,null,null,null,null,null,null,null,null,null,null,null,null,null,null,null,null,null,"RP1MENCAP (ROTHWELL)","RP1D2","MENCAP (ROTHWELL)","RP1D2","MENCAP (ROTHWELL)","RP1"]
[null,null,null,null,null,null,null,null,null,null,null,null,null,null,null,null,null,null,null,null,null,null,null,null,null,null,null,null,null,null,null,null,null,null,null,null,null,null,null,null,null,null,null,null,"RP1MENTAL HEALTH ACCOMODATION & COMMISSIONING","RP1V3","MENTAL HEALTH ACCOMODATION & COMMISSIONING","RP1V3","MENTAL HEALTH ACCOMODATION & COMMISSIONING","RP1"]
[null,null,null,null,null,null,null,null,null,null,null,null,null,null,null,null,null,null,null,null,null,null,null,null,null,null,null,null,null,null,null,null,null,null,null,null,null,null,null,null,null,null,null,null,"RP1THE SETT","RP1V6","THE SETT","RP1V6","THE SETT","RP1"]
[null,null,null,null,null,null,null,null,null,null,null,null,null,null,null,null,null,null,null,null,null,null,null,null,null,null,null,null,null,null,null,null,null,null,null,null,null,null,null,null,null,null,null,null,"RP5TICKHILL ROAD HOSPITAL - RP5TR","RP5TR","TICKHILL ROAD HOSPITAL - RP5TR","RP5TR","TICKHILL ROAD HOSPITAL","RP5"]
[null,null,null,null,null,null,null,null,null,null,null,null,null,null,null,null,null,null,null,null,null,null,null,null,null,null,null,null,null,null,null,null,null,null,null,null,null,null,null,null,null,null,null,null,"RP6MOORFIELDS AT MILE END HOSPITAL - RP607","RP607","MOORFIELDS AT MILE END HOSPITAL - RP607","RP607","MOORFIELDS AT MILE END HOSPITAL - RP607","RP6"]
[null,null,null,null,null,null,null,null,null,null,null,null,null,null,null,null,null,null,null,null,null,null,null,null,null,null,null,null,null,null,null,null,null,null,null,null,null,null,null,null,null,null,null,null,"RP6MOORFIELDS EYE HOSPITAL (CITY ROAD) - RP601","RP601","MOORFIELDS EYE HOSPITAL (CITY ROAD) - RP601","RP601","MOORFIELDS EYE HOSPITAL (CITY ROAD) - RP601","RP6"]
[null,null,null,null,null,null,null,null,null,null,null,null,null,null,null,null,null,null,null,null,null,null,null,null,null,null,null,null,null,null,null,null,null,null,null,null,null,null,null,null,null,null,null,null,"RP7CONS 9 DOP","RP7HA","CONS 9 DOP","RP7HA","CONS 9 DOP","RP7"]
[null,null,null,null,null,null,null,null,null,null,null,null,null,null,null,null,null,null,null,null,null,null,null,null,null,null,null,null,null,null,null,null,null,null,null,null,null,null,null,null,null,null,null,null,"RP7JOHNSON COMMUNITY HOSPITAL","RP7WT","JOHNSON COMMUNITY HOSPITAL","RP7WT","JOHNSON COMMUNITY HOSPITAL","RP7"]
[null,null,null,null,null,null,null,null,null,null,null,null,null,null,null,null,null,null,null,null,null,null,null,null,null,null,null,null,null,null,null,null,null,null,null,null,null,null,null,null,null,null,null,null,"RP7NE LINCS ADHD","RP7NC","NE LINCS ADHD","RP7NC","NE LINCS ADHD","RP7"]
[null,null,null,null,null,null,null,null,null,null,null,null,null,null,null,null,null,null,null,null,null,null,null,null,null,null,null,null,null,null,null,null,null,null,null,null,null,null,null,null,null,null,null,null,"RP7PHC PORTACABIN","RP764","PHC PORTACABIN","RP764","PHC PORTACABIN","RP7"]
[null,null,null,null,null,null,null,null,null,null,null,null,null,null,null,null,null,null,null,null,null,null,null,null,null,null,null,null,null,null,null,null,null,null,null,null,null,null,null,null,null,null,null,null,{"$f":"CONCATENATE(LEFT(AT1612, 3),AU1612)","v":"RPCASHFORD HOSPITAL - RPC40"},"RPC40","ASHFORD HOSPITAL - RPC40","RPC40","ASHFORD HOSPITAL - RPC40",{"$f":"LEFT(AV1612,3)","v":"RPC"}]
[null,null,null,null,null,null,null,null,null,null,null,null,null,null,null,null,null,null,null,null,null,null,null,null,null,null,null,null,null,null,null,null,null,null,null,null,null,null,null,null,null,null,null,null,"RPCQUEEN VICTORIA HOSPITAL (EAST GRINSTEAD) - RPC04","RPC04","QUEEN VICTORIA HOSPITAL (EAST GRINSTEAD) - RPC04","RPC04","QUEEN VICTORIA HOSPITAL (EAST GRINSTEAD) - RPC04","RPC"]
[null,null,null,null,null,null,null,null,null,null,null,null,null,null,null,null,null,null,null,null,null,null,null,null,null,null,null,null,null,null,null,null,null,null,null,null,null,null,null,null,null,null,null,null,"RPGBELMARSH","RPGHR","BELMARSH","RPGHR","BELMARSH","RPG"]
[null,null,null,null,null,null,null,null,null,null,null,null,null,null,null,null,null,null,null,null,null,null,null,null,null,null,null,null,null,null,null,null,null,null,null,null,null,null,null,null,null,null,null,null,"RPGDR DESAI & PARTNERS","RPGHA","DR DESAI & PARTNERS","RPGHA","DR DESAI & PARTNERS","RPG"]
[null,null,null,null,null,null,null,null,null,null,null,null,null,null,null,null,null,null,null,null,null,null,null,null,null,null,null,null,null,null,null,null,null,null,null,null,null,null,null,null,null,null,null,null,"RPGJAMES WOLFE","RPGGN","JAMES WOLFE","RPGGN","JAMES WOLFE","RPG"]
[null,null,null,null,null,null,null,null,null,null,null,null,null,null,null,null,null,null,null,null,null,null,null,null,null,null,null,null,null,null,null,null,null,null,null,null,null,null,null,null,null,null,null,null,"RPGOAKWOOD HOUSE","RPGAL","OAKWOOD HOUSE","RPGAL","OAKWOOD HOUSE","RPG"]
[null,null,null,null,null,null,null,null,null,null,null,null,null,null,null,null,null,null,null,null,null,null,null,null,null,null,null,null,null,null,null,null,null,null,null,null,null,null,null,null,null,null,null,null,"RPGTHE WALNUTS","RPGCG","THE WALNUTS","RPGCG","THE WALNUTS","RPG"]
[null,null,null,null,null,null,null,null,null,null,null,null,null,null,null,null,null,null,null,null,null,null,null,null,null,null,null,null,null,null,null,null,null,null,null,null,null,null,null,null,null,null,null,null,"RPGVANBURGH HC","RPGGJ","VANBURGH HC","RPGGJ","VANBURGH HC","RPG"]
[null,null,null,null,null,null,null,null,null,null,null,null,null,null,null,null,null,null,null,null,null,null,null,null,null,null,null,null,null,null,null,null,null,null,null,null,null,null,null,null,null,null,null,null,"RQ3CHILD PSYCHOLOGY DEPARTMENT","RQ346","CHILD PSYCHOLOGY DEPARTMENT","RQ346","CHILD PSYCHOLOGY DEPARTMENT","RQ3"]
[null,null,null,null,null,null,null,null,null,null,null,null,null,null,null,null,null,null,null,null,null,null,null,null,null,null,null,null,null,null,null,null,null,null,null,null,null,null,null,null,null,null,null,null,"RQ6BROADGREEN HOSPITAL - RQ601","RQ601","BROADGREEN HOSPITAL - RQ601","RQ601","BROADGREEN HOSPITAL - RQ601","RQ6"]
[null,null,null,null,null,null,null,null,null,null,null,null,null,null,null,null,null,null,null,null,null,null,null,null,null,null,null,null,null,null,null,null,null,null,null,null,null,null,null,null,null,null,null,null,"RQMTEDDINGTON MEMORIAL HOSPITAL","RQM24","TEDDINGTON MEMORIAL HOSPITAL","RQM24","TEDDINGTON MEMORIAL HOSPITAL","RQM"]
[null,null,null,null,null,null,null,null,null,null,null,null,null,null,null,null,null,null,null,null,null,null,null,null,null,null,null,null,null,null,null,null,null,null,null,null,null,null,null,null,null,null,null,null,"RQWHODDESDON TOWER CLINIC - RQWG6","RQWG6","HODDESDON TOWER CLINIC - RQWG6","RQWG6","HODDESDON TOWER CLINIC - RQWG6","RQW"]
[null,null,null,null,null,null,null,null,null,null,null,null,null,null,null,null,null,null,null,null,null,null,null,null,null,null,null,null,null,null,null,null,null,null,null,null,null,null,null,null,null,null,null,null,"RQYCARSHALTON WAR MEMORIAL HOSPITAL","RQY09","CARSHALTON WAR MEMORIAL HOSPITAL","RQY09","CARSHALTON WAR MEMORIAL HOSPITAL","RQY"]
[null,null,null,null,null,null,null,null,null,null,null,null,null,null,null,null,null,null,null,null,null,null,null,null,null,null,null,null,null,null,null,null,null,null,null,null,null,null,null,null,null,null,null,null,"RQYKINGSTON C.A.D.T","RQYDF","KINGSTON C.A.D.T","RQYDF","KINGSTON C.A.D.T","RQY"]
[null,null,null,null,null,null,null,null,null,null,null,null,null,null,null,null,null,null,null,null,null,null,null,null,null,null,null,null,null,null,null,null,null,null,null,null,null,null,null,null,null,null,null,null,"RQYR.F.S","RQYF1","R.F.S","RQYF1","R.F.S","RQY"]
[null,null,null,null,null,null,null,null,null,null,null,null,null,null,null,null,null,null,null,null,null,null,null,null,null,null,null,null,null,null,null,null,null,null,null,null,null,null,null,null,null,null,null,null,"RQYRICHMOND ROYAL","RQY10","RICHMOND ROYAL","RQY10","RICHMOND ROYAL","RQY"]
[null,null,null,null,null,null,null,null,null,null,null,null,null,null,null,null,null,null,null,null,null,null,null,null,null,null,null,null,null,null,null,null,null,null,null,null,null,null,null,null,null,null,null,null,"RR1HEARTLANDS HOSPITAL - RR101","RR101","HEARTLANDS HOSPITAL - RR101","RR101","HEARTLANDS HOSPITAL - RR101","RR1"]
[null,null,null,null,null,null,null,null,null,null,null,null,null,null,null,null,null,null,null,null,null,null,null,null,null,null,null,null,null,null,null,null,null,null,null,null,null,null,null,null,null,null,null,null,"RR7CITY HOSPITALS SUNDERLAND - RR7CH","RR7CH","CITY HOSPITALS SUNDERLAND - RR7CH","RR7CH","CITY HOSPITALS SUNDERLAND - RR7CH","RR7"]
[null,null,null,null,null,null,null,null,null,null,null,null,null,null,null,null,null,null,null,null,null,null,null,null,null,null,null,null,null,null,null,null,null,null,null,null,null,null,null,null,null,null,null,null,"RR8NEW HALL SURGERY - RR865","RR865","NEW HALL SURGERY - RR865","RR865","NEW HALL SURGERY - RR865","RR8"]
[null,null,null,null,null,null,null,null,null,null,null,null,null,null,null,null,null,null,null,null,null,null,null,null,null,null,null,null,null,null,null,null,null,null,null,null,null,null,null,null,null,null,null,null,"RRDCHELMSFORD - THE LINDEN CENTRE","RRDAH     ","CHELMSFORD - THE LINDEN CENTRE","RRDAH     ","CHELMSFORD - THE LINDEN CENTRE","RRD"]
[null,null,null,null,null,null,null,null,null,null,null,null,null,null,null,null,null,null,null,null,null,null,null,null,null,null,null,null,null,null,null,null,null,null,null,null,null,null,null,null,null,null,null,null,"RRDEPPING - ST MARGARETS HOSPITAL","RRDHD","EPPING - ST MARGARETS HOSPITAL","RRDHD","EPPING - ST MARGARETS HOSPITAL","RRD"]
[null,null,null,null,null,null,null,null,null,null,null,null,null,null,null,null,null,null,null,null,null,null,null,null,null,null,null,null,null,null,null,null,null,null,null,null,null,null,null,null,null,null,null,null,"RRDWITHAM - NEW IVY CHIMNEYS","RRDAF","WITHAM - NEW IVY CHIMNEYS","RRDAF","WITHAM - NEW IVY CHIMNEYS","RRD"]
[null,null,null,null,null,null,null,null,null,null,null,null,null,null,null,null,null,null,null,null,null,null,null,null,null,null,null,null,null,null,null,null,null,null,null,null,null,null,null,null,null,null,null,null,"RRECHILDRENS 7","RRE8C","CHILDRENS 7","RRE8C","CHILDRENS 7","RRE"]
[null,null,null,null,null,null,null,null,null,null,null,null,null,null,null,null,null,null,null,null,null,null,null,null,null,null,null,null,null,null,null,null,null,null,null,null,null,null,null,null,null,null,null,null,"RREINCLUSION 1","RRET7","INCLUSION 1","RRET7","INCLUSION 1","RRE"]
[null,null,null,null,null,null,null,null,null,null,null,null,null,null,null,null,null,null,null,null,null,null,null,null,null,null,null,null,null,null,null,null,null,null,null,null,null,null,null,null,null,null,null,null,"RREPARK HOUSE T4 BIRMINGHAM","RRET4","PARK HOUSE T4 BIRMINGHAM","RRET4","PARK HOUSE T4 BIRMINGHAM","RRE"]
[null,null,null,null,null,null,null,null,null,null,null,null,null,null,null,null,null,null,null,null,null,null,null,null,null,null,null,null,null,null,null,null,null,null,null,null,null,null,null,null,null,null,null,null,"RRERSH COPTHORNE","RREFG","RSH COPTHORNE","RREFG","RSH COPTHORNE","RRE"]
[null,null,null,null,null,null,null,null,null,null,null,null,null,null,null,null,null,null,null,null,null,null,null,null,null,null,null,null,null,null,null,null,null,null,null,null,null,null,null,null,null,null,null,null,"RREST GEORGES 4","RREV7","ST GEORGES 4","RREV7","ST GEORGES 4","RRE"]
[null,null,null,null,null,null,null,null,null,null,null,null,null,null,null,null,null,null,null,null,null,null,null,null,null,null,null,null,null,null,null,null,null,null,null,null,null,null,null,null,null,null,null,null,"RRETHE ELMS SHREWSBURY","RRE0R","THE ELMS SHREWSBURY","RRE0R","THE ELMS SHREWSBURY","RRE"]
[null,null,null,null,null,null,null,null,null,null,null,null,null,null,null,null,null,null,null,null,null,null,null,null,null,null,null,null,null,null,null,null,null,null,null,null,null,null,null,null,null,null,null,null,"RREWHITTINGTON BARRACKS","RRE95","WHITTINGTON BARRACKS","RRE95","WHITTINGTON BARRACKS","RRE"]
[null,null,null,null,null,null,null,null,null,null,null,null,null,null,null,null,null,null,null,null,null,null,null,null,null,null,null,null,null,null,null,null,null,null,null,null,null,null,null,null,null,null,null,null,"RRFTHOMAS LINACRE OUTPATIENT CENTRE - RRF54","RRF54","THOMAS LINACRE OUTPATIENT CENTRE - RRF54","RRF54","THOMAS LINACRE OUTPATIENT CENTRE - RRF54","RRF"]
[null,null,null,null,null,null,null,null,null,null,null,null,null,null,null,null,null,null,null,null,null,null,null,null,null,null,null,null,null,null,null,null,null,null,null,null,null,null,null,null,null,null,null,null,"RRPCHASE FARM HOSPITAL","RRP16","CHASE FARM HOSPITAL","RRP16","CHASE FARM HOSPITAL","RRP"]
[null,null,null,null,null,null,null,null,null,null,null,null,null,null,null,null,null,null,null,null,null,null,null,null,null,null,null,null,null,null,null,null,null,null,null,null,null,null,null,null,null,null,null,null,"RRPFINCHLEY MEMORIAL HOSPITAL","RRP27","FINCHLEY MEMORIAL HOSPITAL","RRP27","FINCHLEY MEMORIAL HOSPITAL","RRP"]
[null,null,null,null,null,null,null,null,null,null,null,null,null,null,null,null,null,null,null,null,null,null,null,null,null,null,null,null,null,null,null,null,null,null,null,null,null,null,null,null,null,null,null,null,"RRVNAT HOSP FOR NEURLGY & NEUROSC. CHALFONT","RRVNC","NAT HOSP FOR NEURLGY & NEUROSC. CHALFONT","RRVNC","NAT HOSP FOR NEURLGY & NEUROSC. CHALFONT","RRV"]
[null,null,null,null,null,null,null,null,null,null,null,null,null,null,null,null,null,null,null,null,null,null,null,null,null,null,null,null,null,null,null,null,null,null,null,null,null,null,null,null,null,null,null,null,"RRVTHE EASTMAN DENTAL HOSPITAL - RRVE1","RRVE1","THE EASTMAN DENTAL HOSPITAL - RRVE1","RRVE1","THE EASTMAN DENTAL HOSPITAL - RRVE1","RRV"]
[null,null,null,null,null,null,null,null,null,null,null,null,null,null,null,null,null,null,null,null,null,null,null,null,null,null,null,null,null,null,null,null,null,null,null,null,null,null,null,null,null,null,null,null,"RRVUCLH ROSENHEIM BUILDING","RRV13","UCLH ROSENHEIM BUILDING","RRV13","UCLH ROSENHEIM BUILDING","RRV"]
[null,null,null,null,null,null,null,null,null,null,null,null,null,null,null,null,null,null,null,null,null,null,null,null,null,null,null,null,null,null,null,null,null,null,null,null,null,null,null,null,null,null,null,null,"RT1CAMBRIDGE OPMH","RT1AJ","CAMBRIDGE OPMH","RT1AJ","CAMBRIDGE OPMH","RT1"]
[null,null,null,null,null,null,null,null,null,null,null,null,null,null,null,null,null,null,null,null,null,null,null,null,null,null,null,null,null,null,null,null,null,null,null,null,null,null,null,null,null,null,null,null,"RT1EDWARD JENNER UNIT","RT125","EDWARD JENNER UNIT","RT125","EDWARD JENNER UNIT","RT1"]
[null,null,null,null,null,null,null,null,null,null,null,null,null,null,null,null,null,null,null,null,null,null,null,null,null,null,null,null,null,null,null,null,null,null,null,null,null,null,null,null,null,null,null,null,"RT1HUNTINGDON DASH","RT1CD","HUNTINGDON DASH","RT1CD","HUNTINGDON DASH","RT1"]
[null,null,null,null,null,null,null,null,null,null,null,null,null,null,null,null,null,null,null,null,null,null,null,null,null,null,null,null,null,null,null,null,null,null,null,null,null,null,null,null,null,null,null,null,"RT1NORTH CAMBRIDGESHIRE HOSPITAL","RT182","NORTH CAMBRIDGESHIRE HOSPITAL","RT182","NORTH CAMBRIDGESHIRE HOSPITAL","RT1"]
[null,null,null,null,null,null,null,null,null,null,null,null,null,null,null,null,null,null,null,null,null,null,null,null,null,null,null,null,null,null,null,null,null,null,null,null,null,null,null,null,null,null,null,null,"RT1QUY WATER FARM","RT1GF","QUY WATER FARM","RT1GF","QUY WATER FARM","RT1"]
[null,null,null,null,null,null,null,null,null,null,null,null,null,null,null,null,null,null,null,null,null,null,null,null,null,null,null,null,null,null,null,null,null,null,null,null,null,null,null,null,null,null,null,null,"RT2ALKRINGTON LIFT","RT2G2","ALKRINGTON LIFT","RT2G2","ALKRINGTON LIFT","RT2"]
[null,null,null,null,null,null,null,null,null,null,null,null,null,null,null,null,null,null,null,null,null,null,null,null,null,null,null,null,null,null,null,null,null,null,null,null,null,null,null,null,null,null,null,null,"RT2BUTLER GREEN","RT2C1","BUTLER GREEN","RT2C1","BUTLER GREEN","RT2"]
[null,null,null,null,null,null,null,null,null,null,null,null,null,null,null,null,null,null,null,null,null,null,null,null,null,null,null,null,null,null,null,null,null,null,null,null,null,null,null,null,null,null,null,null,"RT2MENTAL HEALTH UNIT","RT274","MENTAL HEALTH UNIT","RT274","MENTAL HEALTH UNIT","RT2"]
[null,null,null,null,null,null,null,null,null,null,null,null,null,null,null,null,null,null,null,null,null,null,null,null,null,null,null,null,null,null,null,null,null,null,null,null,null,null,null,null,null,null,null,null,"RT2PROSPECT PLACE","RT2K4","PROSPECT PLACE","RT2K4","PROSPECT PLACE","RT2"]
[null,null,null,null,null,null,null,null,null,null,null,null,null,null,null,null,null,null,null,null,null,null,null,null,null,null,null,null,null,null,null,null,null,null,null,null,null,null,null,null,null,null,null,null,"RT2TRIPLE H","RT2J2","TRIPLE H","RT2J2","TRIPLE H","RT2"]
[null,null,null,null,null,null,null,null,null,null,null,null,null,null,null,null,null,null,null,null,null,null,null,null,null,null,null,null,null,null,null,null,null,null,null,null,null,null,null,null,null,null,null,null,"RT5BRACKEN BUILDING","RT522","BRACKEN BUILDING","RT522","BRACKEN BUILDING","RT5"]
[null,null,null,null,null,null,null,null,null,null,null,null,null,null,null,null,null,null,null,null,null,null,null,null,null,null,null,null,null,null,null,null,null,null,null,null,null,null,null,null,null,null,null,null,"RT5CHARNWOOD MILL","RT5NJ","CHARNWOOD MILL","RT5NJ","CHARNWOOD MILL","RT5"]
[null,null,null,null,null,null,null,null,null,null,null,null,null,null,null,null,null,null,null,null,null,null,null,null,null,null,null,null,null,null,null,null,null,null,null,null,null,null,null,null,null,null,null,null,"RT5CITY CENTRAL 4","RT5WW","CITY CENTRAL 4","RT5WW","CITY CENTRAL 4","RT5"]
[null,null,null,null,null,null,null,null,null,null,null,null,null,null,null,null,null,null,null,null,null,null,null,null,null,null,null,null,null,null,null,null,null,null,null,null,null,null,null,null,null,null,null,null,"RT5CITY WEST 2","RT5F4","CITY WEST 2","RT5F4","CITY WEST 2","RT5"]
[null,null,null,null,null,null,null,null,null,null,null,null,null,null,null,null,null,null,null,null,null,null,null,null,null,null,null,null,null,null,null,null,null,null,null,null,null,null,null,null,null,null,null,null,"RT5CITY WEST 3 (EPMA)","RT5F7","CITY WEST 3 (EPMA)","RT5F7","CITY WEST 3 (EPMA)","RT5"]
[null,null,null,null,null,null,null,null,null,null,null,null,null,null,null,null,null,null,null,null,null,null,null,null,null,null,null,null,null,null,null,null,null,null,null,null,null,null,null,null,null,null,null,null,{"$f":"CONCATENATE(LEFT(AT2060, 3),AU2060)","v":"RT5EAST LEICESTERSHIRE 1"},"RT5F8","EAST LEICESTERSHIRE 1","RT5F8","EAST LEICESTERSHIRE 1",{"$f":"LEFT(AV2060,3)","v":"RT5"}]
[null,null,null,null,null,null,null,null,null,null,null,null,null,null,null,null,null,null,null,null,null,null,null,null,null,null,null,null,null,null,null,null,null,null,null,null,null,null,null,null,null,null,null,null,"RT5EATING DISORDERS 3","RT5V8","EATING DISORDERS 3","RT5V8","EATING DISORDERS 3","RT5"]
[null,null,null,null,null,null,null,null,null,null,null,null,null,null,null,null,null,null,null,null,null,null,null,null,null,null,null,null,null,null,null,null,null,null,null,null,null,null,null,null,null,null,null,null,"RT5FORENSIC 2","RT5G7","FORENSIC 2","RT5G7","FORENSIC 2","RT5"]
[null,null,null,null,null,null,null,null,null,null,null,null,null,null,null,null,null,null,null,null,null,null,null,null,null,null,null,null,null,null,null,null,null,null,null,null,null,null,null,null,null,null,null,null,"RT5HINCKLEY AND BOSWORTH 2","RT5H2","HINCKLEY AND BOSWORTH 2","RT5H2","HINCKLEY AND BOSWORTH 2","RT5"]
[null,null,null,null,null,null,null,null,null,null,null,null,null,null,null,null,null,null,null,null,null,null,null,null,null,null,null,null,null,null,null,null,null,null,null,null,null,null,null,null,null,null,null,null,"RT5LD 4 (EPMA)","RT51D","LD 4 (EPMA)","RT51D","LD 4 (EPMA)","RT5"]
[null,null,null,null,null,null,null,null,null,null,null,null,null,null,null,null,null,null,null,null,null,null,null,null,null,null,null,null,null,null,null,null,null,null,null,null,null,null,null,null,null,null,null,null,"RT5LEICESTER FRITH (ALFRED HILL)","RT554","LEICESTER FRITH (ALFRED HILL)","RT554","LEICESTER FRITH (ALFRED HILL)","RT5"]
[null,null,null,null,null,null,null,null,null,null,null,null,null,null,null,null,null,null,null,null,null,null,null,null,null,null,null,null,null,null,null,null,null,null,null,null,null,null,null,null,null,null,null,null,"RT5LEICESTER FRITH (THE TREATMENT UNIT)","RT564","LEICESTER FRITH (THE TREATMENT UNIT)","RT564","LEICESTER FRITH (THE TREATMENT UNIT)","RT5"]
[null,null,null,null,null,null,null,null,null,null,null,null,null,null,null,null,null,null,null,null,null,null,null,null,null,null,null,null,null,null,null,null,null,null,null,null,null,null,null,null,null,null,null,null,"RT5LEICESTERSHIRE PARTNERSHIP NHS TRUST (UNIVERSITY HOSPITALS)","RT503","LEICESTERSHIRE PARTNERSHIP NHS TRUST (UNIVERSITY HOSPITALS)","RT503","LEICESTERSHIRE PARTNERSHIP NHS TRUST (UNIVERSITY HOSPITALS)","RT5"]
[null,null,null,null,null,null,null,null,null,null,null,null,null,null,null,null,null,null,null,null,null,null,null,null,null,null,null,null,null,null,null,null,null,null,null,null,null,null,null,null,null,null,null,null,"RT5MELTON MOWBRAY HOSPITAL","RT5PA","MELTON MOWBRAY HOSPITAL","RT5PA","MELTON MOWBRAY HOSPITAL","RT5"]
[null,null,null,null,null,null,null,null,null,null,null,null,null,null,null,null,null,null,null,null,null,null,null,null,null,null,null,null,null,null,null,null,null,null,null,null,null,null,null,null,null,null,null,null,"RT5MHSOP 17 (EPMA)","RT5Y0","MHSOP 17 (EPMA)","RT5Y0","MHSOP 17 (EPMA)","RT5"]
[null,null,null,null,null,null,null,null,null,null,null,null,null,null,null,null,null,null,null,null,null,null,null,null,null,null,null,null,null,null,null,null,null,null,null,null,null,null,null,null,null,null,null,null,"RT5MHSOP 18 (EPMA)","RT51G","MHSOP 18 (EPMA)","RT51G","MHSOP 18 (EPMA)","RT5"]
[null,null,null,null,null,null,null,null,null,null,null,null,null,null,null,null,null,null,null,null,null,null,null,null,null,null,null,null,null,null,null,null,null,null,null,null,null,null,null,null,null,null,null,null,"RT5MHSOP 7 (EPMA)","RT5T3","MHSOP 7 (EPMA)","RT5T3","MHSOP 7 (EPMA)","RT5"]
[null,null,null,null,null,null,null,null,null,null,null,null,null,null,null,null,null,null,null,null,null,null,null,null,null,null,null,null,null,null,null,null,null,null,null,null,null,null,null,null,null,null,null,null,"RT5NW LEICESTERSHIRE 2","RT5J3","NW LEICESTERSHIRE 2","RT5J3","NW LEICESTERSHIRE 2","RT5"]
[null,null,null,null,null,null,null,null,null,null,null,null,null,null,null,null,null,null,null,null,null,null,null,null,null,null,null,null,null,null,null,null,null,null,null,null,null,null,null,null,null,null,null,null,"RT5PSYCHO-ONCOLOGY 1","RT5K1","PSYCHO-ONCOLOGY 1","RT5K1","PSYCHO-ONCOLOGY 1","RT5"]
[null,null,null,null,null,null,null,null,null,null,null,null,null,null,null,null,null,null,null,null,null,null,null,null,null,null,null,null,null,null,null,null,null,null,null,null,null,null,null,null,null,null,null,null,"RT5SOUTH LEICESTERSHIRE 1","RT5K7","SOUTH LEICESTERSHIRE 1","RT5K7","SOUTH LEICESTERSHIRE 1","RT5"]
[null,null,null,null,null,null,null,null,null,null,null,null,null,null,null,null,null,null,null,null,null,null,null,null,null,null,null,null,null,null,null,null,null,null,null,null,null,null,null,null,null,null,null,null,"RT5SOUTH LEICESTERSHIRE 4 (EPMA)","RT5L5","SOUTH LEICESTERSHIRE 4 (EPMA)","RT5L5","SOUTH LEICESTERSHIRE 4 (EPMA)","RT5"]
[null,null,null,null,null,null,null,null,null,null,null,null,null,null,null,null,null,null,null,null,null,null,null,null,null,null,null,null,null,null,null,null,null,null,null,null,null,null,null,null,null,null,null,null,"RT5ST LUKES","RT5YL","ST LUKES","RT5YL","ST LUKES","RT5"]
[null,null,null,null,null,null,null,null,null,null,null,null,null,null,null,null,null,null,null,null,null,null,null,null,null,null,null,null,null,null,null,null,null,null,null,null,null,null,null,null,null,null,null,null,"RT5TREATMENT AND RECOVERY 1 (EPMA)","RT5L9","TREATMENT AND RECOVERY 1 (EPMA)","RT5L9","TREATMENT AND RECOVERY 1 (EPMA)","RT5"]
[null,null,null,null,null,null,null,null,null,null,null,null,null,null,null,null,null,null,null,null,null,null,null,null,null,null,null,null,null,null,null,null,null,null,null,null,null,null,null,null,null,null,null,null,"RT5WEST CITY ADULT MH (EPMA)","RT5X7","WEST CITY ADULT MH (EPMA)","RT5X7","WEST CITY ADULT MH (EPMA)","RT5"]
[null,null,null,null,null,null,null,null,null,null,null,null,null,null,null,null,null,null,null,null,null,null,null,null,null,null,null,null,null,null,null,null,null,null,null,null,null,null,null,null,null,null,null,null,"RTEBERKELEY HOSPITAL - RTE21","RTE21","BERKELEY HOSPITAL - RTE21","RTE21","BERKELEY HOSPITAL - RTE21","RTE"]
[null,null,null,null,null,null,null,null,null,null,null,null,null,null,null,null,null,null,null,null,null,null,null,null,null,null,null,null,null,null,null,null,null,null,null,null,null,null,null,null,null,null,null,null,"RTEGL1 GLOUCESTER LEISURE CENTRE - RTE53","RTE53","GL1 GLOUCESTER LEISURE CENTRE - RTE53","RTE53","GL1 GLOUCESTER LEISURE CENTRE - RTE53","RTE"]
[null,null,null,null,null,null,null,null,null,null,null,null,null,null,null,null,null,null,null,null,null,null,null,null,null,null,null,null,null,null,null,null,null,null,null,null,null,null,null,null,null,null,null,null,"RTEMAY LANE SURGERY - RTE49","RTE49","MAY LANE SURGERY - RTE49","RTE49","MAY LANE SURGERY - RTE49","RTE"]
[null,null,null,null,null,null,null,null,null,null,null,null,null,null,null,null,null,null,null,null,null,null,null,null,null,null,null,null,null,null,null,null,null,null,null,null,null,null,null,null,null,null,null,null,"RTESTROUD GENERAL HOSPITAL - RTE26","RTE26","STROUD GENERAL HOSPITAL - RTE26","RTE26","STROUD GENERAL HOSPITAL - RTE26","RTE"]
[null,null,null,null,null,null,null,null,null,null,null,null,null,null,null,null,null,null,null,null,null,null,null,null,null,null,null,null,null,null,null,null,null,null,null,null,null,null,null,null,null,null,null,null,"RTETHE SURGERY (ABBOTSWOOD ROAD) - RTE50","RTE50","THE SURGERY (ABBOTSWOOD ROAD) - RTE50","RTE50","THE SURGERY (ABBOTSWOOD ROAD) - RTE50","RTE"]
[null,null,null,null,null,null,null,null,null,null,null,null,null,null,null,null,null,null,null,null,null,null,null,null,null,null,null,null,null,null,null,null,null,null,null,null,null,null,null,null,null,null,null,null,"RTEWORCESTER ROYAL INFIRMARY - RTE84","RTE84","WORCESTER ROYAL INFIRMARY - RTE84","RTE84","WORCESTER ROYAL INFIRMARY - RTE84","RTE"]
[null,null,null,null,null,null,null,null,null,null,null,null,null,null,null,null,null,null,null,null,null,null,null,null,null,null,null,null,null,null,null,null,null,null,null,null,null,null,null,null,null,null,null,null,"RTFNORTH TYNESIDE (CLEARNET DATA) - RTF02","RTF02","NORTH TYNESIDE (CLEARNET DATA) - RTF02","RTF02","NORTH TYNESIDE (CLEARNET DATA) - RTF02","RTF"]
[null,null,null,null,null,null,null,null,null,null,null,null,null,null,null,null,null,null,null,null,null,null,null,null,null,null,null,null,null,null,null,null,null,null,null,null,null,null,null,null,null,null,null,null,"RTFOXFORD CENTRE - RTFDN","RTFDN","OXFORD CENTRE - RTFDN","RTFDN","OXFORD CENTRE - RTFDN","RTF"]
[null,null,null,null,null,null,null,null,null,null,null,null,null,null,null,null,null,null,null,null,null,null,null,null,null,null,null,null,null,null,null,null,null,null,null,null,null,null,null,null,null,null,null,null,"RTHBISHOPSWOOD SCHOOL CLINIC, SONNING COMMON - RTHE9","RTHE9","BISHOPSWOOD SCHOOL CLINIC, SONNING COMMON - RTHE9","RTHE9","BISHOPSWOOD SCHOOL CLINIC, SONNING COMMON - RTHE9","RTH"]
[null,null,null,null,null,null,null,null,null,null,null,null,null,null,null,null,null,null,null,null,null,null,null,null,null,null,null,null,null,null,null,null,null,null,null,null,null,null,null,null,null,null,null,null,"RTHDORSET RENAL - RTHC9","RTHC9","DORSET RENAL - RTHC9","RTHC9","DORSET RENAL - RTHC9","RTH"]
[null,null,null,null,null,null,null,null,null,null,null,null,null,null,null,null,null,null,null,null,null,null,null,null,null,null,null,null,null,null,null,null,null,null,null,null,null,null,null,null,null,null,null,null,"RTHNUFFIELD ORTHOPAEDIC CENTRE - RTH03","RTH03","NUFFIELD ORTHOPAEDIC CENTRE - RTH03","RTH03","NUFFIELD ORTHOPAEDIC CENTRE","RTH"]
[null,null,null,null,null,null,null,null,null,null,null,null,null,null,null,null,null,null,null,null,null,null,null,null,null,null,null,null,null,null,null,null,null,null,null,null,null,null,null,null,null,null,null,null,"RTKCLAREMONT AVENUE - RTK42","RTK42","CLAREMONT AVENUE - RTK42","RTK42","CLAREMONT AVENUE","RTK"]
[null,null,null,null,null,null,null,null,null,null,null,null,null,null,null,null,null,null,null,null,null,null,null,null,null,null,null,null,null,null,null,null,null,null,null,null,null,null,null,null,null,null,null,null,"RTKHOMEWATERS - RTK25","RTK25","HOMEWATERS - RTK25","RTK25","HOMEWATERS","RTK"]
[null,null,null,null,null,null,null,null,null,null,null,null,null,null,null,null,null,null,null,null,null,null,null,null,null,null,null,null,null,null,null,null,null,null,null,null,null,null,null,null,null,null,null,null,"RTKPACKERS - RTK30","RTK30","PACKERS - RTK30","RTK30","PACKERS","RTK"]
[null,null,null,null,null,null,null,null,null,null,null,null,null,null,null,null,null,null,null,null,null,null,null,null,null,null,null,null,null,null,null,null,null,null,null,null,null,null,null,null,null,null,null,null,"RTKTHE HEALTH CENTRE, BOND STREET - RTK19","RTK19","THE HEALTH CENTRE, BOND STREET - RTK19","RTK19","THE HEALTH CENTRE, BOND STREET","RTK"]
[null,null,null,null,null,null,null,null,null,null,null,null,null,null,null,null,null,null,null,null,null,null,null,null,null,null,null,null,null,null,null,null,null,null,null,null,null,null,null,null,null,null,null,null,"RTKWEYBRIDGE HEALTH CENTRE - RTK31","RTK31","WEYBRIDGE HEALTH CENTRE - RTK31","RTK31","WEYBRIDGE HEALTH CENTRE","RTK"]
[null,null,null,null,null,null,null,null,null,null,null,null,null,null,null,null,null,null,null,null,null,null,null,null,null,null,null,null,null,null,null,null,null,null,null,null,null,null,null,null,null,null,null,null,"RTQBRANCH LEA CROSS","RTQ64","BRANCH LEA CROSS","RTQ64","BRANCH LEA CROSS","RTQ"]
[null,null,null,null,null,null,null,null,null,null,null,null,null,null,null,null,null,null,null,null,null,null,null,null,null,null,null,null,null,null,null,null,null,null,null,null,null,null,null,null,null,null,null,null,"RTQCIRENCESTER HOSPITAL","RTQ21","CIRENCESTER HOSPITAL","RTQ21","CIRENCESTER HOSPITAL","RTQ"]
[null,null,null,null,null,null,null,null,null,null,null,null,null,null,null,null,null,null,null,null,null,null,null,null,null,null,null,null,null,null,null,null,null,null,null,null,null,null,null,null,null,null,null,null,"RTQHONEYBOURE","RTQ13","HONEYBOURE","RTQ13","HONEYBOURE","RTQ"]
[null,null,null,null,null,null,null,null,null,null,null,null,null,null,null,null,null,null,null,null,null,null,null,null,null,null,null,null,null,null,null,null,null,null,null,null,null,null,null,null,null,null,null,null,"RTQSALMON SPRINGS","RTQ08","SALMON SPRINGS","RTQ08","SALMON SPRINGS","RTQ"]
[null,null,null,null,null,null,null,null,null,null,null,null,null,null,null,null,null,null,null,null,null,null,null,null,null,null,null,null,null,null,null,null,null,null,null,null,null,null,null,null,null,null,null,null,"RTQTHE BUCKHOLT","RTQ51","THE BUCKHOLT","RTQ51","THE BUCKHOLT","RTQ"]
[null,null,null,null,null,null,null,null,null,null,null,null,null,null,null,null,null,null,null,null,null,null,null,null,null,null,null,null,null,null,null,null,null,null,null,null,null,null,null,null,null,null,null,null,"RTQUNDERLEAF","RTQ23","UNDERLEAF","RTQ23","UNDERLEAF","RTQ"]
[null,null,null,null,null,null,null,null,null,null,null,null,null,null,null,null,null,null,null,null,null,null,null,null,null,null,null,null,null,null,null,null,null,null,null,null,null,null,null,null,null,null,null,null,"RTRFRIARAGE HOSPITAL SITE - RTR45","RTR45","FRIARAGE HOSPITAL SITE - RTR45","RTR45","FRIARAGE HOSPITAL SITE","RTR"]
[null,null,null,null,null,null,null,null,null,null,null,null,null,null,null,null,null,null,null,null,null,null,null,null,null,null,null,null,null,null,null,null,null,null,null,null,null,null,null,null,null,null,null,null,"RTRRUTSON HOSPITAL","RTR12","RUTSON HOSPITAL","RTR12","RUTSON HOSPITAL","RTR"]
[null,null,null,null,null,null,null,null,null,null,null,null,null,null,null,null,null,null,null,null,null,null,null,null,null,null,null,null,null,null,null,null,null,null,null,null,null,null,null,null,null,null,null,null,"RTVHOLLINS PARK HOSPITAL OLDER PERSONS","RTV34","HOLLINS PARK HOSPITAL OLDER PERSONS","RTV34","HOLLINS PARK HOSPITAL OLDER PERSONS","RTV"]
[null,null,null,null,null,null,null,null,null,null,null,null,null,null,null,null,null,null,null,null,null,null,null,null,null,null,null,null,null,null,null,null,null,null,null,null,null,null,null,null,null,null,null,null,"RTVMASEFIELD SUITE","RTVC4","MASEFIELD SUITE","RTVC4","MASEFIELD SUITE","RTV"]
[null,null,null,null,null,null,null,null,null,null,null,null,null,null,null,null,null,null,null,null,null,null,null,null,null,null,null,null,null,null,null,null,null,null,null,null,null,null,null,null,null,null,null,null,"RTVTHE OLD QUAYS","RTVH1","THE OLD QUAYS","RTVH1","THE OLD QUAYS","RTV"]
[null,null,null,null,null,null,null,null,null,null,null,null,null,null,null,null,null,null,null,null,null,null,null,null,null,null,null,null,null,null,null,null,null,null,null,null,null,null,null,null,null,null,null,null,"RV3  PARK ROYAL CENTRE FOR MENTAL HEALTH","RV312","  PARK ROYAL CENTRE FOR MENTAL HEALTH","RV312","  PARK ROYAL CENTRE FOR MENTAL HEALTH","RV3"]
[null,null,null,null,null,null,null,null,null,null,null,null,null,null,null,null,null,null,null,null,null,null,null,null,null,null,null,null,null,null,null,null,null,null,null,null,null,null,null,null,null,null,null,null,"RV3CHELSEA & WESTMINSTER HOSPITAL","RV331","CHELSEA & WESTMINSTER HOSPITAL","RV331","CHELSEA & WESTMINSTER HOSPITAL","RV3"]
[null,null,null,null,null,null,null,null,null,null,null,null,null,null,null,null,null,null,null,null,null,null,null,null,null,null,null,null,null,null,null,null,null,null,null,null,null,null,null,null,null,null,null,null,"RV3EAST RECOVERY","RV3G7","EAST RECOVERY","RV3G7","EAST RECOVERY","RV3"]
[null,null,null,null,null,null,null,null,null,null,null,null,null,null,null,null,null,null,null,null,null,null,null,null,null,null,null,null,null,null,null,null,null,null,null,null,null,null,null,null,null,null,null,null,"RV3MOUNT VERNON PCCS","RV3AV","MOUNT VERNON PCCS","RV3AV","MOUNT VERNON PCCS","RV3"]
[null,null,null,null,null,null,null,null,null,null,null,null,null,null,null,null,null,null,null,null,null,null,null,null,null,null,null,null,null,null,null,null,null,null,null,null,null,null,null,null,null,null,null,null,"RV3NORTHWOOD & PINNER COMMUNITY HOSPITAL","RV3FG","NORTHWOOD & PINNER COMMUNITY HOSPITAL","RV3FG","NORTHWOOD & PINNER COMMUNITY HOSPITAL","RV3"]
[null,null,null,null,null,null,null,null,null,null,null,null,null,null,null,null,null,null,null,null,null,null,null,null,null,null,null,null,null,null,null,null,null,null,null,null,null,null,null,null,null,null,null,null,"RV3TICKFORD MEADOW","RV3JD","TICKFORD MEADOW","RV3JD","TICKFORD MEADOW","RV3"]
[null,null,null,null,null,null,null,null,null,null,null,null,null,null,null,null,null,null,null,null,null,null,null,null,null,null,null,null,null,null,null,null,null,null,null,null,null,null,null,null,null,null,null,null,"RV5ASSESSMENT LIAISON AND OUTREACH TEAM","RV52C","ASSESSMENT LIAISON AND OUTREACH TEAM","RV52C","ASSESSMENT LIAISON AND OUTREACH TEAM","RV5"]
[null,null,null,null,null,null,null,null,null,null,null,null,null,null,null,null,null,null,null,null,null,null,null,null,null,null,null,null,null,null,null,null,null,null,null,null,null,null,null,null,null,null,null,null,"RV5DOMUS ANN MOSS WAY","RV5A3","DOMUS ANN MOSS WAY","RV5A3","DOMUS ANN MOSS WAY","RV5"]
[null,null,null,null,null,null,null,null,null,null,null,null,null,null,null,null,null,null,null,null,null,null,null,null,null,null,null,null,null,null,null,null,null,null,null,null,null,null,null,null,null,null,null,null,"RV5MAUDSLEY HOSPITAL","RV504","MAUDSLEY HOSPITAL","RV504","MAUDSLEY HOSPITAL","RV5"]
[null,null,null,null,null,null,null,null,null,null,null,null,null,null,null,null,null,null,null,null,null,null,null,null,null,null,null,null,null,null,null,null,null,null,null,null,null,null,null,null,null,null,null,null,"RV5NATIONAL MBU - COMMUNITY ASSESSMENT & TREATMENT","RV5WF","NATIONAL MBU - COMMUNITY ASSESSMENT & TREATMENT","RV5WF","NATIONAL MBU - COMMUNITY ASSESSMENT & TREATMENT","RV5"]
[null,null,null,null,null,null,null,null,null,null,null,null,null,null,null,null,null,null,null,null,null,null,null,null,null,null,null,null,null,null,null,null,null,null,null,null,null,null,null,null,null,null,null,null,"RV5SALVATION ARMY","RV5E4","SALVATION ARMY","RV5E4","SALVATION ARMY","RV5"]
[null,null,null,null,null,null,null,null,null,null,null,null,null,null,null,null,null,null,null,null,null,null,null,null,null,null,null,null,null,null,null,null,null,null,null,null,null,null,null,null,null,null,null,null,"RV9AVONDALE IN-PATIENT 101740","RV9AH","AVONDALE IN-PATIENT 101740","RV9AH","AVONDALE IN-PATIENT 101740","RV9"]
[null,null,null,null,null,null,null,null,null,null,null,null,null,null,null,null,null,null,null,null,null,null,null,null,null,null,null,null,null,null,null,null,null,null,null,null,null,null,null,null,null,null,null,null,"RV9CTLD EAST RIDING","RV9LD","CTLD EAST RIDING","RV9LD","CTLD EAST RIDING","RV9"]
[null,null,null,null,null,null,null,null,null,null,null,null,null,null,null,null,null,null,null,null,null,null,null,null,null,null,null,null,null,null,null,null,null,null,null,null,null,null,null,null,null,null,null,null,"RV9ER CAT","RV9D7","ER CAT","RV9D7","ER CAT","RV9"]
[null,null,null,null,null,null,null,null,null,null,null,null,null,null,null,null,null,null,null,null,null,null,null,null,null,null,null,null,null,null,null,null,null,null,null,null,null,null,null,null,null,null,null,null,"RV9GOOLE SSMS","RV995","GOOLE SSMS","RV995","GOOLE SSMS","RV9"]
[null,null,null,null,null,null,null,null,null,null,null,null,null,null,null,null,null,null,null,null,null,null,null,null,null,null,null,null,null,null,null,null,null,null,null,null,null,null,null,null,null,null,null,null,"RV9LILAC WARD IN-PATIENT","RV9LT","LILAC WARD IN-PATIENT","RV9LT","LILAC WARD IN-PATIENT","RV9"]
[null,null,null,null,null,null,null,null,null,null,null,null,null,null,null,null,null,null,null,null,null,null,null,null,null,null,null,null,null,null,null,null,null,null,null,null,null,null,null,null,null,null,null,null,"RV9PAEDIATRIC MEDICINE (HEY)","RV9JJ","PAEDIATRIC MEDICINE (HEY)","RV9JJ","PAEDIATRIC MEDICINE (HEY)","RV9"]
[null,null,null,null,null,null,null,null,null,null,null,null,null,null,null,null,null,null,null,null,null,null,null,null,null,null,null,null,null,null,null,null,null,null,null,null,null,null,null,null,null,null,null,null,"RV9RST EAST RIDING WEST 101723","RV9A6","RST EAST RIDING WEST 101723","RV9A6","RST EAST RIDING WEST 101723","RV9"]
[null,null,null,null,null,null,null,null,null,null,null,null,null,null,null,null,null,null,null,null,null,null,null,null,null,null,null,null,null,null,null,null,null,null,null,null,null,null,null,null,null,null,null,null,"RV9RST ER EAST - DRIFF","RV9JC","RST ER EAST - DRIFF","RV9JC","RST ER EAST - DRIFF","RV9"]
[null,null,null,null,null,null,null,null,null,null,null,null,null,null,null,null,null,null,null,null,null,null,null,null,null,null,null,null,null,null,null,null,null,null,null,null,null,null,null,null,null,null,null,null,"RV9WEST END WARDS IN-PATIENT 101776","RV9CW","WEST END WARDS IN-PATIENT 101776","RV9CW","WEST END WARDS IN-PATIENT 101776","RV9"]
[null,null,null,null,null,null,null,null,null,null,null,null,null,null,null,null,null,null,null,null,null,null,null,null,null,null,null,null,null,null,null,null,null,null,null,null,null,null,null,null,null,null,null,null,"RV9WITHERNSEA WARD","RV9WA","WITHERNSEA WARD","RV9WA","WITHERNSEA WARD","RV9"]
[null,null,null,null,null,null,null,null,null,null,null,null,null,null,null,null,null,null,null,null,null,null,null,null,null,null,null,null,null,null,null,null,null,null,null,null,null,null,null,null,null,null,null,null,"RVJCOSSHAM HOSPITAL - RVJ21","RVJ21","COSSHAM HOSPITAL - RVJ21","RVJ21","COSSHAM HOSPITAL","RVJ"]
[null,null,null,null,null,null,null,null,null,null,null,null,null,null,null,null,null,null,null,null,null,null,null,null,null,null,null,null,null,null,null,null,null,null,null,null,null,null,null,null,null,null,null,null,"RVJSOUTHMEAD HOSPITAL - RVJ01","RVJ01","SOUTHMEAD HOSPITAL - RVJ01","RVJ01","SOUTHMEAD HOSPITAL","RVJ"]
[null,null,null,null,null,null,null,null,null,null,null,null,null,null,null,null,null,null,null,null,null,null,null,null,null,null,null,null,null,null,null,null,null,null,null,null,null,null,null,null,null,null,null,null,"RVNBRISTOL SDAS","RVNP8","BRISTOL SDAS","RVNP8","BRISTOL SDAS","RVN"]
[null,null,null,null,null,null,null,null,null,null,null,null,null,null,null,null,null,null,null,null,null,null,null,null,null,null,null,null,null,null,null,null,null,null,null,null,null,null,null,null,null,null,null,null,"RVNCORUM TWO","RVN5N","CORUM TWO","RVN5N","CORUM TWO","RVN"]
[null,null,null,null,null,null,null,null,null,null,null,null,null,null,null,null,null,null,null,null,null,null,null,null,null,null,null,null,null,null,null,null,null,null,null,null,null,null,null,null,null,null,null,null,"RVNNORTH SOMERSET ADULT","RVNT1","NORTH SOMERSET ADULT","RVNT1","NORTH SOMERSET ADULT","RVN"]
[null,null,null,null,null,null,null,null,null,null,null,null,null,null,null,null,null,null,null,null,null,null,null,null,null,null,null,null,null,null,null,null,null,null,null,null,null,null,null,null,null,null,null,null,"RVNNORTH SOMERSET OLDER ADULT","RVNT6","NORTH SOMERSET OLDER ADULT","RVNT6","NORTH SOMERSET OLDER ADULT","RVN"]
[null,null,null,null,null,null,null,null,null,null,null,null,null,null,null,null,null,null,null,null,null,null,null,null,null,null,null,null,null,null,null,null,null,null,null,null,null,null,null,null,null,null,null,null,"RVNSOUTHMEAD HOSPITAL AWP","RVN3N","SOUTHMEAD HOSPITAL AWP","RVN3N","SOUTHMEAD HOSPITAL AWP","RVN"]
[null,null,null,null,null,null,null,null,null,null,null,null,null,null,null,null,null,null,null,null,null,null,null,null,null,null,null,null,null,null,null,null,null,null,null,null,null,null,null,null,null,null,null,null,"RVNTHE ELMS","RVN5A","THE ELMS","RVN5A","THE ELMS","RVN"]
[null,null,null,null,null,null,null,null,null,null,null,null,null,null,null,null,null,null,null,null,null,null,null,null,null,null,null,null,null,null,null,null,null,null,null,null,null,null,null,null,null,null,null,null,"RVREPSOM HOSPITAL - RVR50","RVR50","EPSOM HOSPITAL - RVR50","RVR50","EPSOM HOSPITAL","RVR"]
[null,null,null,null,null,null,null,null,null,null,null,null,null,null,null,null,null,null,null,null,null,null,null,null,null,null,null,null,null,null,null,null,null,null,null,null,null,null,null,null,null,null,null,null,"RVRST HELIER HOSPITAL - RVR05","RVR05","ST HELIER HOSPITAL - RVR05","RVR05","ST HELIER HOSPITAL","RVR"]
[null,null,null,null,null,null,null,null,null,null,null,null,null,null,null,null,null,null,null,null,null,null,null,null,null,null,null,null,null,null,null,null,null,null,null,null,null,null,null,null,null,null,null,null,"RVVQUEEN VICTORIA MEMORIAL HOSPITAL (HERNE BAY) - RVV10","RVV10","QUEEN VICTORIA MEMORIAL HOSPITAL (HERNE BAY) - RVV10","RVV10","QUEEN VICTORIA MEMORIAL HOSPITAL (HERNE BAY)","RVV"]
[null,null,null,null,null,null,null,null,null,null,null,null,null,null,null,null,null,null,null,null,null,null,null,null,null,null,null,null,null,null,null,null,null,null,null,null,null,null,null,null,null,null,null,null,"RVVWILLIAM HARVEY HOSPITAL (ASHFORD) - RVV01","RVV01","WILLIAM HARVEY HOSPITAL (ASHFORD) - RVV01","RVV01","WILLIAM HARVEY HOSPITAL (ASHFORD)","RVV"]
[null,null,null,null,null,null,null,null,null,null,null,null,null,null,null,null,null,null,null,null,null,null,null,null,null,null,null,null,null,null,null,null,null,null,null,null,null,null,null,null,null,null,null,null,"RW1ALTON COMMUNITY HOSPITAL","RW194","ALTON COMMUNITY HOSPITAL","RW194","ALTON COMMUNITY HOSPITAL","RW1"]
[null,null,null,null,null,null,null,null,null,null,null,null,null,null,null,null,null,null,null,null,null,null,null,null,null,null,null,null,null,null,null,null,null,null,null,null,null,null,null,null,null,null,null,null,"RW1ANDOVER WAR MEMORIAL HOSPITAL","RW122","ANDOVER WAR MEMORIAL HOSPITAL","RW122","ANDOVER WAR MEMORIAL HOSPITAL","RW1"]
[null,null,null,null,null,null,null,null,null,null,null,null,null,null,null,null,null,null,null,null,null,null,null,null,null,null,null,null,null,null,null,null,null,null,null,null,null,null,null,null,null,null,null,null,"RW1CHILD & FAMILY THERAPY","RW14L","CHILD & FAMILY THERAPY","RW14L","CHILD & FAMILY THERAPY","RW1"]
[null,null,null,null,null,null,null,null,null,null,null,null,null,null,null,null,null,null,null,null,null,null,null,null,null,null,null,null,null,null,null,null,null,null,null,null,null,null,null,null,null,null,null,null,"RW1COPPER BEECHES (ANDOVER)","RW171","COPPER BEECHES (ANDOVER)","RW171","COPPER BEECHES (ANDOVER)","RW1"]
[null,null,null,null,null,null,null,null,null,null,null,null,null,null,null,null,null,null,null,null,null,null,null,null,null,null,null,null,null,null,null,null,null,null,null,null,null,null,null,null,null,null,null,null,"RW1EIP","RW1YE","EIP","RW1YE","EIP","RW1"]
[null,null,null,null,null,null,null,null,null,null,null,null,null,null,null,null,null,null,null,null,null,null,null,null,null,null,null,null,null,null,null,null,null,null,null,null,null,null,null,null,null,null,null,null,{"$f":"CONCATENATE(LEFT(AT2829, 3),AU2829)","v":"RW1FENWICK HOSPITAL"},"RW1Q2","FENWICK HOSPITAL","RW1Q2","FENWICK HOSPITAL",{"$f":"LEFT(AV2829,3)","v":"RW1"}]
[null,null,null,null,null,null,null,null,null,null,null,null,null,null,null,null,null,null,null,null,null,null,null,null,null,null,null,null,null,null,null,null,null,null,null,null,null,null,null,null,null,null,null,null,"RW1HALEACRE UNIT","RW1HW","HALEACRE UNIT","RW1HW","HALEACRE UNIT","RW1"]
[null,null,null,null,null,null,null,null,null,null,null,null,null,null,null,null,null,null,null,null,null,null,null,null,null,null,null,null,null,null,null,null,null,null,null,null,null,null,null,null,null,null,null,null,"RW1HAVANT & PETERSFIELD OPMH 2","RW1VV","HAVANT & PETERSFIELD OPMH 2","RW1VV","HAVANT & PETERSFIELD OPMH 2","RW1"]
[null,null,null,null,null,null,null,null,null,null,null,null,null,null,null,null,null,null,null,null,null,null,null,null,null,null,null,null,null,null,null,null,null,null,null,null,null,null,null,null,null,null,null,null,"RW1KING GEORGE V","RW12P","KING GEORGE V","RW12P","KING GEORGE V","RW1"]
[null,null,null,null,null,null,null,null,null,null,null,null,null,null,null,null,null,null,null,null,null,null,null,null,null,null,null,null,null,null,null,null,null,null,null,null,null,null,null,null,null,null,null,null,"RW1LEONARD CHESHIRE","RW104","LEONARD CHESHIRE","RW104","LEONARD CHESHIRE","RW1"]
[null,null,null,null,null,null,null,null,null,null,null,null,null,null,null,null,null,null,null,null,null,null,null,null,null,null,null,null,null,null,null,null,null,null,null,null,null,null,null,null,null,null,null,null,"RW1MOORGREEN HOSPITAL","RW154","MOORGREEN HOSPITAL","RW154","MOORGREEN HOSPITAL","RW1"]
[null,null,null,null,null,null,null,null,null,null,null,null,null,null,null,null,null,null,null,null,null,null,null,null,null,null,null,null,null,null,null,null,null,null,null,null,null,null,null,null,null,null,null,null,"RW1NEW FOREST CLDT","RW1C7","NEW FOREST CLDT","RW1C7","NEW FOREST CLDT","RW1"]
[null,null,null,null,null,null,null,null,null,null,null,null,null,null,null,null,null,null,null,null,null,null,null,null,null,null,null,null,null,null,null,null,null,null,null,null,null,null,null,null,null,null,null,null,"RW1PAEDIATRIC HASLEMERE","RW14H","PAEDIATRIC HASLEMERE","RW14H","PAEDIATRIC HASLEMERE","RW1"]
[null,null,null,null,null,null,null,null,null,null,null,null,null,null,null,null,null,null,null,null,null,null,null,null,null,null,null,null,null,null,null,null,null,null,null,null,null,null,null,null,null,null,null,null,"RW1PSYCHOTHERAPY","RW1VY","PSYCHOTHERAPY","RW1VY","PSYCHOTHERAPY","RW1"]
[null,null,null,null,null,null,null,null,null,null,null,null,null,null,null,null,null,null,null,null,null,null,null,null,null,null,null,null,null,null,null,null,null,null,null,null,null,null,null,null,null,null,null,null,"RW1ROWAN WARD","RW15H","ROWAN WARD","RW15H","ROWAN WARD","RW1"]
[null,null,null,null,null,null,null,null,null,null,null,null,null,null,null,null,null,null,null,null,null,null,null,null,null,null,null,null,null,null,null,null,null,null,null,null,null,null,null,null,null,null,null,null,"RW1SOUTH WILTS CTPLD","RW1HQ","SOUTH WILTS CTPLD","RW1HQ","SOUTH WILTS CTPLD","RW1"]
[null,null,null,null,null,null,null,null,null,null,null,null,null,null,null,null,null,null,null,null,null,null,null,null,null,null,null,null,null,null,null,null,null,null,null,null,null,null,null,null,null,null,null,null,"RW1TATCHBURY MOUNT","RW146","TATCHBURY MOUNT","RW146","TATCHBURY MOUNT","RW1"]
[null,null,null,null,null,null,null,null,null,null,null,null,null,null,null,null,null,null,null,null,null,null,null,null,null,null,null,null,null,null,null,null,null,null,null,null,null,null,null,null,null,null,null,null,"RW1THE GRANGE","RW1T8","THE GRANGE","RW1T8","THE GRANGE","RW1"]
[null,null,null,null,null,null,null,null,null,null,null,null,null,null,null,null,null,null,null,null,null,null,null,null,null,null,null,null,null,null,null,null,null,null,null,null,null,null,null,null,null,null,null,null,"RW1WESTBROOK","RW1T2","WESTBROOK","RW1T2","WESTBROOK","RW1"]
[null,null,null,null,null,null,null,null,null,null,null,null,null,null,null,null,null,null,null,null,null,null,null,null,null,null,null,null,null,null,null,null,null,null,null,null,null,null,null,null,null,null,null,null,"RW1WILLIAM KIMBER CRESCENT","RW13M","WILLIAM KIMBER CRESCENT","RW13M","WILLIAM KIMBER CRESCENT","RW1"]
[null,null,null,null,null,null,null,null,null,null,null,null,null,null,null,null,null,null,null,null,null,null,null,null,null,null,null,null,null,null,null,null,null,null,null,null,null,null,null,null,null,null,null,null,"RW4BROADGREEN SITE","RW433","BROADGREEN SITE","RW433","BROADGREEN SITE","RW4"]
[null,null,null,null,null,null,null,null,null,null,null,null,null,null,null,null,null,null,null,null,null,null,null,null,null,null,null,null,null,null,null,null,null,null,null,null,null,null,null,null,null,null,null,null,"RW4CLOCK VIEW HOSPITAL","RW41E","CLOCK VIEW HOSPITAL","RW41E","CLOCK VIEW HOSPITAL","RW4"]
[null,null,null,null,null,null,null,null,null,null,null,null,null,null,null,null,null,null,null,null,null,null,null,null,null,null,null,null,null,null,null,null,null,null,null,null,null,null,null,null,null,null,null,null,"RW4LIVERPOOL EIT","RW468","LIVERPOOL EIT","RW468","LIVERPOOL EIT","RW4"]
[null,null,null,null,null,null,null,null,null,null,null,null,null,null,null,null,null,null,null,null,null,null,null,null,null,null,null,null,null,null,null,null,null,null,null,null,null,null,null,null,null,null,null,null,"RW4NORTH LIVERPOOL CDT","RW409","NORTH LIVERPOOL CDT","RW409","NORTH LIVERPOOL CDT","RW4"]
[null,null,null,null,null,null,null,null,null,null,null,null,null,null,null,null,null,null,null,null,null,null,null,null,null,null,null,null,null,null,null,null,null,null,null,null,null,null,null,null,null,null,null,null,"RW4SOUTH SEFTON CDT","RW410","SOUTH SEFTON CDT","RW410","SOUTH SEFTON CDT","RW4"]
[null,null,null,null,null,null,null,null,null,null,null,null,null,null,null,null,null,null,null,null,null,null,null,null,null,null,null,null,null,null,null,null,null,null,null,null,null,null,null,null,null,null,null,null,"RW4WAVERTREE BUNGALOW","RW453","WAVERTREE BUNGALOW","RW453","WAVERTREE BUNGALOW","RW4"]
[null,null,null,null,null,null,null,null,null,null,null,null,null,null,null,null,null,null,null,null,null,null,null,null,null,null,null,null,null,null,null,null,null,null,null,null,null,null,null,null,null,null,null,null,"RW5BURNLEY WOOD","RW5CM","BURNLEY WOOD","RW5CM","BURNLEY WOOD","RW5"]
[null,null,null,null,null,null,null,null,null,null,null,null,null,null,null,null,null,null,null,null,null,null,null,null,null,null,null,null,null,null,null,null,null,null,null,null,null,null,null,null,null,null,null,null,"RW5CENTRAL LANCS MAS","RW5TC","CENTRAL LANCS MAS","RW5TC","CENTRAL LANCS MAS","RW5"]
[null,null,null,null,null,null,null,null,null,null,null,null,null,null,null,null,null,null,null,null,null,null,null,null,null,null,null,null,null,null,null,null,null,null,null,null,null,null,null,null,null,null,null,null,"RW5LEARNING DIFFICULTIES (CHORLEY & SOUTH RIBBLE DISTRICT GENERAL HOSPITAL)","RW5HD","LEARNING DIFFICULTIES (CHORLEY & SOUTH RIBBLE DISTRICT GENERAL HOSPITAL)","RW5HD","LEARNING DIFFICULTIES (CHORLEY & SOUTH RIBBLE DISTRICT GENERAL HOSPITAL)","RW5"]
[null,null,null,null,null,null,null,null,null,null,null,null,null,null,null,null,null,null,null,null,null,null,null,null,null,null,null,null,null,null,null,null,null,null,null,null,null,null,null,null,null,null,null,null,"RW5MEADOWBANK NURSING AND RESIDENTIAL HOME","RW5DF","MEADOWBANK NURSING AND RESIDENTIAL HOME","RW5DF","MEADOWBANK NURSING AND RESIDENTIAL HOME","RW5"]
[null,null,null,null,null,null,null,null,null,null,null,null,null,null,null,null,null,null,null,null,null,null,null,null,null,null,null,null,null,null,null,null,null,null,null,null,null,null,null,null,null,null,null,null,"RW5QUAYSIDE","RW5ND","QUAYSIDE","RW5ND","QUAYSIDE","RW5"]
[null,null,null,null,null,null,null,null,null,null,null,null,null,null,null,null,null,null,null,null,null,null,null,null,null,null,null,null,null,null,null,null,null,null,null,null,null,null,null,null,null,null,null,null,"RW5ROYAL LANCASTER INFIRMARY","RW5LT","ROYAL LANCASTER INFIRMARY","RW5LT","ROYAL LANCASTER INFIRMARY","RW5"]
[null,null,null,null,null,null,null,null,null,null,null,null,null,null,null,null,null,null,null,null,null,null,null,null,null,null,null,null,null,null,null,null,null,null,null,null,null,null,null,null,null,null,null,null,"RW5UNIT 13","RW5KF","UNIT 13","RW5KF","UNIT 13","RW5"]
[null,null,null,null,null,null,null,null,null,null,null,null,null,null,null,null,null,null,null,null,null,null,null,null,null,null,null,null,null,null,null,null,null,null,null,null,null,null,null,null,null,null,null,null,{"$f":"CONCATENATE(LEFT(AT3086, 3),AU3086)","v":"RW6BURY GENERAL HOSPITAL - RW606"},"RW606","BURY GENERAL HOSPITAL - RW606","RW606","BURY GENERAL HOSPITAL",{"$f":"LEFT(AV3086,3)","v":"RW6"}]
[null,null,null,null,null,null,null,null,null,null,null,null,null,null,null,null,null,null,null,null,null,null,null,null,null,null,null,null,null,null,null,null,null,null,null,null,null,null,null,null,null,null,null,null,"RWDGRANTHAM AND DISTRICT HOSPITAL - RWDLP","RWDLP","GRANTHAM AND DISTRICT HOSPITAL - RWDLP","RWDLP","GRANTHAM AND DISTRICT HOSPITAL","RWD"]
[null,null,null,null,null,null,null,null,null,null,null,null,null,null,null,null,null,null,null,null,null,null,null,null,null,null,null,null,null,null,null,null,null,null,null,null,null,null,null,null,null,null,null,null,"RWDJOHNSON HOSPITAL - RWDLD","RWDLD","JOHNSON HOSPITAL - RWDLD","RWDLD","JOHNSON HOSPITAL","RWD"]
[null,null,null,null,null,null,null,null,null,null,null,null,null,null,null,null,null,null,null,null,null,null,null,null,null,null,null,null,null,null,null,null,null,null,null,null,null,null,null,null,null,null,null,null,"RWFDARENT VALLEY HOSPITAL - RWF24","RWF24","DARENT VALLEY HOSPITAL - RWF24","RWF24","DARENT VALLEY HOSPITAL","RWF"]
[null,null,null,null,null,null,null,null,null,null,null,null,null,null,null,null,null,null,null,null,null,null,null,null,null,null,null,null,null,null,null,null,null,null,null,null,null,null,null,null,null,null,null,null,"RWFMEDWAY MARITIME HOSPITAL - RWF30","RWF30","MEDWAY MARITIME HOSPITAL - RWF30","RWF30","MEDWAY MARITIME HOSPITAL","RWF"]
[null,null,null,null,null,null,null,null,null,null,null,null,null,null,null,null,null,null,null,null,null,null,null,null,null,null,null,null,null,null,null,null,null,null,null,null,null,null,null,null,null,null,null,null,"RWFSHEPPEY COMMUNITY HOSPITAL - RWF15","RWF15","SHEPPEY COMMUNITY HOSPITAL - RWF15","RWF15","SHEPPEY COMMUNITY HOSPITAL","RWF"]
[null,null,null,null,null,null,null,null,null,null,null,null,null,null,null,null,null,null,null,null,null,null,null,null,null,null,null,null,null,null,null,null,null,null,null,null,null,null,null,null,null,null,null,null,"RWGHEMEL HEMPSTEAD HOSPITAL - RWG08","RWG08","HEMEL HEMPSTEAD HOSPITAL - RWG08","RWG08","HEMEL HEMPSTEAD HOSPITAL","RWG"]
[null,null,null,null,null,null,null,null,null,null,null,null,null,null,null,null,null,null,null,null,null,null,null,null,null,null,null,null,null,null,null,null,null,null,null,null,null,null,null,null,null,null,null,null,"RWJST THOMAS HOSPITAL - RWJ04","RWJ04","ST THOMAS HOSPITAL - RWJ04","RWJ04","ST THOMAS HOSPITAL","RWJ"]
[null,null,null,null,null,null,null,null,null,null,null,null,null,null,null,null,null,null,null,null,null,null,null,null,null,null,null,null,null,null,null,null,null,null,null,null,null,null,null,null,null,null,null,null,"RWKBEDFORD HEALTH VILLAGE","RWK1R","BEDFORD HEALTH VILLAGE","RWK1R","BEDFORD HEALTH VILLAGE","RWK"]
[null,null,null,null,null,null,null,null,null,null,null,null,null,null,null,null,null,null,null,null,null,null,null,null,null,null,null,null,null,null,null,null,null,null,null,null,null,null,null,null,null,null,null,null,"RWKHEALTH LINK BROMHAM ROAD","RWK1X","HEALTH LINK BROMHAM ROAD","RWK1X","HEALTH LINK BROMHAM ROAD","RWK"]
[null,null,null,null,null,null,null,null,null,null,null,null,null,null,null,null,null,null,null,null,null,null,null,null,null,null,null,null,null,null,null,null,null,null,null,null,null,null,null,null,null,null,null,null,"RWKLUTON & CENTRAL BEDS MHIP","RWK2X","LUTON & CENTRAL BEDS MHIP","RWK2X","LUTON & CENTRAL BEDS MHIP","RWK"]
[null,null,null,null,null,null,null,null,null,null,null,null,null,null,null,null,null,null,null,null,null,null,null,null,null,null,null,null,null,null,null,null,null,null,null,null,null,null,null,null,null,null,null,null,"RWKWOLFSON HOUSE","RWK85","WOLFSON HOUSE","RWK85","WOLFSON HOUSE","RWK"]
[null,null,null,null,null,null,null,null,null,null,null,null,null,null,null,null,null,null,null,null,null,null,null,null,null,null,null,null,null,null,null,null,null,null,null,null,null,null,null,null,null,null,null,null,"RWNBEDFORD SSMS [HEALTHLINK]","RWN08","BEDFORD SSMS [HEALTHLINK]","RWN08","BEDFORD SSMS [HEALTHLINK]","RWN"]
[null,null,null,null,null,null,null,null,null,null,null,null,null,null,null,null,null,null,null,null,null,null,null,null,null,null,null,null,null,null,null,null,null,null,null,null,null,null,null,null,null,null,null,null,"RWNBULLWOOD HALL","RWNC2","BULLWOOD HALL","RWNC2","BULLWOOD HALL","RWN"]
[null,null,null,null,null,null,null,null,null,null,null,null,null,null,null,null,null,null,null,null,null,null,null,null,null,null,null,null,null,null,null,null,null,null,null,null,null,null,null,null,null,null,null,null,"RWNHOURSWORTH","RWNK2","HOURSWORTH","RWNK2","HOURSWORTH","RWN"]
[null,null,null,null,null,null,null,null,null,null,null,null,null,null,null,null,null,null,null,null,null,null,null,null,null,null,null,null,null,null,null,null,null,null,null,null,null,null,null,null,null,null,null,null,"RWNMENTAL HEALTH UNIT (BASILDON)","RWN40","MENTAL HEALTH UNIT (BASILDON)","RWN40","MENTAL HEALTH UNIT (BASILDON)","RWN"]
[null,null,null,null,null,null,null,null,null,null,null,null,null,null,null,null,null,null,null,null,null,null,null,null,null,null,null,null,null,null,null,null,null,null,null,null,null,null,null,null,null,null,null,null,"RWNOTHER COMMUNITY PREMISES","RWNL3","OTHER COMMUNITY PREMISES","RWNL3","OTHER COMMUNITY PREMISES","RWN"]
[null,null,null,null,null,null,null,null,null,null,null,null,null,null,null,null,null,null,null,null,null,null,null,null,null,null,null,null,null,null,null,null,null,null,null,null,null,null,null,null,null,null,null,null,"RWNST MARGARET'S HOSPITAL","RWNT1","ST MARGARET'S HOSPITAL","RWNT1","ST MARGARET'S HOSPITAL","RWN"]
[null,null,null,null,null,null,null,null,null,null,null,null,null,null,null,null,null,null,null,null,null,null,null,null,null,null,null,null,null,null,null,null,null,null,null,null,null,null,null,null,null,null,null,null,"RWNTHURROCK COMMUNITY HOSPITAL","RWN50","THURROCK COMMUNITY HOSPITAL","RWN50","THURROCK COMMUNITY HOSPITAL","RWN"]
[null,null,null,null,null,null,null,null,null,null,null,null,null,null,null,null,null,null,null,null,null,null,null,null,null,null,null,null,null,null,null,null,null,null,null,null,null,null,null,null,null,null,null,null,"RWRAPPLETREES & CHERRYTREES","RWR15","APPLETREES & CHERRYTREES","RWR15","APPLETREES & CHERRYTREES","RWR"]
[null,null,null,null,null,null,null,null,null,null,null,null,null,null,null,null,null,null,null,null,null,null,null,null,null,null,null,null,null,null,null,null,null,null,null,null,null,null,null,null,null,null,null,null,"RWRERIC SHEPHERD ADMINISTRATION","RWR23","ERIC SHEPHERD ADMINISTRATION","RWR23","ERIC SHEPHERD ADMINISTRATION","RWR"]
[null,null,null,null,null,null,null,null,null,null,null,null,null,null,null,null,null,null,null,null,null,null,null,null,null,null,null,null,null,null,null,null,null,null,null,null,null,null,null,null,null,null,null,null,"RWRKINGSLEY GREEN","RWR96","KINGSLEY GREEN","RWR96","KINGSLEY GREEN","RWR"]
[null,null,null,null,null,null,null,null,null,null,null,null,null,null,null,null,null,null,null,null,null,null,null,null,null,null,null,null,null,null,null,null,null,null,null,null,null,null,null,null,null,null,null,null,"RWRMENTAL HEALTH SERVICE (LISTER HOSPITAL)","RWR34","MENTAL HEALTH SERVICE (LISTER HOSPITAL)","RWR34","MENTAL HEALTH SERVICE (LISTER HOSPITAL)","RWR"]
[null,null,null,null,null,null,null,null,null,null,null,null,null,null,null,null,null,null,null,null,null,null,null,null,null,null,null,null,null,null,null,null,null,null,null,null,null,null,null,null,null,null,null,null,"RWRSAFFRON GROUND","RWRG8","SAFFRON GROUND","RWRG8","SAFFRON GROUND","RWR"]
[null,null,null,null,null,null,null,null,null,null,null,null,null,null,null,null,null,null,null,null,null,null,null,null,null,null,null,null,null,null,null,null,null,null,null,null,null,null,null,null,null,null,null,null,"RWRST ALBANS ROAD","RWR09","ST ALBANS ROAD","RWR09","ST ALBANS ROAD","RWR"]
[null,null,null,null,null,null,null,null,null,null,null,null,null,null,null,null,null,null,null,null,null,null,null,null,null,null,null,null,null,null,null,null,null,null,null,null,null,null,null,null,null,null,null,null,"RWRTHE STEWARTS","RWR62","THE STEWARTS","RWR62","THE STEWARTS","RWR"]
[null,null,null,null,null,null,null,null,null,null,null,null,null,null,null,null,null,null,null,null,null,null,null,null,null,null,null,null,null,null,null,null,null,null,null,null,null,null,null,null,null,null,null,null,"RWVCRHT MID DEVON","RWVDD","CRHT MID DEVON","RWVDD","CRHT MID DEVON","RWV"]
[null,null,null,null,null,null,null,null,null,null,null,null,null,null,null,null,null,null,null,null,null,null,null,null,null,null,null,null,null,null,null,null,null,null,null,null,null,null,null,null,null,null,null,null,"RWVDEVON DRUG SV(NTH P/C)NMP","RWVN8","DEVON DRUG SV(NTH P/C)NMP","RWVN8","DEVON DRUG SV(NTH P/C)NMP","RWV"]
[null,null,null,null,null,null,null,null,null,null,null,null,null,null,null,null,null,null,null,null,null,null,null,null,null,null,null,null,null,null,null,null,null,null,null,null,null,null,null,null,null,null,null,null,"RWVFRANKLYN COMMUNITY HOSPITAL","RWV98","FRANKLYN COMMUNITY HOSPITAL","RWV98","FRANKLYN COMMUNITY HOSPITAL","RWV"]
[null,null,null,null,null,null,null,null,null,null,null,null,null,null,null,null,null,null,null,null,null,null,null,null,null,null,null,null,null,null,null,null,null,null,null,null,null,null,null,null,null,null,null,null,"RWVLDS SOUTH AND WEST DEVON","RWVEH","LDS SOUTH AND WEST DEVON","RWVEH","LDS SOUTH AND WEST DEVON","RWV"]
[null,null,null,null,null,null,null,null,null,null,null,null,null,null,null,null,null,null,null,null,null,null,null,null,null,null,null,null,null,null,null,null,null,null,null,null,null,null,null,null,null,null,null,null,"RWVOPMH EAST DEVON COASTAL","RWVCN","OPMH EAST DEVON COASTAL","RWVCN","OPMH EAST DEVON COASTAL","RWV"]
[null,null,null,null,null,null,null,null,null,null,null,null,null,null,null,null,null,null,null,null,null,null,null,null,null,null,null,null,null,null,null,null,null,null,null,null,null,null,null,null,null,null,null,null,"RWVRIL & MWA TIVERTON","RWVDC","RIL & MWA TIVERTON","RWVDC","RIL & MWA TIVERTON","RWV"]
[null,null,null,null,null,null,null,null,null,null,null,null,null,null,null,null,null,null,null,null,null,null,null,null,null,null,null,null,null,null,null,null,null,null,null,null,null,null,null,null,null,null,null,null,"RWVTEIGNBRIDGE CRS (NMP)","RWVNN","TEIGNBRIDGE CRS (NMP)","RWVNN","TEIGNBRIDGE CRS (NMP)","RWV"]
[null,null,null,null,null,null,null,null,null,null,null,null,null,null,null,null,null,null,null,null,null,null,null,null,null,null,null,null,null,null,null,null,null,null,null,null,null,null,null,null,null,null,null,null,"RWVWILTSHIRE ADPR","RWV60","WILTSHIRE ADPR","RWV60","WILTSHIRE ADPR","RWV"]
[null,null,null,null,null,null,null,null,null,null,null,null,null,null,null,null,null,null,null,null,null,null,null,null,null,null,null,null,null,null,null,null,null,null,null,null,null,null,null,null,null,null,null,null,"RWXBATTLE HOSPITAL","RWX77","BATTLE HOSPITAL","RWX77","BATTLE HOSPITAL","RWX"]
[null,null,null,null,null,null,null,null,null,null,null,null,null,null,null,null,null,null,null,null,null,null,null,null,null,null,null,null,null,null,null,null,null,null,null,null,null,null,null,null,null,null,null,null,"RWXFOUNDATION","RWXAJ","FOUNDATION","RWXAJ","FOUNDATION","RWX"]
[null,null,null,null,null,null,null,null,null,null,null,null,null,null,null,null,null,null,null,null,null,null,null,null,null,null,null,null,null,null,null,null,null,null,null,null,null,null,null,null,null,null,null,null,"RWXHEATHLANDS","RWXAE","HEATHLANDS","RWXAE","HEATHLANDS","RWX"]
[null,null,null,null,null,null,null,null,null,null,null,null,null,null,null,null,null,null,null,null,null,null,null,null,null,null,null,null,null,null,null,null,null,null,null,null,null,null,null,null,null,null,null,null,"RWXNEW HORIZONS","RWX75","NEW HORIZONS","RWX75","NEW HORIZONS","RWX"]
[null,null,null,null,null,null,null,null,null,null,null,null,null,null,null,null,null,null,null,null,null,null,null,null,null,null,null,null,null,null,null,null,null,null,null,null,null,null,null,null,null,null,null,null,"RWXSPACE","RWXAP","SPACE","RWXAP","SPACE","RWX"]
[null,null,null,null,null,null,null,null,null,null,null,null,null,null,null,null,null,null,null,null,null,null,null,null,null,null,null,null,null,null,null,null,null,null,null,null,null,null,null,null,null,null,null,null,"RWXTOWNLANDS HOSPITAL","RWXLF","TOWNLANDS HOSPITAL","RWXLF","TOWNLANDS HOSPITAL","RWX"]
[null,null,null,null,null,null,null,null,null,null,null,null,null,null,null,null,null,null,null,null,null,null,null,null,null,null,null,null,null,null,null,null,null,null,null,null,null,null,null,null,null,null,null,null,"RWXWEXHAM PARK HOSPITAL","RWX87","WEXHAM PARK HOSPITAL","RWX87","WEXHAM PARK HOSPITAL","RWX"]
[null,null,null,null,null,null,null,null,null,null,null,null,null,null,null,null,null,null,null,null,null,null,null,null,null,null,null,null,null,null,null,null,null,null,null,null,null,null,null,null,null,null,null,null,"RX2ALEXANDRA VILLAS SITE","RX218","ALEXANDRA VILLAS SITE","RX218","ALEXANDRA VILLAS SITE","RX2"]
[null,null,null,null,null,null,null,null,null,null,null,null,null,null,null,null,null,null,null,null,null,null,null,null,null,null,null,null,null,null,null,null,null,null,null,null,null,null,null,null,null,null,null,null,{"$f":"CONCATENATE(LEFT(AT3470, 3),AU3470)","v":"RX2B & H ATS WEST (GP)"},"RX21J","B & H ATS WEST (GP)","RX21J","B & H ATS WEST (GP)",{"$f":"LEFT(AV3470,3)","v":"RX2"}]
[null,null,null,null,null,null,null,null,null,null,null,null,null,null,null,null,null,null,null,null,null,null,null,null,null,null,null,null,null,null,null,null,null,null,null,null,null,null,null,null,null,null,null,null,"RX2BOWHILL","RX2H7","BOWHILL","RX2H7","BOWHILL","RX2"]
[null,null,null,null,null,null,null,null,null,null,null,null,null,null,null,null,null,null,null,null,null,null,null,null,null,null,null,null,null,null,null,null,null,null,null,null,null,null,null,null,null,null,null,null,"RX2BRAMBLYS","RX2Y4","BRAMBLYS","RX2Y4","BRAMBLYS","RX2"]
[null,null,null,null,null,null,null,null,null,null,null,null,null,null,null,null,null,null,null,null,null,null,null,null,null,null,null,null,null,null,null,null,null,null,null,null,null,null,null,null,null,null,null,null,"RX2CFOT WEST SUSSEX","RX29N","CFOT WEST SUSSEX","RX29N","CFOT WEST SUSSEX","RX2"]
[null,null,null,null,null,null,null,null,null,null,null,null,null,null,null,null,null,null,null,null,null,null,null,null,null,null,null,null,null,null,null,null,null,null,null,null,null,null,null,null,null,null,null,null,"RX2CONQUEST HOSPITAL","RX2M1","CONQUEST HOSPITAL","RX2M1","CONQUEST HOSPITAL","RX2"]
[null,null,null,null,null,null,null,null,null,null,null,null,null,null,null,null,null,null,null,null,null,null,null,null,null,null,null,null,null,null,null,null,null,null,null,null,null,null,null,null,null,null,null,null,"RX2CRHT HASTINGS/ROTHER","RX23V","CRHT HASTINGS/ROTHER","RX23V","CRHT HASTINGS/ROTHER","RX2"]
[null,null,null,null,null,null,null,null,null,null,null,null,null,null,null,null,null,null,null,null,null,null,null,null,null,null,null,null,null,null,null,null,null,null,null,null,null,null,null,null,null,null,null,null,"RX2E SX. YOUNGER PERSONS SMS","RX24Y","E SX. YOUNGER PERSONS SMS","RX24Y","E SX. YOUNGER PERSONS SMS","RX2"]
[null,null,null,null,null,null,null,null,null,null,null,null,null,null,null,null,null,null,null,null,null,null,null,null,null,null,null,null,null,null,null,null,null,null,null,null,null,null,null,null,null,null,null,null,"RX2GRANGEMEAD","RX2F6","GRANGEMEAD","RX2F6","GRANGEMEAD","RX2"]
[null,null,null,null,null,null,null,null,null,null,null,null,null,null,null,null,null,null,null,null,null,null,null,null,null,null,null,null,null,null,null,null,null,null,null,null,null,null,null,null,null,null,null,null,"RX2H & ROTHER SMHT (SA)","RX2AW","H & ROTHER SMHT (SA)","RX2AW","H & ROTHER SMHT (SA)","RX2"]
[null,null,null,null,null,null,null,null,null,null,null,null,null,null,null,null,null,null,null,null,null,null,null,null,null,null,null,null,null,null,null,null,null,null,null,null,null,null,null,null,null,null,null,null,"RX2HIGHMORE","RX2E8","HIGHMORE","RX2E8","HIGHMORE","RX2"]
[null,null,null,null,null,null,null,null,null,null,null,null,null,null,null,null,null,null,null,null,null,null,null,null,null,null,null,null,null,null,null,null,null,null,null,null,null,null,null,null,null,null,null,null,"RX2HOMESTEAD","RX2J7","HOMESTEAD","RX2J7","HOMESTEAD","RX2"]
[null,null,null,null,null,null,null,null,null,null,null,null,null,null,null,null,null,null,null,null,null,null,null,null,null,null,null,null,null,null,null,null,null,null,null,null,null,null,null,null,null,null,null,null,"RX2LEWES VICTORIA HOSPITAL","RX2K8","LEWES VICTORIA HOSPITAL","RX2K8","LEWES VICTORIA HOSPITAL","RX2"]
[null,null,null,null,null,null,null,null,null,null,null,null,null,null,null,null,null,null,null,null,null,null,null,null,null,null,null,null,null,null,null,null,null,null,null,null,null,null,null,null,null,null,null,null,"RX2MARTINS FARM","RX220","MARTINS FARM","RX220","MARTINS FARM","RX2"]
[null,null,null,null,null,null,null,null,null,null,null,null,null,null,null,null,null,null,null,null,null,null,null,null,null,null,null,null,null,null,null,null,null,null,null,null,null,null,null,null,null,null,null,null,"RX2MID SUSSEX ATC (SE)","RX27N","MID SUSSEX ATC (SE)","RX27N","MID SUSSEX ATC (SE)","RX2"]
[null,null,null,null,null,null,null,null,null,null,null,null,null,null,null,null,null,null,null,null,null,null,null,null,null,null,null,null,null,null,null,null,null,null,null,null,null,null,null,null,null,null,null,null,"RX2NORTH WESTERN LWWDT","RX28M","NORTH WESTERN LWWDT","RX28M","NORTH WESTERN LWWDT","RX2"]
[null,null,null,null,null,null,null,null,null,null,null,null,null,null,null,null,null,null,null,null,null,null,null,null,null,null,null,null,null,null,null,null,null,null,null,null,null,null,null,null,null,null,null,null,"RX2PRIMROSE COTTAGES (1&2)","RX241","PRIMROSE COTTAGES (1&2)","RX241","PRIMROSE COTTAGES (1&2)","RX2"]
[null,null,null,null,null,null,null,null,null,null,null,null,null,null,null,null,null,null,null,null,null,null,null,null,null,null,null,null,null,null,null,null,null,null,null,null,null,null,null,null,null,null,null,null,"RX2ROBOROUGH DAY HOSPITAL","RX2H3","ROBOROUGH DAY HOSPITAL","RX2H3","ROBOROUGH DAY HOSPITAL","RX2"]
[null,null,null,null,null,null,null,null,null,null,null,null,null,null,null,null,null,null,null,null,null,null,null,null,null,null,null,null,null,null,null,null,null,null,null,null,null,null,null,null,null,null,null,null,"RX2SMS E'BOURNE - SEASIDE","RX2AJ","SMS E'BOURNE - SEASIDE","RX2AJ","SMS E'BOURNE - SEASIDE","RX2"]
[null,null,null,null,null,null,null,null,null,null,null,null,null,null,null,null,null,null,null,null,null,null,null,null,null,null,null,null,null,null,null,null,null,null,null,null,null,null,null,null,null,null,null,null,"RX2SMS HASTINGS - SILVER","RX2AR","SMS HASTINGS - SILVER","RX2AR","SMS HASTINGS - SILVER","RX2"]
[null,null,null,null,null,null,null,null,null,null,null,null,null,null,null,null,null,null,null,null,null,null,null,null,null,null,null,null,null,null,null,null,null,null,null,null,null,null,null,null,null,null,null,null,"RX2SUSSEX CARE","RX2Q9","SUSSEX CARE","RX2Q9","SUSSEX CARE","RX2"]
[null,null,null,null,null,null,null,null,null,null,null,null,null,null,null,null,null,null,null,null,null,null,null,null,null,null,null,null,null,null,null,null,null,null,null,null,null,null,null,null,null,null,null,null,"RX2THE CHAPEL (HELLINGLY SITE)","RX2K4","THE CHAPEL (HELLINGLY SITE)","RX2K4","THE CHAPEL (HELLINGLY SITE)","RX2"]
[null,null,null,null,null,null,null,null,null,null,null,null,null,null,null,null,null,null,null,null,null,null,null,null,null,null,null,null,null,null,null,null,null,null,null,null,null,null,null,null,null,null,null,null,"RX2THE HAROLD KIDD UNIT","RX240","THE HAROLD KIDD UNIT","RX240","THE HAROLD KIDD UNIT","RX2"]
[null,null,null,null,null,null,null,null,null,null,null,null,null,null,null,null,null,null,null,null,null,null,null,null,null,null,null,null,null,null,null,null,null,null,null,null,null,null,null,null,null,null,null,null,"RX2VANTAGE POINT","RX2T6","VANTAGE POINT","RX2T6","VANTAGE POINT","RX2"]
[null,null,null,null,null,null,null,null,null,null,null,null,null,null,null,null,null,null,null,null,null,null,null,null,null,null,null,null,null,null,null,null,null,null,null,null,null,null,null,null,null,null,null,null,"RX2WESTERN SUSSEX ATS (AW)","RX26Q","WESTERN SUSSEX ATS (AW)","RX26Q","WESTERN SUSSEX ATS (AW)","RX2"]
[null,null,null,null,null,null,null,null,null,null,null,null,null,null,null,null,null,null,null,null,null,null,null,null,null,null,null,null,null,null,null,null,null,null,null,null,null,null,null,null,null,null,null,null,"RX2WESTERN SUSSEX LWWD (TC)","RX26M","WESTERN SUSSEX LWWD (TC)","RX26M","WESTERN SUSSEX LWWD (TC)","RX2"]
[null,null,null,null,null,null,null,null,null,null,null,null,null,null,null,null,null,null,null,null,null,null,null,null,null,null,null,null,null,null,null,null,null,null,null,null,null,null,null,null,null,null,null,null,"RX3AUCKLAND PARK HOSPITAL","RX3AT","AUCKLAND PARK HOSPITAL","RX3AT","AUCKLAND PARK HOSPITAL","RX3"]
[null,null,null,null,null,null,null,null,null,null,null,null,null,null,null,null,null,null,null,null,null,null,null,null,null,null,null,null,null,null,null,null,null,null,null,null,null,null,null,null,null,null,null,null,"RX3C & YPS 2","RX354","C & YPS 2","RX354","C & YPS 2","RX3"]
[null,null,null,null,null,null,null,null,null,null,null,null,null,null,null,null,null,null,null,null,null,null,null,null,null,null,null,null,null,null,null,null,null,null,null,null,null,null,null,null,null,null,null,null,"RX3CROSS LANE HOSPITAL AYCKBOURN","RX3EY","CROSS LANE HOSPITAL AYCKBOURN","RX3EY","CROSS LANE HOSPITAL AYCKBOURN","RX3"]
[null,null,null,null,null,null,null,null,null,null,null,null,null,null,null,null,null,null,null,null,null,null,null,null,null,null,null,null,null,null,null,null,null,null,null,null,null,null,null,null,null,null,null,null,"RX3EDEN HILL","RX3LY","EDEN HILL","RX3LY","EDEN HILL","RX3"]
[null,null,null,null,null,null,null,null,null,null,null,null,null,null,null,null,null,null,null,null,null,null,null,null,null,null,null,null,null,null,null,null,null,null,null,null,null,null,null,null,null,null,null,null,"RX3GOODALL (NP)","RX3A1","GOODALL (NP)","RX3A1","GOODALL (NP)","RX3"]
[null,null,null,null,null,null,null,null,null,null,null,null,null,null,null,null,null,null,null,null,null,null,null,null,null,null,null,null,null,null,null,null,null,null,null,null,null,null,null,null,null,null,null,null,"RX3LD NORTH (3)","RX390","LD NORTH (3)","RX390","LD NORTH (3)","RX3"]
[null,null,null,null,null,null,null,null,null,null,null,null,null,null,null,null,null,null,null,null,null,null,null,null,null,null,null,null,null,null,null,null,null,null,null,null,null,null,null,null,null,null,null,null,"RX3MHSOP - NORTH YORKSHIRE 3","RX3RY","MHSOP - NORTH YORKSHIRE 3","RX3RY","MHSOP - NORTH YORKSHIRE 3","RX3"]
[null,null,null,null,null,null,null,null,null,null,null,null,null,null,null,null,null,null,null,null,null,null,null,null,null,null,null,null,null,null,null,null,null,null,null,null,null,null,null,null,null,null,null,null,"RX3MHSOP SB (NP)","RX3A0","MHSOP SB (NP)","RX3A0","MHSOP SB (NP)","RX3"]
[null,null,null,null,null,null,null,null,null,null,null,null,null,null,null,null,null,null,null,null,null,null,null,null,null,null,null,null,null,null,null,null,null,null,null,null,null,null,null,null,null,null,null,null,"RX3NP PETERLEE HC","RX359","NP PETERLEE HC","RX359","NP PETERLEE HC","RX3"]
[null,null,null,null,null,null,null,null,null,null,null,null,null,null,null,null,null,null,null,null,null,null,null,null,null,null,null,null,null,null,null,null,null,null,null,null,null,null,null,null,null,null,null,null,"RX3PARKSIDE MIDDLESBROUGH","RX3FG","PARKSIDE MIDDLESBROUGH","RX3FG","PARKSIDE MIDDLESBROUGH","RX3"]
[null,null,null,null,null,null,null,null,null,null,null,null,null,null,null,null,null,null,null,null,null,null,null,null,null,null,null,null,null,null,null,null,null,null,null,null,null,null,null,null,null,null,null,null,"RX3POA - DARLINGTON WEST PARK 1","RX319","POA - DARLINGTON WEST PARK 1","RX319","POA - DARLINGTON WEST PARK 1","RX3"]
[null,null,null,null,null,null,null,null,null,null,null,null,null,null,null,null,null,null,null,null,null,null,null,null,null,null,null,null,null,null,null,null,null,null,null,null,null,null,null,null,null,null,null,null,"RX3RECOVERY UNIT ACOMB","RX33V","RECOVERY UNIT ACOMB","RX33V","RECOVERY UNIT ACOMB ","RX3"]
[null,null,null,null,null,null,null,null,null,null,null,null,null,null,null,null,null,null,null,null,null,null,null,null,null,null,null,null,null,null,null,null,null,null,null,null,null,null,null,null,null,null,null,null,"RX3SHILDON COMMUNITY EXTENDED CARE UNIT","RX3AF","SHILDON COMMUNITY EXTENDED CARE UNIT","RX3AF","SHILDON COMMUNITY EXTENDED CARE UNIT","RX3"]
[null,null,null,null,null,null,null,null,null,null,null,null,null,null,null,null,null,null,null,null,null,null,null,null,null,null,null,null,null,null,null,null,null,null,null,null,null,null,null,null,null,null,null,null,"RX3THE FIRS","RX3LW","THE FIRS","RX3LW","THE FIRS","RX3"]
[null,null,null,null,null,null,null,null,null,null,null,null,null,null,null,null,null,null,null,null,null,null,null,null,null,null,null,null,null,null,null,null,null,null,null,null,null,null,null,null,null,null,null,null,"RX3THE ORCHARDS DAY HOSPITAL","RX3YK","THE ORCHARDS DAY HOSPITAL","RX3YK","THE ORCHARDS DAY HOSPITAL","RX3"]
[null,null,null,null,null,null,null,null,null,null,null,null,null,null,null,null,null,null,null,null,null,null,null,null,null,null,null,null,null,null,null,null,null,null,null,null,null,null,null,null,null,null,null,null,"RX3WHITBY & MALTON MHSOP","RX3RN","WHITBY & MALTON MHSOP","RX3RN","WHITBY & MALTON MHSOP","RX3"]
[null,null,null,null,null,null,null,null,null,null,null,null,null,null,null,null,null,null,null,null,null,null,null,null,null,null,null,null,null,null,null,null,null,null,null,null,null,null,null,null,null,null,null,null,"RX4AVONRIDGE MENTAL HEALTH COMMUNITY UNIT","RX482","AVONRIDGE MENTAL HEALTH COMMUNITY UNIT","RX482","AVONRIDGE MENTAL HEALTH COMMUNITY UNIT","RX4"]
[null,null,null,null,null,null,null,null,null,null,null,null,null,null,null,null,null,null,null,null,null,null,null,null,null,null,null,null,null,null,null,null,null,null,null,null,null,null,null,null,null,null,null,null,{"$f":"CONCATENATE(LEFT(AT3854, 3),AU3854)","v":"RX4BERRISHILL GROVE MENTAL HEALTH COMMUNITY UNIT"},"RX486","BERRISHILL GROVE MENTAL HEALTH COMMUNITY UNIT","RX486","BERRISHILL GROVE MENTAL HEALTH COMMUNITY UNIT",{"$f":"LEFT(AV3854,3)","v":"RX4"}]
[null,null,null,null,null,null,null,null,null,null,null,null,null,null,null,null,null,null,null,null,null,null,null,null,null,null,null,null,null,null,null,null,null,null,null,null,null,null,null,null,null,null,null,null,"RX4BROOKE HOUSE","RX438 ","BROOKE HOUSE","RX438 ","BROOKE HOUSE","RX4"]
[null,null,null,null,null,null,null,null,null,null,null,null,null,null,null,null,null,null,null,null,null,null,null,null,null,null,null,null,null,null,null,null,null,null,null,null,null,null,null,null,null,null,null,null,"RX4CRAIGAVON","RX4K9","CRAIGAVON","RX4K9","CRAIGAVON","RX4"]
[null,null,null,null,null,null,null,null,null,null,null,null,null,null,null,null,null,null,null,null,null,null,null,null,null,null,null,null,null,null,null,null,null,null,null,null,null,null,null,null,null,null,null,null,"RX4ELSDEN MEWS MENTAL HEALTH COMMUNITY UNIT","RX492","ELSDEN MEWS MENTAL HEALTH COMMUNITY UNIT","RX492","ELSDEN MEWS MENTAL HEALTH COMMUNITY UNIT","RX4"]
[null,null,null,null,null,null,null,null,null,null,null,null,null,null,null,null,null,null,null,null,null,null,null,null,null,null,null,null,null,null,null,null,null,null,null,null,null,null,null,null,null,null,null,null,"RX4HOPEWOOD PARK","RX4Z3","HOPEWOOD PARK","RX4Z3","HOPEWOOD PARK","RX4"]
[null,null,null,null,null,null,null,null,null,null,null,null,null,null,null,null,null,null,null,null,null,null,null,null,null,null,null,null,null,null,null,null,null,null,null,null,null,null,null,null,null,null,null,null,"RX4MORPETH COTTAGE HOSPITAL","RX474","MORPETH COTTAGE HOSPITAL","RX474","MORPETH COTTAGE HOSPITAL","RX4"]
[null,null,null,null,null,null,null,null,null,null,null,null,null,null,null,null,null,null,null,null,null,null,null,null,null,null,null,null,null,null,null,null,null,null,null,null,null,null,null,null,null,null,null,null,"RX4OLD AGE PSYCHIATRY - TYNEDALE","RX4EF","OLD AGE PSYCHIATRY - TYNEDALE","RX4EF","OLD AGE PSYCHIATRY - TYNEDALE","RX4"]
[null,null,null,null,null,null,null,null,null,null,null,null,null,null,null,null,null,null,null,null,null,null,null,null,null,null,null,null,null,null,null,null,null,null,null,null,null,null,null,null,null,null,null,null,"RX4ROSLIN MENTAL HEALTH COMMUNITY UNIT","RX4T0","ROSLIN MENTAL HEALTH COMMUNITY UNIT","RX4T0","ROSLIN MENTAL HEALTH COMMUNITY UNIT","RX4"]
[null,null,null,null,null,null,null,null,null,null,null,null,null,null,null,null,null,null,null,null,null,null,null,null,null,null,null,null,null,null,null,null,null,null,null,null,null,null,null,null,null,null,null,null,"RX4SPITTAL MEWS MENTAL HEALTH COMMUNITY UNIT","RX4X3","SPITTAL MEWS MENTAL HEALTH COMMUNITY UNIT","RX4X3","SPITTAL MEWS MENTAL HEALTH COMMUNITY UNIT","RX4"]
[null,null,null,null,null,null,null,null,null,null,null,null,null,null,null,null,null,null,null,null,null,null,null,null,null,null,null,null,null,null,null,null,null,null,null,null,null,null,null,null,null,null,null,null,"RX4ST GEORGES HOSPITAL SITE (MORPETH)","RX4E2","ST GEORGES HOSPITAL SITE (MORPETH)","RX4E2","ST GEORGES HOSPITAL SITE (MORPETH)","RX4"]
[null,null,null,null,null,null,null,null,null,null,null,null,null,null,null,null,null,null,null,null,null,null,null,null,null,null,null,null,null,null,null,null,null,null,null,null,null,null,null,null,null,null,null,null,"RX4THE GRANGE","RX4A5","THE GRANGE","RX4A5","THE GRANGE","RX4"]
[null,null,null,null,null,null,null,null,null,null,null,null,null,null,null,null,null,null,null,null,null,null,null,null,null,null,null,null,null,null,null,null,null,null,null,null,null,null,null,null,null,null,null,null,"RX4WHITBY RISE","RX435","WHITBY RISE","RX435","WHITBY RISE","RX4"]
[null,null,null,null,null,null,null,null,null,null,null,null,null,null,null,null,null,null,null,null,null,null,null,null,null,null,null,null,null,null,null,null,null,null,null,null,null,null,null,null,null,null,null,null,"RXAELLESMERE PORT HOSPITAL","RXAWE","ELLESMERE PORT HOSPITAL","RXAWE","ELLESMERE PORT HOSPITAL","RXA"]
[null,null,null,null,null,null,null,null,null,null,null,null,null,null,null,null,null,null,null,null,null,null,null,null,null,null,null,null,null,null,null,null,null,null,null,null,null,null,null,null,null,null,null,null,"RXAMACCLESFIELD MENTAL HEALTH","RXAWK","MACCLESFIELD MENTAL HEALTH","RXAWK","MACCLESFIELD MENTAL HEALTH","RXA"]
[null,null,null,null,null,null,null,null,null,null,null,null,null,null,null,null,null,null,null,null,null,null,null,null,null,null,null,null,null,null,null,null,null,null,null,null,null,null,null,null,null,null,null,null,"RXCCROWBOROUGH BIRTHING CENTRE - RXC14","RXC14","CROWBOROUGH BIRTHING CENTRE - RXC14","RXC14","CROWBOROUGH BIRTHING CENTRE","RXC"]
[null,null,null,null,null,null,null,null,null,null,null,null,null,null,null,null,null,null,null,null,null,null,null,null,null,null,null,null,null,null,null,null,null,null,null,null,null,null,null,null,null,null,null,null,"RXENTH LINCS - ICT","RXECJ","NTH LINCS - ICT","RXECJ","NTH LINCS - ICT","RXE"]
[null,null,null,null,null,null,null,null,null,null,null,null,null,null,null,null,null,null,null,null,null,null,null,null,null,null,null,null,null,null,null,null,null,null,null,null,null,null,null,null,null,null,null,null,"RXEROTHERHAM OPMHS WOODLANDS","RXE07","ROTHERHAM OPMHS WOODLANDS","RXE07","ROTHERHAM OPMHS WOODLANDS","RXE"]
[null,null,null,null,null,null,null,null,null,null,null,null,null,null,null,null,null,null,null,null,null,null,null,null,null,null,null,null,null,null,null,null,null,null,null,null,null,null,null,null,null,null,null,null,"RXETICKHILL ROAD","RXEA1","TICKHILL ROAD","RXEA1","TICKHILL ROAD","RXE"]
[null,null,null,null,null,null,null,null,null,null,null,null,null,null,null,null,null,null,null,null,null,null,null,null,null,null,null,null,null,null,null,null,null,null,null,null,null,null,null,null,null,null,null,null,"RXGF MILL","RXG76","F MILL","RXG76","F MILL","RXG"]
[null,null,null,null,null,null,null,null,null,null,null,null,null,null,null,null,null,null,null,null,null,null,null,null,null,null,null,null,null,null,null,null,null,null,null,null,null,null,null,null,null,null,null,null,"RXGGRANGE VIEW","RXG50","GRANGE VIEW","RXG50","GRANGE VIEW","RXG"]
[null,null,null,null,null,null,null,null,null,null,null,null,null,null,null,null,null,null,null,null,null,null,null,null,null,null,null,null,null,null,null,null,null,null,null,null,null,null,null,null,null,null,null,null,"RXGTHE DALES","RXG41","THE DALES","RXG41","THE DALES","RXG"]
[null,null,null,null,null,null,null,null,null,null,null,null,null,null,null,null,null,null,null,null,null,null,null,null,null,null,null,null,null,null,null,null,null,null,null,null,null,null,null,null,null,null,null,null,"RXHBRIGHTON GENERAL HOSPITAL - RXH05","RXH05","BRIGHTON GENERAL HOSPITAL - RXH05","RXH05","BRIGHTON GENERAL HOSPITAL","RXH"]
[null,null,null,null,null,null,null,null,null,null,null,null,null,null,null,null,null,null,null,null,null,null,null,null,null,null,null,null,null,null,null,null,null,null,null,null,null,null,null,null,null,null,null,null,"RXLBISPHAM HOSPITAL REHABILITATION UNIT - RXL08","RXL08","BISPHAM HOSPITAL REHABILITATION UNIT - RXL08","RXL08","BISPHAM HOSPITAL REHABILITATION UNIT","RXL"]
[null,null,null,null,null,null,null,null,null,null,null,null,null,null,null,null,null,null,null,null,null,null,null,null,null,null,null,null,null,null,null,null,null,null,null,null,null,null,null,null,null,null,null,null,"RXMCHEVIN WARD","RXM82","CHEVIN WARD","RXM82","CHEVIN WARD","RXM"]
[null,null,null,null,null,null,null,null,null,null,null,null,null,null,null,null,null,null,null,null,null,null,null,null,null,null,null,null,null,null,null,null,null,null,null,null,null,null,null,null,null,null,null,null,"RXMDR R PROFESSOR HEUN (PSYCHIATRIC UNIT)","RXMT3","DR R PROFESSOR HEUN (PSYCHIATRIC UNIT)","RXMT3","DR R PROFESSOR HEUN (PSYCHIATRIC UNIT)","RXM"]
[null,null,null,null,null,null,null,null,null,null,null,null,null,null,null,null,null,null,null,null,null,null,null,null,null,null,null,null,null,null,null,null,null,null,null,null,null,null,null,null,null,null,null,null,"RXMFRIAR GATE FLATS","RXM17","FRIAR GATE FLATS","RXM17","FRIAR GATE FLATS","RXM"]
[null,null,null,null,null,null,null,null,null,null,null,null,null,null,null,null,null,null,null,null,null,null,null,null,null,null,null,null,null,null,null,null,null,null,null,null,null,null,null,null,null,null,null,null,"RXMRIPLEY HOSPITAL","RXMA7","RIPLEY HOSPITAL","RXMA7","RIPLEY HOSPITAL","RXM"]
[null,null,null,null,null,null,null,null,null,null,null,null,null,null,null,null,null,null,null,null,null,null,null,null,null,null,null,null,null,null,null,null,null,null,null,null,null,null,null,null,null,null,null,null,"RXMTHE OLD VICARAGE","RXM47","THE OLD VICARAGE","RXM47","THE OLD VICARAGE","RXM"]
[null,null,null,null,null,null,null,null,null,null,null,null,null,null,null,null,null,null,null,null,null,null,null,null,null,null,null,null,null,null,null,null,null,null,null,null,null,null,null,null,null,null,null,null,"RXNACCRINGTON VICTORIA HOSPITAL - RXN06","RXN06","ACCRINGTON VICTORIA HOSPITAL - RXN06","RXN06","ACCRINGTON VICTORIA HOSPITAL","RXN"]
[null,null,null,null,null,null,null,null,null,null,null,null,null,null,null,null,null,null,null,null,null,null,null,null,null,null,null,null,null,null,null,null,null,null,null,null,null,null,null,null,null,null,null,null,"RXPCHESTER LE STREET HOSPITAL - RXPCC","RXPCC","CHESTER LE STREET HOSPITAL - RXPCC","RXPCC","CHESTER LE STREET HOSPITAL","RXP"]
[null,null,null,null,null,null,null,null,null,null,null,null,null,null,null,null,null,null,null,null,null,null,null,null,null,null,null,null,null,null,null,null,null,null,null,null,null,null,null,null,null,null,null,null,"RXQAMERSHAM HEALTH CENTRE","RXQ81","AMERSHAM HEALTH CENTRE","RXQ81","AMERSHAM HEALTH CENTRE","RXQ"]
[null,null,null,null,null,null,null,null,null,null,null,null,null,null,null,null,null,null,null,null,null,null,null,null,null,null,null,null,null,null,null,null,null,null,null,null,null,null,null,null,null,null,null,null,"RXQMILTON KEYNES GENERAL HOSPITAL","RXQ93","MILTON KEYNES GENERAL HOSPITAL","RXQ93","MILTON KEYNES GENERAL HOSPITAL","RXQ"]
[null,null,null,null,null,null,null,null,null,null,null,null,null,null,null,null,null,null,null,null,null,null,null,null,null,null,null,null,null,null,null,null,null,null,null,null,null,null,null,null,null,null,null,null,"RXRROSSENDALE HOSPITAL - RXR40","RXR40","ROSSENDALE HOSPITAL - RXR40","RXR40","ROSSENDALE HOSPITAL","RXR"]
[null,null,null,null,null,null,null,null,null,null,null,null,null,null,null,null,null,null,null,null,null,null,null,null,null,null,null,null,null,null,null,null,null,null,null,null,null,null,null,null,null,null,null,null,"RXTARDENLEIGH","RXT05","ARDENLEIGH","RXT05","ARDENLEIGH","RXT"]
[null,null,null,null,null,null,null,null,null,null,null,null,null,null,null,null,null,null,null,null,null,null,null,null,null,null,null,null,null,null,null,null,null,null,null,null,null,null,null,null,null,null,null,null,"RXTFORMER WOMENS HOSPITAL","RXT21","FORMER WOMENS HOSPITAL","RXT21","FORMER WOMENS HOSPITAL","RXT"]
[null,null,null,null,null,null,null,null,null,null,null,null,null,null,null,null,null,null,null,null,null,null,null,null,null,null,null,null,null,null,null,null,null,null,null,null,null,null,null,null,null,null,null,null,"RXTHIGHCROFT HOSPITAL","RXT28","HIGHCROFT HOSPITAL","RXT28","HIGHCROFT HOSPITAL","RXT"]
[null,null,null,null,null,null,null,null,null,null,null,null,null,null,null,null,null,null,null,null,null,null,null,null,null,null,null,null,null,null,null,null,null,null,null,null,null,null,null,null,null,null,null,null,"RXTMARY SEACOLE HOUSE","RXT47","MARY SEACOLE HOUSE","RXT47","MARY SEACOLE HOUSE","RXT"]
[null,null,null,null,null,null,null,null,null,null,null,null,null,null,null,null,null,null,null,null,null,null,null,null,null,null,null,null,null,null,null,null,null,null,null,null,null,null,null,null,null,null,null,null,"RXTNP HOB EAST EIS HEEI","RXTWX","NP HOB EAST EIS HEEI","RXTWX","NP HOB EAST EIS HEEI","RXT"]
[null,null,null,null,null,null,null,null,null,null,null,null,null,null,null,null,null,null,null,null,null,null,null,null,null,null,null,null,null,null,null,null,null,null,null,null,null,null,null,null,null,null,null,null,"RXTQUEEN ELIZABETH PSYCHIATRIC HOSPITAL","RXT62","QUEEN ELIZABETH PSYCHIATRIC HOSPITAL","RXT62","QUEEN ELIZABETH PSYCHIATRIC HOSPITAL","RXT"]
[null,null,null,null,null,null,null,null,null,null,null,null,null,null,null,null,null,null,null,null,null,null,null,null,null,null,null,null,null,null,null,null,null,null,null,null,null,null,null,null,null,null,null,null,"RXTSOHO HILL","RXT74","SOHO HILL","RXT74","SOHO HILL","RXT"]
[null,null,null,null,null,null,null,null,null,null,null,null,null,null,null,null,null,null,null,null,null,null,null,null,null,null,null,null,null,null,null,null,null,null,null,null,null,null,null,null,null,null,null,null,"RXTTHE OLEASTER","RXTD4","THE OLEASTER","RXTD4","THE OLEASTER","RXT"]
[null,null,null,null,null,null,null,null,null,null,null,null,null,null,null,null,null,null,null,null,null,null,null,null,null,null,null,null,null,null,null,null,null,null,null,null,null,null,null,null,null,null,null,null,"RXTWOMENS THERAPY","RXTC2","WOMENS THERAPY","RXTC2","WOMENS THERAPY","RXT"]
[null,null,null,null,null,null,null,null,null,null,null,null,null,null,null,null,null,null,null,null,null,null,null,null,null,null,null,null,null,null,null,null,null,null,null,null,null,null,null,null,null,null,null,null,"RXVMOORSIDE UNIT - TRAFFORD MH","RXV80","MOORSIDE UNIT - TRAFFORD MH","RXV80","MOORSIDE UNIT - TRAFFORD MH","RXV"]
[null,null,null,null,null,null,null,null,null,null,null,null,null,null,null,null,null,null,null,null,null,null,null,null,null,null,null,null,null,null,null,null,null,null,null,null,null,null,null,null,null,null,null,null,"RXVWOODLANDS HOSPITAL","RXV15","WOODLANDS HOSPITAL","RXV15","WOODLANDS HOSPITAL","RXV"]
[null,null,null,null,null,null,null,null,null,null,null,null,null,null,null,null,null,null,null,null,null,null,null,null,null,null,null,null,null,null,null,null,null,null,null,null,null,null,null,null,null,null,null,null,"RXXARNSIDE","RXXAM","ARNSIDE","RXXAM","ARNSIDE","RXX"]
[null,null,null,null,null,null,null,null,null,null,null,null,null,null,null,null,null,null,null,null,null,null,null,null,null,null,null,null,null,null,null,null,null,null,null,null,null,null,null,null,null,null,null,null,"RXXCHERRYTREES RESIDENTIAL HOME","RXX33","CHERRYTREES RESIDENTIAL HOME","RXX33","CHERRYTREES RESIDENTIAL HOME","RXX"]
[null,null,null,null,null,null,null,null,null,null,null,null,null,null,null,null,null,null,null,null,null,null,null,null,null,null,null,null,null,null,null,null,null,null,null,null,null,null,null,null,null,null,null,null,"RXXFAIRMEAD","RXXAD","FAIRMEAD","RXXAD","FAIRMEAD","RXX"]
[null,null,null,null,null,null,null,null,null,null,null,null,null,null,null,null,null,null,null,null,null,null,null,null,null,null,null,null,null,null,null,null,null,null,null,null,null,null,null,null,null,null,null,null,"RXXGALLWEY","RXXFV","GALLWEY","RXXFV","GALLWEY","RXX"]
[null,null,null,null,null,null,null,null,null,null,null,null,null,null,null,null,null,null,null,null,null,null,null,null,null,null,null,null,null,null,null,null,null,null,null,null,null,null,null,null,null,null,null,null,"RXXLAUREATE WARD","RXXW8","LAUREATE WARD","RXXW8","LAUREATE WARD","RXX"]
[null,null,null,null,null,null,null,null,null,null,null,null,null,null,null,null,null,null,null,null,null,null,null,null,null,null,null,null,null,null,null,null,null,null,null,null,null,null,null,null,null,null,null,null,"RXXMITCHELL HALL","RXXX9","MITCHELL HALL","RXXX9","MITCHELL HALL","RXX"]
[null,null,null,null,null,null,null,null,null,null,null,null,null,null,null,null,null,null,null,null,null,null,null,null,null,null,null,null,null,null,null,null,null,null,null,null,null,null,null,null,null,null,null,null,"RXXREHABILITATION","RXXHE","REHABILITATION","RXXHE","REHABILITATION","RXX"]
[null,null,null,null,null,null,null,null,null,null,null,null,null,null,null,null,null,null,null,null,null,null,null,null,null,null,null,null,null,null,null,null,null,null,null,null,null,null,null,null,null,null,null,null,"RXXST PETERS HOSPITAL","RXX16","ST PETERS HOSPITAL","RXX16","ST PETERS HOSPITAL","RXX"]
[null,null,null,null,null,null,null,null,null,null,null,null,null,null,null,null,null,null,null,null,null,null,null,null,null,null,null,null,null,null,null,null,null,null,null,null,null,null,null,null,null,null,null,null,"RXYABBEY WOOD","RXY02","ABBEY WOOD","RXY02","ABBEY WOOD","RXY"]
[null,null,null,null,null,null,null,null,null,null,null,null,null,null,null,null,null,null,null,null,null,null,null,null,null,null,null,null,null,null,null,null,null,null,null,null,null,null,null,null,null,null,null,null,"RXYARUNDEL UNIT","RXYA4","ARUNDEL UNIT","RXYA4","ARUNDEL UNIT","RXY"]
[null,null,null,null,null,null,null,null,null,null,null,null,null,null,null,null,null,null,null,null,null,null,null,null,null,null,null,null,null,null,null,null,null,null,null,null,null,null,null,null,null,null,null,null,"RXYCOURT DRIVE","RXYCA","COURT DRIVE","RXYCA","COURT DRIVE","RXY"]
[null,null,null,null,null,null,null,null,null,null,null,null,null,null,null,null,null,null,null,null,null,null,null,null,null,null,null,null,null,null,null,null,null,null,null,null,null,null,null,null,null,null,null,null,"RXYELMSLEIGH LODGE","RXYE2","ELMSLEIGH LODGE","RXYE2","ELMSLEIGH LODGE","RXY"]
[null,null,null,null,null,null,null,null,null,null,null,null,null,null,null,null,null,null,null,null,null,null,null,null,null,null,null,null,null,null,null,null,null,null,null,null,null,null,null,null,null,null,null,null,"RXYHIGH STREET","RXY6A","HIGH STREET","RXY6A","HIGH STREET","RXY"]
[null,null,null,null,null,null,null,null,null,null,null,null,null,null,null,null,null,null,null,null,null,null,null,null,null,null,null,null,null,null,null,null,null,null,null,null,null,null,null,null,null,null,null,null,"RXYHOMEOPATHIC HOSPITAL","RXYH7","HOMEOPATHIC HOSPITAL","RXYH7","HOMEOPATHIC HOSPITAL","RXY"]
[null,null,null,null,null,null,null,null,null,null,null,null,null,null,null,null,null,null,null,null,null,null,null,null,null,null,null,null,null,null,null,null,null,null,null,null,null,null,null,null,null,null,null,null,"RXYLD SWALE","RXY99","LD SWALE","RXY99","LD SWALE","RXY"]
[null,null,null,null,null,null,null,null,null,null,null,null,null,null,null,null,null,null,null,null,null,null,null,null,null,null,null,null,null,null,null,null,null,null,null,null,null,null,null,null,null,null,null,null,"RXYMILLER HOUSE","RXY1Y","MILLER HOUSE","RXY1Y","MILLER HOUSE","RXY"]
[null,null,null,null,null,null,null,null,null,null,null,null,null,null,null,null,null,null,null,null,null,null,null,null,null,null,null,null,null,null,null,null,null,null,null,null,null,null,null,null,null,null,null,null,"RXYOPMH DOVER","RXY54","OPMH DOVER","RXY54","OPMH DOVER","RXY"]
[null,null,null,null,null,null,null,null,null,null,null,null,null,null,null,null,null,null,null,null,null,null,null,null,null,null,null,null,null,null,null,null,null,null,null,null,null,null,null,null,null,null,null,null,"RXYOPMH MAIDSTONE NORTH NMP","RXY1Q","OPMH MAIDSTONE NORTH NMP","RXY1Q","OPMH MAIDSTONE NORTH NMP","RXY"]
[null,null,null,null,null,null,null,null,null,null,null,null,null,null,null,null,null,null,null,null,null,null,null,null,null,null,null,null,null,null,null,null,null,null,null,null,null,null,null,null,null,null,null,null,"RXYPARK ROAD","RXYP2","PARK ROAD","RXYP2","PARK ROAD","RXY"]
[null,null,null,null,null,null,null,null,null,null,null,null,null,null,null,null,null,null,null,null,null,null,null,null,null,null,null,null,null,null,null,null,null,null,null,null,null,null,null,null,null,null,null,null,"RXYROCHESTER AIRPORT (C.E.L.S)","RXYR4","ROCHESTER AIRPORT (C.E.L.S)","RXYR4","ROCHESTER AIRPORT (C.E.L.S)","RXY"]
[null,null,null,null,null,null,null,null,null,null,null,null,null,null,null,null,null,null,null,null,null,null,null,null,null,null,null,null,null,null,null,null,null,null,null,null,null,null,null,null,null,null,null,null,"RXYST MARTINS NEW BUILDING","RXY2R","ST MARTINS NEW BUILDING","RXY2R","ST MARTINS NEW BUILDING","RXY"]
[null,null,null,null,null,null,null,null,null,null,null,null,null,null,null,null,null,null,null,null,null,null,null,null,null,null,null,null,null,null,null,null,null,null,null,null,null,null,null,null,null,null,null,null,"RXYTHE HAVEN","RXYT8","THE HAVEN","RXYT8","THE HAVEN","RXY"]
[null,null,null,null,null,null,null,null,null,null,null,null,null,null,null,null,null,null,null,null,null,null,null,null,null,null,null,null,null,null,null,null,null,null,null,null,null,null,null,null,null,null,null,null,"RY1ABACUS FAZAKERLEY","RY197","ABACUS FAZAKERLEY","RY197","ABACUS FAZAKERLEY","RY1"]
[null,null,null,null,null,null,null,null,null,null,null,null,null,null,null,null,null,null,null,null,null,null,null,null,null,null,null,null,null,null,null,null,null,null,null,null,null,null,null,null,null,null,null,null,"RY1COMMUNITY INTEGRATED DISCHARGE UNIT","RY194","COMMUNITY INTEGRATED DISCHARGE UNIT","RY194","COMMUNITY INTEGRATED DISCHARGE UNIT","RY1"]
[null,null,null,null,null,null,null,null,null,null,null,null,null,null,null,null,null,null,null,null,null,null,null,null,null,null,null,null,null,null,null,null,null,null,null,null,null,null,null,null,null,null,null,null,"RY1RL & BUHT IM&T DEPARTMENT","RY146","RL & BUHT IM&T DEPARTMENT","RY146","RL & BUHT IM&T DEPARTMENT","RY1"]
[null,null,null,null,null,null,null,null,null,null,null,null,null,null,null,null,null,null,null,null,null,null,null,null,null,null,null,null,null,null,null,null,null,null,null,null,null,null,null,null,null,null,null,null,"RY1TEA FACTORY","RY174","TEA FACTORY","RY174","TEA FACTORY","RY1"]
[null,null,null,null,null,null,null,null,null,null,null,null,null,null,null,null,null,null,null,null,null,null,null,null,null,null,null,null,null,null,null,null,null,null,null,null,null,null,null,null,null,null,null,null,"RY2OAKWOOD UNIT","RY2V2","OAKWOOD UNIT","RY2V2","OAKWOOD UNIT","RY2"]
[null,null,null,null,null,null,null,null,null,null,null,null,null,null,null,null,null,null,null,null,null,null,null,null,null,null,null,null,null,null,null,null,null,null,null,null,null,null,null,null,null,null,null,null,"RY2THE LAKES","RY2W2","THE LAKES","RY2W2","THE LAKES","RY2"]
[null,null,null,null,null,null,null,null,null,null,null,null,null,null,null,null,null,null,null,null,null,null,null,null,null,null,null,null,null,null,null,null,null,null,null,null,null,null,null,null,null,null,null,null,"RY3DEREHAM HOSPITAL","RY319","DEREHAM HOSPITAL","RY319","DEREHAM HOSPITAL","RY3"]
[null,null,null,null,null,null,null,null,null,null,null,null,null,null,null,null,null,null,null,null,null,null,null,null,null,null,null,null,null,null,null,null,null,null,null,null,null,null,null,null,null,null,null,null,"RY3MILL LODGES (3 MILL CLOSE)","RY351","MILL LODGES (3 MILL CLOSE)","RY351","MILL LODGES (3 MILL CLOSE)","RY3"]
[null,null,null,null,null,null,null,null,null,null,null,null,null,null,null,null,null,null,null,null,null,null,null,null,null,null,null,null,null,null,null,null,null,null,null,null,null,null,null,null,null,null,null,null,"RY3SQUIRRELS (5 MILL CLOSE)","RY352","SQUIRRELS (5 MILL CLOSE)","RY352","SQUIRRELS (5 MILL CLOSE)","RY3"]
[null,null,null,null,null,null,null,null,null,null,null,null,null,null,null,null,null,null,null,null,null,null,null,null,null,null,null,null,null,null,null,null,null,null,null,null,null,null,null,null,null,null,null,null,"RY4BULL PLAIN","RY430","BULL PLAIN","RY430","BULL PLAIN","RY4"]
[null,null,null,null,null,null,null,null,null,null,null,null,null,null,null,null,null,null,null,null,null,null,null,null,null,null,null,null,null,null,null,null,null,null,null,null,null,null,null,null,null,null,null,null,"RY4HITCHIN HOSPITAL","RY406","HITCHIN HOSPITAL","RY406","HITCHIN HOSPITAL","RY4"]
[null,null,null,null,null,null,null,null,null,null,null,null,null,null,null,null,null,null,null,null,null,null,null,null,null,null,null,null,null,null,null,null,null,null,null,null,null,null,null,null,null,null,null,null,"RY4LANGLEY HOUSE ","RY411","LANGLEY HOUSE ","RY411","LANGLEY HOUSE ","RY4"]
[null,null,null,null,null,null,null,null,null,null,null,null,null,null,null,null,null,null,null,null,null,null,null,null,null,null,null,null,null,null,null,null,null,null,null,null,null,null,null,null,null,null,null,null,"RY5LOUTH COMMUNITY HOSPITAL","RY572","LOUTH COMMUNITY HOSPITAL","RY572","LOUTH COMMUNITY HOSPITAL","RY5"]
[null,null,null,null,null,null,null,null,null,null,null,null,null,null,null,null,null,null,null,null,null,null,null,null,null,null,null,null,null,null,null,null,null,null,null,null,null,null,null,null,null,null,null,null,"RY6BEESTON VILLAGE SURGERY","RY605","BEESTON VILLAGE SURGERY","RY605","BEESTON VILLAGE SURGERY","RY6"]
[null,null,null,null,null,null,null,null,null,null,null,null,null,null,null,null,null,null,null,null,null,null,null,null,null,null,null,null,null,null,null,null,null,null,null,null,null,null,null,null,null,null,null,null,"RY6CRINGLEBAR","RY615","CRINGLEBAR","RY615","CRINGLEBAR","RY6"]
[null,null,null,null,null,null,null,null,null,null,null,null,null,null,null,null,null,null,null,null,null,null,null,null,null,null,null,null,null,null,null,null,null,null,null,null,null,null,null,null,null,null,null,null,"RY6HALTON CLINIC","RY621","HALTON CLINIC","RY621","HALTON CLINIC","RY6"]
[null,null,null,null,null,null,null,null,null,null,null,null,null,null,null,null,null,null,null,null,null,null,null,null,null,null,null,null,null,null,null,null,null,null,null,null,null,null,null,null,null,null,null,null,"RY6KIPPAX HEALTH CENTRE","RY628","KIPPAX HEALTH CENTRE","RY628","KIPPAX HEALTH CENTRE","RY6"]
[null,null,null,null,null,null,null,null,null,null,null,null,null,null,null,null,null,null,null,null,null,null,null,null,null,null,null,null,null,null,null,null,null,null,null,null,null,null,null,null,null,null,null,null,"RY6LEEDS STUDENT MEDICAL PRACTICE","RY672","LEEDS STUDENT MEDICAL PRACTICE","RY672","LEEDS STUDENT MEDICAL PRACTICE","RY6"]
[null,null,null,null,null,null,null,null,null,null,null,null,null,null,null,null,null,null,null,null,null,null,null,null,null,null,null,null,null,null,null,null,null,null,null,null,null,null,null,null,null,null,null,null,{"$f":"CONCATENATE(LEFT(AT4623, 3),AU4623)","v":"RY6OSMONDTHORPE ONE STOP SHOP"},"RY637","OSMONDTHORPE ONE STOP SHOP","RY637","OSMONDTHORPE ONE STOP SHOP",{"$f":"LEFT(AV4623,3)","v":"RY6"}]
[null,null,null,null,null,null,null,null,null,null,null,null,null,null,null,null,null,null,null,null,null,null,null,null,null,null,null,null,null,null,null,null,null,null,null,null,null,null,null,null,null,null,null,null,"RY6PARK EDGE PRACTICE","RY674","PARK EDGE PRACTICE","RY674","PARK EDGE PRACTICE","RY6"]
[null,null,null,null,null,null,null,null,null,null,null,null,null,null,null,null,null,null,null,null,null,null,null,null,null,null,null,null,null,null,null,null,null,null,null,null,null,null,null,null,null,null,null,null,"RY6ROBIN LANE MEDICAL CENTRE","RY676","ROBIN LANE MEDICAL CENTRE","RY676","ROBIN LANE MEDICAL CENTRE","RY6"]
[null,null,null,null,null,null,null,null,null,null,null,null,null,null,null,null,null,null,null,null,null,null,null,null,null,null,null,null,null,null,null,null,null,null,null,null,null,null,null,null,null,null,null,null,"RY6SUNFIELD MEDICAL CENTRE","RY652","SUNFIELD MEDICAL CENTRE","RY652","SUNFIELD MEDICAL CENTRE","RY6"]
[null,null,null,null,null,null,null,null,null,null,null,null,null,null,null,null,null,null,null,null,null,null,null,null,null,null,null,null,null,null,null,null,null,null,null,null,null,null,null,null,null,null,null,null,"RY6WORTLEY BECK HEALTH CENTRE","RY661","WORTLEY BECK HEALTH CENTRE","RY661","WORTLEY BECK HEALTH CENTRE","RY6"]
[null,null,null,null,null,null,null,null,null,null,null,null,null,null,null,null,null,null,null,null,null,null,null,null,null,null,null,null,null,null,null,null,null,null,null,null,null,null,null,null,null,null,null,null,"RY8BABINGTON HOSPITAL","RY8DE","BABINGTON HOSPITAL","RY8DE","BABINGTON HOSPITAL","RY8"]
[null,null,null,null,null,null,null,null,null,null,null,null,null,null,null,null,null,null,null,null,null,null,null,null,null,null,null,null,null,null,null,null,null,null,null,null,null,null,null,null,null,null,null,null,"RY8DRONFIELD CIVIC HALL","RY820","DRONFIELD CIVIC HALL","RY820","DRONFIELD CIVIC HALL","RY8"]
[null,null,null,null,null,null,null,null,null,null,null,null,null,null,null,null,null,null,null,null,null,null,null,null,null,null,null,null,null,null,null,null,null,null,null,null,null,null,null,null,null,null,null,null,"RY8EAR NOSE & THROAT (CCH)","RY8VG","EAR NOSE & THROAT (CCH)","RY8VG","EAR NOSE & THROAT (CCH)","RY8"]
[null,null,null,null,null,null,null,null,null,null,null,null,null,null,null,null,null,null,null,null,null,null,null,null,null,null,null,null,null,null,null,null,null,null,null,null,null,null,null,null,null,null,null,null,"RY8GERIATRIC MEDICINE - BABINGTON","RY8EA","GERIATRIC MEDICINE - BABINGTON","RY8EA","GERIATRIC MEDICINE - BABINGTON","RY8"]
[null,null,null,null,null,null,null,null,null,null,null,null,null,null,null,null,null,null,null,null,null,null,null,null,null,null,null,null,null,null,null,null,null,null,null,null,null,null,null,null,null,null,null,null,"RY8HARBOROUGH OUT PATIENTS","RY8VW","HARBOROUGH OUT PATIENTS","RY8VW","HARBOROUGH OUT PATIENTS","RY8"]
[null,null,null,null,null,null,null,null,null,null,null,null,null,null,null,null,null,null,null,null,null,null,null,null,null,null,null,null,null,null,null,null,null,null,null,null,null,null,null,null,null,null,null,null,"RY8ILKESTON COMMUNITY HOSPITAL","RY8RH","ILKESTON COMMUNITY HOSPITAL","RY8RH","ILKESTON COMMUNITY HOSPITAL","RY8"]
[null,null,null,null,null,null,null,null,null,null,null,null,null,null,null,null,null,null,null,null,null,null,null,null,null,null,null,null,null,null,null,null,null,null,null,null,null,null,null,null,null,null,null,null,"RY8OPHTHALMOLOGY - LONG EATON","RY8HD","OPHTHALMOLOGY - LONG EATON","RY8HD","OPHTHALMOLOGY - LONG EATON","RY8"]
[null,null,null,null,null,null,null,null,null,null,null,null,null,null,null,null,null,null,null,null,null,null,null,null,null,null,null,null,null,null,null,null,null,null,null,null,null,null,null,null,null,null,null,null,"RY8RHEUMATOLOGY - HMH","RY8CG","RHEUMATOLOGY - HMH","RY8CG","RHEUMATOLOGY - HMH","RY8"]
[null,null,null,null,null,null,null,null,null,null,null,null,null,null,null,null,null,null,null,null,null,null,null,null,null,null,null,null,null,null,null,null,null,null,null,null,null,null,null,null,null,null,null,null,"RY8ROCKLEY HOUSE","RY8AN","ROCKLEY HOUSE","RY8AN","ROCKLEY HOUSE","RY8"]
[null,null,null,null,null,null,null,null,null,null,null,null,null,null,null,null,null,null,null,null,null,null,null,null,null,null,null,null,null,null,null,null,null,null,null,null,null,null,null,null,null,null,null,null,"RY8TRAUMA & ORTHOPAEDICS - ILKESTON","RY8FL","TRAUMA & ORTHOPAEDICS - ILKESTON","RY8FL","TRAUMA & ORTHOPAEDICS - ILKESTON","RY8"]
[null,null,null,null,null,null,null,null,null,null,null,null,null,null,null,null,null,null,null,null,null,null,null,null,null,null,null,null,null,null,null,null,null,null,null,null,null,null,null,null,null,null,null,null,"RY8WALTON HOSPITAL","RY8AJ","WALTON HOSPITAL","RY8AJ","WALTON HOSPITAL","RY8"]
[null,null,null,null,null,null,null,null,null,null,null,null,null,null,null,null,null,null,null,null,null,null,null,null,null,null,null,null,null,null,null,null,null,null,null,null,null,null,null,null,null,null,null,null,"RYGCOV & WARK PSYCHOLOGY SUITE","RYGCV","COV & WARK PSYCHOLOGY SUITE","RYGCV","COV & WARK PSYCHOLOGY SUITE","RYG"]
[null,null,null,null,null,null,null,null,null,null,null,null,null,null,null,null,null,null,null,null,null,null,null,null,null,null,null,null,null,null,null,null,null,null,null,null,null,null,null,null,null,null,null,null,"RYGPAYBODY BUILDING","RYGHP","PAYBODY BUILDING","RYGHP","PAYBODY BUILDING","RYG"]
[null,null,null,null,null,null,null,null,null,null,null,null,null,null,null,null,null,null,null,null,null,null,null,null,null,null,null,null,null,null,null,null,null,null,null,null,null,null,null,null,null,null,null,null,"RYGTHE CEDARS","RYG31","THE CEDARS","RYG31","THE CEDARS","RYG"]
[null,null,null,null,null,null,null,null,null,null,null,null,null,null,null,null,null,null,null,null,null,null,null,null,null,null,null,null,null,null,null,null,null,null,null,null,null,null,null,null,null,null,null,null,"RYJQUEEN CHARLOTTE'S HOSPITAL - RYJ04","RYJ04","QUEEN CHARLOTTE'S HOSPITAL - RYJ04","RYJ04","QUEEN CHARLOTTE'S HOSPITAL","RYJ"]
[null,null,null,null,null,null,null,null,null,null,null,null,null,null,null,null,null,null,null,null,null,null,null,null,null,null,null,null,null,null,null,null,null,null,null,null,null,null,null,null,null,null,null,null,"RYKBUSHEY FIELDS HOSPITAL 11","RYKD8","BUSHEY FIELDS HOSPITAL 11","RYKD8","BUSHEY FIELDS HOSPITAL 11","RYK"]
[null,null,null,null,null,null,null,null,null,null,null,null,null,null,null,null,null,null,null,null,null,null,null,null,null,null,null,null,null,null,null,null,null,null,null,null,null,null,null,null,null,null,null,null,"RYKBUSHEY FIELDS HOSPITAL 3","RYKC9","BUSHEY FIELDS HOSPITAL 3","RYKC9","BUSHEY FIELDS HOSPITAL 3","RYK"]
[null,null,null,null,null,null,null,null,null,null,null,null,null,null,null,null,null,null,null,null,null,null,null,null,null,null,null,null,null,null,null,null,null,null,null,null,null,null,null,null,null,null,null,null,"RYKDAISY BANK COMMUNITY UNIT","RYK02","DAISY BANK COMMUNITY UNIT","RYK02","DAISY BANK COMMUNITY UNIT","RYK"]
[null,null,null,null,null,null,null,null,null,null,null,null,null,null,null,null,null,null,null,null,null,null,null,null,null,null,null,null,null,null,null,null,null,null,null,null,null,null,null,null,null,null,null,null,"RYKROSE COTTAGE","RYK47","ROSE COTTAGE","RYK47","ROSE COTTAGE","RYK"]
[null,null,null,null,null,null,null,null,null,null,null,null,null,null,null,null,null,null,null,null,null,null,null,null,null,null,null,null,null,null,null,null,null,null,null,null,null,null,null,null,null,null,null,null,"RYQERITH AND DISTRICT HOSPITAL - RYQ11","RYQ11","ERITH AND DISTRICT HOSPITAL - RYQ11","RYQ11","ERITH AND DISTRICT HOSPITAL","RYQ"]
[null,null,null,null,null,null,null,null,null,null,null,null,null,null,null,null,null,null,null,null,null,null,null,null,null,null,null,null,null,null,null,null,null,null,null,null,null,null,null,null,null,null,null,null,"RYVCITY CARE CENTRE","RYV78","CITY CARE CENTRE","RYV78","CITY CARE CENTRE","RYV"]
[null,null,null,null,null,null,null,null,null,null,null,null,null,null,null,null,null,null,null,null,null,null,null,null,null,null,null,null,null,null,null,null,null,null,null,null,null,null,null,null,null,null,null,null,"RYVIPSWICH HOSPITAL - CASH","RYV19","IPSWICH HOSPITAL - CASH","RYV19","IPSWICH HOSPITAL - CASH","RYV"]
[null,null,null,null,null,null,null,null,null,null,null,null,null,null,null,null,null,null,null,null,null,null,null,null,null,null,null,null,null,null,null,null,null,null,null,null,null,null,null,null,null,null,null,null,"RYVWEST SUFFOLK HOSPITAL - CASH","RYV20","WEST SUFFOLK HOSPITAL - CASH","RYV20","WEST SUFFOLK HOSPITAL - CASH","RYV"]
[null,null,null,null,null,null,null,null,null,null,null,null,null,null,null,null,null,null,null,null,null,null,null,null,null,null,null,null,null,null,null,null,null,null,null,null,null,null,null,null,null,null,null,null,"RYWINTERMEDIATE CARE REHABILITATION UNIT","RYW03","INTERMEDIATE CARE REHABILITATION UNIT","RYW03","INTERMEDIATE CARE REHABILITATION UNIT","RYW"]
[null,null,null,null,null,null,null,null,null,null,null,null,null,null,null,null,null,null,null,null,null,null,null,null,null,null,null,null,null,null,null,null,null,null,null,null,null,null,null,null,null,null,null,null,"RYWSUTTON COTTAGE HOSPITAL","RYW20","SUTTON COTTAGE HOSPITAL","RYW20","SUTTON COTTAGE HOSPITAL","RYW"]
[null,null,null,null,null,null,null,null,null,null,null,null,null,null,null,null,null,null,null,null,null,null,null,null,null,null,null,null,null,null,null,null,null,null,null,null,null,null,null,null,null,null,null,null,"RYXTHAMES BROOK CARE HOME","RYX29","THAMES BROOK CARE HOME","RYX29","THAMES BROOK CARE HOME","RYX"]
[null,null,null,null,null,null,null,null,null,null,null,null,null,null,null,null,null,null,null,null,null,null,null,null,null,null,null,null,null,null,null,null,null,null,null,null,null,null,null,null,null,null,null,null,"RYYEDENBRIDGE HOSPITAL","RYYK8","EDENBRIDGE HOSPITAL","RYYK8","EDENBRIDGE HOSPITAL","RYY"]
[null,null,null,null,null,null,null,null,null,null,null,null,null,null,null,null,null,null,null,null,null,null,null,null,null,null,null,null,null,null,null,null,null,null,null,null,null,null,null,null,null,null,null,null,"RYYFRIENDS WARD","RYYM5","FRIENDS WARD","RYYM5","FRIENDS WARD","RYY"]
[null,null,null,null,null,null,null,null,null,null,null,null,null,null,null,null,null,null,null,null,null,null,null,null,null,null,null,null,null,null,null,null,null,null,null,null,null,null,null,null,null,null,null,null,"RYYLIVINGSTONE HOSPITAL","RYYD8","LIVINGSTONE HOSPITAL","RYYD8","LIVINGSTONE HOSPITAL","RYY"]
[null,null,null,null,null,null,null,null,null,null,null,null,null,null,null,null,null,null,null,null,null,null,null,null,null,null,null,null,null,null,null,null,null,null,null,null,null,null,null,null,null,null,null,null,"RYYSEVENOAKS HOSPITAL","RYYD9","SEVENOAKS HOSPITAL","RYYD9","SEVENOAKS HOSPITAL","RYY"]
[null,null,null,null,null,null,null,null,null,null,null,null,null,null,null,null,null,null,null,null,null,null,null,null,null,null,null,null,null,null,null,null,null,null,null,null,null,null,null,null,null,null,null,null,"RYYVICTORIA HOSPITAL","RYYCH","VICTORIA HOSPITAL","RYYCH","VICTORIA HOSPITAL","RYY"]
[null,null,null,null,null,null,null,null,null,null,null,null,null,null,null,null,null,null,null,null,null,null,null,null,null,null,null,null,null,null,null,null,null,null,null,null,null,null,null,null,null,null,null,null,"RYYWINDCHIMES","RYYCQ","WINDCHIMES","RYYCQ","WINDCHIMES","RYY"]
[null,null,null,null,null,null,null,null,null,null,null,null,null,null,null,null,null,null,null,null,null,null,null,null,null,null,null,null,null,null,null,null,null,null,null,null,null,null,null,null,null,null,null,null,"TADLYNFIELD MOUNT HOSPITAL","TAD17","LYNFIELD MOUNT HOSPITAL","TAD17","LYNFIELD MOUNT HOSPITAL","TAD"]
[null,null,null,null,null,null,null,null,null,null,null,null,null,null,null,null,null,null,null,null,null,null,null,null,null,null,null,null,null,null,null,null,null,null,null,null,null,null,null,null,null,null,null,null,"TAESOUTH MANCHESTER SITE","TAE02","SOUTH MANCHESTER SITE","TAE02","SOUTH MANCHESTER SITE","TAE"]
[null,null,null,null,null,null,null,null,null,null,null,null,null,null,null,null,null,null,null,null,null,null,null,null,null,null,null,null,null,null,null,null,null,null,null,null,null,null,null,null,null,null,null,null,"TAFCAMDEN ALCOHOL SERVICE","TAF74","CAMDEN ALCOHOL SERVICE","TAF74","CAMDEN ALCOHOL SERVICE","TAF"]
[null,null,null,null,null,null,null,null,null,null,null,null,null,null,null,null,null,null,null,null,null,null,null,null,null,null,null,null,null,null,null,null,null,null,null,null,null,null,null,null,null,null,null,null,"TAFELTHORNE MENTAL HEALTH & SOCIAL CARE CENTRE","TAF33","ELTHORNE MENTAL HEALTH & SOCIAL CARE CENTRE","TAF33","ELTHORNE MENTAL HEALTH & SOCIAL CARE CENTRE","TAF"]
[null,null,null,null,null,null,null,null,null,null,null,null,null,null,null,null,null,null,null,null,null,null,null,null,null,null,null,null,null,null,null,null,null,null,null,null,null,null,null,null,null,null,null,null,"TAFHANLEY GARDENS (RESIDENTIAL SERVICES)","TAF37","HANLEY GARDENS (RESIDENTIAL SERVICES)","TAF37","HANLEY GARDENS (RESIDENTIAL SERVICES)","TAF"]
[null,null,null,null,null,null,null,null,null,null,null,null,null,null,null,null,null,null,null,null,null,null,null,null,null,null,null,null,null,null,null,null,null,null,null,null,null,null,null,null,null,null,null,null,"TAFIDASS","TAF56","IDASS","TAF56","IDASS","TAF"]
[null,null,null,null,null,null,null,null,null,null,null,null,null,null,null,null,null,null,null,null,null,null,null,null,null,null,null,null,null,null,null,null,null,null,null,null,null,null,null,null,null,null,null,null,"TAFPINE STREET DAY CENTRE","TAF60","PINE STREET DAY CENTRE","TAF60","PINE STREET DAY CENTRE","TAF"]
[null,null,null,null,null,null,null,null,null,null,null,null,null,null,null,null,null,null,null,null,null,null,null,null,null,null,null,null,null,null,null,null,null,null,null,null,null,null,null,null,null,null,null,null,"TAFROYAL FREE GROVE CENTRE","TAF77","ROYAL FREE GROVE CENTRE","TAF77","ROYAL FREE GROVE CENTRE","TAF"]
[null,null,null,null,null,null,null,null,null,null,null,null,null,null,null,null,null,null,null,null,null,null,null,null,null,null,null,null,null,null,null,null,null,null,null,null,null,null,null,null,null,null,null,null,"TAHBEECH HILL","TAH13","BEECH HILL","TAH13","BEECH HILL","TAH"]
[null,null,null,null,null,null,null,null,null,null,null,null,null,null,null,null,null,null,null,null,null,null,null,null,null,null,null,null,null,null,null,null,null,null,null,null,null,null,null,null,null,null,null,null,"TAHHURLFIELD VIEW","TAH52","HURLFIELD VIEW","TAH52","HURLFIELD VIEW","TAH"]
[null,null,null,null,null,null,null,null,null,null,null,null,null,null,null,null,null,null,null,null,null,null,null,null,null,null,null,null,null,null,null,null,null,null,null,null,null,null,null,null,null,null,null,null,"TAHPRESIDENT PARK","TAHYX","PRESIDENT PARK","TAHYX","PRESIDENT PARK","TAH"]
[null,null,null,null,null,null,null,null,null,null,null,null,null,null,null,null,null,null,null,null,null,null,null,null,null,null,null,null,null,null,null,null,null,null,null,null,null,null,null,null,null,null,null,null,"TAHWATHWOOD HOSPITAL","TAH89","WATHWOOD HOSPITAL","TAH89","WATHWOOD HOSPITAL","TAH"]
[null,null,null,null,null,null,null,null,null,null,null,null,null,null,null,null,null,null,null,null,null,null,null,null,null,null,null,null,null,null,null,null,null,null,null,null,null,null,null,null,null,null,null,null,"TAJHALLAM STREET HOSPITAL","TAJ20","HALLAM STREET HOSPITAL","TAJ20","HALLAM STREET HOSPITAL","TAJ"]
[null,null,null,null,null,null,null,null,null,null,null,null,null,null,null,null,null,null,null,null,null,null,null,null,null,null,null,null,null,null,null,null,null,null,null,null,null,null,null,null,null,null,null,null,"TAJHEATH LANE HOSPITAL","TAJ11","HEATH LANE HOSPITAL","TAJ11","HEATH LANE HOSPITAL","TAJ"]
[null,null,null,null,null,null,null,null,null,null,null,null,null,null,null,null,null,null,null,null,null,null,null,null,null,null,null,null,null,null,null,null,null,null,null,null,null,null,null,null,null,null,null,null,"TAJNEPTUNE HEALTH PARK","TAJ22","NEPTUNE HEALTH PARK","TAJ22","NEPTUNE HEALTH PARK","TAJ"]
[null,null,null,null,null,null,null,null,null,null,null,null,null,null,null,null,null,null,null,null,null,null,null,null,null,null,null,null,null,null,null,null,null,null,null,null,null,null,null,null,null,null,null,null,"TAJPENN HOSPITAL","TAJ52","PENN HOSPITAL","TAJ52","PENN HOSPITAL","TAJ"]
[null,null,null,null,null,null,null,null,null,null,null,null,null,null,null,null,null,null,null,null,null,null,null,null,null,null,null,null,null,null,null,null,null,null,null,null,null,null,null,null,null,null,null,null,"TAJPOND LANE","TAJ53","POND LANE","TAJ53","POND LANE","TAJ"]
[null,null,null,null,null,null,null,null,null,null,null,null,null,null,null,null,null,null,null,null,null,null,null,null,null,null,null,null,null,null,null,null,null,null,null,null,null,null,null,null,null,null,null,null,"TAJRIDGE HILL HOSPITAL","TAJ54","RIDGE HILL HOSPITAL","TAJ54","RIDGE HILL HOSPITAL","TAJ"]
[null,null,null,null,null,null,null,null,null,null,null,null,null,null,null,null,null,null,null,null,null,null,null,null,null,null,null,null,null,null,null,null,null,null,null,null,null,null,null,null,null,null,null,null,"TAJROWLEY REGIS HOSPITAL","TAJ10","ROWLEY REGIS HOSPITAL","TAJ10","ROWLEY REGIS HOSPITAL","TAJ"]
[null,null,null,null,null,null,null,null,null,null,null,null,null,null,null,null,null,null,null,null,null,null,null,null,null,null,null,null,null,null,null,null,null,null,null,null,null,null,null,null,null,null,null,null,"TAJSANDWELL DISTRICT GENERAL HOSPITAL","TAJ43","SANDWELL DISTRICT GENERAL HOSPITAL","TAJ43","SANDWELL DISTRICT GENERAL HOSPITAL","TAJ"]
[null,null,null,null,null,null,null,null,null,null,null,null,null,null,null,null,null,null,null,null,null,null,null,null,null,null,null,null,null,null,null,null,null,null,null,null,null,null,null,null,null,null,null,null,"TAJSUTTONS DRIVE","TAJ56","SUTTONS DRIVE","TAJ56","SUTTONS DRIVE","TAJ"]
[null,null,null,null,null,null,null,null,null,null,null,null,null,null,null,null,null,null,null,null,null,null,null,null,null,null,null,null,null,null,null,null,null,null,null,null,null,null,null,null,null,null,null,null,{"$f":"CONCATENATE(LEFT(AT5071, 3),AU5071)","v":"TAJTHE CREST"},"TAJ29","THE CREST","TAJ29","THE CREST",{"$f":"LEFT(AV5071,3)","v":"TAJ"}]
[null,null,null,null,null,null,null,null,null,null,null,null,null,null,null,null,null,null,null,null,null,null,null,null,null,null,null,null,null,null,null,null,null,null,null,null,null,null,null,null,null,null,null,null,{"$f":"CONCATENATE(LEFT(AT5072, 3),AU5072)","v":""},null,null,null,null,""]
[null,null,null,null,null,null,null,null,null,null,null,null,null,null,null,null,null,null,null,null,null,null,null,null,null,null,null,null,null,null,null,null,null,null,null,null,null,null,null,null,null,null,null,null,{"$f":"CONCATENATE(LEFT(AT5073, 3),AU5073)","v":""},null,null,null,null,""]
[null,null,null,null,null,null,null,null,null,null,null,null,null,null,null,null,null,null,null,null,null,null,null,null,null,null,null,null,null,null,null,null,null,null,null,null,null,null,null,null,null,null,null,null,{"$f":"CONCATENATE(LEFT(AT5074, 3),AU5074)","v":""},null,null,null,null,""]
[null,null,null,null,null,null,null,null,null,null,null,null,null,null,null,null,null,null,null,null,null,null,null,null,null,null,null,null,null,null,null,null,null,null,null,null,null,null,null,null,null,null,null,null,{"$f":"CONCATENATE(LEFT(AT5075, 3),AU5075)","v":""},null,null,null,null,""]
[null,null,null,null,null,null,null,null,null,null,null,null,null,null,null,null,null,null,null,null,null,null,null,null,null,null,null,null,null,null,null,null,null,null,null,null,null,null,null,null,null,null,null,null,"",null,null,null,null,""]
[null,null,null,null,null,null,null,null,null,null,null,null,null,null,null,null,null,null,null,null,null,null,null,null,null,null,null,null,null,null,null,null,null,null,null,null,null,null,null,null,null,null,null,null,"",null,null,null,null,""]
[null,null,null,null,null,null,null,null,null,null,null,null,null,null,null,null,null,null,null,null,null,null,null,null,null,null,null,null,null,null,null,null,null,null,null,null,null,null,null,null,null,null,null,null,"",null,null,null,null,""]
[null,null,null,null,null,null,null,null,null,null,null,null,null,null,null,null,null,null,null,null,null,null,null,null,null,null,null,null,null,null,null,null,null,null,null,null,null,null,null,null,null,null,null,null,"",null,null,null,null,""]
[null,null,null,null,null,null,null,null,null,null,null,null,null,null,null,null,null,null,null,null,null,null,null,null,null,null,null,null,null,null,null,null,null,null,null,null,null,null,null,null,null,null,null,null,"",null,null,null,null,""]
[null,null,null,null,null,null,null,null,null,null,null,null,null,null,null,null,null,null,null,null,null,null,null,null,null,null,null,null,null,null,null,null,null,null,null,null,null,null,null,null,null,null,null,null,"",null,null,null,null,""]
[null,null,null,null,null,null,null,null,null,null,null,null,null,null,null,null,null,null,null,null,null,null,null,null,null,null,null,null,null,null,null,null,null,null,null,null,null,null,null,null,null,null,null,null,"",null,null,null,null,""]
[null,null,null,null,null,null,null,null,null,null,null,null,null,null,null,null,null,null,null,null,null,null,null,null,null,null,null,null,null,null,null,null,null,null,null,null,null,null,null,null,null,null,null,null,"",null,null,null,null,""]
[null,null,null,null,null,null,null,null,null,null,null,null,null,null,null,null,null,null,null,null,null,null,null,null,null,null,null,null,null,null,null,null,null,null,null,null,null,null,null,null,null,null,null,null,"",null,null,null,null,""]
[null,null,null,null,null,null,null,null,null,null,null,null,null,null,null,null,null,null,null,null,null,null,null,null,null,null,null,null,null,null,null,null,null,null,null,null,null,null,null,null,null,null,null,null,"",null,null,null,null,""]
[null,null,null,null,null,null,null,null,null,null,null,null,null,null,null,null,null,null,null,null,null,null,null,null,null,null,null,null,null,null,null,null,null,null,null,null,null,null,null,null,null,null,null,null,"",null,null,null,null,""]
[null,null,null,null,null,null,null,null,null,null,null,null,null,null,null,null,null,null,null,null,null,null,null,null,null,null,null,null,null,null,null,null,null,null,null,null,null,null,null,null,null,null,null,null,"",null,null,null,null,""]
[null,null,null,null,null,null,null,null,null,null,null,null,null,null,null,null,null,null,null,null,null,null,null,null,null,null,null,null,null,null,null,null,null,null,null,null,null,null,null,null,null,null,null,null,"",null,null,null,null,""]
[null,null,null,null,null,null,null,null,null,null,null,null,null,null,null,null,null,null,null,null,null,null,null,null,null,null,null,null,null,null,null,null,null,null,null,null,null,null,null,null,null,null,null,null,"",null,null,null,null,""]
[null,null,null,null,null,null,null,null,null,null,null,null,null,null,null,null,null,null,null,null,null,null,null,null,null,null,null,null,null,null,null,null,null,null,null,null,null,null,null,null,null,null,null,null,"",null,null,null,null,""]
[null,null,null,null,null,null,null,null,null,null,null,null,null,null,null,null,null,null,null,null,null,null,null,null,null,null,null,null,null,null,null,null,null,null,null,null,null,null,null,null,null,null,null,null,"",null,null,null,null,""]
[null,null,null,null,null,null,null,null,null,null,null,null,null,null,null,null,null,null,null,null,null,null,null,null,null,null,null,null,null,null,null,null,null,null,null,null,null,null,null,null,null,null,null,null,"",null,null,null,null,""]
[null,null,null,null,null,null,null,null,null,null,null,null,null,null,null,null,null,null,null,null,null,null,null,null,null,null,null,null,null,null,null,null,null,null,null,null,null,null,null,null,null,null,null,null,"",null,null,null,null,""]
[null,null,null,null,null,null,null,null,null,null,null,null,null,null,null,null,null,null,null,null,null,null,null,null,null,null,null,null,null,null,null,null,null,null,null,null,null,null,null,null,null,null,null,null,"",null,null,null,null,""]
[null,null,null,null,null,null,null,null,null,null,null,null,null,null,null,null,null,null,null,null,null,null,null,null,null,null,null,null,null,null,null,null,null,null,null,null,null,null,null,null,null,null,null,null,"",null,null,null,null,""]
[null,null,null,null,null,null,null,null,null,null,null,null,null,null,null,null,null,null,null,null,null,null,null,null,null,null,null,null,null,null,null,null,null,null,null,null,null,null,null,null,null,null,null,null,"",null,null,null,null,""]
[null,null,null,null,null,null,null,null,null,null,null,null,null,null,null,null,null,null,null,null,null,null,null,null,null,null,null,null,null,null,null,null,null,null,null,null,null,null,null,null,null,null,null,null,"",null,null,null,null,""]
[null,null,null,null,null,null,null,null,null,null,null,null,null,null,null,null,null,null,null,null,null,null,null,null,null,null,null,null,null,null,null,null,null,null,null,null,null,null,null,null,null,null,null,null,"",null,null,null,null,""]
[null,null,null,null,null,null,null,null,null,null,null,null,null,null,null,null,null,null,null,null,null,null,null,null,null,null,null,null,null,null,null,null,null,null,null,null,null,null,null,null,null,null,null,null,"",null,null,null,null,""]
[null,null,null,null,null,null,null,null,null,null,null,null,null,null,null,null,null,null,null,null,null,null,null,null,null,null,null,null,null,null,null,null,null,null,null,null,null,null,null,null,null,null,null,null,"",null,null,null,null,""]
[null,null,null,null,null,null,null,null,null,null,null,null,null,null,null,null,null,null,null,null,null,null,null,null,null,null,null,null,null,null,null,null,null,null,null,null,null,null,null,null,null,null,null,null,"",null,null,null,null,""]
[null,null,null,null,null,null,null,null,null,null,null,null,null,null,null,null,null,null,null,null,null,null,null,null,null,null,null,null,null,null,null,null,null,null,null,null,null,null,null,null,null,null,null,null,"",null,null,null,null,""]
[null,null,null,null,null,null,null,null,null,null,null,null,null,null,null,null,null,null,null,null,null,null,null,null,null,null,null,null,null,null,null,null,null,null,null,null,null,null,null,null,null,null,null,null,"",null,null,null,null,""]
[null,null,null,null,null,null,null,null,null,null,null,null,null,null,null,null,null,null,null,null,null,null,null,null,null,null,null,null,null,null,null,null,null,null,null,null,null,null,null,null,null,null,null,null,"",null,null,null,null,""]
[null,null,null,null,null,null,null,null,null,null,null,null,null,null,null,null,null,null,null,null,null,null,null,null,null,null,null,null,null,null,null,null,null,null,null,null,null,null,null,null,null,null,null,null,"",null,null,null,null,""]
[null,null,null,null,null,null,null,null,null,null,null,null,null,null,null,null,null,null,null,null,null,null,null,null,null,null,null,null,null,null,null,null,null,null,null,null,null,null,null,null,null,null,null,null,"",null,null,null,null,""]
[null,null,null,null,null,null,null,null,null,null,null,null,null,null,null,null,null,null,null,null,null,null,null,null,null,null,null,null,null,null,null,null,null,null,null,null,null,null,null,null,null,null,null,null,"",null,null,null,null,""]
[null,null,null,null,null,null,null,null,null,null,null,null,null,null,null,null,null,null,null,null,null,null,null,null,null,null,null,null,null,null,null,null,null,null,null,null,null,null,null,null,null,null,null,null,"",null,null,null,null,""]
[null,null,null,null,null,null,null,null,null,null,null,null,null,null,null,null,null,null,null,null,null,null,null,null,null,null,null,null,null,null,null,null,null,null,null,null,null,null,null,null,null,null,null,null,"",null,null,null,null,""]
[null,null,null,null,null,null,null,null,null,null,null,null,null,null,null,null,null,null,null,null,null,null,null,null,null,null,null,null,null,null,null,null,null,null,null,null,null,null,null,null,null,null,null,null,"",null,null,null,null,""]
[null,null,null,null,null,null,null,null,null,null,null,null,null,null,null,null,null,null,null,null,null,null,null,null,null,null,null,null,null,null,null,null,null,null,null,null,null,null,null,null,null,null,null,null,"",null,null,null,null,""]
[null,null,null,null,null,null,null,null,null,null,null,null,null,null,null,null,null,null,null,null,null,null,null,null,null,null,null,null,null,null,null,null,null,null,null,null,null,null,null,null,null,null,null,null,"",null,null,null,null,""]
[null,null,null,null,null,null,null,null,null,null,null,null,null,null,null,null,null,null,null,null,null,null,null,null,null,null,null,null,null,null,null,null,null,null,null,null,null,null,null,null,null,null,null,null,"",null,null,null,null,""]
[null,null,null,null,null,null,null,null,null,null,null,null,null,null,null,null,null,null,null,null,null,null,null,null,null,null,null,null,null,null,null,null,null,null,null,null,null,null,null,null,null,null,null,null,"",null,null,null,null,""]
[null,null,null,null,null,null,null,null,null,null,null,null,null,null,null,null,null,null,null,null,null,null,null,null,null,null,null,null,null,null,null,null,null,null,null,null,null,null,null,null,null,null,null,null,"",null,null,null,null,""]
[null,null,null,null,null,null,null,null,null,null,null,null,null,null,null,null,null,null,null,null,null,null,null,null,null,null,null,null,null,null,null,null,null,null,null,null,null,null,null,null,null,null,null,null,"",null,null,null,null,""]
[null,null,null,null,null,null,null,null,null,null,null,null,null,null,null,null,null,null,null,null,null,null,null,null,null,null,null,null,null,null,null,null,null,null,null,null,null,null,null,null,null,null,null,null,"",null,null,null,null,""]
[null,null,null,null,null,null,null,null,null,null,null,null,null,null,null,null,null,null,null,null,null,null,null,null,null,null,null,null,null,null,null,null,null,null,null,null,null,null,null,null,null,null,null,null,"",null,null,null,null,""]
[null,null,null,null,null,null,null,null,null,null,null,null,null,null,null,null,null,null,null,null,null,null,null,null,null,null,null,null,null,null,null,null,null,null,null,null,null,null,null,null,null,null,null,null,"",null,null,null,null,""]
[null,null,null,null,null,null,null,null,null,null,null,null,null,null,null,null,null,null,null,null,null,null,null,null,null,null,null,null,null,null,null,null,null,null,null,null,null,null,null,null,null,null,null,null,"",null,null,null,null,""]
[null,null,null,null,null,null,null,null,null,null,null,null,null,null,null,null,null,null,null,null,null,null,null,null,null,null,null,null,null,null,null,null,null,null,null,null,null,null,null,null,null,null,null,null,"",null,null,null,null,""]
[null,null,null,null,null,null,null,null,null,null,null,null,null,null,null,null,null,null,null,null,null,null,null,null,null,null,null,null,null,null,null,null,null,null,null,null,null,null,null,null,null,null,null,null,"",null,null,null,null,""]
[null,null,null,null,null,null,null,null,null,null,null,null,null,null,null,null,null,null,null,null,null,null,null,null,null,null,null,null,null,null,null,null,null,null,null,null,null,null,null,null,null,null,null,null,"",null,null,null,null,""]
[null,null,null,null,null,null,null,null,null,null,null,null,null,null,null,null,null,null,null,null,null,null,null,null,null,null,null,null,null,null,null,null,null,null,null,null,null,null,null,null,null,null,null,null,"",null,null,null,null,""]
[null,null,null,null,null,null,null,null,null,null,null,null,null,null,null,null,null,null,null,null,null,null,null,null,null,null,null,null,null,null,null,null,null,null,null,null,null,null,null,null,null,null,null,null,"",null,null,null,null,""]
[null,null,null,null,null,null,null,null,null,null,null,null,null,null,null,null,null,null,null,null,null,null,null,null,null,null,null,null,null,null,null,null,null,null,null,null,null,null,null,null,null,null,null,null,"",null,null,null,null,""]
[null,null,null,null,null,null,null,null,null,null,null,null,null,null,null,null,null,null,null,null,null,null,null,null,null,null,null,null,null,null,null,null,null,null,null,null,null,null,null,null,null,null,null,null,"",null,null,null,null,""]
[null,null,null,null,null,null,null,null,null,null,null,null,null,null,null,null,null,null,null,null,null,null,null,null,null,null,null,null,null,null,null,null,null,null,null,null,null,null,null,null,null,null,null,null,"",null,null,null,null,""]
[null,null,null,null,null,null,null,null,null,null,null,null,null,null,null,null,null,null,null,null,null,null,null,null,null,null,null,null,null,null,null,null,null,null,null,null,null,null,null,null,null,null,null,null,"",null,null,null,null,""]
[null,null,null,null,null,null,null,null,null,null,null,null,null,null,null,null,null,null,null,null,null,null,null,null,null,null,null,null,null,null,null,null,null,null,null,null,null,null,null,null,null,null,null,null,"",null,null,null,null,""]
[null,null,null,null,null,null,null,null,null,null,null,null,null,null,null,null,null,null,null,null,null,null,null,null,null,null,null,null,null,null,null,null,null,null,null,null,null,null,null,null,null,null,null,null,"",null,null,null,null,""]
[null,null,null,null,null,null,null,null,null,null,null,null,null,null,null,null,null,null,null,null,null,null,null,null,null,null,null,null,null,null,null,null,null,null,null,null,null,null,null,null,null,null,null,null,"",null,null,null,null,""]
[null,null,null,null,null,null,null,null,null,null,null,null,null,null,null,null,null,null,null,null,null,null,null,null,null,null,null,null,null,null,null,null,null,null,null,null,null,null,null,null,null,null,null,null,"",null,null,null,null,""]
[null,null,null,null,null,null,null,null,null,null,null,null,null,null,null,null,null,null,null,null,null,null,null,null,null,null,null,null,null,null,null,null,null,null,null,null,null,null,null,null,null,null,null,null,"",null,null,null,null,""]
[null,null,null,null,null,null,null,null,null,null,null,null,null,null,null,null,null,null,null,null,null,null,null,null,null,null,null,null,null,null,null,null,null,null,null,null,null,null,null,null,null,null,null,null,"",null,null,null,null,{"$f":"LEFT(AV5135,3)","v":""}]
[null,null,null,null,null,null,null,null,null,null,null,null,null,null,null,null,null,null,null,null,null,null,null,null,null,null,null,null,null,null,null,null,null,null,null,null,null,null,null,null,null,null,null,null,"",null,null,null,null,""]
[null,null,null,null,null,null,null,null,null,null,null,null,null,null,null,null,null,null,null,null,null,null,null,null,null,null,null,null,null,null,null,null,null,null,null,null,null,null,null,null,null,null,null,null,"",null,null,null,null,""]
[null,null,null,null,null,null,null,null,null,null,null,null,null,null,null,null,null,null,null,null,null,null,null,null,null,null,null,null,null,null,null,null,null,null,null,null,null,null,null,null,null,null,null,null,"",null,null,null,null,""]
[null,null,null,null,null,null,null,null,null,null,null,null,null,null,null,null,null,null,null,null,null,null,null,null,null,null,null,null,null,null,null,null,null,null,null,null,null,null,null,null,null,null,null,null,{"$f":"CONCATENATE(LEFT(AT5139, 3),AU5139)","v":""},null,null,null,null,""]
[null,null,null,null,null,null,null,null,null,null,null,null,null,null,null,null,null,null,null,null,null,null,null,null,null,null,null,null,null,null,null,null,null,null,null,null,null,null,null,null,null,null,null,null,"",null,null,null,null,""]
[null,null,null,null,null,null,null,null,null,null,null,null,null,null,null,null,null,null,null,null,null,null,null,null,null,null,null,null,null,null,null,null,null,null,null,null,null,null,null,null,null,null,null,null,"",null,null,null,null,""]
[null,null,null,null,null,null,null,null,null,null,null,null,null,null,null,null,null,null,null,null,null,null,null,null,null,null,null,null,null,null,null,null,null,null,null,null,null,null,null,null,null,null,null,null,"",null,null,null,null,""]
[null,null,null,null,null,null,null,null,null,null,null,null,null,null,null,null,null,null,null,null,null,null,null,null,null,null,null,null,null,null,null,null,null,null,null,null,null,null,null,null,null,null,null,null,"",null,null,null,null,""]
[null,null,null,null,null,null,null,null,null,null,null,null,null,null,null,null,null,null,null,null,null,null,null,null,null,null,null,null,null,null,null,null,null,null,null,null,null,null,null,null,null,null,null,null,"",null,null,null,null,""]
[null,null,null,null,null,null,null,null,null,null,null,null,null,null,null,null,null,null,null,null,null,null,null,null,null,null,null,null,null,null,null,null,null,null,null,null,null,null,null,null,null,null,null,null,"",null,null,null,null,""]
[null,null,null,null,null,null,null,null,null,null,null,null,null,null,null,null,null,null,null,null,null,null,null,null,null,null,null,null,null,null,null,null,null,null,null,null,null,null,null,null,null,null,null,null,"",null,null,null,null,""]
[null,null,null,null,null,null,null,null,null,null,null,null,null,null,null,null,null,null,null,null,null,null,null,null,null,null,null,null,null,null,null,null,null,null,null,null,null,null,null,null,null,null,null,null,"",null,null,null,null,""]
[null,null,null,null,null,null,null,null,null,null,null,null,null,null,null,null,null,null,null,null,null,null,null,null,null,null,null,null,null,null,null,null,null,null,null,null,null,null,null,null,null,null,null,null,"",null,null,null,null,""]
[null,null,null,null,null,null,null,null,null,null,null,null,null,null,null,null,null,null,null,null,null,null,null,null,null,null,null,null,null,null,null,null,null,null,null,null,null,null,null,null,null,null,null,null,"",null,null,null,null,""]
[null,null,null,null,null,null,null,null,null,null,null,null,null,null,null,null,null,null,null,null,null,null,null,null,null,null,null,null,null,null,null,null,null,null,null,null,null,null,null,null,null,null,null,null,"",null,null,null,null,""]
[null,null,null,null,null,null,null,null,null,null,null,null,null,null,null,null,null,null,null,null,null,null,null,null,null,null,null,null,null,null,null,null,null,null,null,null,null,null,null,null,null,null,null,null,"",null,null,null,null,""]
[null,null,null,null,null,null,null,null,null,null,null,null,null,null,null,null,null,null,null,null,null,null,null,null,null,null,null,null,null,null,null,null,null,null,null,null,null,null,null,null,null,null,null,null,"",null,null,null,null,""]
[null,null,null,null,null,null,null,null,null,null,null,null,null,null,null,null,null,null,null,null,null,null,null,null,null,null,null,null,null,null,null,null,null,null,null,null,null,null,null,null,null,null,null,null,"",null,null,null,null,""]
[null,null,null,null,null,null,null,null,null,null,null,null,null,null,null,null,null,null,null,null,null,null,null,null,null,null,null,null,null,null,null,null,null,null,null,null,null,null,null,null,null,null,null,null,"",null,null,null,null,""]
[null,null,null,null,null,null,null,null,null,null,null,null,null,null,null,null,null,null,null,null,null,null,null,null,null,null,null,null,null,null,null,null,null,null,null,null,null,null,null,null,null,null,null,null,"",null,null,null,null,""]
[null,null,null,null,null,null,null,null,null,null,null,null,null,null,null,null,null,null,null,null,null,null,null,null,null,null,null,null,null,null,null,null,null,null,null,null,null,null,null,null,null,null,null,null,"",null,null,null,null,""]
[null,null,null,null,null,null,null,null,null,null,null,null,null,null,null,null,null,null,null,null,null,null,null,null,null,null,null,null,null,null,null,null,null,null,null,null,null,null,null,null,null,null,null,null,"",null,null,null,null,""]
[null,null,null,null,null,null,null,null,null,null,null,null,null,null,null,null,null,null,null,null,null,null,null,null,null,null,null,null,null,null,null,null,null,null,null,null,null,null,null,null,null,null,null,null,"",null,null,null,null,""]
[null,null,null,null,null,null,null,null,null,null,null,null,null,null,null,null,null,null,null,null,null,null,null,null,null,null,null,null,null,null,null,null,null,null,null,null,null,null,null,null,null,null,null,null,"",null,null,null,null,""]
[null,null,null,null,null,null,null,null,null,null,null,null,null,null,null,null,null,null,null,null,null,null,null,null,null,null,null,null,null,null,null,null,null,null,null,null,null,null,null,null,null,null,null,null,"",null,null,null,null,""]
[null,null,null,null,null,null,null,null,null,null,null,null,null,null,null,null,null,null,null,null,null,null,null,null,null,null,null,null,null,null,null,null,null,null,null,null,null,null,null,null,null,null,null,null,"",null,null,null,null,""]
[null,null,null,null,null,null,null,null,null,null,null,null,null,null,null,null,null,null,null,null,null,null,null,null,null,null,null,null,null,null,null,null,null,null,null,null,null,null,null,null,null,null,null,null,"",null,null,null,null,""]
[null,null,null,null,null,null,null,null,null,null,null,null,null,null,null,null,null,null,null,null,null,null,null,null,null,null,null,null,null,null,null,null,null,null,null,null,null,null,null,null,null,null,null,null,"",null,null,null,null,""]
[null,null,null,null,null,null,null,null,null,null,null,null,null,null,null,null,null,null,null,null,null,null,null,null,null,null,null,null,null,null,null,null,null,null,null,null,null,null,null,null,null,null,null,null,"",null,null,null,null,""]
[null,null,null,null,null,null,null,null,null,null,null,null,null,null,null,null,null,null,null,null,null,null,null,null,null,null,null,null,null,null,null,null,null,null,null,null,null,null,null,null,null,null,null,null,"",null,null,null,null,""]
[null,null,null,null,null,null,null,null,null,null,null,null,null,null,null,null,null,null,null,null,null,null,null,null,null,null,null,null,null,null,null,null,null,null,null,null,null,null,null,null,null,null,null,null,"",null,null,null,null,""]
[null,null,null,null,null,null,null,null,null,null,null,null,null,null,null,null,null,null,null,null,null,null,null,null,null,null,null,null,null,null,null,null,null,null,null,null,null,null,null,null,null,null,null,null,"",null,null,null,null,""]
[null,null,null,null,null,null,null,null,null,null,null,null,null,null,null,null,null,null,null,null,null,null,null,null,null,null,null,null,null,null,null,null,null,null,null,null,null,null,null,null,null,null,null,null,"",null,null,null,null,""]
[null,null,null,null,null,null,null,null,null,null,null,null,null,null,null,null,null,null,null,null,null,null,null,null,null,null,null,null,null,null,null,null,null,null,null,null,null,null,null,null,null,null,null,null,"",null,null,null,null,""]
[null,null,null,null,null,null,null,null,null,null,null,null,null,null,null,null,null,null,null,null,null,null,null,null,null,null,null,null,null,null,null,null,null,null,null,null,null,null,null,null,null,null,null,null,"",null,null,null,null,""]
[null,null,null,null,null,null,null,null,null,null,null,null,null,null,null,null,null,null,null,null,null,null,null,null,null,null,null,null,null,null,null,null,null,null,null,null,null,null,null,null,null,null,null,null,"",null,null,null,null,""]
[null,null,null,null,null,null,null,null,null,null,null,null,null,null,null,null,null,null,null,null,null,null,null,null,null,null,null,null,null,null,null,null,null,null,null,null,null,null,null,null,null,null,null,null,"",null,null,null,null,""]
[null,null,null,null,null,null,null,null,null,null,null,null,null,null,null,null,null,null,null,null,null,null,null,null,null,null,null,null,null,null,null,null,null,null,null,null,null,null,null,null,null,null,null,null,"",null,null,null,null,""]
[null,null,null,null,null,null,null,null,null,null,null,null,null,null,null,null,null,null,null,null,null,null,null,null,null,null,null,null,null,null,null,null,null,null,null,null,null,null,null,null,null,null,null,null,"",null,null,null,null,""]
[null,null,null,null,null,null,null,null,null,null,null,null,null,null,null,null,null,null,null,null,null,null,null,null,null,null,null,null,null,null,null,null,null,null,null,null,null,null,null,null,null,null,null,null,"",null,null,null,null,""]
[null,null,null,null,null,null,null,null,null,null,null,null,null,null,null,null,null,null,null,null,null,null,null,null,null,null,null,null,null,null,null,null,null,null,null,null,null,null,null,null,null,null,null,null,"",null,null,null,null,""]
[null,null,null,null,null,null,null,null,null,null,null,null,null,null,null,null,null,null,null,null,null,null,null,null,null,null,null,null,null,null,null,null,null,null,null,null,null,null,null,null,null,null,null,null,"",null,null,null,null,""]
[null,null,null,null,null,null,null,null,null,null,null,null,null,null,null,null,null,null,null,null,null,null,null,null,null,null,null,null,null,null,null,null,null,null,null,null,null,null,null,null,null,null,null,null,"",null,null,null,null,""]
[null,null,null,null,null,null,null,null,null,null,null,null,null,null,null,null,null,null,null,null,null,null,null,null,null,null,null,null,null,null,null,null,null,null,null,null,null,null,null,null,null,null,null,null,"",null,null,null,null,""]
[null,null,null,null,null,null,null,null,null,null,null,null,null,null,null,null,null,null,null,null,null,null,null,null,null,null,null,null,null,null,null,null,null,null,null,null,null,null,null,null,null,null,null,null,"",null,null,null,null,""]
[null,null,null,null,null,null,null,null,null,null,null,null,null,null,null,null,null,null,null,null,null,null,null,null,null,null,null,null,null,null,null,null,null,null,null,null,null,null,null,null,null,null,null,null,"",null,null,null,null,""]
[null,null,null,null,null,null,null,null,null,null,null,null,null,null,null,null,null,null,null,null,null,null,null,null,null,null,null,null,null,null,null,null,null,null,null,null,null,null,null,null,null,null,null,null,"",null,null,null,null,""]
[null,null,null,null,null,null,null,null,null,null,null,null,null,null,null,null,null,null,null,null,null,null,null,null,null,null,null,null,null,null,null,null,null,null,null,null,null,null,null,null,null,null,null,null,"",null,null,null,null,""]
[null,null,null,null,null,null,null,null,null,null,null,null,null,null,null,null,null,null,null,null,null,null,null,null,null,null,null,null,null,null,null,null,null,null,null,null,null,null,null,null,null,null,null,null,"",null,null,null,null,""]
[null,null,null,null,null,null,null,null,null,null,null,null,null,null,null,null,null,null,null,null,null,null,null,null,null,null,null,null,null,null,null,null,null,null,null,null,null,null,null,null,null,null,null,null,"",null,null,null,null,""]
[null,null,null,null,null,null,null,null,null,null,null,null,null,null,null,null,null,null,null,null,null,null,null,null,null,null,null,null,null,null,null,null,null,null,null,null,null,null,null,null,null,null,null,null,"",null,null,null,null,""]

{"sheet":"Site - Summary","index":5,"n_rows":200,"n_cols":19,"rows_kept":200,"cut":false,"hidden":false,"merged":[[4,15,4,18]]}
[]
["Org:",{"$f":"'Trust - Frontsheet'!B2","v":"RWD"},{"$f":"'Trust - Frontsheet'!C2","v":"United Lincolnshire Hospitals NHS Trust"}]
["Period:",{"$f":"'Trust - Frontsheet'!B3","v":"December_2016-17"}]
[null,null,null,"Day",null,null,null,"Night"]
[null,null,null,"Registered midwives/nurses",null,"Care Staff",null,"Registered midwives/nurses",null,"Care Staff",null,"Day",null,"Night",null,"Care Hours Per Patient Day (CHPPD)"]
[null,"Site Code","Site Name","Total monthly planned staff hours","Total monthly actual staff hours","Total monthly planned staff hours","Total monthly actual staff hours","Total monthly planned staff hours","Total monthly actual staff hours","Total monthly planned staff hours","Total monthly actual staff hours","Average fill rate - registered nurses/midwives  (%)","Average fill rate - care staff (%)","Average fill rate - registered nurses/midwives  (%)","Average fill rate - care staff (%)","Cumulative count over the month of patients at 23:59 each day","Registered midwives/ nurses","Care Staff","Overall"]
[null,{"$f":"IF(ISERROR(INDEX('Trust - Frontsheet'!AV$1:AV$6187,SMALL(IF('Trust - Frontsheet'!$AX$1:$AX$6187=$B$2,ROW('Trust - Frontsheet'!$AX$1:$AX$6187)),ROW(1:1)))),\"\",INDEX('Trust - Frontsheet'!AV$1:AV$6187,SMALL(IF('Trust - Frontsheet'!$AX$1:$AX$6187=$B$2,ROW('Trust - Frontsheet'!$AX$1:$AX$6187)),ROW(1:1))))","v":"RWDAA"},{"$f":"IF(ISERROR(INDEX('Trust - Frontsheet'!AW$1:AW$6187,SMALL(IF('Trust - Frontsheet'!$AX$1:$AX$6187=$B$2,ROW('Trust - Frontsheet'!$AX$1:$AX$6187)),ROW(1:1)))),\"\",INDEX('Trust - Frontsheet'!AW$1:AW$6187,SMALL(IF('Trust - Frontsheet'!$AX$1:$AX$6187=$B$2,ROW('Trust - Frontsheet'!$AX$1:$AX$6187)),ROW(1:1))))","v":"COUNTY HOSPITAL LOUTH"},{"$f":"IF($B7=\"\",\"\",SUMIF('Trust - Frontsheet'!$C$14:$C$213,$B7,'Trust - Frontsheet'!H$14:H$213))","v":0},{"$f":"IF($B7=\"\",\"\",SUMIF('Trust - Frontsheet'!$C$14:$C$213,$B7,'Trust - Frontsheet'!I$14:I$213))","v":0},{"$f":"IF($B7=\"\",\"\",SUMIF('Trust - Frontsheet'!$C$14:$C$213,$B7,'Trust - Frontsheet'!J$14:J$213))","v":0},{"$f":"IF($B7=\"\",\"\",SUMIF('Trust - Frontsheet'!$C$14:$C$213,$B7,'Trust - Frontsheet'!K$14:K$213))","v":0},{"$f":"IF($B7=\"\",\"\",SUMIF('Trust - Frontsheet'!$C$14:$C$213,$B7,'Trust - Frontsheet'!L$14:L$213))","v":0},{"$f":"IF($B7=\"\",\"\",SUMIF('Trust - Frontsheet'!$C$14:$C$213,$B7,'Trust - Frontsheet'!M$14:M$213))","v":0},{"$f":"IF($B7=\"\",\"\",SUMIF('Trust - Frontsheet'!$C$14:$C$213,$B7,'Trust - Frontsheet'!N$14:N$213))","v":0},{"$f":"IF($B7=\"\",\"\",SUMIF('Trust - Frontsheet'!$C$14:$C$213,$B7,'Trust - Frontsheet'!O$14:O$213))","v":0},{"$f":"IF(D7=\"\",\"\",IF(D7=0,0,E7/D7))","v":0},{"$f":"IF(F7=\"\",\"\",IF(F7=0,0,G7/F7))","v":0},{"$f":"IF(H7=\"\",\"\",IF(H7=0,0,I7/H7))","v":0},{"$f":"IF(J7=\"\",\"\",IF(J7=0,0,K7/J7))","v":0},{"$f":"IF($B7=\"\",\"\",SUMIF('Trust - Frontsheet'!$C$14:$C$213,$B7,'Trust - Frontsheet'!T$14:T$213))","v":0},{"$f":"IF(ISERROR(IF($P7=\"\",\"\",SUM(E7,I7)/$P7)),\"-\",(IF($P7=\"\",\"\",SUM(E7,I7)/$P7)))","v":"-"},{"$f":"IF(ISERROR(IF($P7=\"\",\"\",SUM(G7,K7)/$P7)),\"-\",(IF($P7=\"\",\"\",SUM(G7,K7)/$P7)))","v":"-"},{"$f":"IF(ISERROR(IF($P7=\"\",\"\",SUM(E7,G7,I7,K7)/$P7)),\"-\",(IF($P7=\"\",\"\",SUM(E7,G7,I7,K7)/$P7)))","v":"-"}]
[null,{"$f":"IF(ISERROR(INDEX('Trust - Frontsheet'!AV$1:AV$6187,SMALL(IF('Trust - Frontsheet'!$AX$1:$AX$6187=$B$2,ROW('Trust - Frontsheet'!$AX$1:$AX$6187)),ROW(2:2)))),\"\",INDEX('Trust - Frontsheet'!AV$1:AV$6187,SMALL(IF('Trust - Frontsheet'!$AX$1:$AX$6187=$B$2,ROW('Trust - Frontsheet'!$AX$1:$AX$6187)),ROW(2:2))))","v":"RWDLP"},{"$f":"IF(ISERROR(INDEX('Trust - Frontsheet'!AW$1:AW$6187,SMALL(IF('Trust - Frontsheet'!$AX$1:$AX$6187=$B$2,ROW('Trust - Frontsheet'!$AX$1:$AX$6187)),ROW(2:2)))),\"\",INDEX('Trust - Frontsheet'!AW$1:AW$6187,SMALL(IF('Trust - Frontsheet'!$AX$1:$AX$6187=$B$2,ROW('Trust - Frontsheet'!$AX$1:$AX$6187)),ROW(2:2))))","v":"GRANTHAM AND DISTRICT HOSPITAL"},{"$f":"IF($B8=\"\",\"\",SUMIF('Trust - Frontsheet'!$C$14:$C$213,$B8,'Trust - Frontsheet'!H$14:H$213))","v":7113.8833333333332},{"$f":"IF($B8=\"\",\"\",SUMIF('Trust - Frontsheet'!$C$14:$C$213,$B8,'Trust - Frontsheet'!I$14:I$213))","v":7084.6166666666668},{"$f":"IF($B8=\"\",\"\",SUMIF('Trust - Frontsheet'!$C$14:$C$213,$B8,'Trust - Frontsheet'!J$14:J$213))","v":4552.7166666666672},{"$f":"IF($B8=\"\",\"\",SUMIF('Trust - Frontsheet'!$C$14:$C$213,$B8,'Trust - Frontsheet'!K$14:K$213))","v":4099.1500000000005},{"$f":"IF($B8=\"\",\"\",SUMIF('Trust - Frontsheet'!$C$14:$C$213,$B8,'Trust - Frontsheet'!L$14:L$213))","v":4774},{"$f":"IF($B8=\"\",\"\",SUMIF('Trust - Frontsheet'!$C$14:$C$213,$B8,'Trust - Frontsheet'!M$14:M$213))","v":5041.75},{"$f":"IF($B8=\"\",\"\",SUMIF('Trust - Frontsheet'!$C$14:$C$213,$B8,'Trust - Frontsheet'!N$14:N$213))","v":2728},{"$f":"IF($B8=\"\",\"\",SUMIF('Trust - Frontsheet'!$C$14:$C$213,$B8,'Trust - Frontsheet'!O$14:O$213))","v":2433},{"$f":"IF(D8=\"\",\"\",IF(D8=0,0,E8/D8))","v":0.99588597882544228},{"$f":"IF(F8=\"\",\"\",IF(F8=0,0,G8/F8))","v":0.9003745016711634},{"$f":"IF(H8=\"\",\"\",IF(H8=0,0,I8/H8))","v":1.0560850439882699},{"$f":"IF(J8=\"\",\"\",IF(J8=0,0,K8/J8))","v":0.89186217008797652},{"$f":"IF($B8=\"\",\"\",SUMIF('Trust - Frontsheet'!$C$14:$C$213,$B8,'Trust - Frontsheet'!T$14:T$213))","v":2732},{"$f":"IF(ISERROR(IF($P8=\"\",\"\",SUM(E8,I8)/$P8)),\"-\",(IF($P8=\"\",\"\",SUM(E8,I8)/$P8)))","v":4.4386408003904343},{"$f":"IF(ISERROR(IF($P8=\"\",\"\",SUM(G8,K8)/$P8)),\"-\",(IF($P8=\"\",\"\",SUM(G8,K8)/$P8)))","v":2.3909773060029282},{"$f":"IF(ISERROR(IF($P8=\"\",\"\",SUM(E8,G8,I8,K8)/$P8)),\"-\",(IF($P8=\"\",\"\",SUM(E8,G8,I8,K8)/$P8)))","v":6.8296181063933625}]
[null,{"$f":"IF(ISERROR(INDEX('Trust - Frontsheet'!AV$1:AV$6187,SMALL(IF('Trust - Frontsheet'!$AX$1:$AX$6187=$B$2,ROW('Trust - Frontsheet'!$AX$1:$AX$6187)),ROW(3:3)))),\"\",INDEX('Trust - Frontsheet'!AV$1:AV$6187,SMALL(IF('Trust - Frontsheet'!$AX$1:$AX$6187=$B$2,ROW('Trust - Frontsheet'!$AX$1:$AX$6187)),ROW(3:3))))","v":"RWDLK"},{"$f":"IF(ISERROR(INDEX('Trust - Frontsheet'!AW$1:AW$6187,SMALL(IF('Trust - Frontsheet'!$AX$1:$AX$6187=$B$2,ROW('Trust - Frontsheet'!$AX$1:$AX$6187)),ROW(3:3)))),\"\",INDEX('Trust - Frontsheet'!AW$1:AW$6187,SMALL(IF('Trust - Frontsheet'!$AX$1:$AX$6187=$B$2,ROW('Trust - Frontsheet'!$AX$1:$AX$6187)),ROW(3:3))))","v":"HOLBEACH HOSPITAL"},{"$f":"IF($B9=\"\",\"\",SUMIF('Trust - Frontsheet'!$C$14:$C$213,$B9,'Trust - Frontsheet'!H$14:H$213))","v":0},{"$f":"IF($B9=\"\",\"\",SUMIF('Trust - Frontsheet'!$C$14:$C$213,$B9,'Trust - Frontsheet'!I$14:I$213))","v":0},{"$f":"IF($B9=\"\",\"\",SUMIF('Trust - Frontsheet'!$C$14:$C$213,$B9,'Trust - Frontsheet'!J$14:J$213))","v":0},{"$f":"IF($B9=\"\",\"\",SUMIF('Trust - Frontsheet'!$C$14:$C$213,$B9,'Trust - Frontsheet'!K$14:K$213))","v":0},{"$f":"IF($B9=\"\",\"\",SUMIF('Trust - Frontsheet'!$C$14:$C$213,$B9,'Trust - Frontsheet'!L$14:L$213))","v":0},{"$f":"IF($B9=\"\",\"\",SUMIF('Trust - Frontsheet'!$C$14:$C$213,$B9,'Trust - Frontsheet'!M$14:M$213))","v":0},{"$f":"IF($B9=\"\",\"\",SUMIF('Trust - Frontsheet'!$C$14:$C$213,$B9,'Trust - Frontsheet'!N$14:N$213))","v":0},{"$f":"IF($B9=\"\",\"\",SUMIF('Trust - Frontsheet'!$C$14:$C$213,$B9,'Trust - Frontsheet'!O$14:O$213))","v":0},0,0,0,0,{"$f":"IF($B9=\"\",\"\",SUMIF('Trust - Frontsheet'!$C$14:$C$213,$B9,'Trust - Frontsheet'!T$14:T$213))","v":0},"-","-","-"]
[null,{"$f":"IF(ISERROR(INDEX('Trust - Frontsheet'!AV$1:AV$6187,SMALL(IF('Trust - Frontsheet'!$AX$1:$AX$6187=$B$2,ROW('Trust - Frontsheet'!$AX$1:$AX$6187)),ROW(4:4)))),\"\",INDEX('Trust - Frontsheet'!AV$1:AV$6187,SMALL(IF('Trust - Frontsheet'!$AX$1:$AX$6187=$B$2,ROW('Trust - Frontsheet'!$AX$1:$AX$6187)),ROW(4:4))))","v":"RWDAS"},{"$f":"IF(ISERROR(INDEX('Trust - Frontsheet'!AW$1:AW$6187,SMALL(IF('Trust - Frontsheet'!$AX$1:$AX$6187=$B$2,ROW('Trust - Frontsheet'!$AX$1:$AX$6187)),ROW(4:4)))),\"\",INDEX('Trust - Frontsheet'!AW$1:AW$6187,SMALL(IF('Trust - Frontsheet'!$AX$1:$AX$6187=$B$2,ROW('Trust - Frontsheet'!$AX$1:$AX$6187)),ROW(4:4))))","v":"JOHN COUPLAND HOSPITAL"},{"$f":"IF($B10=\"\",\"\",SUMIF('Trust - Frontsheet'!$C$14:$C$213,$B10,'Trust - Frontsheet'!H$14:H$213))","v":0},{"$f":"IF($B10=\"\",\"\",SUMIF('Trust - Frontsheet'!$C$14:$C$213,$B10,'Trust - Frontsheet'!I$14:I$213))","v":0},{"$f":"IF($B10=\"\",\"\",SUMIF('Trust - Frontsheet'!$C$14:$C$213,$B10,'Trust - Frontsheet'!J$14:J$213))","v":0},{"$f":"IF($B10=\"\",\"\",SUMIF('Trust - Frontsheet'!$C$14:$C$213,$B10,'Trust - Frontsheet'!K$14:K$213))","v":0},{"$f":"IF($B10=\"\",\"\",SUMIF('Trust - Frontsheet'!$C$14:$C$213,$B10,'Trust - Frontsheet'!L$14:L$213))","v":0},{"$f":"IF($B10=\"\",\"\",SUMIF('Trust - Frontsheet'!$C$14:$C$213,$B10,'Trust - Frontsheet'!M$14:M$213))","v":0},{"$f":"IF($B10=\"\",\"\",SUMIF('Trust - Frontsheet'!$C$14:$C$213,$B10,'Trust - Frontsheet'!N$14:N$213))","v":0},{"$f":"IF($B10=\"\",\"\",SUMIF('Trust - Frontsheet'!$C$14:$C$213,$B10,'Trust - Frontsheet'!O$14:O$213))","v":0},0,0,0,0,{"$f":"IF($B10=\"\",\"\",SUMIF('Trust - Frontsheet'!$C$14:$C$213,$B10,'Trust - Frontsheet'!T$14:T$213))","v":0},"-","-","-"]
[null,{"$f":"IF(ISERROR(INDEX('Trust - Frontsheet'!AV$1:AV$6187,SMALL(IF('Trust - Frontsheet'!$AX$1:$AX$6187=$B$2,ROW('Trust - Frontsheet'!$AX$1:$AX$6187)),ROW(5:5)))),\"\",INDEX('Trust - Frontsheet'!AV$1:AV$6187,SMALL(IF('Trust - Frontsheet'!$AX$1:$AX$6187=$B$2,ROW('Trust - Frontsheet'!$AX$1:$AX$6187)),ROW(5:5))))","v":"RWDLD"},{"$f":"IF(ISERROR(INDEX('Trust - Frontsheet'!AW$1:AW$6187,SMALL(IF('Trust - Frontsheet'!$AX$1:$AX$6187=$B$2,ROW('Trust - Frontsheet'!$AX$1:$AX$6187)),ROW(5:5)))),\"\",INDEX('Trust - Frontsheet'!AW$1:AW$6187,SMALL(IF('Trust - Frontsheet'!$AX$1:$AX$6187=$B$2,ROW('Trust - Frontsheet'!$AX$1:$AX$6187)),ROW(5:5))))","v":"JOHNSON HOSPITAL"},{"$f":"IF($B11=\"\",\"\",SUMIF('Trust - Frontsheet'!$C$14:$C$213,$B11,'Trust - Frontsheet'!H$14:H$213))","v":0},{"$f":"IF($B11=\"\",\"\",SUMIF('Trust - Frontsheet'!$C$14:$C$213,$B11,'Trust - Frontsheet'!I$14:I$213))","v":0},{"$f":"IF($B11=\"\",\"\",SUMIF('Trust - Frontsheet'!$C$14:$C$213,$B11,'Trust - Frontsheet'!J$14:J$213))","v":0},{"$f":"IF($B11=\"\",\"\",SUMIF('Trust - Frontsheet'!$C$14:$C$213,$B11,'Trust - Frontsheet'!K$14:K$213))","v":0},{"$f":"IF($B11=\"\",\"\",SUMIF('Trust - Frontsheet'!$C$14:$C$213,$B11,'Trust - Frontsheet'!L$14:L$213))","v":0},{"$f":"IF($B11=\"\",\"\",SUMIF('Trust - Frontsheet'!$C$14:$C$213,$B11,'Trust - Frontsheet'!M$14:M$213))","v":0},{"$f":"IF($B11=\"\",\"\",SUMIF('Trust - Frontsheet'!$C$14:$C$213,$B11,'Trust - Frontsheet'!N$14:N$213))","v":0},{"$f":"IF($B11=\"\",\"\",SUMIF('Trust - Frontsheet'!$C$14:$C$213,$B11,'Trust - Frontsheet'!O$14:O$213))","v":0},0,0,0,0,{"$f":"IF($B11=\"\",\"\",SUMIF('Trust - Frontsheet'!$C$14:$C$213,$B11,'Trust - Frontsheet'!T$14:T$213))","v":0},"-","-","-"]
[null,{"$f":"IF(ISERROR(INDEX('Trust - Frontsheet'!AV$1:AV$6187,SMALL(IF('Trust - Frontsheet'!$AX$1:$AX$6187=$B$2,ROW('Trust - Frontsheet'!$AX$1:$AX$6187)),ROW(6:6)))),\"\",INDEX('Trust - Frontsheet'!AV$1:AV$6187,SMALL(IF('Trust - Frontsheet'!$AX$1:$AX$6187=$B$2,ROW('Trust - Frontsheet'!$AX$1:$AX$6187)),ROW(6:6))))","v":"RWDDA"},{"$f":"IF(ISERROR(INDEX('Trust - Frontsheet'!AW$1:AW$6187,SMALL(IF('Trust - Frontsheet'!$AX$1:$AX$6187=$B$2,ROW('Trust - Frontsheet'!$AX$1:$AX$6187)),ROW(6:6)))),\"\",INDEX('Trust - Frontsheet'!AW$1:AW$6187,SMALL(IF('Trust - Frontsheet'!$AX$1:$AX$6187=$B$2,ROW('Trust - Frontsheet'!$AX$1:$AX$6187)),ROW(6:6))))","v":"LINCOLN COUNTY HOSPITAL"},{"$f":"IF($B12=\"\",\"\",SUMIF('Trust - Frontsheet'!$C$14:$C$213,$B12,'Trust - Frontsheet'!H$14:H$213))","v":41985.616666666669},{"$f":"IF($B12=\"\",\"\",SUMIF('Trust - Frontsheet'!$C$14:$C$213,$B12,'Trust - Frontsheet'!I$14:I$213))","v":39521.683333333334},{"$f":"IF($B12=\"\",\"\",SUMIF('Trust - Frontsheet'!$C$14:$C$213,$B12,'Trust - Frontsheet'!J$14:J$213))","v":24519.7},{"$f":"IF($B12=\"\",\"\",SUMIF('Trust - Frontsheet'!$C$14:$C$213,$B12,'Trust - Frontsheet'!K$14:K$213))","v":22945.9},{"$f":"IF($B12=\"\",\"\",SUMIF('Trust - Frontsheet'!$C$14:$C$213,$B12,'Trust - Frontsheet'!L$14:L$213))","v":30217},{"$f":"IF($B12=\"\",\"\",SUMIF('Trust - Frontsheet'!$C$14:$C$213,$B12,'Trust - Frontsheet'!M$14:M$213))","v":28993.416666666668},{"$f":"IF($B12=\"\",\"\",SUMIF('Trust - Frontsheet'!$C$14:$C$213,$B12,'Trust - Frontsheet'!N$14:N$213))","v":13409},{"$f":"IF($B12=\"\",\"\",SUMIF('Trust - Frontsheet'!$C$14:$C$213,$B12,'Trust - Frontsheet'!O$14:O$213))","v":12984.333333333332},0.94131482329067451,0.93581487538591424,0.95950678977617465,0.9683297287891216,{"$f":"IF($B12=\"\",\"\",SUMIF('Trust - Frontsheet'!$C$14:$C$213,$B12,'Trust - Frontsheet'!T$14:T$213))","v":15134},4.5272300779701338,2.3741399057310253,6.9013699837011586]
[null,{"$f":"IF(ISERROR(INDEX('Trust - Frontsheet'!AV$1:AV$6187,SMALL(IF('Trust - Frontsheet'!$AX$1:$AX$6187=$B$2,ROW('Trust - Frontsheet'!$AX$1:$AX$6187)),ROW(7:7)))),\"\",INDEX('Trust - Frontsheet'!AV$1:AV$6187,SMALL(IF('Trust - Frontsheet'!$AX$1:$AX$6187=$B$2,ROW('Trust - Frontsheet'!$AX$1:$AX$6187)),ROW(7:7))))","v":"RWDLA"},{"$f":"IF(ISERROR(INDEX('Trust - Frontsheet'!AW$1:AW$6187,SMALL(IF('Trust - Frontsheet'!$AX$1:$AX$6187=$B$2,ROW('Trust - Frontsheet'!$AX$1:$AX$6187)),ROW(7:7)))),\"\",INDEX('Trust - Frontsheet'!AW$1:AW$6187,SMALL(IF('Trust - Frontsheet'!$AX$1:$AX$6187=$B$2,ROW('Trust - Frontsheet'!$AX$1:$AX$6187)),ROW(7:7))))","v":"PILGRIM HOSPITAL"},{"$f":"IF($B13=\"\",\"\",SUMIF('Trust - Frontsheet'!$C$14:$C$213,$B13,'Trust - Frontsheet'!H$14:H$213))","v":33924.933333333334},{"$f":"IF($B13=\"\",\"\",SUMIF('Trust - Frontsheet'!$C$14:$C$213,$B13,'Trust - Frontsheet'!I$14:I$213))","v":30205.716666666667},{"$f":"IF($B13=\"\",\"\",SUMIF('Trust - Frontsheet'!$C$14:$C$213,$B13,'Trust - Frontsheet'!J$14:J$213))","v":21587.416666666668},{"$f":"IF($B13=\"\",\"\",SUMIF('Trust - Frontsheet'!$C$14:$C$213,$B13,'Trust - Frontsheet'!K$14:K$213))","v":20478.7},{"$f":"IF($B13=\"\",\"\",SUMIF('Trust - Frontsheet'!$C$14:$C$213,$B13,'Trust - Frontsheet'!L$14:L$213))","v":18755},{"$f":"IF($B13=\"\",\"\",SUMIF('Trust - Frontsheet'!$C$14:$C$213,$B13,'Trust - Frontsheet'!M$14:M$213))","v":18485.25},{"$f":"IF($B13=\"\",\"\",SUMIF('Trust - Frontsheet'!$C$14:$C$213,$B13,'Trust - Frontsheet'!N$14:N$213))","v":11199.516666666666},{"$f":"IF($B13=\"\",\"\",SUMIF('Trust - Frontsheet'!$C$14:$C$213,$B13,'Trust - Frontsheet'!O$14:O$213))","v":11398.25},0.89036922695991538,0.94864060467324718,0.98561716875499872,1.0177448133922447,{"$f":"IF($B13=\"\",\"\",SUMIF('Trust - Frontsheet'!$C$14:$C$213,$B13,'Trust - Frontsheet'!T$14:T$213))","v":10747},4.5306566173505782,2.9661254303526565,7.4967820477032356]
[null,{"$f":"IF(ISERROR(INDEX('Trust - Frontsheet'!AV$1:AV$6187,SMALL(IF('Trust - Frontsheet'!$AX$1:$AX$6187=$B$2,ROW('Trust - Frontsheet'!$AX$1:$AX$6187)),ROW(8:8)))),\"\",INDEX('Trust - Frontsheet'!AV$1:AV$6187,SMALL(IF('Trust - Frontsheet'!$AX$1:$AX$6187=$B$2,ROW('Trust - Frontsheet'!$AX$1:$AX$6187)),ROW(8:8))))","v":"RWDLB"},{"$f":"IF(ISERROR(INDEX('Trust - Frontsheet'!AW$1:AW$6187,SMALL(IF('Trust - Frontsheet'!$AX$1:$AX$6187=$B$2,ROW('Trust - Frontsheet'!$AX$1:$AX$6187)),ROW(8:8)))),\"\",INDEX('Trust - Frontsheet'!AW$1:AW$6187,SMALL(IF('Trust - Frontsheet'!$AX$1:$AX$6187=$B$2,ROW('Trust - Frontsheet'!$AX$1:$AX$6187)),ROW(8:8))))","v":"SKEGNESS AND DISTRICT GENERAL HOSPITAL"},{"$f":"IF($B14=\"\",\"\",SUMIF('Trust - Frontsheet'!$C$14:$C$213,$B14,'Trust - Frontsheet'!H$14:H$213))","v":0},{"$f":"IF($B14=\"\",\"\",SUMIF('Trust - Frontsheet'!$C$14:$C$213,$B14,'Trust - Frontsheet'!I$14:I$213))","v":0},{"$f":"IF($B14=\"\",\"\",SUMIF('Trust - Frontsheet'!$C$14:$C$213,$B14,'Trust - Frontsheet'!J$14:J$213))","v":0},{"$f":"IF($B14=\"\",\"\",SUMIF('Trust - Frontsheet'!$C$14:$C$213,$B14,'Trust - Frontsheet'!K$14:K$213))","v":0},{"$f":"IF($B14=\"\",\"\",SUMIF('Trust - Frontsheet'!$C$14:$C$213,$B14,'Trust - Frontsheet'!L$14:L$213))","v":0},{"$f":"IF($B14=\"\",\"\",SUMIF('Trust - Frontsheet'!$C$14:$C$213,$B14,'Trust - Frontsheet'!M$14:M$213))","v":0},{"$f":"IF($B14=\"\",\"\",SUMIF('Trust - Frontsheet'!$C$14:$C$213,$B14,'Trust - Frontsheet'!N$14:N$213))","v":0},{"$f":"IF($B14=\"\",\"\",SUMIF('Trust - Frontsheet'!$C$14:$C$213,$B14,'Trust - Frontsheet'!O$14:O$213))","v":0},0,0,0,0,{"$f":"IF($B14=\"\",\"\",SUMIF('Trust - Frontsheet'!$C$14:$C$213,$B14,'Trust - Frontsheet'!T$14:T$213))","v":0},"-","-","-"]
[null,{"$f":"IF(ISERROR(INDEX('Trust - Frontsheet'!AV$1:AV$6187,SMALL(IF('Trust - Frontsheet'!$AX$1:$AX$6187=$B$2,ROW('Trust - Frontsheet'!$AX$1:$AX$6187)),ROW(9:9)))),\"\",INDEX('Trust - Frontsheet'!AV$1:AV$6187,SMALL(IF('Trust - Frontsheet'!$AX$1:$AX$6187=$B$2,ROW('Trust - Frontsheet'!$AX$1:$AX$6187)),ROW(9:9))))","v":"RWDBM"},{"$f":"IF(ISERROR(INDEX('Trust - Frontsheet'!AW$1:AW$6187,SMALL(IF('Trust - Frontsheet'!$AX$1:$AX$6187=$B$2,ROW('Trust - Frontsheet'!$AX$1:$AX$6187)),ROW(9:9)))),\"\",INDEX('Trust - Frontsheet'!AW$1:AW$6187,SMALL(IF('Trust - Frontsheet'!$AX$1:$AX$6187=$B$2,ROW('Trust - Frontsheet'!$AX$1:$AX$6187)),ROW(9:9))))","v":"ST GEORGES HOSPITAL"},{"$f":"IF($B15=\"\",\"\",SUMIF('Trust - Frontsheet'!$C$14:$C$213,$B15,'Trust - Frontsheet'!H$14:H$213))","v":0},{"$f":"IF($B15=\"\",\"\",SUMIF('Trust - Frontsheet'!$C$14:$C$213,$B15,'Trust - Frontsheet'!I$14:I$213))","v":0},{"$f":"IF($B15=\"\",\"\",SUMIF('Trust - Frontsheet'!$C$14:$C$213,$B15,'Trust - Frontsheet'!J$14:J$213))","v":0},{"$f":"IF($B15=\"\",\"\",SUMIF('Trust - Frontsheet'!$C$14:$C$213,$B15,'Trust - Frontsheet'!K$14:K$213))","v":0},{"$f":"IF($B15=\"\",\"\",SUMIF('Trust - Frontsheet'!$C$14:$C$213,$B15,'Trust - Frontsheet'!L$14:L$213))","v":0},{"$f":"IF($B15=\"\",\"\",SUMIF('Trust - Frontsheet'!$C$14:$C$213,$B15,'Trust - Frontsheet'!M$14:M$213))","v":0},{"$f":"IF($B15=\"\",\"\",SUMIF('Trust - Frontsheet'!$C$14:$C$213,$B15,'Trust - Frontsheet'!N$14:N$213))","v":0},{"$f":"IF($B15=\"\",\"\",SUMIF('Trust - Frontsheet'!$C$14:$C$213,$B15,'Trust - Frontsheet'!O$14:O$213))","v":0},0,0,0,0,{"$f":"IF($B15=\"\",\"\",SUMIF('Trust - Frontsheet'!$C$14:$C$213,$B15,'Trust - Frontsheet'!T$14:T$213))","v":0},"-","-","-"]
[null,{"$f":"IF(ISERROR(INDEX('Trust - Frontsheet'!AV$1:AV$6187,SMALL(IF('Trust - Frontsheet'!$AX$1:$AX$6187=$B$2,ROW('Trust - Frontsheet'!$AX$1:$AX$6187)),ROW(10:10)))),\"\",INDEX('Trust - Frontsheet'!AV$1:AV$6187,SMALL(IF('Trust - Frontsheet'!$AX$1:$AX$6187=$B$2,ROW('Trust - Frontsheet'!$AX$1:$AX$6187)),ROW(10:10))))","v":"RWDXT"},{"$f":"IF(ISERROR(INDEX('Trust - Frontsheet'!AW$1:AW$6187,SMALL(IF('Trust - Frontsheet'!$AX$1:$AX$6187=$B$2,ROW('Trust - Frontsheet'!$AX$1:$AX$6187)),ROW(10:10)))),\"\",INDEX('Trust - Frontsheet'!AW$1:AW$6187,SMALL(IF('Trust - Frontsheet'!$AX$1:$AX$6187=$B$2,ROW('Trust - Frontsheet'!$AX$1:$AX$6187)),ROW(10:10))))","v":"THE JOHNSON COMMUNITY HOSPITAL"},{"$f":"IF($B16=\"\",\"\",SUMIF('Trust - Frontsheet'!$C$14:$C$213,$B16,'Trust - Frontsheet'!H$14:H$213))","v":0},{"$f":"IF($B16=\"\",\"\",SUMIF('Trust - Frontsheet'!$C$14:$C$213,$B16,'Trust - Frontsheet'!I$14:I$213))","v":0},{"$f":"IF($B16=\"\",\"\",SUMIF('Trust - Frontsheet'!$C$14:$C$213,$B16,'Trust - Frontsheet'!J$14:J$213))","v":0},{"$f":"IF($B16=\"\",\"\",SUMIF('Trust - Frontsheet'!$C$14:$C$213,$B16,'Trust - Frontsheet'!K$14:K$213))","v":0},{"$f":"IF($B16=\"\",\"\",SUMIF('Trust - Frontsheet'!$C$14:$C$213,$B16,'Trust - Frontsheet'!L$14:L$213))","v":0},{"$f":"IF($B16=\"\",\"\",SUMIF('Trust - Frontsheet'!$C$14:$C$213,$B16,'Trust - Frontsheet'!M$14:M$213))","v":0},{"$f":"IF($B16=\"\",\"\",SUMIF('Trust - Frontsheet'!$C$14:$C$213,$B16,'Trust - Frontsheet'!N$14:N$213))","v":0},{"$f":"IF($B16=\"\",\"\",SUMIF('Trust - Frontsheet'!$C$14:$C$213,$B16,'Trust - Frontsheet'!O$14:O$213))","v":0},0,0,0,0,{"$f":"IF($B16=\"\",\"\",SUMIF('Trust - Frontsheet'!$C$14:$C$213,$B16,'Trust - Frontsheet'!T$14:T$213))","v":0},"-","-","-"]
[null,{"$f":"IF(ISERROR(INDEX('Trust - Frontsheet'!AV$1:AV$6187,SMALL(IF('Trust - Frontsheet'!$AX$1:$AX$6187=$B$2,ROW('Trust - Frontsheet'!$AX$1:$AX$6187)),ROW(11:11)))),\"\",INDEX('Trust - Frontsheet'!AV$1:AV$6187,SMALL(IF('Trust - Frontsheet'!$AX$1:$AX$6187=$B$2,ROW('Trust - Frontsheet'!$AX$1:$AX$6187)),ROW(11:11))))","v":"RWDLC"},{"$f":"IF(ISERROR(INDEX('Trust - Frontsheet'!AW$1:AW$6187,SMALL(IF('Trust - Frontsheet'!$AX$1:$AX$6187=$B$2,ROW('Trust - Frontsheet'!$AX$1:$AX$6187)),ROW(11:11)))),\"\",INDEX('Trust - Frontsheet'!AW$1:AW$6187,SMALL(IF('Trust - Frontsheet'!$AX$1:$AX$6187=$B$2,ROW('Trust - Frontsheet'!$AX$1:$AX$6187)),ROW(11:11))))","v":"WELLAND HOSPITAL"},{"$f":"IF($B17=\"\",\"\",SUMIF('Trust - Frontsheet'!$C$14:$C$213,$B17,'Trust - Frontsheet'!H$14:H$213))","v":0},{"$f":"IF($B17=\"\",\"\",SUMIF('Trust - Frontsheet'!$C$14:$C$213,$B17,'Trust - Frontsheet'!I$14:I$213))","v":0},{"$f":"IF($B17=\"\",\"\",SUMIF('Trust - Frontsheet'!$C$14:$C$213,$B17,'Trust - Frontsheet'!J$14:J$213))","v":0},{"$f":"IF($B17=\"\",\"\",SUMIF('Trust - Frontsheet'!$C$14:$C$213,$B17,'Trust - Frontsheet'!K$14:K$213))","v":0},{"$f":"IF($B17=\"\",\"\",SUMIF('Trust - Frontsheet'!$C$14:$C$213,$B17,'Trust - Frontsheet'!L$14:L$213))","v":0},{"$f":"IF($B17=\"\",\"\",SUMIF('Trust - Frontsheet'!$C$14:$C$213,$B17,'Trust - Frontsheet'!M$14:M$213))","v":0},{"$f":"IF($B17=\"\",\"\",SUMIF('Trust - Frontsheet'!$C$14:$C$213,$B17,'Trust - Frontsheet'!N$14:N$213))","v":0},{"$f":"IF($B17=\"\",\"\",SUMIF('Trust - Frontsheet'!$C$14:$C$213,$B17,'Trust - Frontsheet'!O$14:O$213))","v":0},0,0,0,0,{"$f":"IF($B17=\"\",\"\",SUMIF('Trust - Frontsheet'!$C$14:$C$213,$B17,'Trust - Frontsheet'!T$14:T$213))","v":0},"-","-","-"]
[null,{"$f":"IF(ISERROR(INDEX('Trust - Frontsheet'!AV$1:AV$6187,SMALL(IF('Trust - Frontsheet'!$AX$1:$AX$6187=$B$2,ROW('Trust - Frontsheet'!$AX$1:$AX$6187)),ROW(12:12)))),\"\",INDEX('Trust - Frontsheet'!AV$1:AV$6187,SMALL(IF('Trust - Frontsheet'!$AX$1:$AX$6187=$B$2,ROW('Trust - Frontsheet'!$AX$1:$AX$6187)),ROW(12:12))))","v":""},{"$f":"IF(ISERROR(INDEX('Trust - Frontsheet'!AW$1:AW$6187,SMALL(IF('Trust - Frontsheet'!$AX$1:$AX$6187=$B$2,ROW('Trust - Frontsheet'!$AX$1:$AX$6187)),ROW(12:12)))),\"\",INDEX('Trust - Frontsheet'!AW$1:AW$6187,SMALL(IF('Trust - Frontsheet'!$AX$1:$AX$6187=$B$2,ROW('Trust - Frontsheet'!$AX$1:$AX$6187)),ROW(12:12))))","v":""},{"$f":"IF($B18=\"\",\"\",SUMIF('Trust - Frontsheet'!$C$14:$C$213,$B18,'Trust - Frontsheet'!H$14:H$213))","v":""},{"$f":"IF($B18=\"\",\"\",SUMIF('Trust - Frontsheet'!$C$14:$C$213,$B18,'Trust - Frontsheet'!I$14:I$213))","v":""},{"$f":"IF($B18=\"\",\"\",SUMIF('Trust - Frontsheet'!$C$14:$C$213,$B18,'Trust - Frontsheet'!J$14:J$213))","v":""},{"$f":"IF($B18=\"\",\"\",SUMIF('Trust - Frontsheet'!$C$14:$C$213,$B18,'Trust - Frontsheet'!K$14:K$213))","v":""},{"$f":"IF($B18=\"\",\"\",SUMIF('Trust - Frontsheet'!$C$14:$C$213,$B18,'Trust - Frontsheet'!L$14:L$213))","v":""},{"$f":"IF($B18=\"\",\"\",SUMIF('Trust - Frontsheet'!$C$14:$C$213,$B18,'Trust - Frontsheet'!M$14:M$213))","v":""},{"$f":"IF($B18=\"\",\"\",SUMIF('Trust - Frontsheet'!$C$14:$C$213,$B18,'Trust - Frontsheet'!N$14:N$213))","v":""},{"$f":"IF($B18=\"\",\"\",SUMIF('Trust - Frontsheet'!$C$14:$C$213,$B18,'Trust - Frontsheet'!O$14:O$213))","v":""},"","","","",{"$f":"IF($B18=\"\",\"\",SUMIF('Trust - Frontsheet'!$C$14:$C$213,$B18,'Trust - Frontsheet'!T$14:T$213))","v":""},"","",""]
[null,{"$f":"IF(ISERROR(INDEX('Trust - Frontsheet'!AV$1:AV$6187,SMALL(IF('Trust - Frontsheet'!$AX$1:$AX$6187=$B$2,ROW('Trust - Frontsheet'!$AX$1:$AX$6187)),ROW(13:13)))),\"\",INDEX('Trust - Frontsheet'!AV$1:AV$6187,SMALL(IF('Trust - Frontsheet'!$AX$1:$AX$6187=$B$2,ROW('Trust - Frontsheet'!$AX$1:$AX$6187)),ROW(13:13))))","v":""},{"$f":"IF(ISERROR(INDEX('Trust - Frontsheet'!AW$1:AW$6187,SMALL(IF('Trust - Frontsheet'!$AX$1:$AX$6187=$B$2,ROW('Trust - Frontsheet'!$AX$1:$AX$6187)),ROW(13:13)))),\"\",INDEX('Trust - Frontsheet'!AW$1:AW$6187,SMALL(IF('Trust - Frontsheet'!$AX$1:$AX$6187=$B$2,ROW('Trust - Frontsheet'!$AX$1:$AX$6187)),ROW(13:13))))","v":""},{"$f":"IF($B19=\"\",\"\",SUMIF('Trust - Frontsheet'!$C$14:$C$213,$B19,'Trust - Frontsheet'!H$14:H$213))","v":""},{"$f":"IF($B19=\"\",\"\",SUMIF('Trust - Frontsheet'!$C$14:$C$213,$B19,'Trust - Frontsheet'!I$14:I$213))","v":""},{"$f":"IF($B19=\"\",\"\",SUMIF('Trust - Frontsheet'!$C$14:$C$213,$B19,'Trust - Frontsheet'!J$14:J$213))","v":""},{"$f":"IF($B19=\"\",\"\",SUMIF('Trust - Frontsheet'!$C$14:$C$213,$B19,'Trust - Frontsheet'!K$14:K$213))","v":""},{"$f":"IF($B19=\"\",\"\",SUMIF('Trust - Frontsheet'!$C$14:$C$213,$B19,'Trust - Frontsheet'!L$14:L$213))","v":""},{"$f":"IF($B19=\"\",\"\",SUMIF('Trust - Frontsheet'!$C$14:$C$213,$B19,'Trust - Frontsheet'!M$14:M$213))","v":""},{"$f":"IF($B19=\"\",\"\",SUMIF('Trust - Frontsheet'!$C$14:$C$213,$B19,'Trust - Frontsheet'!N$14:N$213))","v":""},{"$f":"IF($B19=\"\",\"\",SUMIF('Trust - Frontsheet'!$C$14:$C$213,$B19,'Trust - Frontsheet'!O$14:O$213))","v":""},"","","","",{"$f":"IF($B19=\"\",\"\",SUMIF('Trust - Frontsheet'!$C$14:$C$213,$B19,'Trust - Frontsheet'!T$14:T$213))","v":""},"","",""]
[null,{"$f":"IF(ISERROR(INDEX('Trust - Frontsheet'!AV$1:AV$6187,SMALL(IF('Trust - Frontsheet'!$AX$1:$AX$6187=$B$2,ROW('Trust - Frontsheet'!$AX$1:$AX$6187)),ROW(14:14)))),\"\",INDEX('Trust - Frontsheet'!AV$1:AV$6187,SMALL(IF('Trust - Frontsheet'!$AX$1:$AX$6187=$B$2,ROW('Trust - Frontsheet'!$AX$1:$AX$6187)),ROW(14:14))))","v":""},{"$f":"IF(ISERROR(INDEX('Trust - Frontsheet'!AW$1:AW$6187,SMALL(IF('Trust - Frontsheet'!$AX$1:$AX$6187=$B$2,ROW('Trust - Frontsheet'!$AX$1:$AX$6187)),ROW(14:14)))),\"\",INDEX('Trust - Frontsheet'!AW$1:AW$6187,SMALL(IF('Trust - Frontsheet'!$AX$1:$AX$6187=$B$2,ROW('Trust - Frontsheet'!$AX$1:$AX$6187)),ROW(14:14))))","v":""},{"$f":"IF($B20=\"\",\"\",SUMIF('Trust - Frontsheet'!$C$14:$C$213,$B20,'Trust - Frontsheet'!H$14:H$213))","v":""},{"$f":"IF($B20=\"\",\"\",SUMIF('Trust - Frontsheet'!$C$14:$C$213,$B20,'Trust - Frontsheet'!I$14:I$213))","v":""},{"$f":"IF($B20=\"\",\"\",SUMIF('Trust - Frontsheet'!$C$14:$C$213,$B20,'Trust - Frontsheet'!J$14:J$213))","v":""},{"$f":"IF($B20=\"\",\"\",SUMIF('Trust - Frontsheet'!$C$14:$C$213,$B20,'Trust - Frontsheet'!K$14:K$213))","v":""},{"$f":"IF($B20=\"\",\"\",SUMIF('Trust - Frontsheet'!$C$14:$C$213,$B20,'Trust - Frontsheet'!L$14:L$213))","v":""},{"$f":"IF($B20=\"\",\"\",SUMIF('Trust - Frontsheet'!$C$14:$C$213,$B20,'Trust - Frontsheet'!M$14:M$213))","v":""},{"$f":"IF($B20=\"\",\"\",SUMIF('Trust - Frontsheet'!$C$14:$C$213,$B20,'Trust - Frontsheet'!N$14:N$213))","v":""},{"$f":"IF($B20=\"\",\"\",SUMIF('Trust - Frontsheet'!$C$14:$C$213,$B20,'Trust - Frontsheet'!O$14:O$213))","v":""},"","","","",{"$f":"IF($B20=\"\",\"\",SUMIF('Trust - Frontsheet'!$C$14:$C$213,$B20,'Trust - Frontsheet'!T$14:T$213))","v":""},"","",""]
[null,{"$f":"IF(ISERROR(INDEX('Trust - Frontsheet'!AV$1:AV$6187,SMALL(IF('Trust - Frontsheet'!$AX$1:$AX$6187=$B$2,ROW('Trust - Frontsheet'!$AX$1:$AX$6187)),ROW(15:15)))),\"\",INDEX('Trust - Frontsheet'!AV$1:AV$6187,SMALL(IF('Trust - Frontsheet'!$AX$1:$AX$6187=$B$2,ROW('Trust - Frontsheet'!$AX$1:$AX$6187)),ROW(15:15))))","v":""},{"$f":"IF(ISERROR(INDEX('Trust - Frontsheet'!AW$1:AW$6187,SMALL(IF('Trust - Frontsheet'!$AX$1:$AX$6187=$B$2,ROW('Trust - Frontsheet'!$AX$1:$AX$6187)),ROW(15:15)))),\"\",INDEX('Trust - Frontsheet'!AW$1:AW$6187,SMALL(IF('Trust - Frontsheet'!$AX$1:$AX$6187=$B$2,ROW('Trust - Frontsheet'!$AX$1:$AX$6187)),ROW(15:15))))","v":""},{"$f":"IF($B21=\"\",\"\",SUMIF('Trust - Frontsheet'!$C$14:$C$213,$B21,'Trust - Frontsheet'!H$14:H$213))","v":""},{"$f":"IF($B21=\"\",\"\",SUMIF('Trust - Frontsheet'!$C$14:$C$213,$B21,'Trust - Frontsheet'!I$14:I$213))","v":""},{"$f":"IF($B21=\"\",\"\",SUMIF('Trust - Frontsheet'!$C$14:$C$213,$B21,'Trust - Frontsheet'!J$14:J$213))","v":""},{"$f":"IF($B21=\"\",\"\",SUMIF('Trust - Frontsheet'!$C$14:$C$213,$B21,'Trust - Frontsheet'!K$14:K$213))","v":""},{"$f":"IF($B21=\"\",\"\",SUMIF('Trust - Frontsheet'!$C$14:$C$213,$B21,'Trust - Frontsheet'!L$14:L$213))","v":""},{"$f":"IF($B21=\"\",\"\",SUMIF('Trust - Frontsheet'!$C$14:$C$213,$B21,'Trust - Frontsheet'!M$14:M$213))","v":""},{"$f":"IF($B21=\"\",\"\",SUMIF('Trust - Frontsheet'!$C$14:$C$213,$B21,'Trust - Frontsheet'!N$14:N$213))","v":""},{"$f":"IF($B21=\"\",\"\",SUMIF('Trust - Frontsheet'!$C$14:$C$213,$B21,'Trust - Frontsheet'!O$14:O$213))","v":""},"","","","",{"$f":"IF($B21=\"\",\"\",SUMIF('Trust - Frontsheet'!$C$14:$C$213,$B21,'Trust - Frontsheet'!T$14:T$213))","v":""},"","",""]
[null,{"$f":"IF(ISERROR(INDEX('Trust - Frontsheet'!AV$1:AV$6187,SMALL(IF('Trust - Frontsheet'!$AX$1:$AX$6187=$B$2,ROW('Trust - Frontsheet'!$AX$1:$AX$6187)),ROW(16:16)))),\"\",INDEX('Trust - Frontsheet'!AV$1:AV$6187,SMALL(IF('Trust - Frontsheet'!$AX$1:$AX$6187=$B$2,ROW('Trust - Frontsheet'!$AX$1:$AX$6187)),ROW(16:16))))","v":""},{"$f":"IF(ISERROR(INDEX('Trust - Frontsheet'!AW$1:AW$6187,SMALL(IF('Trust - Frontsheet'!$AX$1:$AX$6187=$B$2,ROW('Trust - Frontsheet'!$AX$1:$AX$6187)),ROW(16:16)))),\"\",INDEX('Trust - Frontsheet'!AW$1:AW$6187,SMALL(IF('Trust - Frontsheet'!$AX$1:$AX$6187=$B$2,ROW('Trust - Frontsheet'!$AX$1:$AX$6187)),ROW(16:16))))","v":""},{"$f":"IF($B22=\"\",\"\",SUMIF('Trust - Frontsheet'!$C$14:$C$213,$B22,'Trust - Frontsheet'!H$14:H$213))","v":""},{"$f":"IF($B22=\"\",\"\",SUMIF('Trust - Frontsheet'!$C$14:$C$213,$B22,'Trust - Frontsheet'!I$14:I$213))","v":""},{"$f":"IF($B22=\"\",\"\",SUMIF('Trust - Frontsheet'!$C$14:$C$213,$B22,'Trust - Frontsheet'!J$14:J$213))","v":""},{"$f":"IF($B22=\"\",\"\",SUMIF('Trust - Frontsheet'!$C$14:$C$213,$B22,'Trust - Frontsheet'!K$14:K$213))","v":""},{"$f":"IF($B22=\"\",\"\",SUMIF('Trust - Frontsheet'!$C$14:$C$213,$B22,'Trust - Frontsheet'!L$14:L$213))","v":""},{"$f":"IF($B22=\"\",\"\",SUMIF('Trust - Frontsheet'!$C$14:$C$213,$B22,'Trust - Frontsheet'!M$14:M$213))","v":""},{"$f":"IF($B22=\"\",\"\",SUMIF('Trust - Frontsheet'!$C$14:$C$213,$B22,'Trust - Frontsheet'!N$14:N$213))","v":""},{"$f":"IF($B22=\"\",\"\",SUMIF('Trust - Frontsheet'!$C$14:$C$213,$B22,'Trust - Frontsheet'!O$14:O$213))","v":""},"","","","",{"$f":"IF($B22=\"\",\"\",SUMIF('Trust - Frontsheet'!$C$14:$C$213,$B22,'Trust - Frontsheet'!T$14:T$213))","v":""},"","",""]
[null,{"$f":"IF(ISERROR(INDEX('Trust - Frontsheet'!AV$1:AV$6187,SMALL(IF('Trust - Frontsheet'!$AX$1:$AX$6187=$B$2,ROW('Trust - Frontsheet'!$AX$1:$AX$6187)),ROW(17:17)))),\"\",INDEX('Trust - Frontsheet'!AV$1:AV$6187,SMALL(IF('Trust - Frontsheet'!$AX$1:$AX$6187=$B$2,ROW('Trust - Frontsheet'!$AX$1:$AX$6187)),ROW(17:17))))","v":""},{"$f":"IF(ISERROR(INDEX('Trust - Frontsheet'!AW$1:AW$6187,SMALL(IF('Trust - Frontsheet'!$AX$1:$AX$6187=$B$2,ROW('Trust - Frontsheet'!$AX$1:$AX$6187)),ROW(17:17)))),\"\",INDEX('Trust - Frontsheet'!AW$1:AW$6187,SMALL(IF('Trust - Frontsheet'!$AX$1:$AX$6187=$B$2,ROW('Trust - Frontsheet'!$AX$1:$AX$6187)),ROW(17:17))))","v":""},{"$f":"IF($B23=\"\",\"\",SUMIF('Trust - Frontsheet'!$C$14:$C$213,$B23,'Trust - Frontsheet'!H$14:H$213))","v":""},{"$f":"IF($B23=\"\",\"\",SUMIF('Trust - Frontsheet'!$C$14:$C$213,$B23,'Trust - Frontsheet'!I$14:I$213))","v":""},{"$f":"IF($B23=\"\",\"\",SUMIF('Trust - Frontsheet'!$C$14:$C$213,$B23,'Trust - Frontsheet'!J$14:J$213))","v":""},{"$f":"IF($B23=\"\",\"\",SUMIF('Trust - Frontsheet'!$C$14:$C$213,$B23,'Trust - Frontsheet'!K$14:K$213))","v":""},{"$f":"IF($B23=\"\",\"\",SUMIF('Trust - Frontsheet'!$C$14:$C$213,$B23,'Trust - Frontsheet'!L$14:L$213))","v":""},{"$f":"IF($B23=\"\",\"\",SUMIF('Trust - Frontsheet'!$C$14:$C$213,$B23,'Trust - Frontsheet'!M$14:M$213))","v":""},{"$f":"IF($B23=\"\",\"\",SUMIF('Trust - Frontsheet'!$C$14:$C$213,$B23,'Trust - Frontsheet'!N$14:N$213))","v":""},{"$f":"IF($B23=\"\",\"\",SUMIF('Trust - Frontsheet'!$C$14:$C$213,$B23,'Trust - Frontsheet'!O$14:O$213))","v":""},"","","","",{"$f":"IF($B23=\"\",\"\",SUMIF('Trust - Frontsheet'!$C$14:$C$213,$B23,'Trust - Frontsheet'!T$14:T$213))","v":""},"","",""]
[null,{"$f":"IF(ISERROR(INDEX('Trust - Frontsheet'!AV$1:AV$6187,SMALL(IF('Trust - Frontsheet'!$AX$1:$AX$6187=$B$2,ROW('Trust - Frontsheet'!$AX$1:$AX$6187)),ROW(18:18)))),\"\",INDEX('Trust - Frontsheet'!AV$1:AV$6187,SMALL(IF('Trust - Frontsheet'!$AX$1:$AX$6187=$B$2,ROW('Trust - Frontsheet'!$AX$1:$AX$6187)),ROW(18:18))))","v":""},{"$f":"IF(ISERROR(INDEX('Trust - Frontsheet'!AW$1:AW$6187,SMALL(IF('Trust - Frontsheet'!$AX$1:$AX$6187=$B$2,ROW('Trust - Frontsheet'!$AX$1:$AX$6187)),ROW(18:18)))),\"\",INDEX('Trust - Frontsheet'!AW$1:AW$6187,SMALL(IF('Trust - Frontsheet'!$AX$1:$AX$6187=$B$2,ROW('Trust - Frontsheet'!$AX$1:$AX$6187)),ROW(18:18))))","v":""},{"$f":"IF($B24=\"\",\"\",SUMIF('Trust - Frontsheet'!$C$14:$C$213,$B24,'Trust - Frontsheet'!H$14:H$213))","v":""},{"$f":"IF($B24=\"\",\"\",SUMIF('Trust - Frontsheet'!$C$14:$C$213,$B24,'Trust - Frontsheet'!I$14:I$213))","v":""},{"$f":"IF($B24=\"\",\"\",SUMIF('Trust - Frontsheet'!$C$14:$C$213,$B24,'Trust - Frontsheet'!J$14:J$213))","v":""},{"$f":"IF($B24=\"\",\"\",SUMIF('Trust - Frontsheet'!$C$14:$C$213,$B24,'Trust - Frontsheet'!K$14:K$213))","v":""},{"$f":"IF($B24=\"\",\"\",SUMIF('Trust - Frontsheet'!$C$14:$C$213,$B24,'Trust - Frontsheet'!L$14:L$213))","v":""},{"$f":"IF($B24=\"\",\"\",SUMIF('Trust - Frontsheet'!$C$14:$C$213,$B24,'Trust - Frontsheet'!M$14:M$213))","v":""},{"$f":"IF($B24=\"\",\"\",SUMIF('Trust - Frontsheet'!$C$14:$C$213,$B24,'Trust - Frontsheet'!N$14:N$213))","v":""},{"$f":"IF($B24=\"\",\"\",SUMIF('Trust - Frontsheet'!$C$14:$C$213,$B24,'Trust - Frontsheet'!O$14:O$213))","v":""},"","","","",{"$f":"IF($B24=\"\",\"\",SUMIF('Trust - Frontsheet'!$C$14:$C$213,$B24,'Trust - Frontsheet'!T$14:T$213))","v":""},"","",""]
[null,{"$f":"IF(ISERROR(INDEX('Trust - Frontsheet'!AV$1:AV$6187,SMALL(IF('Trust - Frontsheet'!$AX$1:$AX$6187=$B$2,ROW('Trust - Frontsheet'!$AX$1:$AX$6187)),ROW(19:19)))),\"\",INDEX('Trust - Frontsheet'!AV$1:AV$6187,SMALL(IF('Trust - Frontsheet'!$AX$1:$AX$6187=$B$2,ROW('Trust - Frontsheet'!$AX$1:$AX$6187)),ROW(19:19))))","v":""},{"$f":"IF(ISERROR(INDEX('Trust - Frontsheet'!AW$1:AW$6187,SMALL(IF('Trust - Frontsheet'!$AX$1:$AX$6187=$B$2,ROW('Trust - Frontsheet'!$AX$1:$AX$6187)),ROW(19:19)))),\"\",INDEX('Trust - Frontsheet'!AW$1:AW$6187,SMALL(IF('Trust - Frontsheet'!$AX$1:$AX$6187=$B$2,ROW('Trust - Frontsheet'!$AX$1:$AX$6187)),ROW(19:19))))","v":""},{"$f":"IF($B25=\"\",\"\",SUMIF('Trust - Frontsheet'!$C$14:$C$213,$B25,'Trust - Frontsheet'!H$14:H$213))","v":""},{"$f":"IF($B25=\"\",\"\",SUMIF('Trust - Frontsheet'!$C$14:$C$213,$B25,'Trust - Frontsheet'!I$14:I$213))","v":""},{"$f":"IF($B25=\"\",\"\",SUMIF('Trust - Frontsheet'!$C$14:$C$213,$B25,'Trust - Frontsheet'!J$14:J$213))","v":""},{"$f":"IF($B25=\"\",\"\",SUMIF('Trust - Frontsheet'!$C$14:$C$213,$B25,'Trust - Frontsheet'!K$14:K$213))","v":""},{"$f":"IF($B25=\"\",\"\",SUMIF('Trust - Frontsheet'!$C$14:$C$213,$B25,'Trust - Frontsheet'!L$14:L$213))","v":""},{"$f":"IF($B25=\"\",\"\",SUMIF('Trust - Frontsheet'!$C$14:$C$213,$B25,'Trust - Frontsheet'!M$14:M$213))","v":""},{"$f":"IF($B25=\"\",\"\",SUMIF('Trust - Frontsheet'!$C$14:$C$213,$B25,'Trust - Frontsheet'!N$14:N$213))","v":""},{"$f":"IF($B25=\"\",\"\",SUMIF('Trust - Frontsheet'!$C$14:$C$213,$B25,'Trust - Frontsheet'!O$14:O$213))","v":""},"","","","",{"$f":"IF($B25=\"\",\"\",SUMIF('Trust - Frontsheet'!$C$14:$C$213,$B25,'Trust - Frontsheet'!T$14:T$213))","v":""},"","",""]
[null,{"$f":"IF(ISERROR(INDEX('Trust - Frontsheet'!AV$1:AV$6187,SMALL(IF('Trust - Frontsheet'!$AX$1:$AX$6187=$B$2,ROW('Trust - Frontsheet'!$AX$1:$AX$6187)),ROW(20:20)))),\"\",INDEX('Trust - Frontsheet'!AV$1:AV$6187,SMALL(IF('Trust - Frontsheet'!$AX$1:$AX$6187=$B$2,ROW('Trust - Frontsheet'!$AX$1:$AX$6187)),ROW(20:20))))","v":""},{"$f":"IF(ISERROR(INDEX('Trust - Frontsheet'!AW$1:AW$6187,SMALL(IF('Trust - Frontsheet'!$AX$1:$AX$6187=$B$2,ROW('Trust - Frontsheet'!$AX$1:$AX$6187)),ROW(20:20)))),\"\",INDEX('Trust - Frontsheet'!AW$1:AW$6187,SMALL(IF('Trust - Frontsheet'!$AX$1:$AX$6187=$B$2,ROW('Trust - Frontsheet'!$AX$1:$AX$6187)),ROW(20:20))))","v":""},{"$f":"IF($B26=\"\",\"\",SUMIF('Trust - Frontsheet'!$C$14:$C$213,$B26,'Trust - Frontsheet'!H$14:H$213))","v":""},{"$f":"IF($B26=\"\",\"\",SUMIF('Trust - Frontsheet'!$C$14:$C$213,$B26,'Trust - Frontsheet'!I$14:I$213))","v":""},{"$f":"IF($B26=\"\",\"\",SUMIF('Trust - Frontsheet'!$C$14:$C$213,$B26,'Trust - Frontsheet'!J$14:J$213))","v":""},{"$f":"IF($B26=\"\",\"\",SUMIF('Trust - Frontsheet'!$C$14:$C$213,$B26,'Trust - Frontsheet'!K$14:K$213))","v":""},{"$f":"IF($B26=\"\",\"\",SUMIF('Trust - Frontsheet'!$C$14:$C$213,$B26,'Trust - Frontsheet'!L$14:L$213))","v":""},{"$f":"IF($B26=\"\",\"\",SUMIF('Trust - Frontsheet'!$C$14:$C$213,$B26,'Trust - Frontsheet'!M$14:M$213))","v":""},{"$f":"IF($B26=\"\",\"\",SUMIF('Trust - Frontsheet'!$C$14:$C$213,$B26,'Trust - Frontsheet'!N$14:N$213))","v":""},{"$f":"IF($B26=\"\",\"\",SUMIF('Trust - Frontsheet'!$C$14:$C$213,$B26,'Trust - Frontsheet'!O$14:O$213))","v":""},"","","","",{"$f":"IF($B26=\"\",\"\",SUMIF('Trust - Frontsheet'!$C$14:$C$213,$B26,'Trust - Frontsheet'!T$14:T$213))","v":""},"","",""]
[null,{"$f":"IF(ISERROR(INDEX('Trust - Frontsheet'!AV$1:AV$6187,SMALL(IF('Trust - Frontsheet'!$AX$1:$AX$6187=$B$2,ROW('Trust - Frontsheet'!$AX$1:$AX$6187)),ROW(21:21)))),\"\",INDEX('Trust - Frontsheet'!AV$1:AV$6187,SMALL(IF('Trust - Frontsheet'!$AX$1:$AX$6187=$B$2,ROW('Trust - Frontsheet'!$AX$1:$AX$6187)),ROW(21:21))))","v":""},{"$f":"IF(ISERROR(INDEX('Trust - Frontsheet'!AW$1:AW$6187,SMALL(IF('Trust - Frontsheet'!$AX$1:$AX$6187=$B$2,ROW('Trust - Frontsheet'!$AX$1:$AX$6187)),ROW(21:21)))),\"\",INDEX('Trust - Frontsheet'!AW$1:AW$6187,SMALL(IF('Trust - Frontsheet'!$AX$1:$AX$6187=$B$2,ROW('Trust - Frontsheet'!$AX$1:$AX$6187)),ROW(21:21))))","v":""},{"$f":"IF($B27=\"\",\"\",SUMIF('Trust - Frontsheet'!$C$14:$C$213,$B27,'Trust - Frontsheet'!H$14:H$213))","v":""},{"$f":"IF($B27=\"\",\"\",SUMIF('Trust - Frontsheet'!$C$14:$C$213,$B27,'Trust - Frontsheet'!I$14:I$213))","v":""},{"$f":"IF($B27=\"\",\"\",SUMIF('Trust - Frontsheet'!$C$14:$C$213,$B27,'Trust - Frontsheet'!J$14:J$213))","v":""},{"$f":"IF($B27=\"\",\"\",SUMIF('Trust - Frontsheet'!$C$14:$C$213,$B27,'Trust - Frontsheet'!K$14:K$213))","v":""},{"$f":"IF($B27=\"\",\"\",SUMIF('Trust - Frontsheet'!$C$14:$C$213,$B27,'Trust - Frontsheet'!L$14:L$213))","v":""},{"$f":"IF($B27=\"\",\"\",SUMIF('Trust - Frontsheet'!$C$14:$C$213,$B27,'Trust - Frontsheet'!M$14:M$213))","v":""},{"$f":"IF($B27=\"\",\"\",SUMIF('Trust - Frontsheet'!$C$14:$C$213,$B27,'Trust - Frontsheet'!N$14:N$213))","v":""},{"$f":"IF($B27=\"\",\"\",SUMIF('Trust - Frontsheet'!$C$14:$C$213,$B27,'Trust - Frontsheet'!O$14:O$213))","v":""},"","","","",{"$f":"IF($B27=\"\",\"\",SUMIF('Trust - Frontsheet'!$C$14:$C$213,$B27,'Trust - Frontsheet'!T$14:T$213))","v":""},"","",""]
[null,{"$f":"IF(ISERROR(INDEX('Trust - Frontsheet'!AV$1:AV$6187,SMALL(IF('Trust - Frontsheet'!$AX$1:$AX$6187=$B$2,ROW('Trust - Frontsheet'!$AX$1:$AX$6187)),ROW(22:22)))),\"\",INDEX('Trust - Frontsheet'!AV$1:AV$6187,SMALL(IF('Trust - Frontsheet'!$AX$1:$AX$6187=$B$2,ROW('Trust - Frontsheet'!$AX$1:$AX$6187)),ROW(22:22))))","v":""},{"$f":"IF(ISERROR(INDEX('Trust - Frontsheet'!AW$1:AW$6187,SMALL(IF('Trust - Frontsheet'!$AX$1:$AX$6187=$B$2,ROW('Trust - Frontsheet'!$AX$1:$AX$6187)),ROW(22:22)))),\"\",INDEX('Trust - Frontsheet'!AW$1:AW$6187,SMALL(IF('Trust - Frontsheet'!$AX$1:$AX$6187=$B$2,ROW('Trust - Frontsheet'!$AX$1:$AX$6187)),ROW(22:22))))","v":""},{"$f":"IF($B28=\"\",\"\",SUMIF('Trust - Frontsheet'!$C$14:$C$213,$B28,'Trust - Frontsheet'!H$14:H$213))","v":""},{"$f":"IF($B28=\"\",\"\",SUMIF('Trust - Frontsheet'!$C$14:$C$213,$B28,'Trust - Frontsheet'!I$14:I$213))","v":""},{"$f":"IF($B28=\"\",\"\",SUMIF('Trust - Frontsheet'!$C$14:$C$213,$B28,'Trust - Frontsheet'!J$14:J$213))","v":""},{"$f":"IF($B28=\"\",\"\",SUMIF('Trust - Frontsheet'!$C$14:$C$213,$B28,'Trust - Frontsheet'!K$14:K$213))","v":""},{"$f":"IF($B28=\"\",\"\",SUMIF('Trust - Frontsheet'!$C$14:$C$213,$B28,'Trust - Frontsheet'!L$14:L$213))","v":""},{"$f":"IF($B28=\"\",\"\",SUMIF('Trust - Frontsheet'!$C$14:$C$213,$B28,'Trust - Frontsheet'!M$14:M$213))","v":""},{"$f":"IF($B28=\"\",\"\",SUMIF('Trust - Frontsheet'!$C$14:$C$213,$B28,'Trust - Frontsheet'!N$14:N$213))","v":""},{"$f":"IF($B28=\"\",\"\",SUMIF('Trust - Frontsheet'!$C$14:$C$213,$B28,'Trust - Frontsheet'!O$14:O$213))","v":""},"","","","",{"$f":"IF($B28=\"\",\"\",SUMIF('Trust - Frontsheet'!$C$14:$C$213,$B28,'Trust - Frontsheet'!T$14:T$213))","v":""},"","",""]
[null,{"$f":"IF(ISERROR(INDEX('Trust - Frontsheet'!AV$1:AV$6187,SMALL(IF('Trust - Frontsheet'!$AX$1:$AX$6187=$B$2,ROW('Trust - Frontsheet'!$AX$1:$AX$6187)),ROW(23:23)))),\"\",INDEX('Trust - Frontsheet'!AV$1:AV$6187,SMALL(IF('Trust - Frontsheet'!$AX$1:$AX$6187=$B$2,ROW('Trust - Frontsheet'!$AX$1:$AX$6187)),ROW(23:23))))","v":""},{"$f":"IF(ISERROR(INDEX('Trust - Frontsheet'!AW$1:AW$6187,SMALL(IF('Trust - Frontsheet'!$AX$1:$AX$6187=$B$2,ROW('Trust - Frontsheet'!$AX$1:$AX$6187)),ROW(23:23)))),\"\",INDEX('Trust - Frontsheet'!AW$1:AW$6187,SMALL(IF('Trust - Frontsheet'!$AX$1:$AX$6187=$B$2,ROW('Trust - Frontsheet'!$AX$1:$AX$6187)),ROW(23:23))))","v":""},{"$f":"IF($B29=\"\",\"\",SUMIF('Trust - Frontsheet'!$C$14:$C$213,$B29,'Trust - Frontsheet'!H$14:H$213))","v":""},{"$f":"IF($B29=\"\",\"\",SUMIF('Trust - Frontsheet'!$C$14:$C$213,$B29,'Trust - Frontsheet'!I$14:I$213))","v":""},{"$f":"IF($B29=\"\",\"\",SUMIF('Trust - Frontsheet'!$C$14:$C$213,$B29,'Trust - Frontsheet'!J$14:J$213))","v":""},{"$f":"IF($B29=\"\",\"\",SUMIF('Trust - Frontsheet'!$C$14:$C$213,$B29,'Trust - Frontsheet'!K$14:K$213))","v":""},{"$f":"IF($B29=\"\",\"\",SUMIF('Trust - Frontsheet'!$C$14:$C$213,$B29,'Trust - Frontsheet'!L$14:L$213))","v":""},{"$f":"IF($B29=\"\",\"\",SUMIF('Trust - Frontsheet'!$C$14:$C$213,$B29,'Trust - Frontsheet'!M$14:M$213))","v":""},{"$f":"IF($B29=\"\",\"\",SUMIF('Trust - Frontsheet'!$C$14:$C$213,$B29,'Trust - Frontsheet'!N$14:N$213))","v":""},{"$f":"IF($B29=\"\",\"\",SUMIF('Trust - Frontsheet'!$C$14:$C$213,$B29,'Trust - Frontsheet'!O$14:O$213))","v":""},"","","","",{"$f":"IF($B29=\"\",\"\",SUMIF('Trust - Frontsheet'!$C$14:$C$213,$B29,'Trust - Frontsheet'!T$14:T$213))","v":""},"","",""]
[null,{"$f":"IF(ISERROR(INDEX('Trust - Frontsheet'!AV$1:AV$6187,SMALL(IF('Trust - Frontsheet'!$AX$1:$AX$6187=$B$2,ROW('Trust - Frontsheet'!$AX$1:$AX$6187)),ROW(24:24)))),\"\",INDEX('Trust - Frontsheet'!AV$1:AV$6187,SMALL(IF('Trust - Frontsheet'!$AX$1:$AX$6187=$B$2,ROW('Trust - Frontsheet'!$AX$1:$AX$6187)),ROW(24:24))))","v":""},{"$f":"IF(ISERROR(INDEX('Trust - Frontsheet'!AW$1:AW$6187,SMALL(IF('Trust - Frontsheet'!$AX$1:$AX$6187=$B$2,ROW('Trust - Frontsheet'!$AX$1:$AX$6187)),ROW(24:24)))),\"\",INDEX('Trust - Frontsheet'!AW$1:AW$6187,SMALL(IF('Trust - Frontsheet'!$AX$1:$AX$6187=$B$2,ROW('Trust - Frontsheet'!$AX$1:$AX$6187)),ROW(24:24))))","v":""},{"$f":"IF($B30=\"\",\"\",SUMIF('Trust - Frontsheet'!$C$14:$C$213,$B30,'Trust - Frontsheet'!H$14:H$213))","v":""},{"$f":"IF($B30=\"\",\"\",SUMIF('Trust - Frontsheet'!$C$14:$C$213,$B30,'Trust - Frontsheet'!I$14:I$213))","v":""},{"$f":"IF($B30=\"\",\"\",SUMIF('Trust - Frontsheet'!$C$14:$C$213,$B30,'Trust - Frontsheet'!J$14:J$213))","v":""},{"$f":"IF($B30=\"\",\"\",SUMIF('Trust - Frontsheet'!$C$14:$C$213,$B30,'Trust - Frontsheet'!K$14:K$213))","v":""},{"$f":"IF($B30=\"\",\"\",SUMIF('Trust - Frontsheet'!$C$14:$C$213,$B30,'Trust - Frontsheet'!L$14:L$213))","v":""},{"$f":"IF($B30=\"\",\"\",SUMIF('Trust - Frontsheet'!$C$14:$C$213,$B30,'Trust - Frontsheet'!M$14:M$213))","v":""},{"$f":"IF($B30=\"\",\"\",SUMIF('Trust - Frontsheet'!$C$14:$C$213,$B30,'Trust - Frontsheet'!N$14:N$213))","v":""},{"$f":"IF($B30=\"\",\"\",SUMIF('Trust - Frontsheet'!$C$14:$C$213,$B30,'Trust - Frontsheet'!O$14:O$213))","v":""},"","","","",{"$f":"IF($B30=\"\",\"\",SUMIF('Trust - Frontsheet'!$C$14:$C$213,$B30,'Trust - Frontsheet'!T$14:T$213))","v":""},"","",""]
[null,{"$f":"IF(ISERROR(INDEX('Trust - Frontsheet'!AV$1:AV$6187,SMALL(IF('Trust - Frontsheet'!$AX$1:$AX$6187=$B$2,ROW('Trust - Frontsheet'!$AX$1:$AX$6187)),ROW(25:25)))),\"\",INDEX('Trust - Frontsheet'!AV$1:AV$6187,SMALL(IF('Trust - Frontsheet'!$AX$1:$AX$6187=$B$2,ROW('Trust - Frontsheet'!$AX$1:$AX$6187)),ROW(25:25))))","v":""},{"$f":"IF(ISERROR(INDEX('Trust - Frontsheet'!AW$1:AW$6187,SMALL(IF('Trust - Frontsheet'!$AX$1:$AX$6187=$B$2,ROW('Trust - Frontsheet'!$AX$1:$AX$6187)),ROW(25:25)))),\"\",INDEX('Trust - Frontsheet'!AW$1:AW$6187,SMALL(IF('Trust - Frontsheet'!$AX$1:$AX$6187=$B$2,ROW('Trust - Frontsheet'!$AX$1:$AX$6187)),ROW(25:25))))","v":""},{"$f":"IF($B31=\"\",\"\",SUMIF('Trust - Frontsheet'!$C$14:$C$213,$B31,'Trust - Frontsheet'!H$14:H$213))","v":""},{"$f":"IF($B31=\"\",\"\",SUMIF('Trust - Frontsheet'!$C$14:$C$213,$B31,'Trust - Frontsheet'!I$14:I$213))","v":""},{"$f":"IF($B31=\"\",\"\",SUMIF('Trust - Frontsheet'!$C$14:$C$213,$B31,'Trust - Frontsheet'!J$14:J$213))","v":""},{"$f":"IF($B31=\"\",\"\",SUMIF('Trust - Frontsheet'!$C$14:$C$213,$B31,'Trust - Frontsheet'!K$14:K$213))","v":""},{"$f":"IF($B31=\"\",\"\",SUMIF('Trust - Frontsheet'!$C$14:$C$213,$B31,'Trust - Frontsheet'!L$14:L$213))","v":""},{"$f":"IF($B31=\"\",\"\",SUMIF('Trust - Frontsheet'!$C$14:$C$213,$B31,'Trust - Frontsheet'!M$14:M$213))","v":""},{"$f":"IF($B31=\"\",\"\",SUMIF('Trust - Frontsheet'!$C$14:$C$213,$B31,'Trust - Frontsheet'!N$14:N$213))","v":""},{"$f":"IF($B31=\"\",\"\",SUMIF('Trust - Frontsheet'!$C$14:$C$213,$B31,'Trust - Frontsheet'!O$14:O$213))","v":""},"","","","",{"$f":"IF($B31=\"\",\"\",SUMIF('Trust - Frontsheet'!$C$14:$C$213,$B31,'Trust - Frontsheet'!T$14:T$213))","v":""},"","",""]
[null,{"$f":"IF(ISERROR(INDEX('Trust - Frontsheet'!AV$1:AV$6187,SMALL(IF('Trust - Frontsheet'!$AX$1:$AX$6187=$B$2,ROW('Trust - Frontsheet'!$AX$1:$AX$6187)),ROW(26:26)))),\"\",INDEX('Trust - Frontsheet'!AV$1:AV$6187,SMALL(IF('Trust - Frontsheet'!$AX$1:$AX$6187=$B$2,ROW('Trust - Frontsheet'!$AX$1:$AX$6187)),ROW(26:26))))","v":""},{"$f":"IF(ISERROR(INDEX('Trust - Frontsheet'!AW$1:AW$6187,SMALL(IF('Trust - Frontsheet'!$AX$1:$AX$6187=$B$2,ROW('Trust - Frontsheet'!$AX$1:$AX$6187)),ROW(26:26)))),\"\",INDEX('Trust - Frontsheet'!AW$1:AW$6187,SMALL(IF('Trust - Frontsheet'!$AX$1:$AX$6187=$B$2,ROW('Trust - Frontsheet'!$AX$1:$AX$6187)),ROW(26:26))))","v":""},{"$f":"IF($B32=\"\",\"\",SUMIF('Trust - Frontsheet'!$C$14:$C$213,$B32,'Trust - Frontsheet'!H$14:H$213))","v":""},{"$f":"IF($B32=\"\",\"\",SUMIF('Trust - Frontsheet'!$C$14:$C$213,$B32,'Trust - Frontsheet'!I$14:I$213))","v":""},{"$f":"IF($B32=\"\",\"\",SUMIF('Trust - Frontsheet'!$C$14:$C$213,$B32,'Trust - Frontsheet'!J$14:J$213))","v":""},{"$f":"IF($B32=\"\",\"\",SUMIF('Trust - Frontsheet'!$C$14:$C$213,$B32,'Trust - Frontsheet'!K$14:K$213))","v":""},{"$f":"IF($B32=\"\",\"\",SUMIF('Trust - Frontsheet'!$C$14:$C$213,$B32,'Trust - Frontsheet'!L$14:L$213))","v":""},{"$f":"IF($B32=\"\",\"\",SUMIF('Trust - Frontsheet'!$C$14:$C$213,$B32,'Trust - Frontsheet'!M$14:M$213))","v":""},{"$f":"IF($B32=\"\",\"\",SUMIF('Trust - Frontsheet'!$C$14:$C$213,$B32,'Trust - Frontsheet'!N$14:N$213))","v":""},{"$f":"IF($B32=\"\",\"\",SUMIF('Trust - Frontsheet'!$C$14:$C$213,$B32,'Trust - Frontsheet'!O$14:O$213))","v":""},"","","","",{"$f":"IF($B32=\"\",\"\",SUMIF('Trust - Frontsheet'!$C$14:$C$213,$B32,'Trust - Frontsheet'!T$14:T$213))","v":""},"","",""]
[null,{"$f":"IF(ISERROR(INDEX('Trust - Frontsheet'!AV$1:AV$6187,SMALL(IF('Trust - Frontsheet'!$AX$1:$AX$6187=$B$2,ROW('Trust - Frontsheet'!$AX$1:$AX$6187)),ROW(27:27)))),\"\",INDEX('Trust - Frontsheet'!AV$1:AV$6187,SMALL(IF('Trust - Frontsheet'!$AX$1:$AX$6187=$B$2,ROW('Trust - Frontsheet'!$AX$1:$AX$6187)),ROW(27:27))))","v":""},{"$f":"IF(ISERROR(INDEX('Trust - Frontsheet'!AW$1:AW$6187,SMALL(IF('Trust - Frontsheet'!$AX$1:$AX$6187=$B$2,ROW('Trust - Frontsheet'!$AX$1:$AX$6187)),ROW(27:27)))),\"\",INDEX('Trust - Frontsheet'!AW$1:AW$6187,SMALL(IF('Trust - Frontsheet'!$AX$1:$AX$6187=$B$2,ROW('Trust - Frontsheet'!$AX$1:$AX$6187)),ROW(27:27))))","v":""},{"$f":"IF($B33=\"\",\"\",SUMIF('Trust - Frontsheet'!$C$14:$C$213,$B33,'Trust - Frontsheet'!H$14:H$213))","v":""},{"$f":"IF($B33=\"\",\"\",SUMIF('Trust - Frontsheet'!$C$14:$C$213,$B33,'Trust - Frontsheet'!I$14:I$213))","v":""},{"$f":"IF($B33=\"\",\"\",SUMIF('Trust - Frontsheet'!$C$14:$C$213,$B33,'Trust - Frontsheet'!J$14:J$213))","v":""},{"$f":"IF($B33=\"\",\"\",SUMIF('Trust - Frontsheet'!$C$14:$C$213,$B33,'Trust - Frontsheet'!K$14:K$213))","v":""},{"$f":"IF($B33=\"\",\"\",SUMIF('Trust - Frontsheet'!$C$14:$C$213,$B33,'Trust - Frontsheet'!L$14:L$213))","v":""},{"$f":"IF($B33=\"\",\"\",SUMIF('Trust - Frontsheet'!$C$14:$C$213,$B33,'Trust - Frontsheet'!M$14:M$213))","v":""},{"$f":"IF($B33=\"\",\"\",SUMIF('Trust - Frontsheet'!$C$14:$C$213,$B33,'Trust - Frontsheet'!N$14:N$213))","v":""},{"$f":"IF($B33=\"\",\"\",SUMIF('Trust - Frontsheet'!$C$14:$C$213,$B33,'Trust - Frontsheet'!O$14:O$213))","v":""},"","","","",{"$f":"IF($B33=\"\",\"\",SUMIF('Trust - Frontsheet'!$C$14:$C$213,$B33,'Trust - Frontsheet'!T$14:T$213))","v":""},"","",""]
[null,{"$f":"IF(ISERROR(INDEX('Trust - Frontsheet'!AV$1:AV$6187,SMALL(IF('Trust - Frontsheet'!$AX$1:$AX$6187=$B$2,ROW('Trust - Frontsheet'!$AX$1:$AX$6187)),ROW(28:28)))),\"\",INDEX('Trust - Frontsheet'!AV$1:AV$6187,SMALL(IF('Trust - Frontsheet'!$AX$1:$AX$6187=$B$2,ROW('Trust - Frontsheet'!$AX$1:$AX$6187)),ROW(28:28))))","v":""},{"$f":"IF(ISERROR(INDEX('Trust - Frontsheet'!AW$1:AW$6187,SMALL(IF('Trust - Frontsheet'!$AX$1:$AX$6187=$B$2,ROW('Trust - Frontsheet'!$AX$1:$AX$6187)),ROW(28:28)))),\"\",INDEX('Trust - Frontsheet'!AW$1:AW$6187,SMALL(IF('Trust - Frontsheet'!$AX$1:$AX$6187=$B$2,ROW('Trust - Frontsheet'!$AX$1:$AX$6187)),ROW(28:28))))","v":""},{"$f":"IF($B34=\"\",\"\",SUMIF('Trust - Frontsheet'!$C$14:$C$213,$B34,'Trust - Frontsheet'!H$14:H$213))","v":""},{"$f":"IF($B34=\"\",\"\",SUMIF('Trust - Frontsheet'!$C$14:$C$213,$B34,'Trust - Frontsheet'!I$14:I$213))","v":""},{"$f":"IF($B34=\"\",\"\",SUMIF('Trust - Frontsheet'!$C$14:$C$213,$B34,'Trust - Frontsheet'!J$14:J$213))","v":""},{"$f":"IF($B34=\"\",\"\",SUMIF('Trust - Frontsheet'!$C$14:$C$213,$B34,'Trust - Frontsheet'!K$14:K$213))","v":""},{"$f":"IF($B34=\"\",\"\",SUMIF('Trust - Frontsheet'!$C$14:$C$213,$B34,'Trust - Frontsheet'!L$14:L$213))","v":""},{"$f":"IF($B34=\"\",\"\",SUMIF('Trust - Frontsheet'!$C$14:$C$213,$B34,'Trust - Frontsheet'!M$14:M$213))","v":""},{"$f":"IF($B34=\"\",\"\",SUMIF('Trust - Frontsheet'!$C$14:$C$213,$B34,'Trust - Frontsheet'!N$14:N$213))","v":""},{"$f":"IF($B34=\"\",\"\",SUMIF('Trust - Frontsheet'!$C$14:$C$213,$B34,'Trust - Frontsheet'!O$14:O$213))","v":""},"","","","",{"$f":"IF($B34=\"\",\"\",SUMIF('Trust - Frontsheet'!$C$14:$C$213,$B34,'Trust - Frontsheet'!T$14:T$213))","v":""},"","",""]
[null,{"$f":"IF(ISERROR(INDEX('Trust - Frontsheet'!AV$1:AV$6187,SMALL(IF('Trust - Frontsheet'!$AX$1:$AX$6187=$B$2,ROW('Trust - Frontsheet'!$AX$1:$AX$6187)),ROW(29:29)))),\"\",INDEX('Trust - Frontsheet'!AV$1:AV$6187,SMALL(IF('Trust - Frontsheet'!$AX$1:$AX$6187=$B$2,ROW('Trust - Frontsheet'!$AX$1:$AX$6187)),ROW(29:29))))","v":""},{"$f":"IF(ISERROR(INDEX('Trust - Frontsheet'!AW$1:AW$6187,SMALL(IF('Trust - Frontsheet'!$AX$1:$AX$6187=$B$2,ROW('Trust - Frontsheet'!$AX$1:$AX$6187)),ROW(29:29)))),\"\",INDEX('Trust - Frontsheet'!AW$1:AW$6187,SMALL(IF('Trust - Frontsheet'!$AX$1:$AX$6187=$B$2,ROW('Trust - Frontsheet'!$AX$1:$AX$6187)),ROW(29:29))))","v":""},{"$f":"IF($B35=\"\",\"\",SUMIF('Trust - Frontsheet'!$C$14:$C$213,$B35,'Trust - Frontsheet'!H$14:H$213))","v":""},{"$f":"IF($B35=\"\",\"\",SUMIF('Trust - Frontsheet'!$C$14:$C$213,$B35,'Trust - Frontsheet'!I$14:I$213))","v":""},{"$f":"IF($B35=\"\",\"\",SUMIF('Trust - Frontsheet'!$C$14:$C$213,$B35,'Trust - Frontsheet'!J$14:J$213))","v":""},{"$f":"IF($B35=\"\",\"\",SUMIF('Trust - Frontsheet'!$C$14:$C$213,$B35,'Trust - Frontsheet'!K$14:K$213))","v":""},{"$f":"IF($B35=\"\",\"\",SUMIF('Trust - Frontsheet'!$C$14:$C$213,$B35,'Trust - Frontsheet'!L$14:L$213))","v":""},{"$f":"IF($B35=\"\",\"\",SUMIF('Trust - Frontsheet'!$C$14:$C$213,$B35,'Trust - Frontsheet'!M$14:M$213))","v":""},{"$f":"IF($B35=\"\",\"\",SUMIF('Trust - Frontsheet'!$C$14:$C$213,$B35,'Trust - Frontsheet'!N$14:N$213))","v":""},{"$f":"IF($B35=\"\",\"\",SUMIF('Trust - Frontsheet'!$C$14:$C$213,$B35,'Trust - Frontsheet'!O$14:O$213))","v":""},"","","","",{"$f":"IF($B35=\"\",\"\",SUMIF('Trust - Frontsheet'!$C$14:$C$213,$B35,'Trust - Frontsheet'!T$14:T$213))","v":""},"","",""]
[null,{"$f":"IF(ISERROR(INDEX('Trust - Frontsheet'!AV$1:AV$6187,SMALL(IF('Trust - Frontsheet'!$AX$1:$AX$6187=$B$2,ROW('Trust - Frontsheet'!$AX$1:$AX$6187)),ROW(30:30)))),\"\",INDEX('Trust - Frontsheet'!AV$1:AV$6187,SMALL(IF('Trust - Frontsheet'!$AX$1:$AX$6187=$B$2,ROW('Trust - Frontsheet'!$AX$1:$AX$6187)),ROW(30:30))))","v":""},{"$f":"IF(ISERROR(INDEX('Trust - Frontsheet'!AW$1:AW$6187,SMALL(IF('Trust - Frontsheet'!$AX$1:$AX$6187=$B$2,ROW('Trust - Frontsheet'!$AX$1:$AX$6187)),ROW(30:30)))),\"\",INDEX('Trust - Frontsheet'!AW$1:AW$6187,SMALL(IF('Trust - Frontsheet'!$AX$1:$AX$6187=$B$2,ROW('Trust - Frontsheet'!$AX$1:$AX$6187)),ROW(30:30))))","v":""},{"$f":"IF($B36=\"\",\"\",SUMIF('Trust - Frontsheet'!$C$14:$C$213,$B36,'Trust - Frontsheet'!H$14:H$213))","v":""},{"$f":"IF($B36=\"\",\"\",SUMIF('Trust - Frontsheet'!$C$14:$C$213,$B36,'Trust - Frontsheet'!I$14:I$213))","v":""},{"$f":"IF($B36=\"\",\"\",SUMIF('Trust - Frontsheet'!$C$14:$C$213,$B36,'Trust - Frontsheet'!J$14:J$213))","v":""},{"$f":"IF($B36=\"\",\"\",SUMIF('Trust - Frontsheet'!$C$14:$C$213,$B36,'Trust - Frontsheet'!K$14:K$213))","v":""},{"$f":"IF($B36=\"\",\"\",SUMIF('Trust - Frontsheet'!$C$14:$C$213,$B36,'Trust - Frontsheet'!L$14:L$213))","v":""},{"$f":"IF($B36=\"\",\"\",SUMIF('Trust - Frontsheet'!$C$14:$C$213,$B36,'Trust - Frontsheet'!M$14:M$213))","v":""},{"$f":"IF($B36=\"\",\"\",SUMIF('Trust - Frontsheet'!$C$14:$C$213,$B36,'Trust - Frontsheet'!N$14:N$213))","v":""},{"$f":"IF($B36=\"\",\"\",SUMIF('Trust - Frontsheet'!$C$14:$C$213,$B36,'Trust - Frontsheet'!O$14:O$213))","v":""},"","","","",{"$f":"IF($B36=\"\",\"\",SUMIF('Trust - Frontsheet'!$C$14:$C$213,$B36,'Trust - Frontsheet'!T$14:T$213))","v":""},"","",""]
[null,{"$f":"IF(ISERROR(INDEX('Trust - Frontsheet'!AV$1:AV$6187,SMALL(IF('Trust - Frontsheet'!$AX$1:$AX$6187=$B$2,ROW('Trust - Frontsheet'!$AX$1:$AX$6187)),ROW(31:31)))),\"\",INDEX('Trust - Frontsheet'!AV$1:AV$6187,SMALL(IF('Trust - Frontsheet'!$AX$1:$AX$6187=$B$2,ROW('Trust - Frontsheet'!$AX$1:$AX$6187)),ROW(31:31))))","v":""},{"$f":"IF(ISERROR(INDEX('Trust - Frontsheet'!AW$1:AW$6187,SMALL(IF('Trust - Frontsheet'!$AX$1:$AX$6187=$B$2,ROW('Trust - Frontsheet'!$AX$1:$AX$6187)),ROW(31:31)))),\"\",INDEX('Trust - Frontsheet'!AW$1:AW$6187,SMALL(IF('Trust - Frontsheet'!$AX$1:$AX$6187=$B$2,ROW('Trust - Frontsheet'!$AX$1:$AX$6187)),ROW(31:31))))","v":""},{"$f":"IF($B37=\"\",\"\",SUMIF('Trust - Frontsheet'!$C$14:$C$213,$B37,'Trust - Frontsheet'!H$14:H$213))","v":""},{"$f":"IF($B37=\"\",\"\",SUMIF('Trust - Frontsheet'!$C$14:$C$213,$B37,'Trust - Frontsheet'!I$14:I$213))","v":""},{"$f":"IF($B37=\"\",\"\",SUMIF('Trust - Frontsheet'!$C$14:$C$213,$B37,'Trust - Frontsheet'!J$14:J$213))","v":""},{"$f":"IF($B37=\"\",\"\",SUMIF('Trust - Frontsheet'!$C$14:$C$213,$B37,'Trust - Frontsheet'!K$14:K$213))","v":""},{"$f":"IF($B37=\"\",\"\",SUMIF('Trust - Frontsheet'!$C$14:$C$213,$B37,'Trust - Frontsheet'!L$14:L$213))","v":""},{"$f":"IF($B37=\"\",\"\",SUMIF('Trust - Frontsheet'!$C$14:$C$213,$B37,'Trust - Frontsheet'!M$14:M$213))","v":""},{"$f":"IF($B37=\"\",\"\",SUMIF('Trust - Frontsheet'!$C$14:$C$213,$B37,'Trust - Frontsheet'!N$14:N$213))","v":""},{"$f":"IF($B37=\"\",\"\",SUMIF('Trust - Frontsheet'!$C$14:$C$213,$B37,'Trust - Frontsheet'!O$14:O$213))","v":""},"","","","",{"$f":"IF($B37=\"\",\"\",SUMIF('Trust - Frontsheet'!$C$14:$C$213,$B37,'Trust - Frontsheet'!T$14:T$213))","v":""},"","",""]
[null,{"$f":"IF(ISERROR(INDEX('Trust - Frontsheet'!AV$1:AV$6187,SMALL(IF('Trust - Frontsheet'!$AX$1:$AX$6187=$B$2,ROW('Trust - Frontsheet'!$AX$1:$AX$6187)),ROW(32:32)))),\"\",INDEX('Trust - Frontsheet'!AV$1:AV$6187,SMALL(IF('Trust - Frontsheet'!$AX$1:$AX$6187=$B$2,ROW('Trust - Frontsheet'!$AX$1:$AX$6187)),ROW(32:32))))","v":""},{"$f":"IF(ISERROR(INDEX('Trust - Frontsheet'!AW$1:AW$6187,SMALL(IF('Trust - Frontsheet'!$AX$1:$AX$6187=$B$2,ROW('Trust - Frontsheet'!$AX$1:$AX$6187)),ROW(32:32)))),\"\",INDEX('Trust - Frontsheet'!AW$1:AW$6187,SMALL(IF('Trust - Frontsheet'!$AX$1:$AX$6187=$B$2,ROW('Trust - Frontsheet'!$AX$1:$AX$6187)),ROW(32:32))))","v":""},{"$f":"IF($B38=\"\",\"\",SUMIF('Trust - Frontsheet'!$C$14:$C$213,$B38,'Trust - Frontsheet'!H$14:H$213))","v":""},{"$f":"IF($B38=\"\",\"\",SUMIF('Trust - Frontsheet'!$C$14:$C$213,$B38,'Trust - Frontsheet'!I$14:I$213))","v":""},{"$f":"IF($B38=\"\",\"\",SUMIF('Trust - Frontsheet'!$C$14:$C$213,$B38,'Trust - Frontsheet'!J$14:J$213))","v":""},{"$f":"IF($B38=\"\",\"\",SUMIF('Trust - Frontsheet'!$C$14:$C$213,$B38,'Trust - Frontsheet'!K$14:K$213))","v":""},{"$f":"IF($B38=\"\",\"\",SUMIF('Trust - Frontsheet'!$C$14:$C$213,$B38,'Trust - Frontsheet'!L$14:L$213))","v":""},{"$f":"IF($B38=\"\",\"\",SUMIF('Trust - Frontsheet'!$C$14:$C$213,$B38,'Trust - Frontsheet'!M$14:M$213))","v":""},{"$f":"IF($B38=\"\",\"\",SUMIF('Trust - Frontsheet'!$C$14:$C$213,$B38,'Trust - Frontsheet'!N$14:N$213))","v":""},{"$f":"IF($B38=\"\",\"\",SUMIF('Trust - Frontsheet'!$C$14:$C$213,$B38,'Trust - Frontsheet'!O$14:O$213))","v":""},"","","","",{"$f":"IF($B38=\"\",\"\",SUMIF('Trust - Frontsheet'!$C$14:$C$213,$B38,'Trust - Frontsheet'!T$14:T$213))","v":""},"","",""]
[null,{"$f":"IF(ISERROR(INDEX('Trust - Frontsheet'!AV$1:AV$6187,SMALL(IF('Trust - Frontsheet'!$AX$1:$AX$6187=$B$2,ROW('Trust - Frontsheet'!$AX$1:$AX$6187)),ROW(33:33)))),\"\",INDEX('Trust - Frontsheet'!AV$1:AV$6187,SMALL(IF('Trust - Frontsheet'!$AX$1:$AX$6187=$B$2,ROW('Trust - Frontsheet'!$AX$1:$AX$6187)),ROW(33:33))))","v":""},{"$f":"IF(ISERROR(INDEX('Trust - Frontsheet'!AW$1:AW$6187,SMALL(IF('Trust - Frontsheet'!$AX$1:$AX$6187=$B$2,ROW('Trust - Frontsheet'!$AX$1:$AX$6187)),ROW(33:33)))),\"\",INDEX('Trust - Frontsheet'!AW$1:AW$6187,SMALL(IF('Trust - Frontsheet'!$AX$1:$AX$6187=$B$2,ROW('Trust - Frontsheet'!$AX$1:$AX$6187)),ROW(33:33))))","v":""},{"$f":"IF($B39=\"\",\"\",SUMIF('Trust - Frontsheet'!$C$14:$C$213,$B39,'Trust - Frontsheet'!H$14:H$213))","v":""},{"$f":"IF($B39=\"\",\"\",SUMIF('Trust - Frontsheet'!$C$14:$C$213,$B39,'Trust - Frontsheet'!I$14:I$213))","v":""},{"$f":"IF($B39=\"\",\"\",SUMIF('Trust - Frontsheet'!$C$14:$C$213,$B39,'Trust - Frontsheet'!J$14:J$213))","v":""},{"$f":"IF($B39=\"\",\"\",SUMIF('Trust - Frontsheet'!$C$14:$C$213,$B39,'Trust - Frontsheet'!K$14:K$213))","v":""},{"$f":"IF($B39=\"\",\"\",SUMIF('Trust - Frontsheet'!$C$14:$C$213,$B39,'Trust - Frontsheet'!L$14:L$213))","v":""},{"$f":"IF($B39=\"\",\"\",SUMIF('Trust - Frontsheet'!$C$14:$C$213,$B39,'Trust - Frontsheet'!M$14:M$213))","v":""},{"$f":"IF($B39=\"\",\"\",SUMIF('Trust - Frontsheet'!$C$14:$C$213,$B39,'Trust - Frontsheet'!N$14:N$213))","v":""},{"$f":"IF($B39=\"\",\"\",SUMIF('Trust - Frontsheet'!$C$14:$C$213,$B39,'Trust - Frontsheet'!O$14:O$213))","v":""},"","","","",{"$f":"IF($B39=\"\",\"\",SUMIF('Trust - Frontsheet'!$C$14:$C$213,$B39,'Trust - Frontsheet'!T$14:T$213))","v":""},"","",""]
[null,{"$f":"IF(ISERROR(INDEX('Trust - Frontsheet'!AV$1:AV$6187,SMALL(IF('Trust - Frontsheet'!$AX$1:$AX$6187=$B$2,ROW('Trust - Frontsheet'!$AX$1:$AX$6187)),ROW(34:34)))),\"\",INDEX('Trust - Frontsheet'!AV$1:AV$6187,SMALL(IF('Trust - Frontsheet'!$AX$1:$AX$6187=$B$2,ROW('Trust - Frontsheet'!$AX$1:$AX$6187)),ROW(34:34))))","v":""},{"$f":"IF(ISERROR(INDEX('Trust - Frontsheet'!AW$1:AW$6187,SMALL(IF('Trust - Frontsheet'!$AX$1:$AX$6187=$B$2,ROW('Trust - Frontsheet'!$AX$1:$AX$6187)),ROW(34:34)))),\"\",INDEX('Trust - Frontsheet'!AW$1:AW$6187,SMALL(IF('Trust - Frontsheet'!$AX$1:$AX$6187=$B$2,ROW('Trust - Frontsheet'!$AX$1:$AX$6187)),ROW(34:34))))","v":""},{"$f":"IF($B40=\"\",\"\",SUMIF('Trust - Frontsheet'!$C$14:$C$213,$B40,'Trust - Frontsheet'!H$14:H$213))","v":""},{"$f":"IF($B40=\"\",\"\",SUMIF('Trust - Frontsheet'!$C$14:$C$213,$B40,'Trust - Frontsheet'!I$14:I$213))","v":""},{"$f":"IF($B40=\"\",\"\",SUMIF('Trust - Frontsheet'!$C$14:$C$213,$B40,'Trust - Frontsheet'!J$14:J$213))","v":""},{"$f":"IF($B40=\"\",\"\",SUMIF('Trust - Frontsheet'!$C$14:$C$213,$B40,'Trust - Frontsheet'!K$14:K$213))","v":""},{"$f":"IF($B40=\"\",\"\",SUMIF('Trust - Frontsheet'!$C$14:$C$213,$B40,'Trust - Frontsheet'!L$14:L$213))","v":""},{"$f":"IF($B40=\"\",\"\",SUMIF('Trust - Frontsheet'!$C$14:$C$213,$B40,'Trust - Frontsheet'!M$14:M$213))","v":""},{"$f":"IF($B40=\"\",\"\",SUMIF('Trust - Frontsheet'!$C$14:$C$213,$B40,'Trust - Frontsheet'!N$14:N$213))","v":""},{"$f":"IF($B40=\"\",\"\",SUMIF('Trust - Frontsheet'!$C$14:$C$213,$B40,'Trust - Frontsheet'!O$14:O$213))","v":""},"","","","",{"$f":"IF($B40=\"\",\"\",SUMIF('Trust - Frontsheet'!$C$14:$C$213,$B40,'Trust - Frontsheet'!T$14:T$213))","v":""},"","",""]
[null,{"$f":"IF(ISERROR(INDEX('Trust - Frontsheet'!AV$1:AV$6187,SMALL(IF('Trust - Frontsheet'!$AX$1:$AX$6187=$B$2,ROW('Trust - Frontsheet'!$AX$1:$AX$6187)),ROW(35:35)))),\"\",INDEX('Trust - Frontsheet'!AV$1:AV$6187,SMALL(IF('Trust - Frontsheet'!$AX$1:$AX$6187=$B$2,ROW('Trust - Frontsheet'!$AX$1:$AX$6187)),ROW(35:35))))","v":""},{"$f":"IF(ISERROR(INDEX('Trust - Frontsheet'!AW$1:AW$6187,SMALL(IF('Trust - Frontsheet'!$AX$1:$AX$6187=$B$2,ROW('Trust - Frontsheet'!$AX$1:$AX$6187)),ROW(35:35)))),\"\",INDEX('Trust - Frontsheet'!AW$1:AW$6187,SMALL(IF('Trust - Frontsheet'!$AX$1:$AX$6187=$B$2,ROW('Trust - Frontsheet'!$AX$1:$AX$6187)),ROW(35:35))))","v":""},{"$f":"IF($B41=\"\",\"\",SUMIF('Trust - Frontsheet'!$C$14:$C$213,$B41,'Trust - Frontsheet'!H$14:H$213))","v":""},{"$f":"IF($B41=\"\",\"\",SUMIF('Trust - Frontsheet'!$C$14:$C$213,$B41,'Trust - Frontsheet'!I$14:I$213))","v":""},{"$f":"IF($B41=\"\",\"\",SUMIF('Trust - Frontsheet'!$C$14:$C$213,$B41,'Trust - Frontsheet'!J$14:J$213))","v":""},{"$f":"IF($B41=\"\",\"\",SUMIF('Trust - Frontsheet'!$C$14:$C$213,$B41,'Trust - Frontsheet'!K$14:K$213))","v":""},{"$f":"IF($B41=\"\",\"\",SUMIF('Trust - Frontsheet'!$C$14:$C$213,$B41,'Trust - Frontsheet'!L$14:L$213))","v":""},{"$f":"IF($B41=\"\",\"\",SUMIF('Trust - Frontsheet'!$C$14:$C$213,$B41,'Trust - Frontsheet'!M$14:M$213))","v":""},{"$f":"IF($B41=\"\",\"\",SUMIF('Trust - Frontsheet'!$C$14:$C$213,$B41,'Trust - Frontsheet'!N$14:N$213))","v":""},{"$f":"IF($B41=\"\",\"\",SUMIF('Trust - Frontsheet'!$C$14:$C$213,$B41,'Trust - Frontsheet'!O$14:O$213))","v":""},"","","","",{"$f":"IF($B41=\"\",\"\",SUMIF('Trust - Frontsheet'!$C$14:$C$213,$B41,'Trust - Frontsheet'!T$14:T$213))","v":""},"","",""]
[null,{"$f":"IF(ISERROR(INDEX('Trust - Frontsheet'!AV$1:AV$6187,SMALL(IF('Trust - Frontsheet'!$AX$1:$AX$6187=$B$2,ROW('Trust - Frontsheet'!$AX$1:$AX$6187)),ROW(36:36)))),\"\",INDEX('Trust - Frontsheet'!AV$1:AV$6187,SMALL(IF('Trust - Frontsheet'!$AX$1:$AX$6187=$B$2,ROW('Trust - Frontsheet'!$AX$1:$AX$6187)),ROW(36:36))))","v":""},{"$f":"IF(ISERROR(INDEX('Trust - Frontsheet'!AW$1:AW$6187,SMALL(IF('Trust - Frontsheet'!$AX$1:$AX$6187=$B$2,ROW('Trust - Frontsheet'!$AX$1:$AX$6187)),ROW(36:36)))),\"\",INDEX('Trust - Frontsheet'!AW$1:AW$6187,SMALL(IF('Trust - Frontsheet'!$AX$1:$AX$6187=$B$2,ROW('Trust - Frontsheet'!$AX$1:$AX$6187)),ROW(36:36))))","v":""},{"$f":"IF($B42=\"\",\"\",SUMIF('Trust - Frontsheet'!$C$14:$C$213,$B42,'Trust - Frontsheet'!H$14:H$213))","v":""},{"$f":"IF($B42=\"\",\"\",SUMIF('Trust - Frontsheet'!$C$14:$C$213,$B42,'Trust - Frontsheet'!I$14:I$213))","v":""},{"$f":"IF($B42=\"\",\"\",SUMIF('Trust - Frontsheet'!$C$14:$C$213,$B42,'Trust - Frontsheet'!J$14:J$213))","v":""},{"$f":"IF($B42=\"\",\"\",SUMIF('Trust - Frontsheet'!$C$14:$C$213,$B42,'Trust - Frontsheet'!K$14:K$213))","v":""},{"$f":"IF($B42=\"\",\"\",SUMIF('Trust - Frontsheet'!$C$14:$C$213,$B42,'Trust - Frontsheet'!L$14:L$213))","v":""},{"$f":"IF($B42=\"\",\"\",SUMIF('Trust - Frontsheet'!$C$14:$C$213,$B42,'Trust - Frontsheet'!M$14:M$213))","v":""},{"$f":"IF($B42=\"\",\"\",SUMIF('Trust - Frontsheet'!$C$14:$C$213,$B42,'Trust - Frontsheet'!N$14:N$213))","v":""},{"$f":"IF($B42=\"\",\"\",SUMIF('Trust - Frontsheet'!$C$14:$C$213,$B42,'Trust - Frontsheet'!O$14:O$213))","v":""},"","","","",{"$f":"IF($B42=\"\",\"\",SUMIF('Trust - Frontsheet'!$C$14:$C$213,$B42,'Trust - Frontsheet'!T$14:T$213))","v":""},"","",""]
[null,{"$f":"IF(ISERROR(INDEX('Trust - Frontsheet'!AV$1:AV$6187,SMALL(IF('Trust - Frontsheet'!$AX$1:$AX$6187=$B$2,ROW('Trust - Frontsheet'!$AX$1:$AX$6187)),ROW(37:37)))),\"\",INDEX('Trust - Frontsheet'!AV$1:AV$6187,SMALL(IF('Trust - Frontsheet'!$AX$1:$AX$6187=$B$2,ROW('Trust - Frontsheet'!$AX$1:$AX$6187)),ROW(37:37))))","v":""},{"$f":"IF(ISERROR(INDEX('Trust - Frontsheet'!AW$1:AW$6187,SMALL(IF('Trust - Frontsheet'!$AX$1:$AX$6187=$B$2,ROW('Trust - Frontsheet'!$AX$1:$AX$6187)),ROW(37:37)))),\"\",INDEX('Trust - Frontsheet'!AW$1:AW$6187,SMALL(IF('Trust - Frontsheet'!$AX$1:$AX$6187=$B$2,ROW('Trust - Frontsheet'!$AX$1:$AX$6187)),ROW(37:37))))","v":""},{"$f":"IF($B43=\"\",\"\",SUMIF('Trust - Frontsheet'!$C$14:$C$213,$B43,'Trust - Frontsheet'!H$14:H$213))","v":""},{"$f":"IF($B43=\"\",\"\",SUMIF('Trust - Frontsheet'!$C$14:$C$213,$B43,'Trust - Frontsheet'!I$14:I$213))","v":""},{"$f":"IF($B43=\"\",\"\",SUMIF('Trust - Frontsheet'!$C$14:$C$213,$B43,'Trust - Frontsheet'!J$14:J$213))","v":""},{"$f":"IF($B43=\"\",\"\",SUMIF('Trust - Frontsheet'!$C$14:$C$213,$B43,'Trust - Frontsheet'!K$14:K$213))","v":""},{"$f":"IF($B43=\"\",\"\",SUMIF('Trust - Frontsheet'!$C$14:$C$213,$B43,'Trust - Frontsheet'!L$14:L$213))","v":""},{"$f":"IF($B43=\"\",\"\",SUMIF('Trust - Frontsheet'!$C$14:$C$213,$B43,'Trust - Frontsheet'!M$14:M$213))","v":""},{"$f":"IF($B43=\"\",\"\",SUMIF('Trust - Frontsheet'!$C$14:$C$213,$B43,'Trust - Frontsheet'!N$14:N$213))","v":""},{"$f":"IF($B43=\"\",\"\",SUMIF('Trust - Frontsheet'!$C$14:$C$213,$B43,'Trust - Frontsheet'!O$14:O$213))","v":""},"","","","",{"$f":"IF($B43=\"\",\"\",SUMIF('Trust - Frontsheet'!$C$14:$C$213,$B43,'Trust - Frontsheet'!T$14:T$213))","v":""},"","",""]
[null,{"$f":"IF(ISERROR(INDEX('Trust - Frontsheet'!AV$1:AV$6187,SMALL(IF('Trust - Frontsheet'!$AX$1:$AX$6187=$B$2,ROW('Trust - Frontsheet'!$AX$1:$AX$6187)),ROW(38:38)))),\"\",INDEX('Trust - Frontsheet'!AV$1:AV$6187,SMALL(IF('Trust - Frontsheet'!$AX$1:$AX$6187=$B$2,ROW('Trust - Frontsheet'!$AX$1:$AX$6187)),ROW(38:38))))","v":""},{"$f":"IF(ISERROR(INDEX('Trust - Frontsheet'!AW$1:AW$6187,SMALL(IF('Trust - Frontsheet'!$AX$1:$AX$6187=$B$2,ROW('Trust - Frontsheet'!$AX$1:$AX$6187)),ROW(38:38)))),\"\",INDEX('Trust - Frontsheet'!AW$1:AW$6187,SMALL(IF('Trust - Frontsheet'!$AX$1:$AX$6187=$B$2,ROW('Trust - Frontsheet'!$AX$1:$AX$6187)),ROW(38:38))))","v":""},{"$f":"IF($B44=\"\",\"\",SUMIF('Trust - Frontsheet'!$C$14:$C$213,$B44,'Trust - Frontsheet'!H$14:H$213))","v":""},{"$f":"IF($B44=\"\",\"\",SUMIF('Trust - Frontsheet'!$C$14:$C$213,$B44,'Trust - Frontsheet'!I$14:I$213))","v":""},{"$f":"IF($B44=\"\",\"\",SUMIF('Trust - Frontsheet'!$C$14:$C$213,$B44,'Trust - Frontsheet'!J$14:J$213))","v":""},{"$f":"IF($B44=\"\",\"\",SUMIF('Trust - Frontsheet'!$C$14:$C$213,$B44,'Trust - Frontsheet'!K$14:K$213))","v":""},{"$f":"IF($B44=\"\",\"\",SUMIF('Trust - Frontsheet'!$C$14:$C$213,$B44,'Trust - Frontsheet'!L$14:L$213))","v":""},{"$f":"IF($B44=\"\",\"\",SUMIF('Trust - Frontsheet'!$C$14:$C$213,$B44,'Trust - Frontsheet'!M$14:M$213))","v":""},{"$f":"IF($B44=\"\",\"\",SUMIF('Trust - Frontsheet'!$C$14:$C$213,$B44,'Trust - Frontsheet'!N$14:N$213))","v":""},{"$f":"IF($B44=\"\",\"\",SUMIF('Trust - Frontsheet'!$C$14:$C$213,$B44,'Trust - Frontsheet'!O$14:O$213))","v":""},"","","","",{"$f":"IF($B44=\"\",\"\",SUMIF('Trust - Frontsheet'!$C$14:$C$213,$B44,'Trust - Frontsheet'!T$14:T$213))","v":""},"","",""]
[null,{"$f":"IF(ISERROR(INDEX('Trust - Frontsheet'!AV$1:AV$6187,SMALL(IF('Trust - Frontsheet'!$AX$1:$AX$6187=$B$2,ROW('Trust - Frontsheet'!$AX$1:$AX$6187)),ROW(39:39)))),\"\",INDEX('Trust - Frontsheet'!AV$1:AV$6187,SMALL(IF('Trust - Frontsheet'!$AX$1:$AX$6187=$B$2,ROW('Trust - Frontsheet'!$AX$1:$AX$6187)),ROW(39:39))))","v":""},{"$f":"IF(ISERROR(INDEX('Trust - Frontsheet'!AW$1:AW$6187,SMALL(IF('Trust - Frontsheet'!$AX$1:$AX$6187=$B$2,ROW('Trust - Frontsheet'!$AX$1:$AX$6187)),ROW(39:39)))),\"\",INDEX('Trust - Frontsheet'!AW$1:AW$6187,SMALL(IF('Trust - Frontsheet'!$AX$1:$AX$6187=$B$2,ROW('Trust - Frontsheet'!$AX$1:$AX$6187)),ROW(39:39))))","v":""},{"$f":"IF($B45=\"\",\"\",SUMIF('Trust - Frontsheet'!$C$14:$C$213,$B45,'Trust - Frontsheet'!H$14:H$213))","v":""},{"$f":"IF($B45=\"\",\"\",SUMIF('Trust - Frontsheet'!$C$14:$C$213,$B45,'Trust - Frontsheet'!I$14:I$213))","v":""},{"$f":"IF($B45=\"\",\"\",SUMIF('Trust - Frontsheet'!$C$14:$C$213,$B45,'Trust - Frontsheet'!J$14:J$213))","v":""},{"$f":"IF($B45=\"\",\"\",SUMIF('Trust - Frontsheet'!$C$14:$C$213,$B45,'Trust - Frontsheet'!K$14:K$213))","v":""},{"$f":"IF($B45=\"\",\"\",SUMIF('Trust - Frontsheet'!$C$14:$C$213,$B45,'Trust - Frontsheet'!L$14:L$213))","v":""},{"$f":"IF($B45=\"\",\"\",SUMIF('Trust - Frontsheet'!$C$14:$C$213,$B45,'Trust - Frontsheet'!M$14:M$213))","v":""},{"$f":"IF($B45=\"\",\"\",SUMIF('Trust - Frontsheet'!$C$14:$C$213,$B45,'Trust - Frontsheet'!N$14:N$213))","v":""},{"$f":"IF($B45=\"\",\"\",SUMIF('Trust - Frontsheet'!$C$14:$C$213,$B45,'Trust - Frontsheet'!O$14:O$213))","v":""},"","","","",{"$f":"IF($B45=\"\",\"\",SUMIF('Trust - Frontsheet'!$C$14:$C$213,$B45,'Trust - Frontsheet'!T$14:T$213))","v":""},"","",""]
[null,{"$f":"IF(ISERROR(INDEX('Trust - Frontsheet'!AV$1:AV$6187,SMALL(IF('Trust - Frontsheet'!$AX$1:$AX$6187=$B$2,ROW('Trust - Frontsheet'!$AX$1:$AX$6187)),ROW(40:40)))),\"\",INDEX('Trust - Frontsheet'!AV$1:AV$6187,SMALL(IF('Trust - Frontsheet'!$AX$1:$AX$6187=$B$2,ROW('Trust - Frontsheet'!$AX$1:$AX$6187)),ROW(40:40))))","v":""},{"$f":"IF(ISERROR(INDEX('Trust - Frontsheet'!AW$1:AW$6187,SMALL(IF('Trust - Frontsheet'!$AX$1:$AX$6187=$B$2,ROW('Trust - Frontsheet'!$AX$1:$AX$6187)),ROW(40:40)))),\"\",INDEX('Trust - Frontsheet'!AW$1:AW$6187,SMALL(IF('Trust - Frontsheet'!$AX$1:$AX$6187=$B$2,ROW('Trust - Frontsheet'!$AX$1:$AX$6187)),ROW(40:40))))","v":""},{"$f":"IF($B46=\"\",\"\",SUMIF('Trust - Frontsheet'!$C$14:$C$213,$B46,'Trust - Frontsheet'!H$14:H$213))","v":""},{"$f":"IF($B46=\"\",\"\",SUMIF('Trust - Frontsheet'!$C$14:$C$213,$B46,'Trust - Frontsheet'!I$14:I$213))","v":""},{"$f":"IF($B46=\"\",\"\",SUMIF('Trust - Frontsheet'!$C$14:$C$213,$B46,'Trust - Frontsheet'!J$14:J$213))","v":""},{"$f":"IF($B46=\"\",\"\",SUMIF('Trust - Frontsheet'!$C$14:$C$213,$B46,'Trust - Frontsheet'!K$14:K$213))","v":""},{"$f":"IF($B46=\"\",\"\",SUMIF('Trust - Frontsheet'!$C$14:$C$213,$B46,'Trust - Frontsheet'!L$14:L$213))","v":""},{"$f":"IF($B46=\"\",\"\",SUMIF('Trust - Frontsheet'!$C$14:$C$213,$B46,'Trust - Frontsheet'!M$14:M$213))","v":""},{"$f":"IF($B46=\"\",\"\",SUMIF('Trust - Frontsheet'!$C$14:$C$213,$B46,'Trust - Frontsheet'!N$14:N$213))","v":""},{"$f":"IF($B46=\"\",\"\",SUMIF('Trust - Frontsheet'!$C$14:$C$213,$B46,'Trust - Frontsheet'!O$14:O$213))","v":""},"","","","",{"$f":"IF($B46=\"\",\"\",SUMIF('Trust - Frontsheet'!$C$14:$C$213,$B46,'Trust - Frontsheet'!T$14:T$213))","v":""},"","",""]
[null,{"$f":"IF(ISERROR(INDEX('Trust - Frontsheet'!AV$1:AV$6187,SMALL(IF('Trust - Frontsheet'!$AX$1:$AX$6187=$B$2,ROW('Trust - Frontsheet'!$AX$1:$AX$6187)),ROW(41:41)))),\"\",INDEX('Trust - Frontsheet'!AV$1:AV$6187,SMALL(IF('Trust - Frontsheet'!$AX$1:$AX$6187=$B$2,ROW('Trust - Frontsheet'!$AX$1:$AX$6187)),ROW(41:41))))","v":""},{"$f":"IF(ISERROR(INDEX('Trust - Frontsheet'!AW$1:AW$6187,SMALL(IF('Trust - Frontsheet'!$AX$1:$AX$6187=$B$2,ROW('Trust - Frontsheet'!$AX$1:$AX$6187)),ROW(41:41)))),\"\",INDEX('Trust - Frontsheet'!AW$1:AW$6187,SMALL(IF('Trust - Frontsheet'!$AX$1:$AX$6187=$B$2,ROW('Trust - Frontsheet'!$AX$1:$AX$6187)),ROW(41:41))))","v":""},{"$f":"IF($B47=\"\",\"\",SUMIF('Trust - Frontsheet'!$C$14:$C$213,$B47,'Trust - Frontsheet'!H$14:H$213))","v":""},{"$f":"IF($B47=\"\",\"\",SUMIF('Trust - Frontsheet'!$C$14:$C$213,$B47,'Trust - Frontsheet'!I$14:I$213))","v":""},{"$f":"IF($B47=\"\",\"\",SUMIF('Trust - Frontsheet'!$C$14:$C$213,$B47,'Trust - Frontsheet'!J$14:J$213))","v":""},{"$f":"IF($B47=\"\",\"\",SUMIF('Trust - Frontsheet'!$C$14:$C$213,$B47,'Trust - Frontsheet'!K$14:K$213))","v":""},{"$f":"IF($B47=\"\",\"\",SUMIF('Trust - Frontsheet'!$C$14:$C$213,$B47,'Trust - Frontsheet'!L$14:L$213))","v":""},{"$f":"IF($B47=\"\",\"\",SUMIF('Trust - Frontsheet'!$C$14:$C$213,$B47,'Trust - Frontsheet'!M$14:M$213))","v":""},{"$f":"IF($B47=\"\",\"\",SUMIF('Trust - Frontsheet'!$C$14:$C$213,$B47,'Trust - Frontsheet'!N$14:N$213))","v":""},{"$f":"IF($B47=\"\",\"\",SUMIF('Trust - Frontsheet'!$C$14:$C$213,$B47,'Trust - Frontsheet'!O$14:O$213))","v":""},"","","","",{"$f":"IF($B47=\"\",\"\",SUMIF('Trust - Frontsheet'!$C$14:$C$213,$B47,'Trust - Frontsheet'!T$14:T$213))","v":""},"","",""]
[null,{"$f":"IF(ISERROR(INDEX('Trust - Frontsheet'!AV$1:AV$6187,SMALL(IF('Trust - Frontsheet'!$AX$1:$AX$6187=$B$2,ROW('Trust - Frontsheet'!$AX$1:$AX$6187)),ROW(42:42)))),\"\",INDEX('Trust - Frontsheet'!AV$1:AV$6187,SMALL(IF('Trust - Frontsheet'!$AX$1:$AX$6187=$B$2,ROW('Trust - Frontsheet'!$AX$1:$AX$6187)),ROW(42:42))))","v":""},{"$f":"IF(ISERROR(INDEX('Trust - Frontsheet'!AW$1:AW$6187,SMALL(IF('Trust - Frontsheet'!$AX$1:$AX$6187=$B$2,ROW('Trust - Frontsheet'!$AX$1:$AX$6187)),ROW(42:42)))),\"\",INDEX('Trust - Frontsheet'!AW$1:AW$6187,SMALL(IF('Trust - Frontsheet'!$AX$1:$AX$6187=$B$2,ROW('Trust - Frontsheet'!$AX$1:$AX$6187)),ROW(42:42))))","v":""},{"$f":"IF($B48=\"\",\"\",SUMIF('Trust - Frontsheet'!$C$14:$C$213,$B48,'Trust - Frontsheet'!H$14:H$213))","v":""},{"$f":"IF($B48=\"\",\"\",SUMIF('Trust - Frontsheet'!$C$14:$C$213,$B48,'Trust - Frontsheet'!I$14:I$213))","v":""},{"$f":"IF($B48=\"\",\"\",SUMIF('Trust - Frontsheet'!$C$14:$C$213,$B48,'Trust - Frontsheet'!J$14:J$213))","v":""},{"$f":"IF($B48=\"\",\"\",SUMIF('Trust - Frontsheet'!$C$14:$C$213,$B48,'Trust - Frontsheet'!K$14:K$213))","v":""},{"$f":"IF($B48=\"\",\"\",SUMIF('Trust - Frontsheet'!$C$14:$C$213,$B48,'Trust - Frontsheet'!L$14:L$213))","v":""},{"$f":"IF($B48=\"\",\"\",SUMIF('Trust - Frontsheet'!$C$14:$C$213,$B48,'Trust - Frontsheet'!M$14:M$213))","v":""},{"$f":"IF($B48=\"\",\"\",SUMIF('Trust - Frontsheet'!$C$14:$C$213,$B48,'Trust - Frontsheet'!N$14:N$213))","v":""},{"$f":"IF($B48=\"\",\"\",SUMIF('Trust - Frontsheet'!$C$14:$C$213,$B48,'Trust - Frontsheet'!O$14:O$213))","v":""},"","","","",{"$f":"IF($B48=\"\",\"\",SUMIF('Trust - Frontsheet'!$C$14:$C$213,$B48,'Trust - Frontsheet'!T$14:T$213))","v":""},"","",""]
[null,{"$f":"IF(ISERROR(INDEX('Trust - Frontsheet'!AV$1:AV$6187,SMALL(IF('Trust - Frontsheet'!$AX$1:$AX$6187=$B$2,ROW('Trust - Frontsheet'!$AX$1:$AX$6187)),ROW(43:43)))),\"\",INDEX('Trust - Frontsheet'!AV$1:AV$6187,SMALL(IF('Trust - Frontsheet'!$AX$1:$AX$6187=$B$2,ROW('Trust - Frontsheet'!$AX$1:$AX$6187)),ROW(43:43))))","v":""},{"$f":"IF(ISERROR(INDEX('Trust - Frontsheet'!AW$1:AW$6187,SMALL(IF('Trust - Frontsheet'!$AX$1:$AX$6187=$B$2,ROW('Trust - Frontsheet'!$AX$1:$AX$6187)),ROW(43:43)))),\"\",INDEX('Trust - Frontsheet'!AW$1:AW$6187,SMALL(IF('Trust - Frontsheet'!$AX$1:$AX$6187=$B$2,ROW('Trust - Frontsheet'!$AX$1:$AX$6187)),ROW(43:43))))","v":""},{"$f":"IF($B49=\"\",\"\",SUMIF('Trust - Frontsheet'!$C$14:$C$213,$B49,'Trust - Frontsheet'!H$14:H$213))","v":""},{"$f":"IF($B49=\"\",\"\",SUMIF('Trust - Frontsheet'!$C$14:$C$213,$B49,'Trust - Frontsheet'!I$14:I$213))","v":""},{"$f":"IF($B49=\"\",\"\",SUMIF('Trust - Frontsheet'!$C$14:$C$213,$B49,'Trust - Frontsheet'!J$14:J$213))","v":""},{"$f":"IF($B49=\"\",\"\",SUMIF('Trust - Frontsheet'!$C$14:$C$213,$B49,'Trust - Frontsheet'!K$14:K$213))","v":""},{"$f":"IF($B49=\"\",\"\",SUMIF('Trust - Frontsheet'!$C$14:$C$213,$B49,'Trust - Frontsheet'!L$14:L$213))","v":""},{"$f":"IF($B49=\"\",\"\",SUMIF('Trust - Frontsheet'!$C$14:$C$213,$B49,'Trust - Frontsheet'!M$14:M$213))","v":""},{"$f":"IF($B49=\"\",\"\",SUMIF('Trust - Frontsheet'!$C$14:$C$213,$B49,'Trust - Frontsheet'!N$14:N$213))","v":""},{"$f":"IF($B49=\"\",\"\",SUMIF('Trust - Frontsheet'!$C$14:$C$213,$B49,'Trust - Frontsheet'!O$14:O$213))","v":""},"","","","",{"$f":"IF($B49=\"\",\"\",SUMIF('Trust - Frontsheet'!$C$14:$C$213,$B49,'Trust - Frontsheet'!T$14:T$213))","v":""},"","",""]
[null,{"$f":"IF(ISERROR(INDEX('Trust - Frontsheet'!AV$1:AV$6187,SMALL(IF('Trust - Frontsheet'!$AX$1:$AX$6187=$B$2,ROW('Trust - Frontsheet'!$AX$1:$AX$6187)),ROW(44:44)))),\"\",INDEX('Trust - Frontsheet'!AV$1:AV$6187,SMALL(IF('Trust - Frontsheet'!$AX$1:$AX$6187=$B$2,ROW('Trust - Frontsheet'!$AX$1:$AX$6187)),ROW(44:44))))","v":""},{"$f":"IF(ISERROR(INDEX('Trust - Frontsheet'!AW$1:AW$6187,SMALL(IF('Trust - Frontsheet'!$AX$1:$AX$6187=$B$2,ROW('Trust - Frontsheet'!$AX$1:$AX$6187)),ROW(44:44)))),\"\",INDEX('Trust - Frontsheet'!AW$1:AW$6187,SMALL(IF('Trust - Frontsheet'!$AX$1:$AX$6187=$B$2,ROW('Trust - Frontsheet'!$AX$1:$AX$6187)),ROW(44:44))))","v":""},{"$f":"IF($B50=\"\",\"\",SUMIF('Trust - Frontsheet'!$C$14:$C$213,$B50,'Trust - Frontsheet'!H$14:H$213))","v":""},{"$f":"IF($B50=\"\",\"\",SUMIF('Trust - Frontsheet'!$C$14:$C$213,$B50,'Trust - Frontsheet'!I$14:I$213))","v":""},{"$f":"IF($B50=\"\",\"\",SUMIF('Trust - Frontsheet'!$C$14:$C$213,$B50,'Trust - Frontsheet'!J$14:J$213))","v":""},{"$f":"IF($B50=\"\",\"\",SUMIF('Trust - Frontsheet'!$C$14:$C$213,$B50,'Trust - Frontsheet'!K$14:K$213))","v":""},{"$f":"IF($B50=\"\",\"\",SUMIF('Trust - Frontsheet'!$C$14:$C$213,$B50,'Trust - Frontsheet'!L$14:L$213))","v":""},{"$f":"IF($B50=\"\",\"\",SUMIF('Trust - Frontsheet'!$C$14:$C$213,$B50,'Trust - Frontsheet'!M$14:M$213))","v":""},{"$f":"IF($B50=\"\",\"\",SUMIF('Trust - Frontsheet'!$C$14:$C$213,$B50,'Trust - Frontsheet'!N$14:N$213))","v":""},{"$f":"IF($B50=\"\",\"\",SUMIF('Trust - Frontsheet'!$C$14:$C$213,$B50,'Trust - Frontsheet'!O$14:O$213))","v":""},"","","","",{"$f":"IF($B50=\"\",\"\",SUMIF('Trust - Frontsheet'!$C$14:$C$213,$B50,'Trust - Frontsheet'!T$14:T$213))","v":""},"","",""]
[null,{"$f":"IF(ISERROR(INDEX('Trust - Frontsheet'!AV$1:AV$6187,SMALL(IF('Trust - Frontsheet'!$AX$1:$AX$6187=$B$2,ROW('Trust - Frontsheet'!$AX$1:$AX$6187)),ROW(45:45)))),\"\",INDEX('Trust - Frontsheet'!AV$1:AV$6187,SMALL(IF('Trust - Frontsheet'!$AX$1:$AX$6187=$B$2,ROW('Trust - Frontsheet'!$AX$1:$AX$6187)),ROW(45:45))))","v":""},{"$f":"IF(ISERROR(INDEX('Trust - Frontsheet'!AW$1:AW$6187,SMALL(IF('Trust - Frontsheet'!$AX$1:$AX$6187=$B$2,ROW('Trust - Frontsheet'!$AX$1:$AX$6187)),ROW(45:45)))),\"\",INDEX('Trust - Frontsheet'!AW$1:AW$6187,SMALL(IF('Trust - Frontsheet'!$AX$1:$AX$6187=$B$2,ROW('Trust - Frontsheet'!$AX$1:$AX$6187)),ROW(45:45))))","v":""},{"$f":"IF($B51=\"\",\"\",SUMIF('Trust - Frontsheet'!$C$14:$C$213,$B51,'Trust - Frontsheet'!H$14:H$213))","v":""},{"$f":"IF($B51=\"\",\"\",SUMIF('Trust - Frontsheet'!$C$14:$C$213,$B51,'Trust - Frontsheet'!I$14:I$213))","v":""},{"$f":"IF($B51=\"\",\"\",SUMIF('Trust - Frontsheet'!$C$14:$C$213,$B51,'Trust - Frontsheet'!J$14:J$213))","v":""},{"$f":"IF($B51=\"\",\"\",SUMIF('Trust - Frontsheet'!$C$14:$C$213,$B51,'Trust - Frontsheet'!K$14:K$213))","v":""},{"$f":"IF($B51=\"\",\"\",SUMIF('Trust - Frontsheet'!$C$14:$C$213,$B51,'Trust - Frontsheet'!L$14:L$213))","v":""},{"$f":"IF($B51=\"\",\"\",SUMIF('Trust - Frontsheet'!$C$14:$C$213,$B51,'Trust - Frontsheet'!M$14:M$213))","v":""},{"$f":"IF($B51=\"\",\"\",SUMIF('Trust - Frontsheet'!$C$14:$C$213,$B51,'Trust - Frontsheet'!N$14:N$213))","v":""},{"$f":"IF($B51=\"\",\"\",SUMIF('Trust - Frontsheet'!$C$14:$C$213,$B51,'Trust - Frontsheet'!O$14:O$213))","v":""},"","","","",{"$f":"IF($B51=\"\",\"\",SUMIF('Trust - Frontsheet'!$C$14:$C$213,$B51,'Trust - Frontsheet'!T$14:T$213))","v":""},"","",""]
[null,{"$f":"IF(ISERROR(INDEX('Trust - Frontsheet'!AV$1:AV$6187,SMALL(IF('Trust - Frontsheet'!$AX$1:$AX$6187=$B$2,ROW('Trust - Frontsheet'!$AX$1:$AX$6187)),ROW(46:46)))),\"\",INDEX('Trust - Frontsheet'!AV$1:AV$6187,SMALL(IF('Trust - Frontsheet'!$AX$1:$AX$6187=$B$2,ROW('Trust - Frontsheet'!$AX$1:$AX$6187)),ROW(46:46))))","v":""},{"$f":"IF(ISERROR(INDEX('Trust - Frontsheet'!AW$1:AW$6187,SMALL(IF('Trust - Frontsheet'!$AX$1:$AX$6187=$B$2,ROW('Trust - Frontsheet'!$AX$1:$AX$6187)),ROW(46:46)))),\"\",INDEX('Trust - Frontsheet'!AW$1:AW$6187,SMALL(IF('Trust - Frontsheet'!$AX$1:$AX$6187=$B$2,ROW('Trust - Frontsheet'!$AX$1:$AX$6187)),ROW(46:46))))","v":""},{"$f":"IF($B52=\"\",\"\",SUMIF('Trust - Frontsheet'!$C$14:$C$213,$B52,'Trust - Frontsheet'!H$14:H$213))","v":""},{"$f":"IF($B52=\"\",\"\",SUMIF('Trust - Frontsheet'!$C$14:$C$213,$B52,'Trust - Frontsheet'!I$14:I$213))","v":""},{"$f":"IF($B52=\"\",\"\",SUMIF('Trust - Frontsheet'!$C$14:$C$213,$B52,'Trust - Frontsheet'!J$14:J$213))","v":""},{"$f":"IF($B52=\"\",\"\",SUMIF('Trust - Frontsheet'!$C$14:$C$213,$B52,'Trust - Frontsheet'!K$14:K$213))","v":""},{"$f":"IF($B52=\"\",\"\",SUMIF('Trust - Frontsheet'!$C$14:$C$213,$B52,'Trust - Frontsheet'!L$14:L$213))","v":""},{"$f":"IF($B52=\"\",\"\",SUMIF('Trust - Frontsheet'!$C$14:$C$213,$B52,'Trust - Frontsheet'!M$14:M$213))","v":""},{"$f":"IF($B52=\"\",\"\",SUMIF('Trust - Frontsheet'!$C$14:$C$213,$B52,'Trust - Frontsheet'!N$14:N$213))","v":""},{"$f":"IF($B52=\"\",\"\",SUMIF('Trust - Frontsheet'!$C$14:$C$213,$B52,'Trust - Frontsheet'!O$14:O$213))","v":""},"","","","",{"$f":"IF($B52=\"\",\"\",SUMIF('Trust - Frontsheet'!$C$14:$C$213,$B52,'Trust - Frontsheet'!T$14:T$213))","v":""},"","",""]
[null,{"$f":"IF(ISERROR(INDEX('Trust - Frontsheet'!AV$1:AV$6187,SMALL(IF('Trust - Frontsheet'!$AX$1:$AX$6187=$B$2,ROW('Trust - Frontsheet'!$AX$1:$AX$6187)),ROW(47:47)))),\"\",INDEX('Trust - Frontsheet'!AV$1:AV$6187,SMALL(IF('Trust - Frontsheet'!$AX$1:$AX$6187=$B$2,ROW('Trust - Frontsheet'!$AX$1:$AX$6187)),ROW(47:47))))","v":""},{"$f":"IF(ISERROR(INDEX('Trust - Frontsheet'!AW$1:AW$6187,SMALL(IF('Trust - Frontsheet'!$AX$1:$AX$6187=$B$2,ROW('Trust - Frontsheet'!$AX$1:$AX$6187)),ROW(47:47)))),\"\",INDEX('Trust - Frontsheet'!AW$1:AW$6187,SMALL(IF('Trust - Frontsheet'!$AX$1:$AX$6187=$B$2,ROW('Trust - Frontsheet'!$AX$1:$AX$6187)),ROW(47:47))))","v":""},{"$f":"IF($B53=\"\",\"\",SUMIF('Trust - Frontsheet'!$C$14:$C$213,$B53,'Trust - Frontsheet'!H$14:H$213))","v":""},{"$f":"IF($B53=\"\",\"\",SUMIF('Trust - Frontsheet'!$C$14:$C$213,$B53,'Trust - Frontsheet'!I$14:I$213))","v":""},{"$f":"IF($B53=\"\",\"\",SUMIF('Trust - Frontsheet'!$C$14:$C$213,$B53,'Trust - Frontsheet'!J$14:J$213))","v":""},{"$f":"IF($B53=\"\",\"\",SUMIF('Trust - Frontsheet'!$C$14:$C$213,$B53,'Trust - Frontsheet'!K$14:K$213))","v":""},{"$f":"IF($B53=\"\",\"\",SUMIF('Trust - Frontsheet'!$C$14:$C$213,$B53,'Trust - Frontsheet'!L$14:L$213))","v":""},{"$f":"IF($B53=\"\",\"\",SUMIF('Trust - Frontsheet'!$C$14:$C$213,$B53,'Trust - Frontsheet'!M$14:M$213))","v":""},{"$f":"IF($B53=\"\",\"\",SUMIF('Trust - Frontsheet'!$C$14:$C$213,$B53,'Trust - Frontsheet'!N$14:N$213))","v":""},{"$f":"IF($B53=\"\",\"\",SUMIF('Trust - Frontsheet'!$C$14:$C$213,$B53,'Trust - Frontsheet'!O$14:O$213))","v":""},"","","","",{"$f":"IF($B53=\"\",\"\",SUMIF('Trust - Frontsheet'!$C$14:$C$213,$B53,'Trust - Frontsheet'!T$14:T$213))","v":""},"","",""]
[null,{"$f":"IF(ISERROR(INDEX('Trust - Frontsheet'!AV$1:AV$6187,SMALL(IF('Trust - Frontsheet'!$AX$1:$AX$6187=$B$2,ROW('Trust - Frontsheet'!$AX$1:$AX$6187)),ROW(48:48)))),\"\",INDEX('Trust - Frontsheet'!AV$1:AV$6187,SMALL(IF('Trust - Frontsheet'!$AX$1:$AX$6187=$B$2,ROW('Trust - Frontsheet'!$AX$1:$AX$6187)),ROW(48:48))))","v":""},{"$f":"IF(ISERROR(INDEX('Trust - Frontsheet'!AW$1:AW$6187,SMALL(IF('Trust - Frontsheet'!$AX$1:$AX$6187=$B$2,ROW('Trust - Frontsheet'!$AX$1:$AX$6187)),ROW(48:48)))),\"\",INDEX('Trust - Frontsheet'!AW$1:AW$6187,SMALL(IF('Trust - Frontsheet'!$AX$1:$AX$6187=$B$2,ROW('Trust - Frontsheet'!$AX$1:$AX$6187)),ROW(48:48))))","v":""},{"$f":"IF($B54=\"\",\"\",SUMIF('Trust - Frontsheet'!$C$14:$C$213,$B54,'Trust - Frontsheet'!H$14:H$213))","v":""},{"$f":"IF($B54=\"\",\"\",SUMIF('Trust - Frontsheet'!$C$14:$C$213,$B54,'Trust - Frontsheet'!I$14:I$213))","v":""},{"$f":"IF($B54=\"\",\"\",SUMIF('Trust - Frontsheet'!$C$14:$C$213,$B54,'Trust - Frontsheet'!J$14:J$213))","v":""},{"$f":"IF($B54=\"\",\"\",SUMIF('Trust - Frontsheet'!$C$14:$C$213,$B54,'Trust - Frontsheet'!K$14:K$213))","v":""},{"$f":"IF($B54=\"\",\"\",SUMIF('Trust - Frontsheet'!$C$14:$C$213,$B54,'Trust - Frontsheet'!L$14:L$213))","v":""},{"$f":"IF($B54=\"\",\"\",SUMIF('Trust - Frontsheet'!$C$14:$C$213,$B54,'Trust - Frontsheet'!M$14:M$213))","v":""},{"$f":"IF($B54=\"\",\"\",SUMIF('Trust - Frontsheet'!$C$14:$C$213,$B54,'Trust - Frontsheet'!N$14:N$213))","v":""},{"$f":"IF($B54=\"\",\"\",SUMIF('Trust - Frontsheet'!$C$14:$C$213,$B54,'Trust - Frontsheet'!O$14:O$213))","v":""},"","","","",{"$f":"IF($B54=\"\",\"\",SUMIF('Trust - Frontsheet'!$C$14:$C$213,$B54,'Trust - Frontsheet'!T$14:T$213))","v":""},"","",""]
[null,{"$f":"IF(ISERROR(INDEX('Trust - Frontsheet'!AV$1:AV$6187,SMALL(IF('Trust - Frontsheet'!$AX$1:$AX$6187=$B$2,ROW('Trust - Frontsheet'!$AX$1:$AX$6187)),ROW(49:49)))),\"\",INDEX('Trust - Frontsheet'!AV$1:AV$6187,SMALL(IF('Trust - Frontsheet'!$AX$1:$AX$6187=$B$2,ROW('Trust - Frontsheet'!$AX$1:$AX$6187)),ROW(49:49))))","v":""},{"$f":"IF(ISERROR(INDEX('Trust - Frontsheet'!AW$1:AW$6187,SMALL(IF('Trust - Frontsheet'!$AX$1:$AX$6187=$B$2,ROW('Trust - Frontsheet'!$AX$1:$AX$6187)),ROW(49:49)))),\"\",INDEX('Trust - Frontsheet'!AW$1:AW$6187,SMALL(IF('Trust - Frontsheet'!$AX$1:$AX$6187=$B$2,ROW('Trust - Frontsheet'!$AX$1:$AX$6187)),ROW(49:49))))","v":""},{"$f":"IF($B55=\"\",\"\",SUMIF('Trust - Frontsheet'!$C$14:$C$213,$B55,'Trust - Frontsheet'!H$14:H$213))","v":""},{"$f":"IF($B55=\"\",\"\",SUMIF('Trust - Frontsheet'!$C$14:$C$213,$B55,'Trust - Frontsheet'!I$14:I$213))","v":""},{"$f":"IF($B55=\"\",\"\",SUMIF('Trust - Frontsheet'!$C$14:$C$213,$B55,'Trust - Frontsheet'!J$14:J$213))","v":""},{"$f":"IF($B55=\"\",\"\",SUMIF('Trust - Frontsheet'!$C$14:$C$213,$B55,'Trust - Frontsheet'!K$14:K$213))","v":""},{"$f":"IF($B55=\"\",\"\",SUMIF('Trust - Frontsheet'!$C$14:$C$213,$B55,'Trust - Frontsheet'!L$14:L$213))","v":""},{"$f":"IF($B55=\"\",\"\",SUMIF('Trust - Frontsheet'!$C$14:$C$213,$B55,'Trust - Frontsheet'!M$14:M$213))","v":""},{"$f":"IF($B55=\"\",\"\",SUMIF('Trust - Frontsheet'!$C$14:$C$213,$B55,'Trust - Frontsheet'!N$14:N$213))","v":""},{"$f":"IF($B55=\"\",\"\",SUMIF('Trust - Frontsheet'!$C$14:$C$213,$B55,'Trust - Frontsheet'!O$14:O$213))","v":""},"","","","",{"$f":"IF($B55=\"\",\"\",SUMIF('Trust - Frontsheet'!$C$14:$C$213,$B55,'Trust - Frontsheet'!T$14:T$213))","v":""},"","",""]
[null,{"$f":"IF(ISERROR(INDEX('Trust - Frontsheet'!AV$1:AV$6187,SMALL(IF('Trust - Frontsheet'!$AX$1:$AX$6187=$B$2,ROW('Trust - Frontsheet'!$AX$1:$AX$6187)),ROW(50:50)))),\"\",INDEX('Trust - Frontsheet'!AV$1:AV$6187,SMALL(IF('Trust - Frontsheet'!$AX$1:$AX$6187=$B$2,ROW('Trust - Frontsheet'!$AX$1:$AX$6187)),ROW(50:50))))","v":""},{"$f":"IF(ISERROR(INDEX('Trust - Frontsheet'!AW$1:AW$6187,SMALL(IF('Trust - Frontsheet'!$AX$1:$AX$6187=$B$2,ROW('Trust - Frontsheet'!$AX$1:$AX$6187)),ROW(50:50)))),\"\",INDEX('Trust - Frontsheet'!AW$1:AW$6187,SMALL(IF('Trust - Frontsheet'!$AX$1:$AX$6187=$B$2,ROW('Trust - Frontsheet'!$AX$1:$AX$6187)),ROW(50:50))))","v":""},{"$f":"IF($B56=\"\",\"\",SUMIF('Trust - Frontsheet'!$C$14:$C$213,$B56,'Trust - Frontsheet'!H$14:H$213))","v":""},{"$f":"IF($B56=\"\",\"\",SUMIF('Trust - Frontsheet'!$C$14:$C$213,$B56,'Trust - Frontsheet'!I$14:I$213))","v":""},{"$f":"IF($B56=\"\",\"\",SUMIF('Trust - Frontsheet'!$C$14:$C$213,$B56,'Trust - Frontsheet'!J$14:J$213))","v":""},{"$f":"IF($B56=\"\",\"\",SUMIF('Trust - Frontsheet'!$C$14:$C$213,$B56,'Trust - Frontsheet'!K$14:K$213))","v":""},{"$f":"IF($B56=\"\",\"\",SUMIF('Trust - Frontsheet'!$C$14:$C$213,$B56,'Trust - Frontsheet'!L$14:L$213))","v":""},{"$f":"IF($B56=\"\",\"\",SUMIF('Trust - Frontsheet'!$C$14:$C$213,$B56,'Trust - Frontsheet'!M$14:M$213))","v":""},{"$f":"IF($B56=\"\",\"\",SUMIF('Trust - Frontsheet'!$C$14:$C$213,$B56,'Trust - Frontsheet'!N$14:N$213))","v":""},{"$f":"IF($B56=\"\",\"\",SUMIF('Trust - Frontsheet'!$C$14:$C$213,$B56,'Trust - Frontsheet'!O$14:O$213))","v":""},"","","","",{"$f":"IF($B56=\"\",\"\",SUMIF('Trust - Frontsheet'!$C$14:$C$213,$B56,'Trust - Frontsheet'!T$14:T$213))","v":""},"","",""]
[null,{"$f":"IF(ISERROR(INDEX('Trust - Frontsheet'!AV$1:AV$6187,SMALL(IF('Trust - Frontsheet'!$AX$1:$AX$6187=$B$2,ROW('Trust - Frontsheet'!$AX$1:$AX$6187)),ROW(51:51)))),\"\",INDEX('Trust - Frontsheet'!AV$1:AV$6187,SMALL(IF('Trust - Frontsheet'!$AX$1:$AX$6187=$B$2,ROW('Trust - Frontsheet'!$AX$1:$AX$6187)),ROW(51:51))))","v":""},{"$f":"IF(ISERROR(INDEX('Trust - Frontsheet'!AW$1:AW$6187,SMALL(IF('Trust - Frontsheet'!$AX$1:$AX$6187=$B$2,ROW('Trust - Frontsheet'!$AX$1:$AX$6187)),ROW(51:51)))),\"\",INDEX('Trust - Frontsheet'!AW$1:AW$6187,SMALL(IF('Trust - Frontsheet'!$AX$1:$AX$6187=$B$2,ROW('Trust - Frontsheet'!$AX$1:$AX$6187)),ROW(51:51))))","v":""},{"$f":"IF($B57=\"\",\"\",SUMIF('Trust - Frontsheet'!$C$14:$C$213,$B57,'Trust - Frontsheet'!H$14:H$213))","v":""},{"$f":"IF($B57=\"\",\"\",SUMIF('Trust - Frontsheet'!$C$14:$C$213,$B57,'Trust - Frontsheet'!I$14:I$213))","v":""},{"$f":"IF($B57=\"\",\"\",SUMIF('Trust - Frontsheet'!$C$14:$C$213,$B57,'Trust - Frontsheet'!J$14:J$213))","v":""},{"$f":"IF($B57=\"\",\"\",SUMIF('Trust - Frontsheet'!$C$14:$C$213,$B57,'Trust - Frontsheet'!K$14:K$213))","v":""},{"$f":"IF($B57=\"\",\"\",SUMIF('Trust - Frontsheet'!$C$14:$C$213,$B57,'Trust - Frontsheet'!L$14:L$213))","v":""},{"$f":"IF($B57=\"\",\"\",SUMIF('Trust - Frontsheet'!$C$14:$C$213,$B57,'Trust - Frontsheet'!M$14:M$213))","v":""},{"$f":"IF($B57=\"\",\"\",SUMIF('Trust - Frontsheet'!$C$14:$C$213,$B57,'Trust - Frontsheet'!N$14:N$213))","v":""},{"$f":"IF($B57=\"\",\"\",SUMIF('Trust - Frontsheet'!$C$14:$C$213,$B57,'Trust - Frontsheet'!O$14:O$213))","v":""},"","","","",{"$f":"IF($B57=\"\",\"\",SUMIF('Trust - Frontsheet'!$C$14:$C$213,$B57,'Trust - Frontsheet'!T$14:T$213))","v":""},"","",""]
[null,{"$f":"IF(ISERROR(INDEX('Trust - Frontsheet'!AV$1:AV$6187,SMALL(IF('Trust - Frontsheet'!$AX$1:$AX$6187=$B$2,ROW('Trust - Frontsheet'!$AX$1:$AX$6187)),ROW(52:52)))),\"\",INDEX('Trust - Frontsheet'!AV$1:AV$6187,SMALL(IF('Trust - Frontsheet'!$AX$1:$AX$6187=$B$2,ROW('Trust - Frontsheet'!$AX$1:$AX$6187)),ROW(52:52))))","v":""},{"$f":"IF(ISERROR(INDEX('Trust - Frontsheet'!AW$1:AW$6187,SMALL(IF('Trust - Frontsheet'!$AX$1:$AX$6187=$B$2,ROW('Trust - Frontsheet'!$AX$1:$AX$6187)),ROW(52:52)))),\"\",INDEX('Trust - Frontsheet'!AW$1:AW$6187,SMALL(IF('Trust - Frontsheet'!$AX$1:$AX$6187=$B$2,ROW('Trust - Frontsheet'!$AX$1:$AX$6187)),ROW(52:52))))","v":""},{"$f":"IF($B58=\"\",\"\",SUMIF('Trust - Frontsheet'!$C$14:$C$213,$B58,'Trust - Frontsheet'!H$14:H$213))","v":""},{"$f":"IF($B58=\"\",\"\",SUMIF('Trust - Frontsheet'!$C$14:$C$213,$B58,'Trust - Frontsheet'!I$14:I$213))","v":""},{"$f":"IF($B58=\"\",\"\",SUMIF('Trust - Frontsheet'!$C$14:$C$213,$B58,'Trust - Frontsheet'!J$14:J$213))","v":""},{"$f":"IF($B58=\"\",\"\",SUMIF('Trust - Frontsheet'!$C$14:$C$213,$B58,'Trust - Frontsheet'!K$14:K$213))","v":""},{"$f":"IF($B58=\"\",\"\",SUMIF('Trust - Frontsheet'!$C$14:$C$213,$B58,'Trust - Frontsheet'!L$14:L$213))","v":""},{"$f":"IF($B58=\"\",\"\",SUMIF('Trust - Frontsheet'!$C$14:$C$213,$B58,'Trust - Frontsheet'!M$14:M$213))","v":""},{"$f":"IF($B58=\"\",\"\",SUMIF('Trust - Frontsheet'!$C$14:$C$213,$B58,'Trust - Frontsheet'!N$14:N$213))","v":""},{"$f":"IF($B58=\"\",\"\",SUMIF('Trust - Frontsheet'!$C$14:$C$213,$B58,'Trust - Frontsheet'!O$14:O$213))","v":""},"","","","",{"$f":"IF($B58=\"\",\"\",SUMIF('Trust - Frontsheet'!$C$14:$C$213,$B58,'Trust - Frontsheet'!T$14:T$213))","v":""},"","",""]
[null,{"$f":"IF(ISERROR(INDEX('Trust - Frontsheet'!AV$1:AV$6187,SMALL(IF('Trust - Frontsheet'!$AX$1:$AX$6187=$B$2,ROW('Trust - Frontsheet'!$AX$1:$AX$6187)),ROW(53:53)))),\"\",INDEX('Trust - Frontsheet'!AV$1:AV$6187,SMALL(IF('Trust - Frontsheet'!$AX$1:$AX$6187=$B$2,ROW('Trust - Frontsheet'!$AX$1:$AX$6187)),ROW(53:53))))","v":""},{"$f":"IF(ISERROR(INDEX('Trust - Frontsheet'!AW$1:AW$6187,SMALL(IF('Trust - Frontsheet'!$AX$1:$AX$6187=$B$2,ROW('Trust - Frontsheet'!$AX$1:$AX$6187)),ROW(53:53)))),\"\",INDEX('Trust - Frontsheet'!AW$1:AW$6187,SMALL(IF('Trust - Frontsheet'!$AX$1:$AX$6187=$B$2,ROW('Trust - Frontsheet'!$AX$1:$AX$6187)),ROW(53:53))))","v":""},{"$f":"IF($B59=\"\",\"\",SUMIF('Trust - Frontsheet'!$C$14:$C$213,$B59,'Trust - Frontsheet'!H$14:H$213))","v":""},{"$f":"IF($B59=\"\",\"\",SUMIF('Trust - Frontsheet'!$C$14:$C$213,$B59,'Trust - Frontsheet'!I$14:I$213))","v":""},{"$f":"IF($B59=\"\",\"\",SUMIF('Trust - Frontsheet'!$C$14:$C$213,$B59,'Trust - Frontsheet'!J$14:J$213))","v":""},{"$f":"IF($B59=\"\",\"\",SUMIF('Trust - Frontsheet'!$C$14:$C$213,$B59,'Trust - Frontsheet'!K$14:K$213))","v":""},{"$f":"IF($B59=\"\",\"\",SUMIF('Trust - Frontsheet'!$C$14:$C$213,$B59,'Trust - Frontsheet'!L$14:L$213))","v":""},{"$f":"IF($B59=\"\",\"\",SUMIF('Trust - Frontsheet'!$C$14:$C$213,$B59,'Trust - Frontsheet'!M$14:M$213))","v":""},{"$f":"IF($B59=\"\",\"\",SUMIF('Trust - Frontsheet'!$C$14:$C$213,$B59,'Trust - Frontsheet'!N$14:N$213))","v":""},{"$f":"IF($B59=\"\",\"\",SUMIF('Trust - Frontsheet'!$C$14:$C$213,$B59,'Trust - Frontsheet'!O$14:O$213))","v":""},"","","","",{"$f":"IF($B59=\"\",\"\",SUMIF('Trust - Frontsheet'!$C$14:$C$213,$B59,'Trust - Frontsheet'!T$14:T$213))","v":""},"","",""]
[null,{"$f":"IF(ISERROR(INDEX('Trust - Frontsheet'!AV$1:AV$6187,SMALL(IF('Trust - Frontsheet'!$AX$1:$AX$6187=$B$2,ROW('Trust - Frontsheet'!$AX$1:$AX$6187)),ROW(54:54)))),\"\",INDEX('Trust - Frontsheet'!AV$1:AV$6187,SMALL(IF('Trust - Frontsheet'!$AX$1:$AX$6187=$B$2,ROW('Trust - Frontsheet'!$AX$1:$AX$6187)),ROW(54:54))))","v":""},{"$f":"IF(ISERROR(INDEX('Trust - Frontsheet'!AW$1:AW$6187,SMALL(IF('Trust - Frontsheet'!$AX$1:$AX$6187=$B$2,ROW('Trust - Frontsheet'!$AX$1:$AX$6187)),ROW(54:54)))),\"\",INDEX('Trust - Frontsheet'!AW$1:AW$6187,SMALL(IF('Trust - Frontsheet'!$AX$1:$AX$6187=$B$2,ROW('Trust - Frontsheet'!$AX$1:$AX$6187)),ROW(54:54))))","v":""},{"$f":"IF($B60=\"\",\"\",SUMIF('Trust - Frontsheet'!$C$14:$C$213,$B60,'Trust - Frontsheet'!H$14:H$213))","v":""},{"$f":"IF($B60=\"\",\"\",SUMIF('Trust - Frontsheet'!$C$14:$C$213,$B60,'Trust - Frontsheet'!I$14:I$213))","v":""},{"$f":"IF($B60=\"\",\"\",SUMIF('Trust - Frontsheet'!$C$14:$C$213,$B60,'Trust - Frontsheet'!J$14:J$213))","v":""},{"$f":"IF($B60=\"\",\"\",SUMIF('Trust - Frontsheet'!$C$14:$C$213,$B60,'Trust - Frontsheet'!K$14:K$213))","v":""},{"$f":"IF($B60=\"\",\"\",SUMIF('Trust - Frontsheet'!$C$14:$C$213,$B60,'Trust - Frontsheet'!L$14:L$213))","v":""},{"$f":"IF($B60=\"\",\"\",SUMIF('Trust - Frontsheet'!$C$14:$C$213,$B60,'Trust - Frontsheet'!M$14:M$213))","v":""},{"$f":"IF($B60=\"\",\"\",SUMIF('Trust - Frontsheet'!$C$14:$C$213,$B60,'Trust - Frontsheet'!N$14:N$213))","v":""},{"$f":"IF($B60=\"\",\"\",SUMIF('Trust - Frontsheet'!$C$14:$C$213,$B60,'Trust - Frontsheet'!O$14:O$213))","v":""},"","","","",{"$f":"IF($B60=\"\",\"\",SUMIF('Trust - Frontsheet'!$C$14:$C$213,$B60,'Trust - Frontsheet'!T$14:T$213))","v":""},"","",""]
[null,{"$f":"IF(ISERROR(INDEX('Trust - Frontsheet'!AV$1:AV$6187,SMALL(IF('Trust - Frontsheet'!$AX$1:$AX$6187=$B$2,ROW('Trust - Frontsheet'!$AX$1:$AX$6187)),ROW(55:55)))),\"\",INDEX('Trust - Frontsheet'!AV$1:AV$6187,SMALL(IF('Trust - Frontsheet'!$AX$1:$AX$6187=$B$2,ROW('Trust - Frontsheet'!$AX$1:$AX$6187)),ROW(55:55))))","v":""},{"$f":"IF(ISERROR(INDEX('Trust - Frontsheet'!AW$1:AW$6187,SMALL(IF('Trust - Frontsheet'!$AX$1:$AX$6187=$B$2,ROW('Trust - Frontsheet'!$AX$1:$AX$6187)),ROW(55:55)))),\"\",INDEX('Trust - Frontsheet'!AW$1:AW$6187,SMALL(IF('Trust - Frontsheet'!$AX$1:$AX$6187=$B$2,ROW('Trust - Frontsheet'!$AX$1:$AX$6187)),ROW(55:55))))","v":""},{"$f":"IF($B61=\"\",\"\",SUMIF('Trust - Frontsheet'!$C$14:$C$213,$B61,'Trust - Frontsheet'!H$14:H$213))","v":""},{"$f":"IF($B61=\"\",\"\",SUMIF('Trust - Frontsheet'!$C$14:$C$213,$B61,'Trust - Frontsheet'!I$14:I$213))","v":""},{"$f":"IF($B61=\"\",\"\",SUMIF('Trust - Frontsheet'!$C$14:$C$213,$B61,'Trust - Frontsheet'!J$14:J$213))","v":""},{"$f":"IF($B61=\"\",\"\",SUMIF('Trust - Frontsheet'!$C$14:$C$213,$B61,'Trust - Frontsheet'!K$14:K$213))","v":""},{"$f":"IF($B61=\"\",\"\",SUMIF('Trust - Frontsheet'!$C$14:$C$213,$B61,'Trust - Frontsheet'!L$14:L$213))","v":""},{"$f":"IF($B61=\"\",\"\",SUMIF('Trust - Frontsheet'!$C$14:$C$213,$B61,'Trust - Frontsheet'!M$14:M$213))","v":""},{"$f":"IF($B61=\"\",\"\",SUMIF('Trust - Frontsheet'!$C$14:$C$213,$B61,'Trust - Frontsheet'!N$14:N$213))","v":""},{"$f":"IF($B61=\"\",\"\",SUMIF('Trust - Frontsheet'!$C$14:$C$213,$B61,'Trust - Frontsheet'!O$14:O$213))","v":""},"","","","",{"$f":"IF($B61=\"\",\"\",SUMIF('Trust - Frontsheet'!$C$14:$C$213,$B61,'Trust - Frontsheet'!T$14:T$213))","v":""},"","",""]
[null,{"$f":"IF(ISERROR(INDEX('Trust - Frontsheet'!AV$1:AV$6187,SMALL(IF('Trust - Frontsheet'!$AX$1:$AX$6187=$B$2,ROW('Trust - Frontsheet'!$AX$1:$AX$6187)),ROW(56:56)))),\"\",INDEX('Trust - Frontsheet'!AV$1:AV$6187,SMALL(IF('Trust - Frontsheet'!$AX$1:$AX$6187=$B$2,ROW('Trust - Frontsheet'!$AX$1:$AX$6187)),ROW(56:56))))","v":""},{"$f":"IF(ISERROR(INDEX('Trust - Frontsheet'!AW$1:AW$6187,SMALL(IF('Trust - Frontsheet'!$AX$1:$AX$6187=$B$2,ROW('Trust - Frontsheet'!$AX$1:$AX$6187)),ROW(56:56)))),\"\",INDEX('Trust - Frontsheet'!AW$1:AW$6187,SMALL(IF('Trust - Frontsheet'!$AX$1:$AX$6187=$B$2,ROW('Trust - Frontsheet'!$AX$1:$AX$6187)),ROW(56:56))))","v":""},{"$f":"IF($B62=\"\",\"\",SUMIF('Trust - Frontsheet'!$C$14:$C$213,$B62,'Trust - Frontsheet'!H$14:H$213))","v":""},{"$f":"IF($B62=\"\",\"\",SUMIF('Trust - Frontsheet'!$C$14:$C$213,$B62,'Trust - Frontsheet'!I$14:I$213))","v":""},{"$f":"IF($B62=\"\",\"\",SUMIF('Trust - Frontsheet'!$C$14:$C$213,$B62,'Trust - Frontsheet'!J$14:J$213))","v":""},{"$f":"IF($B62=\"\",\"\",SUMIF('Trust - Frontsheet'!$C$14:$C$213,$B62,'Trust - Frontsheet'!K$14:K$213))","v":""},{"$f":"IF($B62=\"\",\"\",SUMIF('Trust - Frontsheet'!$C$14:$C$213,$B62,'Trust - Frontsheet'!L$14:L$213))","v":""},{"$f":"IF($B62=\"\",\"\",SUMIF('Trust - Frontsheet'!$C$14:$C$213,$B62,'Trust - Frontsheet'!M$14:M$213))","v":""},{"$f":"IF($B62=\"\",\"\",SUMIF('Trust - Frontsheet'!$C$14:$C$213,$B62,'Trust - Frontsheet'!N$14:N$213))","v":""},{"$f":"IF($B62=\"\",\"\",SUMIF('Trust - Frontsheet'!$C$14:$C$213,$B62,'Trust - Frontsheet'!O$14:O$213))","v":""},"","","","",{"$f":"IF($B62=\"\",\"\",SUMIF('Trust - Frontsheet'!$C$14:$C$213,$B62,'Trust - Frontsheet'!T$14:T$213))","v":""},"","",""]
[null,{"$f":"IF(ISERROR(INDEX('Trust - Frontsheet'!AV$1:AV$6187,SMALL(IF('Trust - Frontsheet'!$AX$1:$AX$6187=$B$2,ROW('Trust - Frontsheet'!$AX$1:$AX$6187)),ROW(57:57)))),\"\",INDEX('Trust - Frontsheet'!AV$1:AV$6187,SMALL(IF('Trust - Frontsheet'!$AX$1:$AX$6187=$B$2,ROW('Trust - Frontsheet'!$AX$1:$AX$6187)),ROW(57:57))))","v":""},{"$f":"IF(ISERROR(INDEX('Trust - Frontsheet'!AW$1:AW$6187,SMALL(IF('Trust - Frontsheet'!$AX$1:$AX$6187=$B$2,ROW('Trust - Frontsheet'!$AX$1:$AX$6187)),ROW(57:57)))),\"\",INDEX('Trust - Frontsheet'!AW$1:AW$6187,SMALL(IF('Trust - Frontsheet'!$AX$1:$AX$6187=$B$2,ROW('Trust - Frontsheet'!$AX$1:$AX$6187)),ROW(57:57))))","v":""},{"$f":"IF($B63=\"\",\"\",SUMIF('Trust - Frontsheet'!$C$14:$C$213,$B63,'Trust - Frontsheet'!H$14:H$213))","v":""},{"$f":"IF($B63=\"\",\"\",SUMIF('Trust - Frontsheet'!$C$14:$C$213,$B63,'Trust - Frontsheet'!I$14:I$213))","v":""},{"$f":"IF($B63=\"\",\"\",SUMIF('Trust - Frontsheet'!$C$14:$C$213,$B63,'Trust - Frontsheet'!J$14:J$213))","v":""},{"$f":"IF($B63=\"\",\"\",SUMIF('Trust - Frontsheet'!$C$14:$C$213,$B63,'Trust - Frontsheet'!K$14:K$213))","v":""},{"$f":"IF($B63=\"\",\"\",SUMIF('Trust - Frontsheet'!$C$14:$C$213,$B63,'Trust - Frontsheet'!L$14:L$213))","v":""},{"$f":"IF($B63=\"\",\"\",SUMIF('Trust - Frontsheet'!$C$14:$C$213,$B63,'Trust - Frontsheet'!M$14:M$213))","v":""},{"$f":"IF($B63=\"\",\"\",SUMIF('Trust - Frontsheet'!$C$14:$C$213,$B63,'Trust - Frontsheet'!N$14:N$213))","v":""},{"$f":"IF($B63=\"\",\"\",SUMIF('Trust - Frontsheet'!$C$14:$C$213,$B63,'Trust - Frontsheet'!O$14:O$213))","v":""},"","","","",{"$f":"IF($B63=\"\",\"\",SUMIF('Trust - Frontsheet'!$C$14:$C$213,$B63,'Trust - Frontsheet'!T$14:T$213))","v":""},"","",""]
[null,{"$f":"IF(ISERROR(INDEX('Trust - Frontsheet'!AV$1:AV$6187,SMALL(IF('Trust - Frontsheet'!$AX$1:$AX$6187=$B$2,ROW('Trust - Frontsheet'!$AX$1:$AX$6187)),ROW(58:58)))),\"\",INDEX('Trust - Frontsheet'!AV$1:AV$6187,SMALL(IF('Trust - Frontsheet'!$AX$1:$AX$6187=$B$2,ROW('Trust - Frontsheet'!$AX$1:$AX$6187)),ROW(58:58))))","v":""},{"$f":"IF(ISERROR(INDEX('Trust - Frontsheet'!AW$1:AW$6187,SMALL(IF('Trust - Frontsheet'!$AX$1:$AX$6187=$B$2,ROW('Trust - Frontsheet'!$AX$1:$AX$6187)),ROW(58:58)))),\"\",INDEX('Trust - Frontsheet'!AW$1:AW$6187,SMALL(IF('Trust - Frontsheet'!$AX$1:$AX$6187=$B$2,ROW('Trust - Frontsheet'!$AX$1:$AX$6187)),ROW(58:58))))","v":""},{"$f":"IF($B64=\"\",\"\",SUMIF('Trust - Frontsheet'!$C$14:$C$213,$B64,'Trust - Frontsheet'!H$14:H$213))","v":""},{"$f":"IF($B64=\"\",\"\",SUMIF('Trust - Frontsheet'!$C$14:$C$213,$B64,'Trust - Frontsheet'!I$14:I$213))","v":""},{"$f":"IF($B64=\"\",\"\",SUMIF('Trust - Frontsheet'!$C$14:$C$213,$B64,'Trust - Frontsheet'!J$14:J$213))","v":""},{"$f":"IF($B64=\"\",\"\",SUMIF('Trust - Frontsheet'!$C$14:$C$213,$B64,'Trust - Frontsheet'!K$14:K$213))","v":""},{"$f":"IF($B64=\"\",\"\",SUMIF('Trust - Frontsheet'!$C$14:$C$213,$B64,'Trust - Frontsheet'!L$14:L$213))","v":""},{"$f":"IF($B64=\"\",\"\",SUMIF('Trust - Frontsheet'!$C$14:$C$213,$B64,'Trust - Frontsheet'!M$14:M$213))","v":""},{"$f":"IF($B64=\"\",\"\",SUMIF('Trust - Frontsheet'!$C$14:$C$213,$B64,'Trust - Frontsheet'!N$14:N$213))","v":""},{"$f":"IF($B64=\"\",\"\",SUMIF('Trust - Frontsheet'!$C$14:$C$213,$B64,'Trust - Frontsheet'!O$14:O$213))","v":""},"","","","",{"$f":"IF($B64=\"\",\"\",SUMIF('Trust - Frontsheet'!$C$14:$C$213,$B64,'Trust - Frontsheet'!T$14:T$213))","v":""},"","",""]
[null,{"$f":"IF(ISERROR(INDEX('Trust - Frontsheet'!AV$1:AV$6187,SMALL(IF('Trust - Frontsheet'!$AX$1:$AX$6187=$B$2,ROW('Trust - Frontsheet'!$AX$1:$AX$6187)),ROW(59:59)))),\"\",INDEX('Trust - Frontsheet'!AV$1:AV$6187,SMALL(IF('Trust - Frontsheet'!$AX$1:$AX$6187=$B$2,ROW('Trust - Frontsheet'!$AX$1:$AX$6187)),ROW(59:59))))","v":""},{"$f":"IF(ISERROR(INDEX('Trust - Frontsheet'!AW$1:AW$6187,SMALL(IF('Trust - Frontsheet'!$AX$1:$AX$6187=$B$2,ROW('Trust - Frontsheet'!$AX$1:$AX$6187)),ROW(59:59)))),\"\",INDEX('Trust - Frontsheet'!AW$1:AW$6187,SMALL(IF('Trust - Frontsheet'!$AX$1:$AX$6187=$B$2,ROW('Trust - Frontsheet'!$AX$1:$AX$6187)),ROW(59:59))))","v":""},{"$f":"IF($B65=\"\",\"\",SUMIF('Trust - Frontsheet'!$C$14:$C$213,$B65,'Trust - Frontsheet'!H$14:H$213))","v":""},{"$f":"IF($B65=\"\",\"\",SUMIF('Trust - Frontsheet'!$C$14:$C$213,$B65,'Trust - Frontsheet'!I$14:I$213))","v":""},{"$f":"IF($B65=\"\",\"\",SUMIF('Trust - Frontsheet'!$C$14:$C$213,$B65,'Trust - Frontsheet'!J$14:J$213))","v":""},{"$f":"IF($B65=\"\",\"\",SUMIF('Trust - Frontsheet'!$C$14:$C$213,$B65,'Trust - Frontsheet'!K$14:K$213))","v":""},{"$f":"IF($B65=\"\",\"\",SUMIF('Trust - Frontsheet'!$C$14:$C$213,$B65,'Trust - Frontsheet'!L$14:L$213))","v":""},{"$f":"IF($B65=\"\",\"\",SUMIF('Trust - Frontsheet'!$C$14:$C$213,$B65,'Trust - Frontsheet'!M$14:M$213))","v":""},{"$f":"IF($B65=\"\",\"\",SUMIF('Trust - Frontsheet'!$C$14:$C$213,$B65,'Trust - Frontsheet'!N$14:N$213))","v":""},{"$f":"IF($B65=\"\",\"\",SUMIF('Trust - Frontsheet'!$C$14:$C$213,$B65,'Trust - Frontsheet'!O$14:O$213))","v":""},"","","","",{"$f":"IF($B65=\"\",\"\",SUMIF('Trust - Frontsheet'!$C$14:$C$213,$B65,'Trust - Frontsheet'!T$14:T$213))","v":""},"","",""]
[null,{"$f":"IF(ISERROR(INDEX('Trust - Frontsheet'!AV$1:AV$6187,SMALL(IF('Trust - Frontsheet'!$AX$1:$AX$6187=$B$2,ROW('Trust - Frontsheet'!$AX$1:$AX$6187)),ROW(60:60)))),\"\",INDEX('Trust - Frontsheet'!AV$1:AV$6187,SMALL(IF('Trust - Frontsheet'!$AX$1:$AX$6187=$B$2,ROW('Trust - Frontsheet'!$AX$1:$AX$6187)),ROW(60:60))))","v":""},{"$f":"IF(ISERROR(INDEX('Trust - Frontsheet'!AW$1:AW$6187,SMALL(IF('Trust - Frontsheet'!$AX$1:$AX$6187=$B$2,ROW('Trust - Frontsheet'!$AX$1:$AX$6187)),ROW(60:60)))),\"\",INDEX('Trust - Frontsheet'!AW$1:AW$6187,SMALL(IF('Trust - Frontsheet'!$AX$1:$AX$6187=$B$2,ROW('Trust - Frontsheet'!$AX$1:$AX$6187)),ROW(60:60))))","v":""},{"$f":"IF($B66=\"\",\"\",SUMIF('Trust - Frontsheet'!$C$14:$C$213,$B66,'Trust - Frontsheet'!H$14:H$213))","v":""},{"$f":"IF($B66=\"\",\"\",SUMIF('Trust - Frontsheet'!$C$14:$C$213,$B66,'Trust - Frontsheet'!I$14:I$213))","v":""},{"$f":"IF($B66=\"\",\"\",SUMIF('Trust - Frontsheet'!$C$14:$C$213,$B66,'Trust - Frontsheet'!J$14:J$213))","v":""},{"$f":"IF($B66=\"\",\"\",SUMIF('Trust - Frontsheet'!$C$14:$C$213,$B66,'Trust - Frontsheet'!K$14:K$213))","v":""},{"$f":"IF($B66=\"\",\"\",SUMIF('Trust - Frontsheet'!$C$14:$C$213,$B66,'Trust - Frontsheet'!L$14:L$213))","v":""},{"$f":"IF($B66=\"\",\"\",SUMIF('Trust - Frontsheet'!$C$14:$C$213,$B66,'Trust - Frontsheet'!M$14:M$213))","v":""},{"$f":"IF($B66=\"\",\"\",SUMIF('Trust - Frontsheet'!$C$14:$C$213,$B66,'Trust - Frontsheet'!N$14:N$213))","v":""},{"$f":"IF($B66=\"\",\"\",SUMIF('Trust - Frontsheet'!$C$14:$C$213,$B66,'Trust - Frontsheet'!O$14:O$213))","v":""},"","","","",{"$f":"IF($B66=\"\",\"\",SUMIF('Trust - Frontsheet'!$C$14:$C$213,$B66,'Trust - Frontsheet'!T$14:T$213))","v":""},"","",""]
[null,{"$f":"IF(ISERROR(INDEX('Trust - Frontsheet'!AV$1:AV$6187,SMALL(IF('Trust - Frontsheet'!$AX$1:$AX$6187=$B$2,ROW('Trust - Frontsheet'!$AX$1:$AX$6187)),ROW(61:61)))),\"\",INDEX('Trust - Frontsheet'!AV$1:AV$6187,SMALL(IF('Trust - Frontsheet'!$AX$1:$AX$6187=$B$2,ROW('Trust - Frontsheet'!$AX$1:$AX$6187)),ROW(61:61))))","v":""},{"$f":"IF(ISERROR(INDEX('Trust - Frontsheet'!AW$1:AW$6187,SMALL(IF('Trust - Frontsheet'!$AX$1:$AX$6187=$B$2,ROW('Trust - Frontsheet'!$AX$1:$AX$6187)),ROW(61:61)))),\"\",INDEX('Trust - Frontsheet'!AW$1:AW$6187,SMALL(IF('Trust - Frontsheet'!$AX$1:$AX$6187=$B$2,ROW('Trust - Frontsheet'!$AX$1:$AX$6187)),ROW(61:61))))","v":""},{"$f":"IF($B67=\"\",\"\",SUMIF('Trust - Frontsheet'!$C$14:$C$213,$B67,'Trust - Frontsheet'!H$14:H$213))","v":""},{"$f":"IF($B67=\"\",\"\",SUMIF('Trust - Frontsheet'!$C$14:$C$213,$B67,'Trust - Frontsheet'!I$14:I$213))","v":""},{"$f":"IF($B67=\"\",\"\",SUMIF('Trust - Frontsheet'!$C$14:$C$213,$B67,'Trust - Frontsheet'!J$14:J$213))","v":""},{"$f":"IF($B67=\"\",\"\",SUMIF('Trust - Frontsheet'!$C$14:$C$213,$B67,'Trust - Frontsheet'!K$14:K$213))","v":""},{"$f":"IF($B67=\"\",\"\",SUMIF('Trust - Frontsheet'!$C$14:$C$213,$B67,'Trust - Frontsheet'!L$14:L$213))","v":""},{"$f":"IF($B67=\"\",\"\",SUMIF('Trust - Frontsheet'!$C$14:$C$213,$B67,'Trust - Frontsheet'!M$14:M$213))","v":""},{"$f":"IF($B67=\"\",\"\",SUMIF('Trust - Frontsheet'!$C$14:$C$213,$B67,'Trust - Frontsheet'!N$14:N$213))","v":""},{"$f":"IF($B67=\"\",\"\",SUMIF('Trust - Frontsheet'!$C$14:$C$213,$B67,'Trust - Frontsheet'!O$14:O$213))","v":""},"","","","",{"$f":"IF($B67=\"\",\"\",SUMIF('Trust - Frontsheet'!$C$14:$C$213,$B67,'Trust - Frontsheet'!T$14:T$213))","v":""},"","",""]
[null,{"$f":"IF(ISERROR(INDEX('Trust - Frontsheet'!AV$1:AV$6187,SMALL(IF('Trust - Frontsheet'!$AX$1:$AX$6187=$B$2,ROW('Trust - Frontsheet'!$AX$1:$AX$6187)),ROW(62:62)))),\"\",INDEX('Trust - Frontsheet'!AV$1:AV$6187,SMALL(IF('Trust - Frontsheet'!$AX$1:$AX$6187=$B$2,ROW('Trust - Frontsheet'!$AX$1:$AX$6187)),ROW(62:62))))","v":""},{"$f":"IF(ISERROR(INDEX('Trust - Frontsheet'!AW$1:AW$6187,SMALL(IF('Trust - Frontsheet'!$AX$1:$AX$6187=$B$2,ROW('Trust - Frontsheet'!$AX$1:$AX$6187)),ROW(62:62)))),\"\",INDEX('Trust - Frontsheet'!AW$1:AW$6187,SMALL(IF('Trust - Frontsheet'!$AX$1:$AX$6187=$B$2,ROW('Trust - Frontsheet'!$AX$1:$AX$6187)),ROW(62:62))))","v":""},{"$f":"IF($B68=\"\",\"\",SUMIF('Trust - Frontsheet'!$C$14:$C$213,$B68,'Trust - Frontsheet'!H$14:H$213))","v":""},{"$f":"IF($B68=\"\",\"\",SUMIF('Trust - Frontsheet'!$C$14:$C$213,$B68,'Trust - Frontsheet'!I$14:I$213))","v":""},{"$f":"IF($B68=\"\",\"\",SUMIF('Trust - Frontsheet'!$C$14:$C$213,$B68,'Trust - Frontsheet'!J$14:J$213))","v":""},{"$f":"IF($B68=\"\",\"\",SUMIF('Trust - Frontsheet'!$C$14:$C$213,$B68,'Trust - Frontsheet'!K$14:K$213))","v":""},{"$f":"IF($B68=\"\",\"\",SUMIF('Trust - Frontsheet'!$C$14:$C$213,$B68,'Trust - Frontsheet'!L$14:L$213))","v":""},{"$f":"IF($B68=\"\",\"\",SUMIF('Trust - Frontsheet'!$C$14:$C$213,$B68,'Trust - Frontsheet'!M$14:M$213))","v":""},{"$f":"IF($B68=\"\",\"\",SUMIF('Trust - Frontsheet'!$C$14:$C$213,$B68,'Trust - Frontsheet'!N$14:N$213))","v":""},{"$f":"IF($B68=\"\",\"\",SUMIF('Trust - Frontsheet'!$C$14:$C$213,$B68,'Trust - Frontsheet'!O$14:O$213))","v":""},"","","","",{"$f":"IF($B68=\"\",\"\",SUMIF('Trust - Frontsheet'!$C$14:$C$213,$B68,'Trust - Frontsheet'!T$14:T$213))","v":""},"","",""]
[null,{"$f":"IF(ISERROR(INDEX('Trust - Frontsheet'!AV$1:AV$6187,SMALL(IF('Trust - Frontsheet'!$AX$1:$AX$6187=$B$2,ROW('Trust - Frontsheet'!$AX$1:$AX$6187)),ROW(63:63)))),\"\",INDEX('Trust - Frontsheet'!AV$1:AV$6187,SMALL(IF('Trust - Frontsheet'!$AX$1:$AX$6187=$B$2,ROW('Trust - Frontsheet'!$AX$1:$AX$6187)),ROW(63:63))))","v":""},{"$f":"IF(ISERROR(INDEX('Trust - Frontsheet'!AW$1:AW$6187,SMALL(IF('Trust - Frontsheet'!$AX$1:$AX$6187=$B$2,ROW('Trust - Frontsheet'!$AX$1:$AX$6187)),ROW(63:63)))),\"\",INDEX('Trust - Frontsheet'!AW$1:AW$6187,SMALL(IF('Trust - Frontsheet'!$AX$1:$AX$6187=$B$2,ROW('Trust - Frontsheet'!$AX$1:$AX$6187)),ROW(63:63))))","v":""},{"$f":"IF($B69=\"\",\"\",SUMIF('Trust - Frontsheet'!$C$14:$C$213,$B69,'Trust - Frontsheet'!H$14:H$213))","v":""},{"$f":"IF($B69=\"\",\"\",SUMIF('Trust - Frontsheet'!$C$14:$C$213,$B69,'Trust - Frontsheet'!I$14:I$213))","v":""},{"$f":"IF($B69=\"\",\"\",SUMIF('Trust - Frontsheet'!$C$14:$C$213,$B69,'Trust - Frontsheet'!J$14:J$213))","v":""},{"$f":"IF($B69=\"\",\"\",SUMIF('Trust - Frontsheet'!$C$14:$C$213,$B69,'Trust - Frontsheet'!K$14:K$213))","v":""},{"$f":"IF($B69=\"\",\"\",SUMIF('Trust - Frontsheet'!$C$14:$C$213,$B69,'Trust - Frontsheet'!L$14:L$213))","v":""},{"$f":"IF($B69=\"\",\"\",SUMIF('Trust - Frontsheet'!$C$14:$C$213,$B69,'Trust - Frontsheet'!M$14:M$213))","v":""},{"$f":"IF($B69=\"\",\"\",SUMIF('Trust - Frontsheet'!$C$14:$C$213,$B69,'Trust - Frontsheet'!N$14:N$213))","v":""},{"$f":"IF($B69=\"\",\"\",SUMIF('Trust - Frontsheet'!$C$14:$C$213,$B69,'Trust - Frontsheet'!O$14:O$213))","v":""},"","","","",{"$f":"IF($B69=\"\",\"\",SUMIF('Trust - Frontsheet'!$C$14:$C$213,$B69,'Trust - Frontsheet'!T$14:T$213))","v":""},"","",""]
[null,{"$f":"IF(ISERROR(INDEX('Trust - Frontsheet'!AV$1:AV$6187,SMALL(IF('Trust - Frontsheet'!$AX$1:$AX$6187=$B$2,ROW('Trust - Frontsheet'!$AX$1:$AX$6187)),ROW(64:64)))),\"\",INDEX('Trust - Frontsheet'!AV$1:AV$6187,SMALL(IF('Trust - Frontsheet'!$AX$1:$AX$6187=$B$2,ROW('Trust - Frontsheet'!$AX$1:$AX$6187)),ROW(64:64))))","v":""},{"$f":"IF(ISERROR(INDEX('Trust - Frontsheet'!AW$1:AW$6187,SMALL(IF('Trust - Frontsheet'!$AX$1:$AX$6187=$B$2,ROW('Trust - Frontsheet'!$AX$1:$AX$6187)),ROW(64:64)))),\"\",INDEX('Trust - Frontsheet'!AW$1:AW$6187,SMALL(IF('Trust - Frontsheet'!$AX$1:$AX$6187=$B$2,ROW('Trust - Frontsheet'!$AX$1:$AX$6187)),ROW(64:64))))","v":""},{"$f":"IF($B70=\"\",\"\",SUMIF('Trust - Frontsheet'!$C$14:$C$213,$B70,'Trust - Frontsheet'!H$14:H$213))","v":""},{"$f":"IF($B70=\"\",\"\",SUMIF('Trust - Frontsheet'!$C$14:$C$213,$B70,'Trust - Frontsheet'!I$14:I$213))","v":""},{"$f":"IF($B70=\"\",\"\",SUMIF('Trust - Frontsheet'!$C$14:$C$213,$B70,'Trust - Frontsheet'!J$14:J$213))","v":""},{"$f":"IF($B70=\"\",\"\",SUMIF('Trust - Frontsheet'!$C$14:$C$213,$B70,'Trust - Frontsheet'!K$14:K$213))","v":""},{"$f":"IF($B70=\"\",\"\",SUMIF('Trust - Frontsheet'!$C$14:$C$213,$B70,'Trust - Frontsheet'!L$14:L$213))","v":""},{"$f":"IF($B70=\"\",\"\",SUMIF('Trust - Frontsheet'!$C$14:$C$213,$B70,'Trust - Frontsheet'!M$14:M$213))","v":""},{"$f":"IF($B70=\"\",\"\",SUMIF('Trust - Frontsheet'!$C$14:$C$213,$B70,'Trust - Frontsheet'!N$14:N$213))","v":""},{"$f":"IF($B70=\"\",\"\",SUMIF('Trust - Frontsheet'!$C$14:$C$213,$B70,'Trust - Frontsheet'!O$14:O$213))","v":""},"","","","",{"$f":"IF($B70=\"\",\"\",SUMIF('Trust - Frontsheet'!$C$14:$C$213,$B70,'Trust - Frontsheet'!T$14:T$213))","v":""},"","",""]
[null,{"$f":"IF(ISERROR(INDEX('Trust - Frontsheet'!AV$1:AV$6187,SMALL(IF('Trust - Frontsheet'!$AX$1:$AX$6187=$B$2,ROW('Trust - Frontsheet'!$AX$1:$AX$6187)),ROW(65:65)))),\"\",INDEX('Trust - Frontsheet'!AV$1:AV$6187,SMALL(IF('Trust - Frontsheet'!$AX$1:$AX$6187=$B$2,ROW('Trust - Frontsheet'!$AX$1:$AX$6187)),ROW(65:65))))","v":""},{"$f":"IF(ISERROR(INDEX('Trust - Frontsheet'!AW$1:AW$6187,SMALL(IF('Trust - Frontsheet'!$AX$1:$AX$6187=$B$2,ROW('Trust - Frontsheet'!$AX$1:$AX$6187)),ROW(65:65)))),\"\",INDEX('Trust - Frontsheet'!AW$1:AW$6187,SMALL(IF('Trust - Frontsheet'!$AX$1:$AX$6187=$B$2,ROW('Trust - Frontsheet'!$AX$1:$AX$6187)),ROW(65:65))))","v":""},{"$f":"IF($B71=\"\",\"\",SUMIF('Trust - Frontsheet'!$C$14:$C$213,$B71,'Trust - Frontsheet'!H$14:H$213))","v":""},{"$f":"IF($B71=\"\",\"\",SUMIF('Trust - Frontsheet'!$C$14:$C$213,$B71,'Trust - Frontsheet'!I$14:I$213))","v":""},{"$f":"IF($B71=\"\",\"\",SUMIF('Trust - Frontsheet'!$C$14:$C$213,$B71,'Trust - Frontsheet'!J$14:J$213))","v":""},{"$f":"IF($B71=\"\",\"\",SUMIF('Trust - Frontsheet'!$C$14:$C$213,$B71,'Trust - Frontsheet'!K$14:K$213))","v":""},{"$f":"IF($B71=\"\",\"\",SUMIF('Trust - Frontsheet'!$C$14:$C$213,$B71,'Trust - Frontsheet'!L$14:L$213))","v":""},{"$f":"IF($B71=\"\",\"\",SUMIF('Trust - Frontsheet'!$C$14:$C$213,$B71,'Trust - Frontsheet'!M$14:M$213))","v":""},{"$f":"IF($B71=\"\",\"\",SUMIF('Trust - Frontsheet'!$C$14:$C$213,$B71,'Trust - Frontsheet'!N$14:N$213))","v":""},{"$f":"IF($B71=\"\",\"\",SUMIF('Trust - Frontsheet'!$C$14:$C$213,$B71,'Trust - Frontsheet'!O$14:O$213))","v":""},"","","","",{"$f":"IF($B71=\"\",\"\",SUMIF('Trust - Frontsheet'!$C$14:$C$213,$B71,'Trust - Frontsheet'!T$14:T$213))","v":""},"","",""]
[null,{"$f":"IF(ISERROR(INDEX('Trust - Frontsheet'!AV$1:AV$6187,SMALL(IF('Trust - Frontsheet'!$AX$1:$AX$6187=$B$2,ROW('Trust - Frontsheet'!$AX$1:$AX$6187)),ROW(66:66)))),\"\",INDEX('Trust - Frontsheet'!AV$1:AV$6187,SMALL(IF('Trust - Frontsheet'!$AX$1:$AX$6187=$B$2,ROW('Trust - Frontsheet'!$AX$1:$AX$6187)),ROW(66:66))))","v":""},{"$f":"IF(ISERROR(INDEX('Trust - Frontsheet'!AW$1:AW$6187,SMALL(IF('Trust - Frontsheet'!$AX$1:$AX$6187=$B$2,ROW('Trust - Frontsheet'!$AX$1:$AX$6187)),ROW(66:66)))),\"\",INDEX('Trust - Frontsheet'!AW$1:AW$6187,SMALL(IF('Trust - Frontsheet'!$AX$1:$AX$6187=$B$2,ROW('Trust - Frontsheet'!$AX$1:$AX$6187)),ROW(66:66))))","v":""},{"$f":"IF($B72=\"\",\"\",SUMIF('Trust - Frontsheet'!$C$14:$C$213,$B72,'Trust - Frontsheet'!H$14:H$213))","v":""},{"$f":"IF($B72=\"\",\"\",SUMIF('Trust - Frontsheet'!$C$14:$C$213,$B72,'Trust - Frontsheet'!I$14:I$213))","v":""},{"$f":"IF($B72=\"\",\"\",SUMIF('Trust - Frontsheet'!$C$14:$C$213,$B72,'Trust - Frontsheet'!J$14:J$213))","v":""},{"$f":"IF($B72=\"\",\"\",SUMIF('Trust - Frontsheet'!$C$14:$C$213,$B72,'Trust - Frontsheet'!K$14:K$213))","v":""},{"$f":"IF($B72=\"\",\"\",SUMIF('Trust - Frontsheet'!$C$14:$C$213,$B72,'Trust - Frontsheet'!L$14:L$213))","v":""},{"$f":"IF($B72=\"\",\"\",SUMIF('Trust - Frontsheet'!$C$14:$C$213,$B72,'Trust - Frontsheet'!M$14:M$213))","v":""},{"$f":"IF($B72=\"\",\"\",SUMIF('Trust - Frontsheet'!$C$14:$C$213,$B72,'Trust - Frontsheet'!N$14:N$213))","v":""},{"$f":"IF($B72=\"\",\"\",SUMIF('Trust - Frontsheet'!$C$14:$C$213,$B72,'Trust - Frontsheet'!O$14:O$213))","v":""},{"$f":"IF(D72=\"\",\"\",IF(D72=0,0,E72/D72))","v":""},{"$f":"IF(F72=\"\",\"\",IF(F72=0,0,G72/F72))","v":""},{"$f":"IF(H72=\"\",\"\",IF(H72=0,0,I72/H72))","v":""},{"$f":"IF(J72=\"\",\"\",IF(J72=0,0,K72/J72))","v":""},{"$f":"IF($B72=\"\",\"\",SUMIF('Trust - Frontsheet'!$C$14:$C$213,$B72,'Trust - Frontsheet'!T$14:T$213))","v":""},{"$f":"IF(ISERROR(IF($P72=\"\",\"\",SUM(E72,I72)/$P72)),\"-\",(IF($P72=\"\",\"\",SUM(E72,I72)/$P72)))","v":""},{"$f":"IF(ISERROR(IF($P72=\"\",\"\",SUM(G72,K72)/$P72)),\"-\",(IF($P72=\"\",\"\",SUM(G72,K72)/$P72)))","v":""},{"$f":"IF(ISERROR(IF($P72=\"\",\"\",SUM(E72,G72,I72,K72)/$P72)),\"-\",(IF($P72=\"\",\"\",SUM(E72,G72,I72,K72)/$P72)))","v":""}]
[null,{"$f":"IF(ISERROR(INDEX('Trust - Frontsheet'!AV$1:AV$6187,SMALL(IF('Trust - Frontsheet'!$AX$1:$AX$6187=$B$2,ROW('Trust - Frontsheet'!$AX$1:$AX$6187)),ROW(67:67)))),\"\",INDEX('Trust - Frontsheet'!AV$1:AV$6187,SMALL(IF('Trust - Frontsheet'!$AX$1:$AX$6187=$B$2,ROW('Trust - Frontsheet'!$AX$1:$AX$6187)),ROW(67:67))))","v":""},{"$f":"IF(ISERROR(INDEX('Trust - Frontsheet'!AW$1:AW$6187,SMALL(IF('Trust - Frontsheet'!$AX$1:$AX$6187=$B$2,ROW('Trust - Frontsheet'!$AX$1:$AX$6187)),ROW(67:67)))),\"\",INDEX('Trust - Frontsheet'!AW$1:AW$6187,SMALL(IF('Trust - Frontsheet'!$AX$1:$AX$6187=$B$2,ROW('Trust - Frontsheet'!$AX$1:$AX$6187)),ROW(67:67))))","v":""},{"$f":"IF($B73=\"\",\"\",SUMIF('Trust - Frontsheet'!$C$14:$C$213,$B73,'Trust - Frontsheet'!H$14:H$213))","v":""},{"$f":"IF($B73=\"\",\"\",SUMIF('Trust - Frontsheet'!$C$14:$C$213,$B73,'Trust - Frontsheet'!I$14:I$213))","v":""},{"$f":"IF($B73=\"\",\"\",SUMIF('Trust - Frontsheet'!$C$14:$C$213,$B73,'Trust - Frontsheet'!J$14:J$213))","v":""},{"$f":"IF($B73=\"\",\"\",SUMIF('Trust - Frontsheet'!$C$14:$C$213,$B73,'Trust - Frontsheet'!K$14:K$213))","v":""},{"$f":"IF($B73=\"\",\"\",SUMIF('Trust - Frontsheet'!$C$14:$C$213,$B73,'Trust - Frontsheet'!L$14:L$213))","v":""},{"$f":"IF($B73=\"\",\"\",SUMIF('Trust - Frontsheet'!$C$14:$C$213,$B73,'Trust - Frontsheet'!M$14:M$213))","v":""},{"$f":"IF($B73=\"\",\"\",SUMIF('Trust - Frontsheet'!$C$14:$C$213,$B73,'Trust - Frontsheet'!N$14:N$213))","v":""},{"$f":"IF($B73=\"\",\"\",SUMIF('Trust - Frontsheet'!$C$14:$C$213,$B73,'Trust - Frontsheet'!O$14:O$213))","v":""},"","","","",{"$f":"IF($B73=\"\",\"\",SUMIF('Trust - Frontsheet'!$C$14:$C$213,$B73,'Trust - Frontsheet'!T$14:T$213))","v":""},"","",""]
[null,{"$f":"IF(ISERROR(INDEX('Trust - Frontsheet'!AV$1:AV$6187,SMALL(IF('Trust - Frontsheet'!$AX$1:$AX$6187=$B$2,ROW('Trust - Frontsheet'!$AX$1:$AX$6187)),ROW(68:68)))),\"\",INDEX('Trust - Frontsheet'!AV$1:AV$6187,SMALL(IF('Trust - Frontsheet'!$AX$1:$AX$6187=$B$2,ROW('Trust - Frontsheet'!$AX$1:$AX$6187)),ROW(68:68))))","v":""},{"$f":"IF(ISERROR(INDEX('Trust - Frontsheet'!AW$1:AW$6187,SMALL(IF('Trust - Frontsheet'!$AX$1:$AX$6187=$B$2,ROW('Trust - Frontsheet'!$AX$1:$AX$6187)),ROW(68:68)))),\"\",INDEX('Trust - Frontsheet'!AW$1:AW$6187,SMALL(IF('Trust - Frontsheet'!$AX$1:$AX$6187=$B$2,ROW('Trust - Frontsheet'!$AX$1:$AX$6187)),ROW(68:68))))","v":""},{"$f":"IF($B74=\"\",\"\",SUMIF('Trust - Frontsheet'!$C$14:$C$213,$B74,'Trust - Frontsheet'!H$14:H$213))","v":""},{"$f":"IF($B74=\"\",\"\",SUMIF('Trust - Frontsheet'!$C$14:$C$213,$B74,'Trust - Frontsheet'!I$14:I$213))","v":""},{"$f":"IF($B74=\"\",\"\",SUMIF('Trust - Frontsheet'!$C$14:$C$213,$B74,'Trust - Frontsheet'!J$14:J$213))","v":""},{"$f":"IF($B74=\"\",\"\",SUMIF('Trust - Frontsheet'!$C$14:$C$213,$B74,'Trust - Frontsheet'!K$14:K$213))","v":""},{"$f":"IF($B74=\"\",\"\",SUMIF('Trust - Frontsheet'!$C$14:$C$213,$B74,'Trust - Frontsheet'!L$14:L$213))","v":""},{"$f":"IF($B74=\"\",\"\",SUMIF('Trust - Frontsheet'!$C$14:$C$213,$B74,'Trust - Frontsheet'!M$14:M$213))","v":""},{"$f":"IF($B74=\"\",\"\",SUMIF('Trust - Frontsheet'!$C$14:$C$213,$B74,'Trust - Frontsheet'!N$14:N$213))","v":""},{"$f":"IF($B74=\"\",\"\",SUMIF('Trust - Frontsheet'!$C$14:$C$213,$B74,'Trust - Frontsheet'!O$14:O$213))","v":""},"","","","",{"$f":"IF($B74=\"\",\"\",SUMIF('Trust - Frontsheet'!$C$14:$C$213,$B74,'Trust - Frontsheet'!T$14:T$213))","v":""},"","",""]
[null,{"$f":"IF(ISERROR(INDEX('Trust - Frontsheet'!AV$1:AV$6187,SMALL(IF('Trust - Frontsheet'!$AX$1:$AX$6187=$B$2,ROW('Trust - Frontsheet'!$AX$1:$AX$6187)),ROW(69:69)))),\"\",INDEX('Trust - Frontsheet'!AV$1:AV$6187,SMALL(IF('Trust - Frontsheet'!$AX$1:$AX$6187=$B$2,ROW('Trust - Frontsheet'!$AX$1:$AX$6187)),ROW(69:69))))","v":""},{"$f":"IF(ISERROR(INDEX('Trust - Frontsheet'!AW$1:AW$6187,SMALL(IF('Trust - Frontsheet'!$AX$1:$AX$6187=$B$2,ROW('Trust - Frontsheet'!$AX$1:$AX$6187)),ROW(69:69)))),\"\",INDEX('Trust - Frontsheet'!AW$1:AW$6187,SMALL(IF('Trust - Frontsheet'!$AX$1:$AX$6187=$B$2,ROW('Trust - Frontsheet'!$AX$1:$AX$6187)),ROW(69:69))))","v":""},{"$f":"IF($B75=\"\",\"\",SUMIF('Trust - Frontsheet'!$C$14:$C$213,$B75,'Trust - Frontsheet'!H$14:H$213))","v":""},{"$f":"IF($B75=\"\",\"\",SUMIF('Trust - Frontsheet'!$C$14:$C$213,$B75,'Trust - Frontsheet'!I$14:I$213))","v":""},{"$f":"IF($B75=\"\",\"\",SUMIF('Trust - Frontsheet'!$C$14:$C$213,$B75,'Trust - Frontsheet'!J$14:J$213))","v":""},{"$f":"IF($B75=\"\",\"\",SUMIF('Trust - Frontsheet'!$C$14:$C$213,$B75,'Trust - Frontsheet'!K$14:K$213))","v":""},{"$f":"IF($B75=\"\",\"\",SUMIF('Trust - Frontsheet'!$C$14:$C$213,$B75,'Trust - Frontsheet'!L$14:L$213))","v":""},{"$f":"IF($B75=\"\",\"\",SUMIF('Trust - Frontsheet'!$C$14:$C$213,$B75,'Trust - Frontsheet'!M$14:M$213))","v":""},{"$f":"IF($B75=\"\",\"\",SUMIF('Trust - Frontsheet'!$C$14:$C$213,$B75,'Trust - Frontsheet'!N$14:N$213))","v":""},{"$f":"IF($B75=\"\",\"\",SUMIF('Trust - Frontsheet'!$C$14:$C$213,$B75,'Trust - Frontsheet'!O$14:O$213))","v":""},"","","","",{"$f":"IF($B75=\"\",\"\",SUMIF('Trust - Frontsheet'!$C$14:$C$213,$B75,'Trust - Frontsheet'!T$14:T$213))","v":""},"","",""]
[null,{"$f":"IF(ISERROR(INDEX('Trust - Frontsheet'!AV$1:AV$6187,SMALL(IF('Trust - Frontsheet'!$AX$1:$AX$6187=$B$2,ROW('Trust - Frontsheet'!$AX$1:$AX$6187)),ROW(70:70)))),\"\",INDEX('Trust - Frontsheet'!AV$1:AV$6187,SMALL(IF('Trust - Frontsheet'!$AX$1:$AX$6187=$B$2,ROW('Trust - Frontsheet'!$AX$1:$AX$6187)),ROW(70:70))))","v":""},{"$f":"IF(ISERROR(INDEX('Trust - Frontsheet'!AW$1:AW$6187,SMALL(IF('Trust - Frontsheet'!$AX$1:$AX$6187=$B$2,ROW('Trust - Frontsheet'!$AX$1:$AX$6187)),ROW(70:70)))),\"\",INDEX('Trust - Frontsheet'!AW$1:AW$6187,SMALL(IF('Trust - Frontsheet'!$AX$1:$AX$6187=$B$2,ROW('Trust - Frontsheet'!$AX$1:$AX$6187)),ROW(70:70))))","v":""},{"$f":"IF($B76=\"\",\"\",SUMIF('Trust - Frontsheet'!$C$14:$C$213,$B76,'Trust - Frontsheet'!H$14:H$213))","v":""},{"$f":"IF($B76=\"\",\"\",SUMIF('Trust - Frontsheet'!$C$14:$C$213,$B76,'Trust - Frontsheet'!I$14:I$213))","v":""},{"$f":"IF($B76=\"\",\"\",SUMIF('Trust - Frontsheet'!$C$14:$C$213,$B76,'Trust - Frontsheet'!J$14:J$213))","v":""},{"$f":"IF($B76=\"\",\"\",SUMIF('Trust - Frontsheet'!$C$14:$C$213,$B76,'Trust - Frontsheet'!K$14:K$213))","v":""},{"$f":"IF($B76=\"\",\"\",SUMIF('Trust - Frontsheet'!$C$14:$C$213,$B76,'Trust - Frontsheet'!L$14:L$213))","v":""},{"$f":"IF($B76=\"\",\"\",SUMIF('Trust - Frontsheet'!$C$14:$C$213,$B76,'Trust - Frontsheet'!M$14:M$213))","v":""},{"$f":"IF($B76=\"\",\"\",SUMIF('Trust - Frontsheet'!$C$14:$C$213,$B76,'Trust - Frontsheet'!N$14:N$213))","v":""},{"$f":"IF($B76=\"\",\"\",SUMIF('Trust - Frontsheet'!$C$14:$C$213,$B76,'Trust - Frontsheet'!O$14:O$213))","v":""},"","","","",{"$f":"IF($B76=\"\",\"\",SUMIF('Trust - Frontsheet'!$C$14:$C$213,$B76,'Trust - Frontsheet'!T$14:T$213))","v":""},"","",""]
[null,{"$f":"IF(ISERROR(INDEX('Trust - Frontsheet'!AV$1:AV$6187,SMALL(IF('Trust - Frontsheet'!$AX$1:$AX$6187=$B$2,ROW('Trust - Frontsheet'!$AX$1:$AX$6187)),ROW(71:71)))),\"\",INDEX('Trust - Frontsheet'!AV$1:AV$6187,SMALL(IF('Trust - Frontsheet'!$AX$1:$AX$6187=$B$2,ROW('Trust - Frontsheet'!$AX$1:$AX$6187)),ROW(71:71))))","v":""},{"$f":"IF(ISERROR(INDEX('Trust - Frontsheet'!AW$1:AW$6187,SMALL(IF('Trust - Frontsheet'!$AX$1:$AX$6187=$B$2,ROW('Trust - Frontsheet'!$AX$1:$AX$6187)),ROW(71:71)))),\"\",INDEX('Trust - Frontsheet'!AW$1:AW$6187,SMALL(IF('Trust - Frontsheet'!$AX$1:$AX$6187=$B$2,ROW('Trust - Frontsheet'!$AX$1:$AX$6187)),ROW(71:71))))","v":""},{"$f":"IF($B77=\"\",\"\",SUMIF('Trust - Frontsheet'!$C$14:$C$213,$B77,'Trust - Frontsheet'!H$14:H$213))","v":""},{"$f":"IF($B77=\"\",\"\",SUMIF('Trust - Frontsheet'!$C$14:$C$213,$B77,'Trust - Frontsheet'!I$14:I$213))","v":""},{"$f":"IF($B77=\"\",\"\",SUMIF('Trust - Frontsheet'!$C$14:$C$213,$B77,'Trust - Frontsheet'!J$14:J$213))","v":""},{"$f":"IF($B77=\"\",\"\",SUMIF('Trust - Frontsheet'!$C$14:$C$213,$B77,'Trust - Frontsheet'!K$14:K$213))","v":""},{"$f":"IF($B77=\"\",\"\",SUMIF('Trust - Frontsheet'!$C$14:$C$213,$B77,'Trust - Frontsheet'!L$14:L$213))","v":""},{"$f":"IF($B77=\"\",\"\",SUMIF('Trust - Frontsheet'!$C$14:$C$213,$B77,'Trust - Frontsheet'!M$14:M$213))","v":""},{"$f":"IF($B77=\"\",\"\",SUMIF('Trust - Frontsheet'!$C$14:$C$213,$B77,'Trust - Frontsheet'!N$14:N$213))","v":""},{"$f":"IF($B77=\"\",\"\",SUMIF('Trust - Frontsheet'!$C$14:$C$213,$B77,'Trust - Frontsheet'!O$14:O$213))","v":""},"","","","",{"$f":"IF($B77=\"\",\"\",SUMIF('Trust - Frontsheet'!$C$14:$C$213,$B77,'Trust - Frontsheet'!T$14:T$213))","v":""},"","",""]
[null,{"$f":"IF(ISERROR(INDEX('Trust - Frontsheet'!AV$1:AV$6187,SMALL(IF('Trust - Frontsheet'!$AX$1:$AX$6187=$B$2,ROW('Trust - Frontsheet'!$AX$1:$AX$6187)),ROW(72:72)))),\"\",INDEX('Trust - Frontsheet'!AV$1:AV$6187,SMALL(IF('Trust - Frontsheet'!$AX$1:$AX$6187=$B$2,ROW('Trust - Frontsheet'!$AX$1:$AX$6187)),ROW(72:72))))","v":""},{"$f":"IF(ISERROR(INDEX('Trust - Frontsheet'!AW$1:AW$6187,SMALL(IF('Trust - Frontsheet'!$AX$1:$AX$6187=$B$2,ROW('Trust - Frontsheet'!$AX$1:$AX$6187)),ROW(72:72)))),\"\",INDEX('Trust - Frontsheet'!AW$1:AW$6187,SMALL(IF('Trust - Frontsheet'!$AX$1:$AX$6187=$B$2,ROW('Trust - Frontsheet'!$AX$1:$AX$6187)),ROW(72:72))))","v":""},{"$f":"IF($B78=\"\",\"\",SUMIF('Trust - Frontsheet'!$C$14:$C$213,$B78,'Trust - Frontsheet'!H$14:H$213))","v":""},{"$f":"IF($B78=\"\",\"\",SUMIF('Trust - Frontsheet'!$C$14:$C$213,$B78,'Trust - Frontsheet'!I$14:I$213))","v":""},{"$f":"IF($B78=\"\",\"\",SUMIF('Trust - Frontsheet'!$C$14:$C$213,$B78,'Trust - Frontsheet'!J$14:J$213))","v":""},{"$f":"IF($B78=\"\",\"\",SUMIF('Trust - Frontsheet'!$C$14:$C$213,$B78,'Trust - Frontsheet'!K$14:K$213))","v":""},{"$f":"IF($B78=\"\",\"\",SUMIF('Trust - Frontsheet'!$C$14:$C$213,$B78,'Trust - Frontsheet'!L$14:L$213))","v":""},{"$f":"IF($B78=\"\",\"\",SUMIF('Trust - Frontsheet'!$C$14:$C$213,$B78,'Trust - Frontsheet'!M$14:M$213))","v":""},{"$f":"IF($B78=\"\",\"\",SUMIF('Trust - Frontsheet'!$C$14:$C$213,$B78,'Trust - Frontsheet'!N$14:N$213))","v":""},{"$f":"IF($B78=\"\",\"\",SUMIF('Trust - Frontsheet'!$C$14:$C$213,$B78,'Trust - Frontsheet'!O$14:O$213))","v":""},"","","","",{"$f":"IF($B78=\"\",\"\",SUMIF('Trust - Frontsheet'!$C$14:$C$213,$B78,'Trust - Frontsheet'!T$14:T$213))","v":""},"","",""]
[null,{"$f":"IF(ISERROR(INDEX('Trust - Frontsheet'!AV$1:AV$6187,SMALL(IF('Trust - Frontsheet'!$AX$1:$AX$6187=$B$2,ROW('Trust - Frontsheet'!$AX$1:$AX$6187)),ROW(73:73)))),\"\",INDEX('Trust - Frontsheet'!AV$1:AV$6187,SMALL(IF('Trust - Frontsheet'!$AX$1:$AX$6187=$B$2,ROW('Trust - Frontsheet'!$AX$1:$AX$6187)),ROW(73:73))))","v":""},{"$f":"IF(ISERROR(INDEX('Trust - Frontsheet'!AW$1:AW$6187,SMALL(IF('Trust - Frontsheet'!$AX$1:$AX$6187=$B$2,ROW('Trust - Frontsheet'!$AX$1:$AX$6187)),ROW(73:73)))),\"\",INDEX('Trust - Frontsheet'!AW$1:AW$6187,SMALL(IF('Trust - Frontsheet'!$AX$1:$AX$6187=$B$2,ROW('Trust - Frontsheet'!$AX$1:$AX$6187)),ROW(73:73))))","v":""},{"$f":"IF($B79=\"\",\"\",SUMIF('Trust - Frontsheet'!$C$14:$C$213,$B79,'Trust - Frontsheet'!H$14:H$213))","v":""},{"$f":"IF($B79=\"\",\"\",SUMIF('Trust - Frontsheet'!$C$14:$C$213,$B79,'Trust - Frontsheet'!I$14:I$213))","v":""},{"$f":"IF($B79=\"\",\"\",SUMIF('Trust - Frontsheet'!$C$14:$C$213,$B79,'Trust - Frontsheet'!J$14:J$213))","v":""},{"$f":"IF($B79=\"\",\"\",SUMIF('Trust - Frontsheet'!$C$14:$C$213,$B79,'Trust - Frontsheet'!K$14:K$213))","v":""},{"$f":"IF($B79=\"\",\"\",SUMIF('Trust - Frontsheet'!$C$14:$C$213,$B79,'Trust - Frontsheet'!L$14:L$213))","v":""},{"$f":"IF($B79=\"\",\"\",SUMIF('Trust - Frontsheet'!$C$14:$C$213,$B79,'Trust - Frontsheet'!M$14:M$213))","v":""},{"$f":"IF($B79=\"\",\"\",SUMIF('Trust - Frontsheet'!$C$14:$C$213,$B79,'Trust - Frontsheet'!N$14:N$213))","v":""},{"$f":"IF($B79=\"\",\"\",SUMIF('Trust - Frontsheet'!$C$14:$C$213,$B79,'Trust - Frontsheet'!O$14:O$213))","v":""},"","","","",{"$f":"IF($B79=\"\",\"\",SUMIF('Trust - Frontsheet'!$C$14:$C$213,$B79,'Trust - Frontsheet'!T$14:T$213))","v":""},"","",""]
[null,{"$f":"IF(ISERROR(INDEX('Trust - Frontsheet'!AV$1:AV$6187,SMALL(IF('Trust - Frontsheet'!$AX$1:$AX$6187=$B$2,ROW('Trust - Frontsheet'!$AX$1:$AX$6187)),ROW(74:74)))),\"\",INDEX('Trust - Frontsheet'!AV$1:AV$6187,SMALL(IF('Trust - Frontsheet'!$AX$1:$AX$6187=$B$2,ROW('Trust - Frontsheet'!$AX$1:$AX$6187)),ROW(74:74))))","v":""},{"$f":"IF(ISERROR(INDEX('Trust - Frontsheet'!AW$1:AW$6187,SMALL(IF('Trust - Frontsheet'!$AX$1:$AX$6187=$B$2,ROW('Trust - Frontsheet'!$AX$1:$AX$6187)),ROW(74:74)))),\"\",INDEX('Trust - Frontsheet'!AW$1:AW$6187,SMALL(IF('Trust - Frontsheet'!$AX$1:$AX$6187=$B$2,ROW('Trust - Frontsheet'!$AX$1:$AX$6187)),ROW(74:74))))","v":""},{"$f":"IF($B80=\"\",\"\",SUMIF('Trust - Frontsheet'!$C$14:$C$213,$B80,'Trust - Frontsheet'!H$14:H$213))","v":""},{"$f":"IF($B80=\"\",\"\",SUMIF('Trust - Frontsheet'!$C$14:$C$213,$B80,'Trust - Frontsheet'!I$14:I$213))","v":""},{"$f":"IF($B80=\"\",\"\",SUMIF('Trust - Frontsheet'!$C$14:$C$213,$B80,'Trust - Frontsheet'!J$14:J$213))","v":""},{"$f":"IF($B80=\"\",\"\",SUMIF('Trust - Frontsheet'!$C$14:$C$213,$B80,'Trust - Frontsheet'!K$14:K$213))","v":""},{"$f":"IF($B80=\"\",\"\",SUMIF('Trust - Frontsheet'!$C$14:$C$213,$B80,'Trust - Frontsheet'!L$14:L$213))","v":""},{"$f":"IF($B80=\"\",\"\",SUMIF('Trust - Frontsheet'!$C$14:$C$213,$B80,'Trust - Frontsheet'!M$14:M$213))","v":""},{"$f":"IF($B80=\"\",\"\",SUMIF('Trust - Frontsheet'!$C$14:$C$213,$B80,'Trust - Frontsheet'!N$14:N$213))","v":""},{"$f":"IF($B80=\"\",\"\",SUMIF('Trust - Frontsheet'!$C$14:$C$213,$B80,'Trust - Frontsheet'!O$14:O$213))","v":""},"","","","",{"$f":"IF($B80=\"\",\"\",SUMIF('Trust - Frontsheet'!$C$14:$C$213,$B80,'Trust - Frontsheet'!T$14:T$213))","v":""},"","",""]
[null,{"$f":"IF(ISERROR(INDEX('Trust - Frontsheet'!AV$1:AV$6187,SMALL(IF('Trust - Frontsheet'!$AX$1:$AX$6187=$B$2,ROW('Trust - Frontsheet'!$AX$1:$AX$6187)),ROW(75:75)))),\"\",INDEX('Trust - Frontsheet'!AV$1:AV$6187,SMALL(IF('Trust - Frontsheet'!$AX$1:$AX$6187=$B$2,ROW('Trust - Frontsheet'!$AX$1:$AX$6187)),ROW(75:75))))","v":""},{"$f":"IF(ISERROR(INDEX('Trust - Frontsheet'!AW$1:AW$6187,SMALL(IF('Trust - Frontsheet'!$AX$1:$AX$6187=$B$2,ROW('Trust - Frontsheet'!$AX$1:$AX$6187)),ROW(75:75)))),\"\",INDEX('Trust - Frontsheet'!AW$1:AW$6187,SMALL(IF('Trust - Frontsheet'!$AX$1:$AX$6187=$B$2,ROW('Trust - Frontsheet'!$AX$1:$AX$6187)),ROW(75:75))))","v":""},{"$f":"IF($B81=\"\",\"\",SUMIF('Trust - Frontsheet'!$C$14:$C$213,$B81,'Trust - Frontsheet'!H$14:H$213))","v":""},{"$f":"IF($B81=\"\",\"\",SUMIF('Trust - Frontsheet'!$C$14:$C$213,$B81,'Trust - Frontsheet'!I$14:I$213))","v":""},{"$f":"IF($B81=\"\",\"\",SUMIF('Trust - Frontsheet'!$C$14:$C$213,$B81,'Trust - Frontsheet'!J$14:J$213))","v":""},{"$f":"IF($B81=\"\",\"\",SUMIF('Trust - Frontsheet'!$C$14:$C$213,$B81,'Trust - Frontsheet'!K$14:K$213))","v":""},{"$f":"IF($B81=\"\",\"\",SUMIF('Trust - Frontsheet'!$C$14:$C$213,$B81,'Trust - Frontsheet'!L$14:L$213))","v":""},{"$f":"IF($B81=\"\",\"\",SUMIF('Trust - Frontsheet'!$C$14:$C$213,$B81,'Trust - Frontsheet'!M$14:M$213))","v":""},{"$f":"IF($B81=\"\",\"\",SUMIF('Trust - Frontsheet'!$C$14:$C$213,$B81,'Trust - Frontsheet'!N$14:N$213))","v":""},{"$f":"IF($B81=\"\",\"\",SUMIF('Trust - Frontsheet'!$C$14:$C$213,$B81,'Trust - Frontsheet'!O$14:O$213))","v":""},"","","","",{"$f":"IF($B81=\"\",\"\",SUMIF('Trust - Frontsheet'!$C$14:$C$213,$B81,'Trust - Frontsheet'!T$14:T$213))","v":""},"","",""]
[null,{"$f":"IF(ISERROR(INDEX('Trust - Frontsheet'!AV$1:AV$6187,SMALL(IF('Trust - Frontsheet'!$AX$1:$AX$6187=$B$2,ROW('Trust - Frontsheet'!$AX$1:$AX$6187)),ROW(76:76)))),\"\",INDEX('Trust - Frontsheet'!AV$1:AV$6187,SMALL(IF('Trust - Frontsheet'!$AX$1:$AX$6187=$B$2,ROW('Trust - Frontsheet'!$AX$1:$AX$6187)),ROW(76:76))))","v":""},{"$f":"IF(ISERROR(INDEX('Trust - Frontsheet'!AW$1:AW$6187,SMALL(IF('Trust - Frontsheet'!$AX$1:$AX$6187=$B$2,ROW('Trust - Frontsheet'!$AX$1:$AX$6187)),ROW(76:76)))),\"\",INDEX('Trust - Frontsheet'!AW$1:AW$6187,SMALL(IF('Trust - Frontsheet'!$AX$1:$AX$6187=$B$2,ROW('Trust - Frontsheet'!$AX$1:$AX$6187)),ROW(76:76))))","v":""},{"$f":"IF($B82=\"\",\"\",SUMIF('Trust - Frontsheet'!$C$14:$C$213,$B82,'Trust - Frontsheet'!H$14:H$213))","v":""},{"$f":"IF($B82=\"\",\"\",SUMIF('Trust - Frontsheet'!$C$14:$C$213,$B82,'Trust - Frontsheet'!I$14:I$213))","v":""},{"$f":"IF($B82=\"\",\"\",SUMIF('Trust - Frontsheet'!$C$14:$C$213,$B82,'Trust - Frontsheet'!J$14:J$213))","v":""},{"$f":"IF($B82=\"\",\"\",SUMIF('Trust - Frontsheet'!$C$14:$C$213,$B82,'Trust - Frontsheet'!K$14:K$213))","v":""},{"$f":"IF($B82=\"\",\"\",SUMIF('Trust - Frontsheet'!$C$14:$C$213,$B82,'Trust - Frontsheet'!L$14:L$213))","v":""},{"$f":"IF($B82=\"\",\"\",SUMIF('Trust - Frontsheet'!$C$14:$C$213,$B82,'Trust - Frontsheet'!M$14:M$213))","v":""},{"$f":"IF($B82=\"\",\"\",SUMIF('Trust - Frontsheet'!$C$14:$C$213,$B82,'Trust - Frontsheet'!N$14:N$213))","v":""},{"$f":"IF($B82=\"\",\"\",SUMIF('Trust - Frontsheet'!$C$14:$C$213,$B82,'Trust - Frontsheet'!O$14:O$213))","v":""},"","","","",{"$f":"IF($B82=\"\",\"\",SUMIF('Trust - Frontsheet'!$C$14:$C$213,$B82,'Trust - Frontsheet'!T$14:T$213))","v":""},"","",""]
[null,{"$f":"IF(ISERROR(INDEX('Trust - Frontsheet'!AV$1:AV$6187,SMALL(IF('Trust - Frontsheet'!$AX$1:$AX$6187=$B$2,ROW('Trust - Frontsheet'!$AX$1:$AX$6187)),ROW(77:77)))),\"\",INDEX('Trust - Frontsheet'!AV$1:AV$6187,SMALL(IF('Trust - Frontsheet'!$AX$1:$AX$6187=$B$2,ROW('Trust - Frontsheet'!$AX$1:$AX$6187)),ROW(77:77))))","v":""},{"$f":"IF(ISERROR(INDEX('Trust - Frontsheet'!AW$1:AW$6187,SMALL(IF('Trust - Frontsheet'!$AX$1:$AX$6187=$B$2,ROW('Trust - Frontsheet'!$AX$1:$AX$6187)),ROW(77:77)))),\"\",INDEX('Trust - Frontsheet'!AW$1:AW$6187,SMALL(IF('Trust - Frontsheet'!$AX$1:$AX$6187=$B$2,ROW('Trust - Frontsheet'!$AX$1:$AX$6187)),ROW(77:77))))","v":""},{"$f":"IF($B83=\"\",\"\",SUMIF('Trust - Frontsheet'!$C$14:$C$213,$B83,'Trust - Frontsheet'!H$14:H$213))","v":""},{"$f":"IF($B83=\"\",\"\",SUMIF('Trust - Frontsheet'!$C$14:$C$213,$B83,'Trust - Frontsheet'!I$14:I$213))","v":""},{"$f":"IF($B83=\"\",\"\",SUMIF('Trust - Frontsheet'!$C$14:$C$213,$B83,'Trust - Frontsheet'!J$14:J$213))","v":""},{"$f":"IF($B83=\"\",\"\",SUMIF('Trust - Frontsheet'!$C$14:$C$213,$B83,'Trust - Frontsheet'!K$14:K$213))","v":""},{"$f":"IF($B83=\"\",\"\",SUMIF('Trust - Frontsheet'!$C$14:$C$213,$B83,'Trust - Frontsheet'!L$14:L$213))","v":""},{"$f":"IF($B83=\"\",\"\",SUMIF('Trust - Frontsheet'!$C$14:$C$213,$B83,'Trust - Frontsheet'!M$14:M$213))","v":""},{"$f":"IF($B83=\"\",\"\",SUMIF('Trust - Frontsheet'!$C$14:$C$213,$B83,'Trust - Frontsheet'!N$14:N$213))","v":""},{"$f":"IF($B83=\"\",\"\",SUMIF('Trust - Frontsheet'!$C$14:$C$213,$B83,'Trust - Frontsheet'!O$14:O$213))","v":""},"","","","",{"$f":"IF($B83=\"\",\"\",SUMIF('Trust - Frontsheet'!$C$14:$C$213,$B83,'Trust - Frontsheet'!T$14:T$213))","v":""},"","",""]
[null,{"$f":"IF(ISERROR(INDEX('Trust - Frontsheet'!AV$1:AV$6187,SMALL(IF('Trust - Frontsheet'!$AX$1:$AX$6187=$B$2,ROW('Trust - Frontsheet'!$AX$1:$AX$6187)),ROW(78:78)))),\"\",INDEX('Trust - Frontsheet'!AV$1:AV$6187,SMALL(IF('Trust - Frontsheet'!$AX$1:$AX$6187=$B$2,ROW('Trust - Frontsheet'!$AX$1:$AX$6187)),ROW(78:78))))","v":""},{"$f":"IF(ISERROR(INDEX('Trust - Frontsheet'!AW$1:AW$6187,SMALL(IF('Trust - Frontsheet'!$AX$1:$AX$6187=$B$2,ROW('Trust - Frontsheet'!$AX$1:$AX$6187)),ROW(78:78)))),\"\",INDEX('Trust - Frontsheet'!AW$1:AW$6187,SMALL(IF('Trust - Frontsheet'!$AX$1:$AX$6187=$B$2,ROW('Trust - Frontsheet'!$AX$1:$AX$6187)),ROW(78:78))))","v":""},{"$f":"IF($B84=\"\",\"\",SUMIF('Trust - Frontsheet'!$C$14:$C$213,$B84,'Trust - Frontsheet'!H$14:H$213))","v":""},{"$f":"IF($B84=\"\",\"\",SUMIF('Trust - Frontsheet'!$C$14:$C$213,$B84,'Trust - Frontsheet'!I$14:I$213))","v":""},{"$f":"IF($B84=\"\",\"\",SUMIF('Trust - Frontsheet'!$C$14:$C$213,$B84,'Trust - Frontsheet'!J$14:J$213))","v":""},{"$f":"IF($B84=\"\",\"\",SUMIF('Trust - Frontsheet'!$C$14:$C$213,$B84,'Trust - Frontsheet'!K$14:K$213))","v":""},{"$f":"IF($B84=\"\",\"\",SUMIF('Trust - Frontsheet'!$C$14:$C$213,$B84,'Trust - Frontsheet'!L$14:L$213))","v":""},{"$f":"IF($B84=\"\",\"\",SUMIF('Trust - Frontsheet'!$C$14:$C$213,$B84,'Trust - Frontsheet'!M$14:M$213))","v":""},{"$f":"IF($B84=\"\",\"\",SUMIF('Trust - Frontsheet'!$C$14:$C$213,$B84,'Trust - Frontsheet'!N$14:N$213))","v":""},{"$f":"IF($B84=\"\",\"\",SUMIF('Trust - Frontsheet'!$C$14:$C$213,$B84,'Trust - Frontsheet'!O$14:O$213))","v":""},"","","","",{"$f":"IF($B84=\"\",\"\",SUMIF('Trust - Frontsheet'!$C$14:$C$213,$B84,'Trust - Frontsheet'!T$14:T$213))","v":""},"","",""]
[null,{"$f":"IF(ISERROR(INDEX('Trust - Frontsheet'!AV$1:AV$6187,SMALL(IF('Trust - Frontsheet'!$AX$1:$AX$6187=$B$2,ROW('Trust - Frontsheet'!$AX$1:$AX$6187)),ROW(79:79)))),\"\",INDEX('Trust - Frontsheet'!AV$1:AV$6187,SMALL(IF('Trust - Frontsheet'!$AX$1:$AX$6187=$B$2,ROW('Trust - Frontsheet'!$AX$1:$AX$6187)),ROW(79:79))))","v":""},{"$f":"IF(ISERROR(INDEX('Trust - Frontsheet'!AW$1:AW$6187,SMALL(IF('Trust - Frontsheet'!$AX$1:$AX$6187=$B$2,ROW('Trust - Frontsheet'!$AX$1:$AX$6187)),ROW(79:79)))),\"\",INDEX('Trust - Frontsheet'!AW$1:AW$6187,SMALL(IF('Trust - Frontsheet'!$AX$1:$AX$6187=$B$2,ROW('Trust - Frontsheet'!$AX$1:$AX$6187)),ROW(79:79))))","v":""},{"$f":"IF($B85=\"\",\"\",SUMIF('Trust - Frontsheet'!$C$14:$C$213,$B85,'Trust - Frontsheet'!H$14:H$213))","v":""},{"$f":"IF($B85=\"\",\"\",SUMIF('Trust - Frontsheet'!$C$14:$C$213,$B85,'Trust - Frontsheet'!I$14:I$213))","v":""},{"$f":"IF($B85=\"\",\"\",SUMIF('Trust - Frontsheet'!$C$14:$C$213,$B85,'Trust - Frontsheet'!J$14:J$213))","v":""},{"$f":"IF($B85=\"\",\"\",SUMIF('Trust - Frontsheet'!$C$14:$C$213,$B85,'Trust - Frontsheet'!K$14:K$213))","v":""},{"$f":"IF($B85=\"\",\"\",SUMIF('Trust - Frontsheet'!$C$14:$C$213,$B85,'Trust - Frontsheet'!L$14:L$213))","v":""},{"$f":"IF($B85=\"\",\"\",SUMIF('Trust - Frontsheet'!$C$14:$C$213,$B85,'Trust - Frontsheet'!M$14:M$213))","v":""},{"$f":"IF($B85=\"\",\"\",SUMIF('Trust - Frontsheet'!$C$14:$C$213,$B85,'Trust - Frontsheet'!N$14:N$213))","v":""},{"$f":"IF($B85=\"\",\"\",SUMIF('Trust - Frontsheet'!$C$14:$C$213,$B85,'Trust - Frontsheet'!O$14:O$213))","v":""},"","","","",{"$f":"IF($B85=\"\",\"\",SUMIF('Trust - Frontsheet'!$C$14:$C$213,$B85,'Trust - Frontsheet'!T$14:T$213))","v":""},"","",""]
[null,{"$f":"IF(ISERROR(INDEX('Trust - Frontsheet'!AV$1:AV$6187,SMALL(IF('Trust - Frontsheet'!$AX$1:$AX$6187=$B$2,ROW('Trust - Frontsheet'!$AX$1:$AX$6187)),ROW(80:80)))),\"\",INDEX('Trust - Frontsheet'!AV$1:AV$6187,SMALL(IF('Trust - Frontsheet'!$AX$1:$AX$6187=$B$2,ROW('Trust - Frontsheet'!$AX$1:$AX$6187)),ROW(80:80))))","v":""},{"$f":"IF(ISERROR(INDEX('Trust - Frontsheet'!AW$1:AW$6187,SMALL(IF('Trust - Frontsheet'!$AX$1:$AX$6187=$B$2,ROW('Trust - Frontsheet'!$AX$1:$AX$6187)),ROW(80:80)))),\"\",INDEX('Trust - Frontsheet'!AW$1:AW$6187,SMALL(IF('Trust - Frontsheet'!$AX$1:$AX$6187=$B$2,ROW('Trust - Frontsheet'!$AX$1:$AX$6187)),ROW(80:80))))","v":""},{"$f":"IF($B86=\"\",\"\",SUMIF('Trust - Frontsheet'!$C$14:$C$213,$B86,'Trust - Frontsheet'!H$14:H$213))","v":""},{"$f":"IF($B86=\"\",\"\",SUMIF('Trust - Frontsheet'!$C$14:$C$213,$B86,'Trust - Frontsheet'!I$14:I$213))","v":""},{"$f":"IF($B86=\"\",\"\",SUMIF('Trust - Frontsheet'!$C$14:$C$213,$B86,'Trust - Frontsheet'!J$14:J$213))","v":""},{"$f":"IF($B86=\"\",\"\",SUMIF('Trust - Frontsheet'!$C$14:$C$213,$B86,'Trust - Frontsheet'!K$14:K$213))","v":""},{"$f":"IF($B86=\"\",\"\",SUMIF('Trust - Frontsheet'!$C$14:$C$213,$B86,'Trust - Frontsheet'!L$14:L$213))","v":""},{"$f":"IF($B86=\"\",\"\",SUMIF('Trust - Frontsheet'!$C$14:$C$213,$B86,'Trust - Frontsheet'!M$14:M$213))","v":""},{"$f":"IF($B86=\"\",\"\",SUMIF('Trust - Frontsheet'!$C$14:$C$213,$B86,'Trust - Frontsheet'!N$14:N$213))","v":""},{"$f":"IF($B86=\"\",\"\",SUMIF('Trust - Frontsheet'!$C$14:$C$213,$B86,'Trust - Frontsheet'!O$14:O$213))","v":""},"","","","",{"$f":"IF($B86=\"\",\"\",SUMIF('Trust - Frontsheet'!$C$14:$C$213,$B86,'Trust - Frontsheet'!T$14:T$213))","v":""},"","",""]
[null,{"$f":"IF(ISERROR(INDEX('Trust - Frontsheet'!AV$1:AV$6187,SMALL(IF('Trust - Frontsheet'!$AX$1:$AX$6187=$B$2,ROW('Trust - Frontsheet'!$AX$1:$AX$6187)),ROW(81:81)))),\"\",INDEX('Trust - Frontsheet'!AV$1:AV$6187,SMALL(IF('Trust - Frontsheet'!$AX$1:$AX$6187=$B$2,ROW('Trust - Frontsheet'!$AX$1:$AX$6187)),ROW(81:81))))","v":""},{"$f":"IF(ISERROR(INDEX('Trust - Frontsheet'!AW$1:AW$6187,SMALL(IF('Trust - Frontsheet'!$AX$1:$AX$6187=$B$2,ROW('Trust - Frontsheet'!$AX$1:$AX$6187)),ROW(81:81)))),\"\",INDEX('Trust - Frontsheet'!AW$1:AW$6187,SMALL(IF('Trust - Frontsheet'!$AX$1:$AX$6187=$B$2,ROW('Trust - Frontsheet'!$AX$1:$AX$6187)),ROW(81:81))))","v":""},{"$f":"IF($B87=\"\",\"\",SUMIF('Trust - Frontsheet'!$C$14:$C$213,$B87,'Trust - Frontsheet'!H$14:H$213))","v":""},{"$f":"IF($B87=\"\",\"\",SUMIF('Trust - Frontsheet'!$C$14:$C$213,$B87,'Trust - Frontsheet'!I$14:I$213))","v":""},{"$f":"IF($B87=\"\",\"\",SUMIF('Trust - Frontsheet'!$C$14:$C$213,$B87,'Trust - Frontsheet'!J$14:J$213))","v":""},{"$f":"IF($B87=\"\",\"\",SUMIF('Trust - Frontsheet'!$C$14:$C$213,$B87,'Trust - Frontsheet'!K$14:K$213))","v":""},{"$f":"IF($B87=\"\",\"\",SUMIF('Trust - Frontsheet'!$C$14:$C$213,$B87,'Trust - Frontsheet'!L$14:L$213))","v":""},{"$f":"IF($B87=\"\",\"\",SUMIF('Trust - Frontsheet'!$C$14:$C$213,$B87,'Trust - Frontsheet'!M$14:M$213))","v":""},{"$f":"IF($B87=\"\",\"\",SUMIF('Trust - Frontsheet'!$C$14:$C$213,$B87,'Trust - Frontsheet'!N$14:N$213))","v":""},{"$f":"IF($B87=\"\",\"\",SUMIF('Trust - Frontsheet'!$C$14:$C$213,$B87,'Trust - Frontsheet'!O$14:O$213))","v":""},"","","","",{"$f":"IF($B87=\"\",\"\",SUMIF('Trust - Frontsheet'!$C$14:$C$213,$B87,'Trust - Frontsheet'!T$14:T$213))","v":""},"","",""]
[null,{"$f":"IF(ISERROR(INDEX('Trust - Frontsheet'!AV$1:AV$6187,SMALL(IF('Trust - Frontsheet'!$AX$1:$AX$6187=$B$2,ROW('Trust - Frontsheet'!$AX$1:$AX$6187)),ROW(82:82)))),\"\",INDEX('Trust - Frontsheet'!AV$1:AV$6187,SMALL(IF('Trust - Frontsheet'!$AX$1:$AX$6187=$B$2,ROW('Trust - Frontsheet'!$AX$1:$AX$6187)),ROW(82:82))))","v":""},{"$f":"IF(ISERROR(INDEX('Trust - Frontsheet'!AW$1:AW$6187,SMALL(IF('Trust - Frontsheet'!$AX$1:$AX$6187=$B$2,ROW('Trust - Frontsheet'!$AX$1:$AX$6187)),ROW(82:82)))),\"\",INDEX('Trust - Frontsheet'!AW$1:AW$6187,SMALL(IF('Trust - Frontsheet'!$AX$1:$AX$6187=$B$2,ROW('Trust - Frontsheet'!$AX$1:$AX$6187)),ROW(82:82))))","v":""},{"$f":"IF($B88=\"\",\"\",SUMIF('Trust - Frontsheet'!$C$14:$C$213,$B88,'Trust - Frontsheet'!H$14:H$213))","v":""},{"$f":"IF($B88=\"\",\"\",SUMIF('Trust - Frontsheet'!$C$14:$C$213,$B88,'Trust - Frontsheet'!I$14:I$213))","v":""},{"$f":"IF($B88=\"\",\"\",SUMIF('Trust - Frontsheet'!$C$14:$C$213,$B88,'Trust - Frontsheet'!J$14:J$213))","v":""},{"$f":"IF($B88=\"\",\"\",SUMIF('Trust - Frontsheet'!$C$14:$C$213,$B88,'Trust - Frontsheet'!K$14:K$213))","v":""},{"$f":"IF($B88=\"\",\"\",SUMIF('Trust - Frontsheet'!$C$14:$C$213,$B88,'Trust - Frontsheet'!L$14:L$213))","v":""},{"$f":"IF($B88=\"\",\"\",SUMIF('Trust - Frontsheet'!$C$14:$C$213,$B88,'Trust - Frontsheet'!M$14:M$213))","v":""},{"$f":"IF($B88=\"\",\"\",SUMIF('Trust - Frontsheet'!$C$14:$C$213,$B88,'Trust - Frontsheet'!N$14:N$213))","v":""},{"$f":"IF($B88=\"\",\"\",SUMIF('Trust - Frontsheet'!$C$14:$C$213,$B88,'Trust - Frontsheet'!O$14:O$213))","v":""},"","","","",{"$f":"IF($B88=\"\",\"\",SUMIF('Trust - Frontsheet'!$C$14:$C$213,$B88,'Trust - Frontsheet'!T$14:T$213))","v":""},"","",""]
[null,{"$f":"IF(ISERROR(INDEX('Trust - Frontsheet'!AV$1:AV$6187,SMALL(IF('Trust - Frontsheet'!$AX$1:$AX$6187=$B$2,ROW('Trust - Frontsheet'!$AX$1:$AX$6187)),ROW(83:83)))),\"\",INDEX('Trust - Frontsheet'!AV$1:AV$6187,SMALL(IF('Trust - Frontsheet'!$AX$1:$AX$6187=$B$2,ROW('Trust - Frontsheet'!$AX$1:$AX$6187)),ROW(83:83))))","v":""},{"$f":"IF(ISERROR(INDEX('Trust - Frontsheet'!AW$1:AW$6187,SMALL(IF('Trust - Frontsheet'!$AX$1:$AX$6187=$B$2,ROW('Trust - Frontsheet'!$AX$1:$AX$6187)),ROW(83:83)))),\"\",INDEX('Trust - Frontsheet'!AW$1:AW$6187,SMALL(IF('Trust - Frontsheet'!$AX$1:$AX$6187=$B$2,ROW('Trust - Frontsheet'!$AX$1:$AX$6187)),ROW(83:83))))","v":""},{"$f":"IF($B89=\"\",\"\",SUMIF('Trust - Frontsheet'!$C$14:$C$213,$B89,'Trust - Frontsheet'!H$14:H$213))","v":""},{"$f":"IF($B89=\"\",\"\",SUMIF('Trust - Frontsheet'!$C$14:$C$213,$B89,'Trust - Frontsheet'!I$14:I$213))","v":""},{"$f":"IF($B89=\"\",\"\",SUMIF('Trust - Frontsheet'!$C$14:$C$213,$B89,'Trust - Frontsheet'!J$14:J$213))","v":""},{"$f":"IF($B89=\"\",\"\",SUMIF('Trust - Frontsheet'!$C$14:$C$213,$B89,'Trust - Frontsheet'!K$14:K$213))","v":""},{"$f":"IF($B89=\"\",\"\",SUMIF('Trust - Frontsheet'!$C$14:$C$213,$B89,'Trust - Frontsheet'!L$14:L$213))","v":""},{"$f":"IF($B89=\"\",\"\",SUMIF('Trust - Frontsheet'!$C$14:$C$213,$B89,'Trust - Frontsheet'!M$14:M$213))","v":""},{"$f":"IF($B89=\"\",\"\",SUMIF('Trust - Frontsheet'!$C$14:$C$213,$B89,'Trust - Frontsheet'!N$14:N$213))","v":""},{"$f":"IF($B89=\"\",\"\",SUMIF('Trust - Frontsheet'!$C$14:$C$213,$B89,'Trust - Frontsheet'!O$14:O$213))","v":""},"","","","",{"$f":"IF($B89=\"\",\"\",SUMIF('Trust - Frontsheet'!$C$14:$C$213,$B89,'Trust - Frontsheet'!T$14:T$213))","v":""},"","",""]
[null,{"$f":"IF(ISERROR(INDEX('Trust - Frontsheet'!AV$1:AV$6187,SMALL(IF('Trust - Frontsheet'!$AX$1:$AX$6187=$B$2,ROW('Trust - Frontsheet'!$AX$1:$AX$6187)),ROW(84:84)))),\"\",INDEX('Trust - Frontsheet'!AV$1:AV$6187,SMALL(IF('Trust - Frontsheet'!$AX$1:$AX$6187=$B$2,ROW('Trust - Frontsheet'!$AX$1:$AX$6187)),ROW(84:84))))","v":""},{"$f":"IF(ISERROR(INDEX('Trust - Frontsheet'!AW$1:AW$6187,SMALL(IF('Trust - Frontsheet'!$AX$1:$AX$6187=$B$2,ROW('Trust - Frontsheet'!$AX$1:$AX$6187)),ROW(84:84)))),\"\",INDEX('Trust - Frontsheet'!AW$1:AW$6187,SMALL(IF('Trust - Frontsheet'!$AX$1:$AX$6187=$B$2,ROW('Trust - Frontsheet'!$AX$1:$AX$6187)),ROW(84:84))))","v":""},{"$f":"IF($B90=\"\",\"\",SUMIF('Trust - Frontsheet'!$C$14:$C$213,$B90,'Trust - Frontsheet'!H$14:H$213))","v":""},{"$f":"IF($B90=\"\",\"\",SUMIF('Trust - Frontsheet'!$C$14:$C$213,$B90,'Trust - Frontsheet'!I$14:I$213))","v":""},{"$f":"IF($B90=\"\",\"\",SUMIF('Trust - Frontsheet'!$C$14:$C$213,$B90,'Trust - Frontsheet'!J$14:J$213))","v":""},{"$f":"IF($B90=\"\",\"\",SUMIF('Trust - Frontsheet'!$C$14:$C$213,$B90,'Trust - Frontsheet'!K$14:K$213))","v":""},{"$f":"IF($B90=\"\",\"\",SUMIF('Trust - Frontsheet'!$C$14:$C$213,$B90,'Trust - Frontsheet'!L$14:L$213))","v":""},{"$f":"IF($B90=\"\",\"\",SUMIF('Trust - Frontsheet'!$C$14:$C$213,$B90,'Trust - Frontsheet'!M$14:M$213))","v":""},{"$f":"IF($B90=\"\",\"\",SUMIF('Trust - Frontsheet'!$C$14:$C$213,$B90,'Trust - Frontsheet'!N$14:N$213))","v":""},{"$f":"IF($B90=\"\",\"\",SUMIF('Trust - Frontsheet'!$C$14:$C$213,$B90,'Trust - Frontsheet'!O$14:O$213))","v":""},"","","","",{"$f":"IF($B90=\"\",\"\",SUMIF('Trust - Frontsheet'!$C$14:$C$213,$B90,'Trust - Frontsheet'!T$14:T$213))","v":""},"","",""]
[null,{"$f":"IF(ISERROR(INDEX('Trust - Frontsheet'!AV$1:AV$6187,SMALL(IF('Trust - Frontsheet'!$AX$1:$AX$6187=$B$2,ROW('Trust - Frontsheet'!$AX$1:$AX$6187)),ROW(85:85)))),\"\",INDEX('Trust - Frontsheet'!AV$1:AV$6187,SMALL(IF('Trust - Frontsheet'!$AX$1:$AX$6187=$B$2,ROW('Trust - Frontsheet'!$AX$1:$AX$6187)),ROW(85:85))))","v":""},{"$f":"IF(ISERROR(INDEX('Trust - Frontsheet'!AW$1:AW$6187,SMALL(IF('Trust - Frontsheet'!$AX$1:$AX$6187=$B$2,ROW('Trust - Frontsheet'!$AX$1:$AX$6187)),ROW(85:85)))),\"\",INDEX('Trust - Frontsheet'!AW$1:AW$6187,SMALL(IF('Trust - Frontsheet'!$AX$1:$AX$6187=$B$2,ROW('Trust - Frontsheet'!$AX$1:$AX$6187)),ROW(85:85))))","v":""},{"$f":"IF($B91=\"\",\"\",SUMIF('Trust - Frontsheet'!$C$14:$C$213,$B91,'Trust - Frontsheet'!H$14:H$213))","v":""},{"$f":"IF($B91=\"\",\"\",SUMIF('Trust - Frontsheet'!$C$14:$C$213,$B91,'Trust - Frontsheet'!I$14:I$213))","v":""},{"$f":"IF($B91=\"\",\"\",SUMIF('Trust - Frontsheet'!$C$14:$C$213,$B91,'Trust - Frontsheet'!J$14:J$213))","v":""},{"$f":"IF($B91=\"\",\"\",SUMIF('Trust - Frontsheet'!$C$14:$C$213,$B91,'Trust - Frontsheet'!K$14:K$213))","v":""},{"$f":"IF($B91=\"\",\"\",SUMIF('Trust - Frontsheet'!$C$14:$C$213,$B91,'Trust - Frontsheet'!L$14:L$213))","v":""},{"$f":"IF($B91=\"\",\"\",SUMIF('Trust - Frontsheet'!$C$14:$C$213,$B91,'Trust - Frontsheet'!M$14:M$213))","v":""},{"$f":"IF($B91=\"\",\"\",SUMIF('Trust - Frontsheet'!$C$14:$C$213,$B91,'Trust - Frontsheet'!N$14:N$213))","v":""},{"$f":"IF($B91=\"\",\"\",SUMIF('Trust - Frontsheet'!$C$14:$C$213,$B91,'Trust - Frontsheet'!O$14:O$213))","v":""},"","","","",{"$f":"IF($B91=\"\",\"\",SUMIF('Trust - Frontsheet'!$C$14:$C$213,$B91,'Trust - Frontsheet'!T$14:T$213))","v":""},"","",""]
[null,{"$f":"IF(ISERROR(INDEX('Trust - Frontsheet'!AV$1:AV$6187,SMALL(IF('Trust - Frontsheet'!$AX$1:$AX$6187=$B$2,ROW('Trust - Frontsheet'!$AX$1:$AX$6187)),ROW(86:86)))),\"\",INDEX('Trust - Frontsheet'!AV$1:AV$6187,SMALL(IF('Trust - Frontsheet'!$AX$1:$AX$6187=$B$2,ROW('Trust - Frontsheet'!$AX$1:$AX$6187)),ROW(86:86))))","v":""},{"$f":"IF(ISERROR(INDEX('Trust - Frontsheet'!AW$1:AW$6187,SMALL(IF('Trust - Frontsheet'!$AX$1:$AX$6187=$B$2,ROW('Trust - Frontsheet'!$AX$1:$AX$6187)),ROW(86:86)))),\"\",INDEX('Trust - Frontsheet'!AW$1:AW$6187,SMALL(IF('Trust - Frontsheet'!$AX$1:$AX$6187=$B$2,ROW('Trust - Frontsheet'!$AX$1:$AX$6187)),ROW(86:86))))","v":""},{"$f":"IF($B92=\"\",\"\",SUMIF('Trust - Frontsheet'!$C$14:$C$213,$B92,'Trust - Frontsheet'!H$14:H$213))","v":""},{"$f":"IF($B92=\"\",\"\",SUMIF('Trust - Frontsheet'!$C$14:$C$213,$B92,'Trust - Frontsheet'!I$14:I$213))","v":""},{"$f":"IF($B92=\"\",\"\",SUMIF('Trust - Frontsheet'!$C$14:$C$213,$B92,'Trust - Frontsheet'!J$14:J$213))","v":""},{"$f":"IF($B92=\"\",\"\",SUMIF('Trust - Frontsheet'!$C$14:$C$213,$B92,'Trust - Frontsheet'!K$14:K$213))","v":""},{"$f":"IF($B92=\"\",\"\",SUMIF('Trust - Frontsheet'!$C$14:$C$213,$B92,'Trust - Frontsheet'!L$14:L$213))","v":""},{"$f":"IF($B92=\"\",\"\",SUMIF('Trust - Frontsheet'!$C$14:$C$213,$B92,'Trust - Frontsheet'!M$14:M$213))","v":""},{"$f":"IF($B92=\"\",\"\",SUMIF('Trust - Frontsheet'!$C$14:$C$213,$B92,'Trust - Frontsheet'!N$14:N$213))","v":""},{"$f":"IF($B92=\"\",\"\",SUMIF('Trust - Frontsheet'!$C$14:$C$213,$B92,'Trust - Frontsheet'!O$14:O$213))","v":""},"","","","",{"$f":"IF($B92=\"\",\"\",SUMIF('Trust - Frontsheet'!$C$14:$C$213,$B92,'Trust - Frontsheet'!T$14:T$213))","v":""},"","",""]
[null,{"$f":"IF(ISERROR(INDEX('Trust - Frontsheet'!AV$1:AV$6187,SMALL(IF('Trust - Frontsheet'!$AX$1:$AX$6187=$B$2,ROW('Trust - Frontsheet'!$AX$1:$AX$6187)),ROW(87:87)))),\"\",INDEX('Trust - Frontsheet'!AV$1:AV$6187,SMALL(IF('Trust - Frontsheet'!$AX$1:$AX$6187=$B$2,ROW('Trust - Frontsheet'!$AX$1:$AX$6187)),ROW(87:87))))","v":""},{"$f":"IF(ISERROR(INDEX('Trust - Frontsheet'!AW$1:AW$6187,SMALL(IF('Trust - Frontsheet'!$AX$1:$AX$6187=$B$2,ROW('Trust - Frontsheet'!$AX$1:$AX$6187)),ROW(87:87)))),\"\",INDEX('Trust - Frontsheet'!AW$1:AW$6187,SMALL(IF('Trust - Frontsheet'!$AX$1:$AX$6187=$B$2,ROW('Trust - Frontsheet'!$AX$1:$AX$6187)),ROW(87:87))))","v":""},{"$f":"IF($B93=\"\",\"\",SUMIF('Trust - Frontsheet'!$C$14:$C$213,$B93,'Trust - Frontsheet'!H$14:H$213))","v":""},{"$f":"IF($B93=\"\",\"\",SUMIF('Trust - Frontsheet'!$C$14:$C$213,$B93,'Trust - Frontsheet'!I$14:I$213))","v":""},{"$f":"IF($B93=\"\",\"\",SUMIF('Trust - Frontsheet'!$C$14:$C$213,$B93,'Trust - Frontsheet'!J$14:J$213))","v":""},{"$f":"IF($B93=\"\",\"\",SUMIF('Trust - Frontsheet'!$C$14:$C$213,$B93,'Trust - Frontsheet'!K$14:K$213))","v":""},{"$f":"IF($B93=\"\",\"\",SUMIF('Trust - Frontsheet'!$C$14:$C$213,$B93,'Trust - Frontsheet'!L$14:L$213))","v":""},{"$f":"IF($B93=\"\",\"\",SUMIF('Trust - Frontsheet'!$C$14:$C$213,$B93,'Trust - Frontsheet'!M$14:M$213))","v":""},{"$f":"IF($B93=\"\",\"\",SUMIF('Trust - Frontsheet'!$C$14:$C$213,$B93,'Trust - Frontsheet'!N$14:N$213))","v":""},{"$f":"IF($B93=\"\",\"\",SUMIF('Trust - Frontsheet'!$C$14:$C$213,$B93,'Trust - Frontsheet'!O$14:O$213))","v":""},"","","","",{"$f":"IF($B93=\"\",\"\",SUMIF('Trust - Frontsheet'!$C$14:$C$213,$B93,'Trust - Frontsheet'!T$14:T$213))","v":""},"","",""]
[null,{"$f":"IF(ISERROR(INDEX('Trust - Frontsheet'!AV$1:AV$6187,SMALL(IF('Trust - Frontsheet'!$AX$1:$AX$6187=$B$2,ROW('Trust - Frontsheet'!$AX$1:$AX$6187)),ROW(88:88)))),\"\",INDEX('Trust - Frontsheet'!AV$1:AV$6187,SMALL(IF('Trust - Frontsheet'!$AX$1:$AX$6187=$B$2,ROW('Trust - Frontsheet'!$AX$1:$AX$6187)),ROW(88:88))))","v":""},{"$f":"IF(ISERROR(INDEX('Trust - Frontsheet'!AW$1:AW$6187,SMALL(IF('Trust - Frontsheet'!$AX$1:$AX$6187=$B$2,ROW('Trust - Frontsheet'!$AX$1:$AX$6187)),ROW(88:88)))),\"\",INDEX('Trust - Frontsheet'!AW$1:AW$6187,SMALL(IF('Trust - Frontsheet'!$AX$1:$AX$6187=$B$2,ROW('Trust - Frontsheet'!$AX$1:$AX$6187)),ROW(88:88))))","v":""},{"$f":"IF($B94=\"\",\"\",SUMIF('Trust - Frontsheet'!$C$14:$C$213,$B94,'Trust - Frontsheet'!H$14:H$213))","v":""},{"$f":"IF($B94=\"\",\"\",SUMIF('Trust - Frontsheet'!$C$14:$C$213,$B94,'Trust - Frontsheet'!I$14:I$213))","v":""},{"$f":"IF($B94=\"\",\"\",SUMIF('Trust - Frontsheet'!$C$14:$C$213,$B94,'Trust - Frontsheet'!J$14:J$213))","v":""},{"$f":"IF($B94=\"\",\"\",SUMIF('Trust - Frontsheet'!$C$14:$C$213,$B94,'Trust - Frontsheet'!K$14:K$213))","v":""},{"$f":"IF($B94=\"\",\"\",SUMIF('Trust - Frontsheet'!$C$14:$C$213,$B94,'Trust - Frontsheet'!L$14:L$213))","v":""},{"$f":"IF($B94=\"\",\"\",SUMIF('Trust - Frontsheet'!$C$14:$C$213,$B94,'Trust - Frontsheet'!M$14:M$213))","v":""},{"$f":"IF($B94=\"\",\"\",SUMIF('Trust - Frontsheet'!$C$14:$C$213,$B94,'Trust - Frontsheet'!N$14:N$213))","v":""},{"$f":"IF($B94=\"\",\"\",SUMIF('Trust - Frontsheet'!$C$14:$C$213,$B94,'Trust - Frontsheet'!O$14:O$213))","v":""},"","","","",{"$f":"IF($B94=\"\",\"\",SUMIF('Trust - Frontsheet'!$C$14:$C$213,$B94,'Trust - Frontsheet'!T$14:T$213))","v":""},"","",""]
[null,{"$f":"IF(ISERROR(INDEX('Trust - Frontsheet'!AV$1:AV$6187,SMALL(IF('Trust - Frontsheet'!$AX$1:$AX$6187=$B$2,ROW('Trust - Frontsheet'!$AX$1:$AX$6187)),ROW(89:89)))),\"\",INDEX('Trust - Frontsheet'!AV$1:AV$6187,SMALL(IF('Trust - Frontsheet'!$AX$1:$AX$6187=$B$2,ROW('Trust - Frontsheet'!$AX$1:$AX$6187)),ROW(89:89))))","v":""},{"$f":"IF(ISERROR(INDEX('Trust - Frontsheet'!AW$1:AW$6187,SMALL(IF('Trust - Frontsheet'!$AX$1:$AX$6187=$B$2,ROW('Trust - Frontsheet'!$AX$1:$AX$6187)),ROW(89:89)))),\"\",INDEX('Trust - Frontsheet'!AW$1:AW$6187,SMALL(IF('Trust - Frontsheet'!$AX$1:$AX$6187=$B$2,ROW('Trust - Frontsheet'!$AX$1:$AX$6187)),ROW(89:89))))","v":""},{"$f":"IF($B95=\"\",\"\",SUMIF('Trust - Frontsheet'!$C$14:$C$213,$B95,'Trust - Frontsheet'!H$14:H$213))","v":""},{"$f":"IF($B95=\"\",\"\",SUMIF('Trust - Frontsheet'!$C$14:$C$213,$B95,'Trust - Frontsheet'!I$14:I$213))","v":""},{"$f":"IF($B95=\"\",\"\",SUMIF('Trust - Frontsheet'!$C$14:$C$213,$B95,'Trust - Frontsheet'!J$14:J$213))","v":""},{"$f":"IF($B95=\"\",\"\",SUMIF('Trust - Frontsheet'!$C$14:$C$213,$B95,'Trust - Frontsheet'!K$14:K$213))","v":""},{"$f":"IF($B95=\"\",\"\",SUMIF('Trust - Frontsheet'!$C$14:$C$213,$B95,'Trust - Frontsheet'!L$14:L$213))","v":""},{"$f":"IF($B95=\"\",\"\",SUMIF('Trust - Frontsheet'!$C$14:$C$213,$B95,'Trust - Frontsheet'!M$14:M$213))","v":""},{"$f":"IF($B95=\"\",\"\",SUMIF('Trust - Frontsheet'!$C$14:$C$213,$B95,'Trust - Frontsheet'!N$14:N$213))","v":""},{"$f":"IF($B95=\"\",\"\",SUMIF('Trust - Frontsheet'!$C$14:$C$213,$B95,'Trust - Frontsheet'!O$14:O$213))","v":""},"","","","",{"$f":"IF($B95=\"\",\"\",SUMIF('Trust - Frontsheet'!$C$14:$C$213,$B95,'Trust - Frontsheet'!T$14:T$213))","v":""},"","",""]
[null,{"$f":"IF(ISERROR(INDEX('Trust - Frontsheet'!AV$1:AV$6187,SMALL(IF('Trust - Frontsheet'!$AX$1:$AX$6187=$B$2,ROW('Trust - Frontsheet'!$AX$1:$AX$6187)),ROW(90:90)))),\"\",INDEX('Trust - Frontsheet'!AV$1:AV$6187,SMALL(IF('Trust - Frontsheet'!$AX$1:$AX$6187=$B$2,ROW('Trust - Frontsheet'!$AX$1:$AX$6187)),ROW(90:90))))","v":""},{"$f":"IF(ISERROR(INDEX('Trust - Frontsheet'!AW$1:AW$6187,SMALL(IF('Trust - Frontsheet'!$AX$1:$AX$6187=$B$2,ROW('Trust - Frontsheet'!$AX$1:$AX$6187)),ROW(90:90)))),\"\",INDEX('Trust - Frontsheet'!AW$1:AW$6187,SMALL(IF('Trust - Frontsheet'!$AX$1:$AX$6187=$B$2,ROW('Trust - Frontsheet'!$AX$1:$AX$6187)),ROW(90:90))))","v":""},{"$f":"IF($B96=\"\",\"\",SUMIF('Trust - Frontsheet'!$C$14:$C$213,$B96,'Trust - Frontsheet'!H$14:H$213))","v":""},{"$f":"IF($B96=\"\",\"\",SUMIF('Trust - Frontsheet'!$C$14:$C$213,$B96,'Trust - Frontsheet'!I$14:I$213))","v":""},{"$f":"IF($B96=\"\",\"\",SUMIF('Trust - Frontsheet'!$C$14:$C$213,$B96,'Trust - Frontsheet'!J$14:J$213))","v":""},{"$f":"IF($B96=\"\",\"\",SUMIF('Trust - Frontsheet'!$C$14:$C$213,$B96,'Trust - Frontsheet'!K$14:K$213))","v":""},{"$f":"IF($B96=\"\",\"\",SUMIF('Trust - Frontsheet'!$C$14:$C$213,$B96,'Trust - Frontsheet'!L$14:L$213))","v":""},{"$f":"IF($B96=\"\",\"\",SUMIF('Trust - Frontsheet'!$C$14:$C$213,$B96,'Trust - Frontsheet'!M$14:M$213))","v":""},{"$f":"IF($B96=\"\",\"\",SUMIF('Trust - Frontsheet'!$C$14:$C$213,$B96,'Trust - Frontsheet'!N$14:N$213))","v":""},{"$f":"IF($B96=\"\",\"\",SUMIF('Trust - Frontsheet'!$C$14:$C$213,$B96,'Trust - Frontsheet'!O$14:O$213))","v":""},"","","","",{"$f":"IF($B96=\"\",\"\",SUMIF('Trust - Frontsheet'!$C$14:$C$213,$B96,'Trust - Frontsheet'!T$14:T$213))","v":""},"","",""]
[null,{"$f":"IF(ISERROR(INDEX('Trust - Frontsheet'!AV$1:AV$6187,SMALL(IF('Trust - Frontsheet'!$AX$1:$AX$6187=$B$2,ROW('Trust - Frontsheet'!$AX$1:$AX$6187)),ROW(91:91)))),\"\",INDEX('Trust - Frontsheet'!AV$1:AV$6187,SMALL(IF('Trust - Frontsheet'!$AX$1:$AX$6187=$B$2,ROW('Trust - Frontsheet'!$AX$1:$AX$6187)),ROW(91:91))))","v":""},{"$f":"IF(ISERROR(INDEX('Trust - Frontsheet'!AW$1:AW$6187,SMALL(IF('Trust - Frontsheet'!$AX$1:$AX$6187=$B$2,ROW('Trust - Frontsheet'!$AX$1:$AX$6187)),ROW(91:91)))),\"\",INDEX('Trust - Frontsheet'!AW$1:AW$6187,SMALL(IF('Trust - Frontsheet'!$AX$1:$AX$6187=$B$2,ROW('Trust - Frontsheet'!$AX$1:$AX$6187)),ROW(91:91))))","v":""},{"$f":"IF($B97=\"\",\"\",SUMIF('Trust - Frontsheet'!$C$14:$C$213,$B97,'Trust - Frontsheet'!H$14:H$213))","v":""},{"$f":"IF($B97=\"\",\"\",SUMIF('Trust - Frontsheet'!$C$14:$C$213,$B97,'Trust - Frontsheet'!I$14:I$213))","v":""},{"$f":"IF($B97=\"\",\"\",SUMIF('Trust - Frontsheet'!$C$14:$C$213,$B97,'Trust - Frontsheet'!J$14:J$213))","v":""},{"$f":"IF($B97=\"\",\"\",SUMIF('Trust - Frontsheet'!$C$14:$C$213,$B97,'Trust - Frontsheet'!K$14:K$213))","v":""},{"$f":"IF($B97=\"\",\"\",SUMIF('Trust - Frontsheet'!$C$14:$C$213,$B97,'Trust - Frontsheet'!L$14:L$213))","v":""},{"$f":"IF($B97=\"\",\"\",SUMIF('Trust - Frontsheet'!$C$14:$C$213,$B97,'Trust - Frontsheet'!M$14:M$213))","v":""},{"$f":"IF($B97=\"\",\"\",SUMIF('Trust - Frontsheet'!$C$14:$C$213,$B97,'Trust - Frontsheet'!N$14:N$213))","v":""},{"$f":"IF($B97=\"\",\"\",SUMIF('Trust - Frontsheet'!$C$14:$C$213,$B97,'Trust - Frontsheet'!O$14:O$213))","v":""},"","","","",{"$f":"IF($B97=\"\",\"\",SUMIF('Trust - Frontsheet'!$C$14:$C$213,$B97,'Trust - Frontsheet'!T$14:T$213))","v":""},"","",""]
[null,{"$f":"IF(ISERROR(INDEX('Trust - Frontsheet'!AV$1:AV$6187,SMALL(IF('Trust - Frontsheet'!$AX$1:$AX$6187=$B$2,ROW('Trust - Frontsheet'!$AX$1:$AX$6187)),ROW(92:92)))),\"\",INDEX('Trust - Frontsheet'!AV$1:AV$6187,SMALL(IF('Trust - Frontsheet'!$AX$1:$AX$6187=$B$2,ROW('Trust - Frontsheet'!$AX$1:$AX$6187)),ROW(92:92))))","v":""},{"$f":"IF(ISERROR(INDEX('Trust - Frontsheet'!AW$1:AW$6187,SMALL(IF('Trust - Frontsheet'!$AX$1:$AX$6187=$B$2,ROW('Trust - Frontsheet'!$AX$1:$AX$6187)),ROW(92:92)))),\"\",INDEX('Trust - Frontsheet'!AW$1:AW$6187,SMALL(IF('Trust - Frontsheet'!$AX$1:$AX$6187=$B$2,ROW('Trust - Frontsheet'!$AX$1:$AX$6187)),ROW(92:92))))","v":""},{"$f":"IF($B98=\"\",\"\",SUMIF('Trust - Frontsheet'!$C$14:$C$213,$B98,'Trust - Frontsheet'!H$14:H$213))","v":""},{"$f":"IF($B98=\"\",\"\",SUMIF('Trust - Frontsheet'!$C$14:$C$213,$B98,'Trust - Frontsheet'!I$14:I$213))","v":""},{"$f":"IF($B98=\"\",\"\",SUMIF('Trust - Frontsheet'!$C$14:$C$213,$B98,'Trust - Frontsheet'!J$14:J$213))","v":""},{"$f":"IF($B98=\"\",\"\",SUMIF('Trust - Frontsheet'!$C$14:$C$213,$B98,'Trust - Frontsheet'!K$14:K$213))","v":""},{"$f":"IF($B98=\"\",\"\",SUMIF('Trust - Frontsheet'!$C$14:$C$213,$B98,'Trust - Frontsheet'!L$14:L$213))","v":""},{"$f":"IF($B98=\"\",\"\",SUMIF('Trust - Frontsheet'!$C$14:$C$213,$B98,'Trust - Frontsheet'!M$14:M$213))","v":""},{"$f":"IF($B98=\"\",\"\",SUMIF('Trust - Frontsheet'!$C$14:$C$213,$B98,'Trust - Frontsheet'!N$14:N$213))","v":""},{"$f":"IF($B98=\"\",\"\",SUMIF('Trust - Frontsheet'!$C$14:$C$213,$B98,'Trust - Frontsheet'!O$14:O$213))","v":""},"","","","",{"$f":"IF($B98=\"\",\"\",SUMIF('Trust - Frontsheet'!$C$14:$C$213,$B98,'Trust - Frontsheet'!T$14:T$213))","v":""},"","",""]
[null,{"$f":"IF(ISERROR(INDEX('Trust - Frontsheet'!AV$1:AV$6187,SMALL(IF('Trust - Frontsheet'!$AX$1:$AX$6187=$B$2,ROW('Trust - Frontsheet'!$AX$1:$AX$6187)),ROW(93:93)))),\"\",INDEX('Trust - Frontsheet'!AV$1:AV$6187,SMALL(IF('Trust - Frontsheet'!$AX$1:$AX$6187=$B$2,ROW('Trust - Frontsheet'!$AX$1:$AX$6187)),ROW(93:93))))","v":""},{"$f":"IF(ISERROR(INDEX('Trust - Frontsheet'!AW$1:AW$6187,SMALL(IF('Trust - Frontsheet'!$AX$1:$AX$6187=$B$2,ROW('Trust - Frontsheet'!$AX$1:$AX$6187)),ROW(93:93)))),\"\",INDEX('Trust - Frontsheet'!AW$1:AW$6187,SMALL(IF('Trust - Frontsheet'!$AX$1:$AX$6187=$B$2,ROW('Trust - Frontsheet'!$AX$1:$AX$6187)),ROW(93:93))))","v":""},{"$f":"IF($B99=\"\",\"\",SUMIF('Trust - Frontsheet'!$C$14:$C$213,$B99,'Trust - Frontsheet'!H$14:H$213))","v":""},{"$f":"IF($B99=\"\",\"\",SUMIF('Trust - Frontsheet'!$C$14:$C$213,$B99,'Trust - Frontsheet'!I$14:I$213))","v":""},{"$f":"IF($B99=\"\",\"\",SUMIF('Trust - Frontsheet'!$C$14:$C$213,$B99,'Trust - Frontsheet'!J$14:J$213))","v":""},{"$f":"IF($B99=\"\",\"\",SUMIF('Trust - Frontsheet'!$C$14:$C$213,$B99,'Trust - Frontsheet'!K$14:K$213))","v":""},{"$f":"IF($B99=\"\",\"\",SUMIF('Trust - Frontsheet'!$C$14:$C$213,$B99,'Trust - Frontsheet'!L$14:L$213))","v":""},{"$f":"IF($B99=\"\",\"\",SUMIF('Trust - Frontsheet'!$C$14:$C$213,$B99,'Trust - Frontsheet'!M$14:M$213))","v":""},{"$f":"IF($B99=\"\",\"\",SUMIF('Trust - Frontsheet'!$C$14:$C$213,$B99,'Trust - Frontsheet'!N$14:N$213))","v":""},{"$f":"IF($B99=\"\",\"\",SUMIF('Trust - Frontsheet'!$C$14:$C$213,$B99,'Trust - Frontsheet'!O$14:O$213))","v":""},"","","","",{"$f":"IF($B99=\"\",\"\",SUMIF('Trust - Frontsheet'!$C$14:$C$213,$B99,'Trust - Frontsheet'!T$14:T$213))","v":""},"","",""]
[null,{"$f":"IF(ISERROR(INDEX('Trust - Frontsheet'!AV$1:AV$6187,SMALL(IF('Trust - Frontsheet'!$AX$1:$AX$6187=$B$2,ROW('Trust - Frontsheet'!$AX$1:$AX$6187)),ROW(94:94)))),\"\",INDEX('Trust - Frontsheet'!AV$1:AV$6187,SMALL(IF('Trust - Frontsheet'!$AX$1:$AX$6187=$B$2,ROW('Trust - Frontsheet'!$AX$1:$AX$6187)),ROW(94:94))))","v":""},{"$f":"IF(ISERROR(INDEX('Trust - Frontsheet'!AW$1:AW$6187,SMALL(IF('Trust - Frontsheet'!$AX$1:$AX$6187=$B$2,ROW('Trust - Frontsheet'!$AX$1:$AX$6187)),ROW(94:94)))),\"\",INDEX('Trust - Frontsheet'!AW$1:AW$6187,SMALL(IF('Trust - Frontsheet'!$AX$1:$AX$6187=$B$2,ROW('Trust - Frontsheet'!$AX$1:$AX$6187)),ROW(94:94))))","v":""},{"$f":"IF($B100=\"\",\"\",SUMIF('Trust - Frontsheet'!$C$14:$C$213,$B100,'Trust - Frontsheet'!H$14:H$213))","v":""},{"$f":"IF($B100=\"\",\"\",SUMIF('Trust - Frontsheet'!$C$14:$C$213,$B100,'Trust - Frontsheet'!I$14:I$213))","v":""},{"$f":"IF($B100=\"\",\"\",SUMIF('Trust - Frontsheet'!$C$14:$C$213,$B100,'Trust - Frontsheet'!J$14:J$213))","v":""},{"$f":"IF($B100=\"\",\"\",SUMIF('Trust - Frontsheet'!$C$14:$C$213,$B100,'Trust - Frontsheet'!K$14:K$213))","v":""},{"$f":"IF($B100=\"\",\"\",SUMIF('Trust - Frontsheet'!$C$14:$C$213,$B100,'Trust - Frontsheet'!L$14:L$213))","v":""},{"$f":"IF($B100=\"\",\"\",SUMIF('Trust - Frontsheet'!$C$14:$C$213,$B100,'Trust - Frontsheet'!M$14:M$213))","v":""},{"$f":"IF($B100=\"\",\"\",SUMIF('Trust - Frontsheet'!$C$14:$C$213,$B100,'Trust - Frontsheet'!N$14:N$213))","v":""},{"$f":"IF($B100=\"\",\"\",SUMIF('Trust - Frontsheet'!$C$14:$C$213,$B100,'Trust - Frontsheet'!O$14:O$213))","v":""},"","","","",{"$f":"IF($B100=\"\",\"\",SUMIF('Trust - Frontsheet'!$C$14:$C$213,$B100,'Trust - Frontsheet'!T$14:T$213))","v":""},"","",""]
[null,{"$f":"IF(ISERROR(INDEX('Trust - Frontsheet'!AV$1:AV$6187,SMALL(IF('Trust - Frontsheet'!$AX$1:$AX$6187=$B$2,ROW('Trust - Frontsheet'!$AX$1:$AX$6187)),ROW(95:95)))),\"\",INDEX('Trust - Frontsheet'!AV$1:AV$6187,SMALL(IF('Trust - Frontsheet'!$AX$1:$AX$6187=$B$2,ROW('Trust - Frontsheet'!$AX$1:$AX$6187)),ROW(95:95))))","v":""},{"$f":"IF(ISERROR(INDEX('Trust - Frontsheet'!AW$1:AW$6187,SMALL(IF('Trust - Frontsheet'!$AX$1:$AX$6187=$B$2,ROW('Trust - Frontsheet'!$AX$1:$AX$6187)),ROW(95:95)))),\"\",INDEX('Trust - Frontsheet'!AW$1:AW$6187,SMALL(IF('Trust - Frontsheet'!$AX$1:$AX$6187=$B$2,ROW('Trust - Frontsheet'!$AX$1:$AX$6187)),ROW(95:95))))","v":""},{"$f":"IF($B101=\"\",\"\",SUMIF('Trust - Frontsheet'!$C$14:$C$213,$B101,'Trust - Frontsheet'!H$14:H$213))","v":""},{"$f":"IF($B101=\"\",\"\",SUMIF('Trust - Frontsheet'!$C$14:$C$213,$B101,'Trust - Frontsheet'!I$14:I$213))","v":""},{"$f":"IF($B101=\"\",\"\",SUMIF('Trust - Frontsheet'!$C$14:$C$213,$B101,'Trust - Frontsheet'!J$14:J$213))","v":""},{"$f":"IF($B101=\"\",\"\",SUMIF('Trust - Frontsheet'!$C$14:$C$213,$B101,'Trust - Frontsheet'!K$14:K$213))","v":""},{"$f":"IF($B101=\"\",\"\",SUMIF('Trust - Frontsheet'!$C$14:$C$213,$B101,'Trust - Frontsheet'!L$14:L$213))","v":""},{"$f":"IF($B101=\"\",\"\",SUMIF('Trust - Frontsheet'!$C$14:$C$213,$B101,'Trust - Frontsheet'!M$14:M$213))","v":""},{"$f":"IF($B101=\"\",\"\",SUMIF('Trust - Frontsheet'!$C$14:$C$213,$B101,'Trust - Frontsheet'!N$14:N$213))","v":""},{"$f":"IF($B101=\"\",\"\",SUMIF('Trust - Frontsheet'!$C$14:$C$213,$B101,'Trust - Frontsheet'!O$14:O$213))","v":""},"","","","",{"$f":"IF($B101=\"\",\"\",SUMIF('Trust - Frontsheet'!$C$14:$C$213,$B101,'Trust - Frontsheet'!T$14:T$213))","v":""},"","",""]
[null,{"$f":"IF(ISERROR(INDEX('Trust - Frontsheet'!AV$1:AV$6187,SMALL(IF('Trust - Frontsheet'!$AX$1:$AX$6187=$B$2,ROW('Trust - Frontsheet'!$AX$1:$AX$6187)),ROW(96:96)))),\"\",INDEX('Trust - Frontsheet'!AV$1:AV$6187,SMALL(IF('Trust - Frontsheet'!$AX$1:$AX$6187=$B$2,ROW('Trust - Frontsheet'!$AX$1:$AX$6187)),ROW(96:96))))","v":""},{"$f":"IF(ISERROR(INDEX('Trust - Frontsheet'!AW$1:AW$6187,SMALL(IF('Trust - Frontsheet'!$AX$1:$AX$6187=$B$2,ROW('Trust - Frontsheet'!$AX$1:$AX$6187)),ROW(96:96)))),\"\",INDEX('Trust - Frontsheet'!AW$1:AW$6187,SMALL(IF('Trust - Frontsheet'!$AX$1:$AX$6187=$B$2,ROW('Trust - Frontsheet'!$AX$1:$AX$6187)),ROW(96:96))))","v":""},{"$f":"IF($B102=\"\",\"\",SUMIF('Trust - Frontsheet'!$C$14:$C$213,$B102,'Trust - Frontsheet'!H$14:H$213))","v":""},{"$f":"IF($B102=\"\",\"\",SUMIF('Trust - Frontsheet'!$C$14:$C$213,$B102,'Trust - Frontsheet'!I$14:I$213))","v":""},{"$f":"IF($B102=\"\",\"\",SUMIF('Trust - Frontsheet'!$C$14:$C$213,$B102,'Trust - Frontsheet'!J$14:J$213))","v":""},{"$f":"IF($B102=\"\",\"\",SUMIF('Trust - Frontsheet'!$C$14:$C$213,$B102,'Trust - Frontsheet'!K$14:K$213))","v":""},{"$f":"IF($B102=\"\",\"\",SUMIF('Trust - Frontsheet'!$C$14:$C$213,$B102,'Trust - Frontsheet'!L$14:L$213))","v":""},{"$f":"IF($B102=\"\",\"\",SUMIF('Trust - Frontsheet'!$C$14:$C$213,$B102,'Trust - Frontsheet'!M$14:M$213))","v":""},{"$f":"IF($B102=\"\",\"\",SUMIF('Trust - Frontsheet'!$C$14:$C$213,$B102,'Trust - Frontsheet'!N$14:N$213))","v":""},{"$f":"IF($B102=\"\",\"\",SUMIF('Trust - Frontsheet'!$C$14:$C$213,$B102,'Trust - Frontsheet'!O$14:O$213))","v":""},"","","","",{"$f":"IF($B102=\"\",\"\",SUMIF('Trust - Frontsheet'!$C$14:$C$213,$B102,'Trust - Frontsheet'!T$14:T$213))","v":""},"","",""]
[null,{"$f":"IF(ISERROR(INDEX('Trust - Frontsheet'!AV$1:AV$6187,SMALL(IF('Trust - Frontsheet'!$AX$1:$AX$6187=$B$2,ROW('Trust - Frontsheet'!$AX$1:$AX$6187)),ROW(97:97)))),\"\",INDEX('Trust - Frontsheet'!AV$1:AV$6187,SMALL(IF('Trust - Frontsheet'!$AX$1:$AX$6187=$B$2,ROW('Trust - Frontsheet'!$AX$1:$AX$6187)),ROW(97:97))))","v":""},{"$f":"IF(ISERROR(INDEX('Trust - Frontsheet'!AW$1:AW$6187,SMALL(IF('Trust - Frontsheet'!$AX$1:$AX$6187=$B$2,ROW('Trust - Frontsheet'!$AX$1:$AX$6187)),ROW(97:97)))),\"\",INDEX('Trust - Frontsheet'!AW$1:AW$6187,SMALL(IF('Trust - Frontsheet'!$AX$1:$AX$6187=$B$2,ROW('Trust - Frontsheet'!$AX$1:$AX$6187)),ROW(97:97))))","v":""},{"$f":"IF($B103=\"\",\"\",SUMIF('Trust - Frontsheet'!$C$14:$C$213,$B103,'Trust - Frontsheet'!H$14:H$213))","v":""},{"$f":"IF($B103=\"\",\"\",SUMIF('Trust - Frontsheet'!$C$14:$C$213,$B103,'Trust - Frontsheet'!I$14:I$213))","v":""},{"$f":"IF($B103=\"\",\"\",SUMIF('Trust - Frontsheet'!$C$14:$C$213,$B103,'Trust - Frontsheet'!J$14:J$213))","v":""},{"$f":"IF($B103=\"\",\"\",SUMIF('Trust - Frontsheet'!$C$14:$C$213,$B103,'Trust - Frontsheet'!K$14:K$213))","v":""},{"$f":"IF($B103=\"\",\"\",SUMIF('Trust - Frontsheet'!$C$14:$C$213,$B103,'Trust - Frontsheet'!L$14:L$213))","v":""},{"$f":"IF($B103=\"\",\"\",SUMIF('Trust - Frontsheet'!$C$14:$C$213,$B103,'Trust - Frontsheet'!M$14:M$213))","v":""},{"$f":"IF($B103=\"\",\"\",SUMIF('Trust - Frontsheet'!$C$14:$C$213,$B103,'Trust - Frontsheet'!N$14:N$213))","v":""},{"$f":"IF($B103=\"\",\"\",SUMIF('Trust - Frontsheet'!$C$14:$C$213,$B103,'Trust - Frontsheet'!O$14:O$213))","v":""},"","","","",{"$f":"IF($B103=\"\",\"\",SUMIF('Trust - Frontsheet'!$C$14:$C$213,$B103,'Trust - Frontsheet'!T$14:T$213))","v":""},"","",""]
[null,{"$f":"IF(ISERROR(INDEX('Trust - Frontsheet'!AV$1:AV$6187,SMALL(IF('Trust - Frontsheet'!$AX$1:$AX$6187=$B$2,ROW('Trust - Frontsheet'!$AX$1:$AX$6187)),ROW(98:98)))),\"\",INDEX('Trust - Frontsheet'!AV$1:AV$6187,SMALL(IF('Trust - Frontsheet'!$AX$1:$AX$6187=$B$2,ROW('Trust - Frontsheet'!$AX$1:$AX$6187)),ROW(98:98))))","v":""},{"$f":"IF(ISERROR(INDEX('Trust - Frontsheet'!AW$1:AW$6187,SMALL(IF('Trust - Frontsheet'!$AX$1:$AX$6187=$B$2,ROW('Trust - Frontsheet'!$AX$1:$AX$6187)),ROW(98:98)))),\"\",INDEX('Trust - Frontsheet'!AW$1:AW$6187,SMALL(IF('Trust - Frontsheet'!$AX$1:$AX$6187=$B$2,ROW('Trust - Frontsheet'!$AX$1:$AX$6187)),ROW(98:98))))","v":""},{"$f":"IF($B104=\"\",\"\",SUMIF('Trust - Frontsheet'!$C$14:$C$213,$B104,'Trust - Frontsheet'!H$14:H$213))","v":""},{"$f":"IF($B104=\"\",\"\",SUMIF('Trust - Frontsheet'!$C$14:$C$213,$B104,'Trust - Frontsheet'!I$14:I$213))","v":""},{"$f":"IF($B104=\"\",\"\",SUMIF('Trust - Frontsheet'!$C$14:$C$213,$B104,'Trust - Frontsheet'!J$14:J$213))","v":""},{"$f":"IF($B104=\"\",\"\",SUMIF('Trust - Frontsheet'!$C$14:$C$213,$B104,'Trust - Frontsheet'!K$14:K$213))","v":""},{"$f":"IF($B104=\"\",\"\",SUMIF('Trust - Frontsheet'!$C$14:$C$213,$B104,'Trust - Frontsheet'!L$14:L$213))","v":""},{"$f":"IF($B104=\"\",\"\",SUMIF('Trust - Frontsheet'!$C$14:$C$213,$B104,'Trust - Frontsheet'!M$14:M$213))","v":""},{"$f":"IF($B104=\"\",\"\",SUMIF('Trust - Frontsheet'!$C$14:$C$213,$B104,'Trust - Frontsheet'!N$14:N$213))","v":""},{"$f":"IF($B104=\"\",\"\",SUMIF('Trust - Frontsheet'!$C$14:$C$213,$B104,'Trust - Frontsheet'!O$14:O$213))","v":""},"","","","",{"$f":"IF($B104=\"\",\"\",SUMIF('Trust - Frontsheet'!$C$14:$C$213,$B104,'Trust - Frontsheet'!T$14:T$213))","v":""},"","",""]
[null,{"$f":"IF(ISERROR(INDEX('Trust - Frontsheet'!AV$1:AV$6187,SMALL(IF('Trust - Frontsheet'!$AX$1:$AX$6187=$B$2,ROW('Trust - Frontsheet'!$AX$1:$AX$6187)),ROW(99:99)))),\"\",INDEX('Trust - Frontsheet'!AV$1:AV$6187,SMALL(IF('Trust - Frontsheet'!$AX$1:$AX$6187=$B$2,ROW('Trust - Frontsheet'!$AX$1:$AX$6187)),ROW(99:99))))","v":""},{"$f":"IF(ISERROR(INDEX('Trust - Frontsheet'!AW$1:AW$6187,SMALL(IF('Trust - Frontsheet'!$AX$1:$AX$6187=$B$2,ROW('Trust - Frontsheet'!$AX$1:$AX$6187)),ROW(99:99)))),\"\",INDEX('Trust - Frontsheet'!AW$1:AW$6187,SMALL(IF('Trust - Frontsheet'!$AX$1:$AX$6187=$B$2,ROW('Trust - Frontsheet'!$AX$1:$AX$6187)),ROW(99:99))))","v":""},{"$f":"IF($B105=\"\",\"\",SUMIF('Trust - Frontsheet'!$C$14:$C$213,$B105,'Trust - Frontsheet'!H$14:H$213))","v":""},{"$f":"IF($B105=\"\",\"\",SUMIF('Trust - Frontsheet'!$C$14:$C$213,$B105,'Trust - Frontsheet'!I$14:I$213))","v":""},{"$f":"IF($B105=\"\",\"\",SUMIF('Trust - Frontsheet'!$C$14:$C$213,$B105,'Trust - Frontsheet'!J$14:J$213))","v":""},{"$f":"IF($B105=\"\",\"\",SUMIF('Trust - Frontsheet'!$C$14:$C$213,$B105,'Trust - Frontsheet'!K$14:K$213))","v":""},{"$f":"IF($B105=\"\",\"\",SUMIF('Trust - Frontsheet'!$C$14:$C$213,$B105,'Trust - Frontsheet'!L$14:L$213))","v":""},{"$f":"IF($B105=\"\",\"\",SUMIF('Trust - Frontsheet'!$C$14:$C$213,$B105,'Trust - Frontsheet'!M$14:M$213))","v":""},{"$f":"IF($B105=\"\",\"\",SUMIF('Trust - Frontsheet'!$C$14:$C$213,$B105,'Trust - Frontsheet'!N$14:N$213))","v":""},{"$f":"IF($B105=\"\",\"\",SUMIF('Trust - Frontsheet'!$C$14:$C$213,$B105,'Trust - Frontsheet'!O$14:O$213))","v":""},"","","","",{"$f":"IF($B105=\"\",\"\",SUMIF('Trust - Frontsheet'!$C$14:$C$213,$B105,'Trust - Frontsheet'!T$14:T$213))","v":""},"","",""]
[null,{"$f":"IF(ISERROR(INDEX('Trust - Frontsheet'!AV$1:AV$6187,SMALL(IF('Trust - Frontsheet'!$AX$1:$AX$6187=$B$2,ROW('Trust - Frontsheet'!$AX$1:$AX$6187)),ROW(100:100)))),\"\",INDEX('Trust - Frontsheet'!AV$1:AV$6187,SMALL(IF('Trust - Frontsheet'!$AX$1:$AX$6187=$B$2,ROW('Trust - Frontsheet'!$AX$1:$AX$6187)),ROW(100:100))))","v":""},{"$f":"IF(ISERROR(INDEX('Trust - Frontsheet'!AW$1:AW$6187,SMALL(IF('Trust - Frontsheet'!$AX$1:$AX$6187=$B$2,ROW('Trust - Frontsheet'!$AX$1:$AX$6187)),ROW(100:100)))),\"\",INDEX('Trust - Frontsheet'!AW$1:AW$6187,SMALL(IF('Trust - Frontsheet'!$AX$1:$AX$6187=$B$2,ROW('Trust - Frontsheet'!$AX$1:$AX$6187)),ROW(100:100))))","v":""},{"$f":"IF($B106=\"\",\"\",SUMIF('Trust - Frontsheet'!$C$14:$C$213,$B106,'Trust - Frontsheet'!H$14:H$213))","v":""},{"$f":"IF($B106=\"\",\"\",SUMIF('Trust - Frontsheet'!$C$14:$C$213,$B106,'Trust - Frontsheet'!I$14:I$213))","v":""},{"$f":"IF($B106=\"\",\"\",SUMIF('Trust - Frontsheet'!$C$14:$C$213,$B106,'Trust - Frontsheet'!J$14:J$213))","v":""},{"$f":"IF($B106=\"\",\"\",SUMIF('Trust - Frontsheet'!$C$14:$C$213,$B106,'Trust - Frontsheet'!K$14:K$213))","v":""},{"$f":"IF($B106=\"\",\"\",SUMIF('Trust - Frontsheet'!$C$14:$C$213,$B106,'Trust - Frontsheet'!L$14:L$213))","v":""},{"$f":"IF($B106=\"\",\"\",SUMIF('Trust - Frontsheet'!$C$14:$C$213,$B106,'Trust - Frontsheet'!M$14:M$213))","v":""},{"$f":"IF($B106=\"\",\"\",SUMIF('Trust - Frontsheet'!$C$14:$C$213,$B106,'Trust - Frontsheet'!N$14:N$213))","v":""},{"$f":"IF($B106=\"\",\"\",SUMIF('Trust - Frontsheet'!$C$14:$C$213,$B106,'Trust - Frontsheet'!O$14:O$213))","v":""},"","","","",{"$f":"IF($B106=\"\",\"\",SUMIF('Trust - Frontsheet'!$C$14:$C$213,$B106,'Trust - Frontsheet'!T$14:T$213))","v":""},"","",""]
[null,{"$f":"IF(ISERROR(INDEX('Trust - Frontsheet'!AV$1:AV$6187,SMALL(IF('Trust - Frontsheet'!$AX$1:$AX$6187=$B$2,ROW('Trust - Frontsheet'!$AX$1:$AX$6187)),ROW(101:101)))),\"\",INDEX('Trust - Frontsheet'!AV$1:AV$6187,SMALL(IF('Trust - Frontsheet'!$AX$1:$AX$6187=$B$2,ROW('Trust - Frontsheet'!$AX$1:$AX$6187)),ROW(101:101))))","v":""},{"$f":"IF(ISERROR(INDEX('Trust - Frontsheet'!AW$1:AW$6187,SMALL(IF('Trust - Frontsheet'!$AX$1:$AX$6187=$B$2,ROW('Trust - Frontsheet'!$AX$1:$AX$6187)),ROW(101:101)))),\"\",INDEX('Trust - Frontsheet'!AW$1:AW$6187,SMALL(IF('Trust - Frontsheet'!$AX$1:$AX$6187=$B$2,ROW('Trust - Frontsheet'!$AX$1:$AX$6187)),ROW(101:101))))","v":""},{"$f":"IF($B107=\"\",\"\",SUMIF('Trust - Frontsheet'!$C$14:$C$213,$B107,'Trust - Frontsheet'!H$14:H$213))","v":""},{"$f":"IF($B107=\"\",\"\",SUMIF('Trust - Frontsheet'!$C$14:$C$213,$B107,'Trust - Frontsheet'!I$14:I$213))","v":""},{"$f":"IF($B107=\"\",\"\",SUMIF('Trust - Frontsheet'!$C$14:$C$213,$B107,'Trust - Frontsheet'!J$14:J$213))","v":""},{"$f":"IF($B107=\"\",\"\",SUMIF('Trust - Frontsheet'!$C$14:$C$213,$B107,'Trust - Frontsheet'!K$14:K$213))","v":""},{"$f":"IF($B107=\"\",\"\",SUMIF('Trust - Frontsheet'!$C$14:$C$213,$B107,'Trust - Frontsheet'!L$14:L$213))","v":""},{"$f":"IF($B107=\"\",\"\",SUMIF('Trust - Frontsheet'!$C$14:$C$213,$B107,'Trust - Frontsheet'!M$14:M$213))","v":""},{"$f":"IF($B107=\"\",\"\",SUMIF('Trust - Frontsheet'!$C$14:$C$213,$B107,'Trust - Frontsheet'!N$14:N$213))","v":""},{"$f":"IF($B107=\"\",\"\",SUMIF('Trust - Frontsheet'!$C$14:$C$213,$B107,'Trust - Frontsheet'!O$14:O$213))","v":""},"","","","",{"$f":"IF($B107=\"\",\"\",SUMIF('Trust - Frontsheet'!$C$14:$C$213,$B107,'Trust - Frontsheet'!T$14:T$213))","v":""},"","",""]
[null,{"$f":"IF(ISERROR(INDEX('Trust - Frontsheet'!AV$1:AV$6187,SMALL(IF('Trust - Frontsheet'!$AX$1:$AX$6187=$B$2,ROW('Trust - Frontsheet'!$AX$1:$AX$6187)),ROW(102:102)))),\"\",INDEX('Trust - Frontsheet'!AV$1:AV$6187,SMALL(IF('Trust - Frontsheet'!$AX$1:$AX$6187=$B$2,ROW('Trust - Frontsheet'!$AX$1:$AX$6187)),ROW(102:102))))","v":""},{"$f":"IF(ISERROR(INDEX('Trust - Frontsheet'!AW$1:AW$6187,SMALL(IF('Trust - Frontsheet'!$AX$1:$AX$6187=$B$2,ROW('Trust - Frontsheet'!$AX$1:$AX$6187)),ROW(102:102)))),\"\",INDEX('Trust - Frontsheet'!AW$1:AW$6187,SMALL(IF('Trust - Frontsheet'!$AX$1:$AX$6187=$B$2,ROW('Trust - Frontsheet'!$AX$1:$AX$6187)),ROW(102:102))))","v":""},{"$f":"IF($B108=\"\",\"\",SUMIF('Trust - Frontsheet'!$C$14:$C$213,$B108,'Trust - Frontsheet'!H$14:H$213))","v":""},{"$f":"IF($B108=\"\",\"\",SUMIF('Trust - Frontsheet'!$C$14:$C$213,$B108,'Trust - Frontsheet'!I$14:I$213))","v":""},{"$f":"IF($B108=\"\",\"\",SUMIF('Trust - Frontsheet'!$C$14:$C$213,$B108,'Trust - Frontsheet'!J$14:J$213))","v":""},{"$f":"IF($B108=\"\",\"\",SUMIF('Trust - Frontsheet'!$C$14:$C$213,$B108,'Trust - Frontsheet'!K$14:K$213))","v":""},{"$f":"IF($B108=\"\",\"\",SUMIF('Trust - Frontsheet'!$C$14:$C$213,$B108,'Trust - Frontsheet'!L$14:L$213))","v":""},{"$f":"IF($B108=\"\",\"\",SUMIF('Trust - Frontsheet'!$C$14:$C$213,$B108,'Trust - Frontsheet'!M$14:M$213))","v":""},{"$f":"IF($B108=\"\",\"\",SUMIF('Trust - Frontsheet'!$C$14:$C$213,$B108,'Trust - Frontsheet'!N$14:N$213))","v":""},{"$f":"IF($B108=\"\",\"\",SUMIF('Trust - Frontsheet'!$C$14:$C$213,$B108,'Trust - Frontsheet'!O$14:O$213))","v":""},"","","","",{"$f":"IF($B108=\"\",\"\",SUMIF('Trust - Frontsheet'!$C$14:$C$213,$B108,'Trust - Frontsheet'!T$14:T$213))","v":""},"","",""]
[null,{"$f":"IF(ISERROR(INDEX('Trust - Frontsheet'!AV$1:AV$6187,SMALL(IF('Trust - Frontsheet'!$AX$1:$AX$6187=$B$2,ROW('Trust - Frontsheet'!$AX$1:$AX$6187)),ROW(103:103)))),\"\",INDEX('Trust - Frontsheet'!AV$1:AV$6187,SMALL(IF('Trust - Frontsheet'!$AX$1:$AX$6187=$B$2,ROW('Trust - Frontsheet'!$AX$1:$AX$6187)),ROW(103:103))))","v":""},{"$f":"IF(ISERROR(INDEX('Trust - Frontsheet'!AW$1:AW$6187,SMALL(IF('Trust - Frontsheet'!$AX$1:$AX$6187=$B$2,ROW('Trust - Frontsheet'!$AX$1:$AX$6187)),ROW(103:103)))),\"\",INDEX('Trust - Frontsheet'!AW$1:AW$6187,SMALL(IF('Trust - Frontsheet'!$AX$1:$AX$6187=$B$2,ROW('Trust - Frontsheet'!$AX$1:$AX$6187)),ROW(103:103))))","v":""},{"$f":"IF($B109=\"\",\"\",SUMIF('Trust - Frontsheet'!$C$14:$C$213,$B109,'Trust - Frontsheet'!H$14:H$213))","v":""},{"$f":"IF($B109=\"\",\"\",SUMIF('Trust - Frontsheet'!$C$14:$C$213,$B109,'Trust - Frontsheet'!I$14:I$213))","v":""},{"$f":"IF($B109=\"\",\"\",SUMIF('Trust - Frontsheet'!$C$14:$C$213,$B109,'Trust - Frontsheet'!J$14:J$213))","v":""},{"$f":"IF($B109=\"\",\"\",SUMIF('Trust - Frontsheet'!$C$14:$C$213,$B109,'Trust - Frontsheet'!K$14:K$213))","v":""},{"$f":"IF($B109=\"\",\"\",SUMIF('Trust - Frontsheet'!$C$14:$C$213,$B109,'Trust - Frontsheet'!L$14:L$213))","v":""},{"$f":"IF($B109=\"\",\"\",SUMIF('Trust - Frontsheet'!$C$14:$C$213,$B109,'Trust - Frontsheet'!M$14:M$213))","v":""},{"$f":"IF($B109=\"\",\"\",SUMIF('Trust - Frontsheet'!$C$14:$C$213,$B109,'Trust - Frontsheet'!N$14:N$213))","v":""},{"$f":"IF($B109=\"\",\"\",SUMIF('Trust - Frontsheet'!$C$14:$C$213,$B109,'Trust - Frontsheet'!O$14:O$213))","v":""},"","","","",{"$f":"IF($B109=\"\",\"\",SUMIF('Trust - Frontsheet'!$C$14:$C$213,$B109,'Trust - Frontsheet'!T$14:T$213))","v":""},"","",""]
[null,{"$f":"IF(ISERROR(INDEX('Trust - Frontsheet'!AV$1:AV$6187,SMALL(IF('Trust - Frontsheet'!$AX$1:$AX$6187=$B$2,ROW('Trust - Frontsheet'!$AX$1:$AX$6187)),ROW(104:104)))),\"\",INDEX('Trust - Frontsheet'!AV$1:AV$6187,SMALL(IF('Trust - Frontsheet'!$AX$1:$AX$6187=$B$2,ROW('Trust - Frontsheet'!$AX$1:$AX$6187)),ROW(104:104))))","v":""},{"$f":"IF(ISERROR(INDEX('Trust - Frontsheet'!AW$1:AW$6187,SMALL(IF('Trust - Frontsheet'!$AX$1:$AX$6187=$B$2,ROW('Trust - Frontsheet'!$AX$1:$AX$6187)),ROW(104:104)))),\"\",INDEX('Trust - Frontsheet'!AW$1:AW$6187,SMALL(IF('Trust - Frontsheet'!$AX$1:$AX$6187=$B$2,ROW('Trust - Frontsheet'!$AX$1:$AX$6187)),ROW(104:104))))","v":""},{"$f":"IF($B110=\"\",\"\",SUMIF('Trust - Frontsheet'!$C$14:$C$213,$B110,'Trust - Frontsheet'!H$14:H$213))","v":""},{"$f":"IF($B110=\"\",\"\",SUMIF('Trust - Frontsheet'!$C$14:$C$213,$B110,'Trust - Frontsheet'!I$14:I$213))","v":""},{"$f":"IF($B110=\"\",\"\",SUMIF('Trust - Frontsheet'!$C$14:$C$213,$B110,'Trust - Frontsheet'!J$14:J$213))","v":""},{"$f":"IF($B110=\"\",\"\",SUMIF('Trust - Frontsheet'!$C$14:$C$213,$B110,'Trust - Frontsheet'!K$14:K$213))","v":""},{"$f":"IF($B110=\"\",\"\",SUMIF('Trust - Frontsheet'!$C$14:$C$213,$B110,'Trust - Frontsheet'!L$14:L$213))","v":""},{"$f":"IF($B110=\"\",\"\",SUMIF('Trust - Frontsheet'!$C$14:$C$213,$B110,'Trust - Frontsheet'!M$14:M$213))","v":""},{"$f":"IF($B110=\"\",\"\",SUMIF('Trust - Frontsheet'!$C$14:$C$213,$B110,'Trust - Frontsheet'!N$14:N$213))","v":""},{"$f":"IF($B110=\"\",\"\",SUMIF('Trust - Frontsheet'!$C$14:$C$213,$B110,'Trust - Frontsheet'!O$14:O$213))","v":""},"","","","",{"$f":"IF($B110=\"\",\"\",SUMIF('Trust - Frontsheet'!$C$14:$C$213,$B110,'Trust - Frontsheet'!T$14:T$213))","v":""},"","",""]
[null,{"$f":"IF(ISERROR(INDEX('Trust - Frontsheet'!AV$1:AV$6187,SMALL(IF('Trust - Frontsheet'!$AX$1:$AX$6187=$B$2,ROW('Trust - Frontsheet'!$AX$1:$AX$6187)),ROW(105:105)))),\"\",INDEX('Trust - Frontsheet'!AV$1:AV$6187,SMALL(IF('Trust - Frontsheet'!$AX$1:$AX$6187=$B$2,ROW('Trust - Frontsheet'!$AX$1:$AX$6187)),ROW(105:105))))","v":""},{"$f":"IF(ISERROR(INDEX('Trust - Frontsheet'!AW$1:AW$6187,SMALL(IF('Trust - Frontsheet'!$AX$1:$AX$6187=$B$2,ROW('Trust - Frontsheet'!$AX$1:$AX$6187)),ROW(105:105)))),\"\",INDEX('Trust - Frontsheet'!AW$1:AW$6187,SMALL(IF('Trust - Frontsheet'!$AX$1:$AX$6187=$B$2,ROW('Trust - Frontsheet'!$AX$1:$AX$6187)),ROW(105:105))))","v":""},{"$f":"IF($B111=\"\",\"\",SUMIF('Trust - Frontsheet'!$C$14:$C$213,$B111,'Trust - Frontsheet'!H$14:H$213))","v":""},{"$f":"IF($B111=\"\",\"\",SUMIF('Trust - Frontsheet'!$C$14:$C$213,$B111,'Trust - Frontsheet'!I$14:I$213))","v":""},{"$f":"IF($B111=\"\",\"\",SUMIF('Trust - Frontsheet'!$C$14:$C$213,$B111,'Trust - Frontsheet'!J$14:J$213))","v":""},{"$f":"IF($B111=\"\",\"\",SUMIF('Trust - Frontsheet'!$C$14:$C$213,$B111,'Trust - Frontsheet'!K$14:K$213))","v":""},{"$f":"IF($B111=\"\",\"\",SUMIF('Trust - Frontsheet'!$C$14:$C$213,$B111,'Trust - Frontsheet'!L$14:L$213))","v":""},{"$f":"IF($B111=\"\",\"\",SUMIF('Trust - Frontsheet'!$C$14:$C$213,$B111,'Trust - Frontsheet'!M$14:M$213))","v":""},{"$f":"IF($B111=\"\",\"\",SUMIF('Trust - Frontsheet'!$C$14:$C$213,$B111,'Trust - Frontsheet'!N$14:N$213))","v":""},{"$f":"IF($B111=\"\",\"\",SUMIF('Trust - Frontsheet'!$C$14:$C$213,$B111,'Trust - Frontsheet'!O$14:O$213))","v":""},"","","","",{"$f":"IF($B111=\"\",\"\",SUMIF('Trust - Frontsheet'!$C$14:$C$213,$B111,'Trust - Frontsheet'!T$14:T$213))","v":""},"","",""]
[null,{"$f":"IF(ISERROR(INDEX('Trust - Frontsheet'!AV$1:AV$6187,SMALL(IF('Trust - Frontsheet'!$AX$1:$AX$6187=$B$2,ROW('Trust - Frontsheet'!$AX$1:$AX$6187)),ROW(106:106)))),\"\",INDEX('Trust - Frontsheet'!AV$1:AV$6187,SMALL(IF('Trust - Frontsheet'!$AX$1:$AX$6187=$B$2,ROW('Trust - Frontsheet'!$AX$1:$AX$6187)),ROW(106:106))))","v":""},{"$f":"IF(ISERROR(INDEX('Trust - Frontsheet'!AW$1:AW$6187,SMALL(IF('Trust - Frontsheet'!$AX$1:$AX$6187=$B$2,ROW('Trust - Frontsheet'!$AX$1:$AX$6187)),ROW(106:106)))),\"\",INDEX('Trust - Frontsheet'!AW$1:AW$6187,SMALL(IF('Trust - Frontsheet'!$AX$1:$AX$6187=$B$2,ROW('Trust - Frontsheet'!$AX$1:$AX$6187)),ROW(106:106))))","v":""},{"$f":"IF($B112=\"\",\"\",SUMIF('Trust - Frontsheet'!$C$14:$C$213,$B112,'Trust - Frontsheet'!H$14:H$213))","v":""},{"$f":"IF($B112=\"\",\"\",SUMIF('Trust - Frontsheet'!$C$14:$C$213,$B112,'Trust - Frontsheet'!I$14:I$213))","v":""},{"$f":"IF($B112=\"\",\"\",SUMIF('Trust - Frontsheet'!$C$14:$C$213,$B112,'Trust - Frontsheet'!J$14:J$213))","v":""},{"$f":"IF($B112=\"\",\"\",SUMIF('Trust - Frontsheet'!$C$14:$C$213,$B112,'Trust - Frontsheet'!K$14:K$213))","v":""},{"$f":"IF($B112=\"\",\"\",SUMIF('Trust - Frontsheet'!$C$14:$C$213,$B112,'Trust - Frontsheet'!L$14:L$213))","v":""},{"$f":"IF($B112=\"\",\"\",SUMIF('Trust - Frontsheet'!$C$14:$C$213,$B112,'Trust - Frontsheet'!M$14:M$213))","v":""},{"$f":"IF($B112=\"\",\"\",SUMIF('Trust - Frontsheet'!$C$14:$C$213,$B112,'Trust - Frontsheet'!N$14:N$213))","v":""},{"$f":"IF($B112=\"\",\"\",SUMIF('Trust - Frontsheet'!$C$14:$C$213,$B112,'Trust - Frontsheet'!O$14:O$213))","v":""},"","","","",{"$f":"IF($B112=\"\",\"\",SUMIF('Trust - Frontsheet'!$C$14:$C$213,$B112,'Trust - Frontsheet'!T$14:T$213))","v":""},"","",""]
[null,{"$f":"IF(ISERROR(INDEX('Trust - Frontsheet'!AV$1:AV$6187,SMALL(IF('Trust - Frontsheet'!$AX$1:$AX$6187=$B$2,ROW('Trust - Frontsheet'!$AX$1:$AX$6187)),ROW(107:107)))),\"\",INDEX('Trust - Frontsheet'!AV$1:AV$6187,SMALL(IF('Trust - Frontsheet'!$AX$1:$AX$6187=$B$2,ROW('Trust - Frontsheet'!$AX$1:$AX$6187)),ROW(107:107))))","v":""},{"$f":"IF(ISERROR(INDEX('Trust - Frontsheet'!AW$1:AW$6187,SMALL(IF('Trust - Frontsheet'!$AX$1:$AX$6187=$B$2,ROW('Trust - Frontsheet'!$AX$1:$AX$6187)),ROW(107:107)))),\"\",INDEX('Trust - Frontsheet'!AW$1:AW$6187,SMALL(IF('Trust - Frontsheet'!$AX$1:$AX$6187=$B$2,ROW('Trust - Frontsheet'!$AX$1:$AX$6187)),ROW(107:107))))","v":""},{"$f":"IF($B113=\"\",\"\",SUMIF('Trust - Frontsheet'!$C$14:$C$213,$B113,'Trust - Frontsheet'!H$14:H$213))","v":""},{"$f":"IF($B113=\"\",\"\",SUMIF('Trust - Frontsheet'!$C$14:$C$213,$B113,'Trust - Frontsheet'!I$14:I$213))","v":""},{"$f":"IF($B113=\"\",\"\",SUMIF('Trust - Frontsheet'!$C$14:$C$213,$B113,'Trust - Frontsheet'!J$14:J$213))","v":""},{"$f":"IF($B113=\"\",\"\",SUMIF('Trust - Frontsheet'!$C$14:$C$213,$B113,'Trust - Frontsheet'!K$14:K$213))","v":""},{"$f":"IF($B113=\"\",\"\",SUMIF('Trust - Frontsheet'!$C$14:$C$213,$B113,'Trust - Frontsheet'!L$14:L$213))","v":""},{"$f":"IF($B113=\"\",\"\",SUMIF('Trust - Frontsheet'!$C$14:$C$213,$B113,'Trust - Frontsheet'!M$14:M$213))","v":""},{"$f":"IF($B113=\"\",\"\",SUMIF('Trust - Frontsheet'!$C$14:$C$213,$B113,'Trust - Frontsheet'!N$14:N$213))","v":""},{"$f":"IF($B113=\"\",\"\",SUMIF('Trust - Frontsheet'!$C$14:$C$213,$B113,'Trust - Frontsheet'!O$14:O$213))","v":""},"","","","",{"$f":"IF($B113=\"\",\"\",SUMIF('Trust - Frontsheet'!$C$14:$C$213,$B113,'Trust - Frontsheet'!T$14:T$213))","v":""},"","",""]
[null,{"$f":"IF(ISERROR(INDEX('Trust - Frontsheet'!AV$1:AV$6187,SMALL(IF('Trust - Frontsheet'!$AX$1:$AX$6187=$B$2,ROW('Trust - Frontsheet'!$AX$1:$AX$6187)),ROW(108:108)))),\"\",INDEX('Trust - Frontsheet'!AV$1:AV$6187,SMALL(IF('Trust - Frontsheet'!$AX$1:$AX$6187=$B$2,ROW('Trust - Frontsheet'!$AX$1:$AX$6187)),ROW(108:108))))","v":""},{"$f":"IF(ISERROR(INDEX('Trust - Frontsheet'!AW$1:AW$6187,SMALL(IF('Trust - Frontsheet'!$AX$1:$AX$6187=$B$2,ROW('Trust - Frontsheet'!$AX$1:$AX$6187)),ROW(108:108)))),\"\",INDEX('Trust - Frontsheet'!AW$1:AW$6187,SMALL(IF('Trust - Frontsheet'!$AX$1:$AX$6187=$B$2,ROW('Trust - Frontsheet'!$AX$1:$AX$6187)),ROW(108:108))))","v":""},{"$f":"IF($B114=\"\",\"\",SUMIF('Trust - Frontsheet'!$C$14:$C$213,$B114,'Trust - Frontsheet'!H$14:H$213))","v":""},{"$f":"IF($B114=\"\",\"\",SUMIF('Trust - Frontsheet'!$C$14:$C$213,$B114,'Trust - Frontsheet'!I$14:I$213))","v":""},{"$f":"IF($B114=\"\",\"\",SUMIF('Trust - Frontsheet'!$C$14:$C$213,$B114,'Trust - Frontsheet'!J$14:J$213))","v":""},{"$f":"IF($B114=\"\",\"\",SUMIF('Trust - Frontsheet'!$C$14:$C$213,$B114,'Trust - Frontsheet'!K$14:K$213))","v":""},{"$f":"IF($B114=\"\",\"\",SUMIF('Trust - Frontsheet'!$C$14:$C$213,$B114,'Trust - Frontsheet'!L$14:L$213))","v":""},{"$f":"IF($B114=\"\",\"\",SUMIF('Trust - Frontsheet'!$C$14:$C$213,$B114,'Trust - Frontsheet'!M$14:M$213))","v":""},{"$f":"IF($B114=\"\",\"\",SUMIF('Trust - Frontsheet'!$C$14:$C$213,$B114,'Trust - Frontsheet'!N$14:N$213))","v":""},{"$f":"IF($B114=\"\",\"\",SUMIF('Trust - Frontsheet'!$C$14:$C$213,$B114,'Trust - Frontsheet'!O$14:O$213))","v":""},"","","","",{"$f":"IF($B114=\"\",\"\",SUMIF('Trust - Frontsheet'!$C$14:$C$213,$B114,'Trust - Frontsheet'!T$14:T$213))","v":""},"","",""]
[null,{"$f":"IF(ISERROR(INDEX('Trust - Frontsheet'!AV$1:AV$6187,SMALL(IF('Trust - Frontsheet'!$AX$1:$AX$6187=$B$2,ROW('Trust - Frontsheet'!$AX$1:$AX$6187)),ROW(109:109)))),\"\",INDEX('Trust - Frontsheet'!AV$1:AV$6187,SMALL(IF('Trust - Frontsheet'!$AX$1:$AX$6187=$B$2,ROW('Trust - Frontsheet'!$AX$1:$AX$6187)),ROW(109:109))))","v":""},{"$f":"IF(ISERROR(INDEX('Trust - Frontsheet'!AW$1:AW$6187,SMALL(IF('Trust - Frontsheet'!$AX$1:$AX$6187=$B$2,ROW('Trust - Frontsheet'!$AX$1:$AX$6187)),ROW(109:109)))),\"\",INDEX('Trust - Frontsheet'!AW$1:AW$6187,SMALL(IF('Trust - Frontsheet'!$AX$1:$AX$6187=$B$2,ROW('Trust - Frontsheet'!$AX$1:$AX$6187)),ROW(109:109))))","v":""},{"$f":"IF($B115=\"\",\"\",SUMIF('Trust - Frontsheet'!$C$14:$C$213,$B115,'Trust - Frontsheet'!H$14:H$213))","v":""},{"$f":"IF($B115=\"\",\"\",SUMIF('Trust - Frontsheet'!$C$14:$C$213,$B115,'Trust - Frontsheet'!I$14:I$213))","v":""},{"$f":"IF($B115=\"\",\"\",SUMIF('Trust - Frontsheet'!$C$14:$C$213,$B115,'Trust - Frontsheet'!J$14:J$213))","v":""},{"$f":"IF($B115=\"\",\"\",SUMIF('Trust - Frontsheet'!$C$14:$C$213,$B115,'Trust - Frontsheet'!K$14:K$213))","v":""},{"$f":"IF($B115=\"\",\"\",SUMIF('Trust - Frontsheet'!$C$14:$C$213,$B115,'Trust - Frontsheet'!L$14:L$213))","v":""},{"$f":"IF($B115=\"\",\"\",SUMIF('Trust - Frontsheet'!$C$14:$C$213,$B115,'Trust - Frontsheet'!M$14:M$213))","v":""},{"$f":"IF($B115=\"\",\"\",SUMIF('Trust - Frontsheet'!$C$14:$C$213,$B115,'Trust - Frontsheet'!N$14:N$213))","v":""},{"$f":"IF($B115=\"\",\"\",SUMIF('Trust - Frontsheet'!$C$14:$C$213,$B115,'Trust - Frontsheet'!O$14:O$213))","v":""},"","","","",{"$f":"IF($B115=\"\",\"\",SUMIF('Trust - Frontsheet'!$C$14:$C$213,$B115,'Trust - Frontsheet'!T$14:T$213))","v":""},"","",""]
[null,{"$f":"IF(ISERROR(INDEX('Trust - Frontsheet'!AV$1:AV$6187,SMALL(IF('Trust - Frontsheet'!$AX$1:$AX$6187=$B$2,ROW('Trust - Frontsheet'!$AX$1:$AX$6187)),ROW(110:110)))),\"\",INDEX('Trust - Frontsheet'!AV$1:AV$6187,SMALL(IF('Trust - Frontsheet'!$AX$1:$AX$6187=$B$2,ROW('Trust - Frontsheet'!$AX$1:$AX$6187)),ROW(110:110))))","v":""},{"$f":"IF(ISERROR(INDEX('Trust - Frontsheet'!AW$1:AW$6187,SMALL(IF('Trust - Frontsheet'!$AX$1:$AX$6187=$B$2,ROW('Trust - Frontsheet'!$AX$1:$AX$6187)),ROW(110:110)))),\"\",INDEX('Trust - Frontsheet'!AW$1:AW$6187,SMALL(IF('Trust - Frontsheet'!$AX$1:$AX$6187=$B$2,ROW('Trust - Frontsheet'!$AX$1:$AX$6187)),ROW(110:110))))","v":""},{"$f":"IF($B116=\"\",\"\",SUMIF('Trust - Frontsheet'!$C$14:$C$213,$B116,'Trust - Frontsheet'!H$14:H$213))","v":""},{"$f":"IF($B116=\"\",\"\",SUMIF('Trust - Frontsheet'!$C$14:$C$213,$B116,'Trust - Frontsheet'!I$14:I$213))","v":""},{"$f":"IF($B116=\"\",\"\",SUMIF('Trust - Frontsheet'!$C$14:$C$213,$B116,'Trust - Frontsheet'!J$14:J$213))","v":""},{"$f":"IF($B116=\"\",\"\",SUMIF('Trust - Frontsheet'!$C$14:$C$213,$B116,'Trust - Frontsheet'!K$14:K$213))","v":""},{"$f":"IF($B116=\"\",\"\",SUMIF('Trust - Frontsheet'!$C$14:$C$213,$B116,'Trust - Frontsheet'!L$14:L$213))","v":""},{"$f":"IF($B116=\"\",\"\",SUMIF('Trust - Frontsheet'!$C$14:$C$213,$B116,'Trust - Frontsheet'!M$14:M$213))","v":""},{"$f":"IF($B116=\"\",\"\",SUMIF('Trust - Frontsheet'!$C$14:$C$213,$B116,'Trust - Frontsheet'!N$14:N$213))","v":""},{"$f":"IF($B116=\"\",\"\",SUMIF('Trust - Frontsheet'!$C$14:$C$213,$B116,'Trust - Frontsheet'!O$14:O$213))","v":""},"","","","",{"$f":"IF($B116=\"\",\"\",SUMIF('Trust - Frontsheet'!$C$14:$C$213,$B116,'Trust - Frontsheet'!T$14:T$213))","v":""},"","",""]
[null,{"$f":"IF(ISERROR(INDEX('Trust - Frontsheet'!AV$1:AV$6187,SMALL(IF('Trust - Frontsheet'!$AX$1:$AX$6187=$B$2,ROW('Trust - Frontsheet'!$AX$1:$AX$6187)),ROW(111:111)))),\"\",INDEX('Trust - Frontsheet'!AV$1:AV$6187,SMALL(IF('Trust - Frontsheet'!$AX$1:$AX$6187=$B$2,ROW('Trust - Frontsheet'!$AX$1:$AX$6187)),ROW(111:111))))","v":""},{"$f":"IF(ISERROR(INDEX('Trust - Frontsheet'!AW$1:AW$6187,SMALL(IF('Trust - Frontsheet'!$AX$1:$AX$6187=$B$2,ROW('Trust - Frontsheet'!$AX$1:$AX$6187)),ROW(111:111)))),\"\",INDEX('Trust - Frontsheet'!AW$1:AW$6187,SMALL(IF('Trust - Frontsheet'!$AX$1:$AX$6187=$B$2,ROW('Trust - Frontsheet'!$AX$1:$AX$6187)),ROW(111:111))))","v":""},{"$f":"IF($B117=\"\",\"\",SUMIF('Trust - Frontsheet'!$C$14:$C$213,$B117,'Trust - Frontsheet'!H$14:H$213))","v":""},{"$f":"IF($B117=\"\",\"\",SUMIF('Trust - Frontsheet'!$C$14:$C$213,$B117,'Trust - Frontsheet'!I$14:I$213))","v":""},{"$f":"IF($B117=\"\",\"\",SUMIF('Trust - Frontsheet'!$C$14:$C$213,$B117,'Trust - Frontsheet'!J$14:J$213))","v":""},{"$f":"IF($B117=\"\",\"\",SUMIF('Trust - Frontsheet'!$C$14:$C$213,$B117,'Trust - Frontsheet'!K$14:K$213))","v":""},{"$f":"IF($B117=\"\",\"\",SUMIF('Trust - Frontsheet'!$C$14:$C$213,$B117,'Trust - Frontsheet'!L$14:L$213))","v":""},{"$f":"IF($B117=\"\",\"\",SUMIF('Trust - Frontsheet'!$C$14:$C$213,$B117,'Trust - Frontsheet'!M$14:M$213))","v":""},{"$f":"IF($B117=\"\",\"\",SUMIF('Trust - Frontsheet'!$C$14:$C$213,$B117,'Trust - Frontsheet'!N$14:N$213))","v":""},{"$f":"IF($B117=\"\",\"\",SUMIF('Trust - Frontsheet'!$C$14:$C$213,$B117,'Trust - Frontsheet'!O$14:O$213))","v":""},"","","","",{"$f":"IF($B117=\"\",\"\",SUMIF('Trust - Frontsheet'!$C$14:$C$213,$B117,'Trust - Frontsheet'!T$14:T$213))","v":""},"","",""]
[null,{"$f":"IF(ISERROR(INDEX('Trust - Frontsheet'!AV$1:AV$6187,SMALL(IF('Trust - Frontsheet'!$AX$1:$AX$6187=$B$2,ROW('Trust - Frontsheet'!$AX$1:$AX$6187)),ROW(112:112)))),\"\",INDEX('Trust - Frontsheet'!AV$1:AV$6187,SMALL(IF('Trust - Frontsheet'!$AX$1:$AX$6187=$B$2,ROW('Trust - Frontsheet'!$AX$1:$AX$6187)),ROW(112:112))))","v":""},{"$f":"IF(ISERROR(INDEX('Trust - Frontsheet'!AW$1:AW$6187,SMALL(IF('Trust - Frontsheet'!$AX$1:$AX$6187=$B$2,ROW('Trust - Frontsheet'!$AX$1:$AX$6187)),ROW(112:112)))),\"\",INDEX('Trust - Frontsheet'!AW$1:AW$6187,SMALL(IF('Trust - Frontsheet'!$AX$1:$AX$6187=$B$2,ROW('Trust - Frontsheet'!$AX$1:$AX$6187)),ROW(112:112))))","v":""},{"$f":"IF($B118=\"\",\"\",SUMIF('Trust - Frontsheet'!$C$14:$C$213,$B118,'Trust - Frontsheet'!H$14:H$213))","v":""},{"$f":"IF($B118=\"\",\"\",SUMIF('Trust - Frontsheet'!$C$14:$C$213,$B118,'Trust - Frontsheet'!I$14:I$213))","v":""},{"$f":"IF($B118=\"\",\"\",SUMIF('Trust - Frontsheet'!$C$14:$C$213,$B118,'Trust - Frontsheet'!J$14:J$213))","v":""},{"$f":"IF($B118=\"\",\"\",SUMIF('Trust - Frontsheet'!$C$14:$C$213,$B118,'Trust - Frontsheet'!K$14:K$213))","v":""},{"$f":"IF($B118=\"\",\"\",SUMIF('Trust - Frontsheet'!$C$14:$C$213,$B118,'Trust - Frontsheet'!L$14:L$213))","v":""},{"$f":"IF($B118=\"\",\"\",SUMIF('Trust - Frontsheet'!$C$14:$C$213,$B118,'Trust - Frontsheet'!M$14:M$213))","v":""},{"$f":"IF($B118=\"\",\"\",SUMIF('Trust - Frontsheet'!$C$14:$C$213,$B118,'Trust - Frontsheet'!N$14:N$213))","v":""},{"$f":"IF($B118=\"\",\"\",SUMIF('Trust - Frontsheet'!$C$14:$C$213,$B118,'Trust - Frontsheet'!O$14:O$213))","v":""},"","","","",{"$f":"IF($B118=\"\",\"\",SUMIF('Trust - Frontsheet'!$C$14:$C$213,$B118,'Trust - Frontsheet'!T$14:T$213))","v":""},"","",""]
[null,{"$f":"IF(ISERROR(INDEX('Trust - Frontsheet'!AV$1:AV$6187,SMALL(IF('Trust - Frontsheet'!$AX$1:$AX$6187=$B$2,ROW('Trust - Frontsheet'!$AX$1:$AX$6187)),ROW(113:113)))),\"\",INDEX('Trust - Frontsheet'!AV$1:AV$6187,SMALL(IF('Trust - Frontsheet'!$AX$1:$AX$6187=$B$2,ROW('Trust - Frontsheet'!$AX$1:$AX$6187)),ROW(113:113))))","v":""},{"$f":"IF(ISERROR(INDEX('Trust - Frontsheet'!AW$1:AW$6187,SMALL(IF('Trust - Frontsheet'!$AX$1:$AX$6187=$B$2,ROW('Trust - Frontsheet'!$AX$1:$AX$6187)),ROW(113:113)))),\"\",INDEX('Trust - Frontsheet'!AW$1:AW$6187,SMALL(IF('Trust - Frontsheet'!$AX$1:$AX$6187=$B$2,ROW('Trust - Frontsheet'!$AX$1:$AX$6187)),ROW(113:113))))","v":""},{"$f":"IF($B119=\"\",\"\",SUMIF('Trust - Frontsheet'!$C$14:$C$213,$B119,'Trust - Frontsheet'!H$14:H$213))","v":""},{"$f":"IF($B119=\"\",\"\",SUMIF('Trust - Frontsheet'!$C$14:$C$213,$B119,'Trust - Frontsheet'!I$14:I$213))","v":""},{"$f":"IF($B119=\"\",\"\",SUMIF('Trust - Frontsheet'!$C$14:$C$213,$B119,'Trust - Frontsheet'!J$14:J$213))","v":""},{"$f":"IF($B119=\"\",\"\",SUMIF('Trust - Frontsheet'!$C$14:$C$213,$B119,'Trust - Frontsheet'!K$14:K$213))","v":""},{"$f":"IF($B119=\"\",\"\",SUMIF('Trust - Frontsheet'!$C$14:$C$213,$B119,'Trust - Frontsheet'!L$14:L$213))","v":""},{"$f":"IF($B119=\"\",\"\",SUMIF('Trust - Frontsheet'!$C$14:$C$213,$B119,'Trust - Frontsheet'!M$14:M$213))","v":""},{"$f":"IF($B119=\"\",\"\",SUMIF('Trust - Frontsheet'!$C$14:$C$213,$B119,'Trust - Frontsheet'!N$14:N$213))","v":""},{"$f":"IF($B119=\"\",\"\",SUMIF('Trust - Frontsheet'!$C$14:$C$213,$B119,'Trust - Frontsheet'!O$14:O$213))","v":""},"","","","",{"$f":"IF($B119=\"\",\"\",SUMIF('Trust - Frontsheet'!$C$14:$C$213,$B119,'Trust - Frontsheet'!T$14:T$213))","v":""},"","",""]
[null,{"$f":"IF(ISERROR(INDEX('Trust - Frontsheet'!AV$1:AV$6187,SMALL(IF('Trust - Frontsheet'!$AX$1:$AX$6187=$B$2,ROW('Trust - Frontsheet'!$AX$1:$AX$6187)),ROW(114:114)))),\"\",INDEX('Trust - Frontsheet'!AV$1:AV$6187,SMALL(IF('Trust - Frontsheet'!$AX$1:$AX$6187=$B$2,ROW('Trust - Frontsheet'!$AX$1:$AX$6187)),ROW(114:114))))","v":""},{"$f":"IF(ISERROR(INDEX('Trust - Frontsheet'!AW$1:AW$6187,SMALL(IF('Trust - Frontsheet'!$AX$1:$AX$6187=$B$2,ROW('Trust - Frontsheet'!$AX$1:$AX$6187)),ROW(114:114)))),\"\",INDEX('Trust - Frontsheet'!AW$1:AW$6187,SMALL(IF('Trust - Frontsheet'!$AX$1:$AX$6187=$B$2,ROW('Trust - Frontsheet'!$AX$1:$AX$6187)),ROW(114:114))))","v":""},{"$f":"IF($B120=\"\",\"\",SUMIF('Trust - Frontsheet'!$C$14:$C$213,$B120,'Trust - Frontsheet'!H$14:H$213))","v":""},{"$f":"IF($B120=\"\",\"\",SUMIF('Trust - Frontsheet'!$C$14:$C$213,$B120,'Trust - Frontsheet'!I$14:I$213))","v":""},{"$f":"IF($B120=\"\",\"\",SUMIF('Trust - Frontsheet'!$C$14:$C$213,$B120,'Trust - Frontsheet'!J$14:J$213))","v":""},{"$f":"IF($B120=\"\",\"\",SUMIF('Trust - Frontsheet'!$C$14:$C$213,$B120,'Trust - Frontsheet'!K$14:K$213))","v":""},{"$f":"IF($B120=\"\",\"\",SUMIF('Trust - Frontsheet'!$C$14:$C$213,$B120,'Trust - Frontsheet'!L$14:L$213))","v":""},{"$f":"IF($B120=\"\",\"\",SUMIF('Trust - Frontsheet'!$C$14:$C$213,$B120,'Trust - Frontsheet'!M$14:M$213))","v":""},{"$f":"IF($B120=\"\",\"\",SUMIF('Trust - Frontsheet'!$C$14:$C$213,$B120,'Trust - Frontsheet'!N$14:N$213))","v":""},{"$f":"IF($B120=\"\",\"\",SUMIF('Trust - Frontsheet'!$C$14:$C$213,$B120,'Trust - Frontsheet'!O$14:O$213))","v":""},"","","","",{"$f":"IF($B120=\"\",\"\",SUMIF('Trust - Frontsheet'!$C$14:$C$213,$B120,'Trust - Frontsheet'!T$14:T$213))","v":""},"","",""]
[null,{"$f":"IF(ISERROR(INDEX('Trust - Frontsheet'!AV$1:AV$6187,SMALL(IF('Trust - Frontsheet'!$AX$1:$AX$6187=$B$2,ROW('Trust - Frontsheet'!$AX$1:$AX$6187)),ROW(115:115)))),\"\",INDEX('Trust - Frontsheet'!AV$1:AV$6187,SMALL(IF('Trust - Frontsheet'!$AX$1:$AX$6187=$B$2,ROW('Trust - Frontsheet'!$AX$1:$AX$6187)),ROW(115:115))))","v":""},{"$f":"IF(ISERROR(INDEX('Trust - Frontsheet'!AW$1:AW$6187,SMALL(IF('Trust - Frontsheet'!$AX$1:$AX$6187=$B$2,ROW('Trust - Frontsheet'!$AX$1:$AX$6187)),ROW(115:115)))),\"\",INDEX('Trust - Frontsheet'!AW$1:AW$6187,SMALL(IF('Trust - Frontsheet'!$AX$1:$AX$6187=$B$2,ROW('Trust - Frontsheet'!$AX$1:$AX$6187)),ROW(115:115))))","v":""},{"$f":"IF($B121=\"\",\"\",SUMIF('Trust - Frontsheet'!$C$14:$C$213,$B121,'Trust - Frontsheet'!H$14:H$213))","v":""},{"$f":"IF($B121=\"\",\"\",SUMIF('Trust - Frontsheet'!$C$14:$C$213,$B121,'Trust - Frontsheet'!I$14:I$213))","v":""},{"$f":"IF($B121=\"\",\"\",SUMIF('Trust - Frontsheet'!$C$14:$C$213,$B121,'Trust - Frontsheet'!J$14:J$213))","v":""},{"$f":"IF($B121=\"\",\"\",SUMIF('Trust - Frontsheet'!$C$14:$C$213,$B121,'Trust - Frontsheet'!K$14:K$213))","v":""},{"$f":"IF($B121=\"\",\"\",SUMIF('Trust - Frontsheet'!$C$14:$C$213,$B121,'Trust - Frontsheet'!L$14:L$213))","v":""},{"$f":"IF($B121=\"\",\"\",SUMIF('Trust - Frontsheet'!$C$14:$C$213,$B121,'Trust - Frontsheet'!M$14:M$213))","v":""},{"$f":"IF($B121=\"\",\"\",SUMIF('Trust - Frontsheet'!$C$14:$C$213,$B121,'Trust - Frontsheet'!N$14:N$213))","v":""},{"$f":"IF($B121=\"\",\"\",SUMIF('Trust - Frontsheet'!$C$14:$C$213,$B121,'Trust - Frontsheet'!O$14:O$213))","v":""},"","","","",{"$f":"IF($B121=\"\",\"\",SUMIF('Trust - Frontsheet'!$C$14:$C$213,$B121,'Trust - Frontsheet'!T$14:T$213))","v":""},"","",""]
[null,{"$f":"IF(ISERROR(INDEX('Trust - Frontsheet'!AV$1:AV$6187,SMALL(IF('Trust - Frontsheet'!$AX$1:$AX$6187=$B$2,ROW('Trust - Frontsheet'!$AX$1:$AX$6187)),ROW(116:116)))),\"\",INDEX('Trust - Frontsheet'!AV$1:AV$6187,SMALL(IF('Trust - Frontsheet'!$AX$1:$AX$6187=$B$2,ROW('Trust - Frontsheet'!$AX$1:$AX$6187)),ROW(116:116))))","v":""},{"$f":"IF(ISERROR(INDEX('Trust - Frontsheet'!AW$1:AW$6187,SMALL(IF('Trust - Frontsheet'!$AX$1:$AX$6187=$B$2,ROW('Trust - Frontsheet'!$AX$1:$AX$6187)),ROW(116:116)))),\"\",INDEX('Trust - Frontsheet'!AW$1:AW$6187,SMALL(IF('Trust - Frontsheet'!$AX$1:$AX$6187=$B$2,ROW('Trust - Frontsheet'!$AX$1:$AX$6187)),ROW(116:116))))","v":""},{"$f":"IF($B122=\"\",\"\",SUMIF('Trust - Frontsheet'!$C$14:$C$213,$B122,'Trust - Frontsheet'!H$14:H$213))","v":""},{"$f":"IF($B122=\"\",\"\",SUMIF('Trust - Frontsheet'!$C$14:$C$213,$B122,'Trust - Frontsheet'!I$14:I$213))","v":""},{"$f":"IF($B122=\"\",\"\",SUMIF('Trust - Frontsheet'!$C$14:$C$213,$B122,'Trust - Frontsheet'!J$14:J$213))","v":""},{"$f":"IF($B122=\"\",\"\",SUMIF('Trust - Frontsheet'!$C$14:$C$213,$B122,'Trust - Frontsheet'!K$14:K$213))","v":""},{"$f":"IF($B122=\"\",\"\",SUMIF('Trust - Frontsheet'!$C$14:$C$213,$B122,'Trust - Frontsheet'!L$14:L$213))","v":""},{"$f":"IF($B122=\"\",\"\",SUMIF('Trust - Frontsheet'!$C$14:$C$213,$B122,'Trust - Frontsheet'!M$14:M$213))","v":""},{"$f":"IF($B122=\"\",\"\",SUMIF('Trust - Frontsheet'!$C$14:$C$213,$B122,'Trust - Frontsheet'!N$14:N$213))","v":""},{"$f":"IF($B122=\"\",\"\",SUMIF('Trust - Frontsheet'!$C$14:$C$213,$B122,'Trust - Frontsheet'!O$14:O$213))","v":""},"","","","",{"$f":"IF($B122=\"\",\"\",SUMIF('Trust - Frontsheet'!$C$14:$C$213,$B122,'Trust - Frontsheet'!T$14:T$213))","v":""},"","",""]
[null,{"$f":"IF(ISERROR(INDEX('Trust - Frontsheet'!AV$1:AV$6187,SMALL(IF('Trust - Frontsheet'!$AX$1:$AX$6187=$B$2,ROW('Trust - Frontsheet'!$AX$1:$AX$6187)),ROW(117:117)))),\"\",INDEX('Trust - Frontsheet'!AV$1:AV$6187,SMALL(IF('Trust - Frontsheet'!$AX$1:$AX$6187=$B$2,ROW('Trust - Frontsheet'!$AX$1:$AX$6187)),ROW(117:117))))","v":""},{"$f":"IF(ISERROR(INDEX('Trust - Frontsheet'!AW$1:AW$6187,SMALL(IF('Trust - Frontsheet'!$AX$1:$AX$6187=$B$2,ROW('Trust - Frontsheet'!$AX$1:$AX$6187)),ROW(117:117)))),\"\",INDEX('Trust - Frontsheet'!AW$1:AW$6187,SMALL(IF('Trust - Frontsheet'!$AX$1:$AX$6187=$B$2,ROW('Trust - Frontsheet'!$AX$1:$AX$6187)),ROW(117:117))))","v":""},{"$f":"IF($B123=\"\",\"\",SUMIF('Trust - Frontsheet'!$C$14:$C$213,$B123,'Trust - Frontsheet'!H$14:H$213))","v":""},{"$f":"IF($B123=\"\",\"\",SUMIF('Trust - Frontsheet'!$C$14:$C$213,$B123,'Trust - Frontsheet'!I$14:I$213))","v":""},{"$f":"IF($B123=\"\",\"\",SUMIF('Trust - Frontsheet'!$C$14:$C$213,$B123,'Trust - Frontsheet'!J$14:J$213))","v":""},{"$f":"IF($B123=\"\",\"\",SUMIF('Trust - Frontsheet'!$C$14:$C$213,$B123,'Trust - Frontsheet'!K$14:K$213))","v":""},{"$f":"IF($B123=\"\",\"\",SUMIF('Trust - Frontsheet'!$C$14:$C$213,$B123,'Trust - Frontsheet'!L$14:L$213))","v":""},{"$f":"IF($B123=\"\",\"\",SUMIF('Trust - Frontsheet'!$C$14:$C$213,$B123,'Trust - Frontsheet'!M$14:M$213))","v":""},{"$f":"IF($B123=\"\",\"\",SUMIF('Trust - Frontsheet'!$C$14:$C$213,$B123,'Trust - Frontsheet'!N$14:N$213))","v":""},{"$f":"IF($B123=\"\",\"\",SUMIF('Trust - Frontsheet'!$C$14:$C$213,$B123,'Trust - Frontsheet'!O$14:O$213))","v":""},"","","","",{"$f":"IF($B123=\"\",\"\",SUMIF('Trust - Frontsheet'!$C$14:$C$213,$B123,'Trust - Frontsheet'!T$14:T$213))","v":""},"","",""]
[null,{"$f":"IF(ISERROR(INDEX('Trust - Frontsheet'!AV$1:AV$6187,SMALL(IF('Trust - Frontsheet'!$AX$1:$AX$6187=$B$2,ROW('Trust - Frontsheet'!$AX$1:$AX$6187)),ROW(118:118)))),\"\",INDEX('Trust - Frontsheet'!AV$1:AV$6187,SMALL(IF('Trust - Frontsheet'!$AX$1:$AX$6187=$B$2,ROW('Trust - Frontsheet'!$AX$1:$AX$6187)),ROW(118:118))))","v":""},{"$f":"IF(ISERROR(INDEX('Trust - Frontsheet'!AW$1:AW$6187,SMALL(IF('Trust - Frontsheet'!$AX$1:$AX$6187=$B$2,ROW('Trust - Frontsheet'!$AX$1:$AX$6187)),ROW(118:118)))),\"\",INDEX('Trust - Frontsheet'!AW$1:AW$6187,SMALL(IF('Trust - Frontsheet'!$AX$1:$AX$6187=$B$2,ROW('Trust - Frontsheet'!$AX$1:$AX$6187)),ROW(118:118))))","v":""},{"$f":"IF($B124=\"\",\"\",SUMIF('Trust - Frontsheet'!$C$14:$C$213,$B124,'Trust - Frontsheet'!H$14:H$213))","v":""},{"$f":"IF($B124=\"\",\"\",SUMIF('Trust - Frontsheet'!$C$14:$C$213,$B124,'Trust - Frontsheet'!I$14:I$213))","v":""},{"$f":"IF($B124=\"\",\"\",SUMIF('Trust - Frontsheet'!$C$14:$C$213,$B124,'Trust - Frontsheet'!J$14:J$213))","v":""},{"$f":"IF($B124=\"\",\"\",SUMIF('Trust - Frontsheet'!$C$14:$C$213,$B124,'Trust - Frontsheet'!K$14:K$213))","v":""},{"$f":"IF($B124=\"\",\"\",SUMIF('Trust - Frontsheet'!$C$14:$C$213,$B124,'Trust - Frontsheet'!L$14:L$213))","v":""},{"$f":"IF($B124=\"\",\"\",SUMIF('Trust - Frontsheet'!$C$14:$C$213,$B124,'Trust - Frontsheet'!M$14:M$213))","v":""},{"$f":"IF($B124=\"\",\"\",SUMIF('Trust - Frontsheet'!$C$14:$C$213,$B124,'Trust - Frontsheet'!N$14:N$213))","v":""},{"$f":"IF($B124=\"\",\"\",SUMIF('Trust - Frontsheet'!$C$14:$C$213,$B124,'Trust - Frontsheet'!O$14:O$213))","v":""},"","","","",{"$f":"IF($B124=\"\",\"\",SUMIF('Trust - Frontsheet'!$C$14:$C$213,$B124,'Trust - Frontsheet'!T$14:T$213))","v":""},"","",""]
[null,{"$f":"IF(ISERROR(INDEX('Trust - Frontsheet'!AV$1:AV$6187,SMALL(IF('Trust - Frontsheet'!$AX$1:$AX$6187=$B$2,ROW('Trust - Frontsheet'!$AX$1:$AX$6187)),ROW(119:119)))),\"\",INDEX('Trust - Frontsheet'!AV$1:AV$6187,SMALL(IF('Trust - Frontsheet'!$AX$1:$AX$6187=$B$2,ROW('Trust - Frontsheet'!$AX$1:$AX$6187)),ROW(119:119))))","v":""},{"$f":"IF(ISERROR(INDEX('Trust - Frontsheet'!AW$1:AW$6187,SMALL(IF('Trust - Frontsheet'!$AX$1:$AX$6187=$B$2,ROW('Trust - Frontsheet'!$AX$1:$AX$6187)),ROW(119:119)))),\"\",INDEX('Trust - Frontsheet'!AW$1:AW$6187,SMALL(IF('Trust - Frontsheet'!$AX$1:$AX$6187=$B$2,ROW('Trust - Frontsheet'!$AX$1:$AX$6187)),ROW(119:119))))","v":""},{"$f":"IF($B125=\"\",\"\",SUMIF('Trust - Frontsheet'!$C$14:$C$213,$B125,'Trust - Frontsheet'!H$14:H$213))","v":""},{"$f":"IF($B125=\"\",\"\",SUMIF('Trust - Frontsheet'!$C$14:$C$213,$B125,'Trust - Frontsheet'!I$14:I$213))","v":""},{"$f":"IF($B125=\"\",\"\",SUMIF('Trust - Frontsheet'!$C$14:$C$213,$B125,'Trust - Frontsheet'!J$14:J$213))","v":""},{"$f":"IF($B125=\"\",\"\",SUMIF('Trust - Frontsheet'!$C$14:$C$213,$B125,'Trust - Frontsheet'!K$14:K$213))","v":""},{"$f":"IF($B125=\"\",\"\",SUMIF('Trust - Frontsheet'!$C$14:$C$213,$B125,'Trust - Frontsheet'!L$14:L$213))","v":""},{"$f":"IF($B125=\"\",\"\",SUMIF('Trust - Frontsheet'!$C$14:$C$213,$B125,'Trust - Frontsheet'!M$14:M$213))","v":""},{"$f":"IF($B125=\"\",\"\",SUMIF('Trust - Frontsheet'!$C$14:$C$213,$B125,'Trust - Frontsheet'!N$14:N$213))","v":""},{"$f":"IF($B125=\"\",\"\",SUMIF('Trust - Frontsheet'!$C$14:$C$213,$B125,'Trust - Frontsheet'!O$14:O$213))","v":""},"","","","",{"$f":"IF($B125=\"\",\"\",SUMIF('Trust - Frontsheet'!$C$14:$C$213,$B125,'Trust - Frontsheet'!T$14:T$213))","v":""},"","",""]
[null,{"$f":"IF(ISERROR(INDEX('Trust - Frontsheet'!AV$1:AV$6187,SMALL(IF('Trust - Frontsheet'!$AX$1:$AX$6187=$B$2,ROW('Trust - Frontsheet'!$AX$1:$AX$6187)),ROW(120:120)))),\"\",INDEX('Trust - Frontsheet'!AV$1:AV$6187,SMALL(IF('Trust - Frontsheet'!$AX$1:$AX$6187=$B$2,ROW('Trust - Frontsheet'!$AX$1:$AX$6187)),ROW(120:120))))","v":""},{"$f":"IF(ISERROR(INDEX('Trust - Frontsheet'!AW$1:AW$6187,SMALL(IF('Trust - Frontsheet'!$AX$1:$AX$6187=$B$2,ROW('Trust - Frontsheet'!$AX$1:$AX$6187)),ROW(120:120)))),\"\",INDEX('Trust - Frontsheet'!AW$1:AW$6187,SMALL(IF('Trust - Frontsheet'!$AX$1:$AX$6187=$B$2,ROW('Trust - Frontsheet'!$AX$1:$AX$6187)),ROW(120:120))))","v":""},{"$f":"IF($B126=\"\",\"\",SUMIF('Trust - Frontsheet'!$C$14:$C$213,$B126,'Trust - Frontsheet'!H$14:H$213))","v":""},{"$f":"IF($B126=\"\",\"\",SUMIF('Trust - Frontsheet'!$C$14:$C$213,$B126,'Trust - Frontsheet'!I$14:I$213))","v":""},{"$f":"IF($B126=\"\",\"\",SUMIF('Trust - Frontsheet'!$C$14:$C$213,$B126,'Trust - Frontsheet'!J$14:J$213))","v":""},{"$f":"IF($B126=\"\",\"\",SUMIF('Trust - Frontsheet'!$C$14:$C$213,$B126,'Trust - Frontsheet'!K$14:K$213))","v":""},{"$f":"IF($B126=\"\",\"\",SUMIF('Trust - Frontsheet'!$C$14:$C$213,$B126,'Trust - Frontsheet'!L$14:L$213))","v":""},{"$f":"IF($B126=\"\",\"\",SUMIF('Trust - Frontsheet'!$C$14:$C$213,$B126,'Trust - Frontsheet'!M$14:M$213))","v":""},{"$f":"IF($B126=\"\",\"\",SUMIF('Trust - Frontsheet'!$C$14:$C$213,$B126,'Trust - Frontsheet'!N$14:N$213))","v":""},{"$f":"IF($B126=\"\",\"\",SUMIF('Trust - Frontsheet'!$C$14:$C$213,$B126,'Trust - Frontsheet'!O$14:O$213))","v":""},"","","","",{"$f":"IF($B126=\"\",\"\",SUMIF('Trust - Frontsheet'!$C$14:$C$213,$B126,'Trust - Frontsheet'!T$14:T$213))","v":""},"","",""]
[null,{"$f":"IF(ISERROR(INDEX('Trust - Frontsheet'!AV$1:AV$6187,SMALL(IF('Trust - Frontsheet'!$AX$1:$AX$6187=$B$2,ROW('Trust - Frontsheet'!$AX$1:$AX$6187)),ROW(121:121)))),\"\",INDEX('Trust - Frontsheet'!AV$1:AV$6187,SMALL(IF('Trust - Frontsheet'!$AX$1:$AX$6187=$B$2,ROW('Trust - Frontsheet'!$AX$1:$AX$6187)),ROW(121:121))))","v":""},{"$f":"IF(ISERROR(INDEX('Trust - Frontsheet'!AW$1:AW$6187,SMALL(IF('Trust - Frontsheet'!$AX$1:$AX$6187=$B$2,ROW('Trust - Frontsheet'!$AX$1:$AX$6187)),ROW(121:121)))),\"\",INDEX('Trust - Frontsheet'!AW$1:AW$6187,SMALL(IF('Trust - Frontsheet'!$AX$1:$AX$6187=$B$2,ROW('Trust - Frontsheet'!$AX$1:$AX$6187)),ROW(121:121))))","v":""},{"$f":"IF($B127=\"\",\"\",SUMIF('Trust - Frontsheet'!$C$14:$C$213,$B127,'Trust - Frontsheet'!H$14:H$213))","v":""},{"$f":"IF($B127=\"\",\"\",SUMIF('Trust - Frontsheet'!$C$14:$C$213,$B127,'Trust - Frontsheet'!I$14:I$213))","v":""},{"$f":"IF($B127=\"\",\"\",SUMIF('Trust - Frontsheet'!$C$14:$C$213,$B127,'Trust - Frontsheet'!J$14:J$213))","v":""},{"$f":"IF($B127=\"\",\"\",SUMIF('Trust - Frontsheet'!$C$14:$C$213,$B127,'Trust - Frontsheet'!K$14:K$213))","v":""},{"$f":"IF($B127=\"\",\"\",SUMIF('Trust - Frontsheet'!$C$14:$C$213,$B127,'Trust - Frontsheet'!L$14:L$213))","v":""},{"$f":"IF($B127=\"\",\"\",SUMIF('Trust - Frontsheet'!$C$14:$C$213,$B127,'Trust - Frontsheet'!M$14:M$213))","v":""},{"$f":"IF($B127=\"\",\"\",SUMIF('Trust - Frontsheet'!$C$14:$C$213,$B127,'Trust - Frontsheet'!N$14:N$213))","v":""},{"$f":"IF($B127=\"\",\"\",SUMIF('Trust - Frontsheet'!$C$14:$C$213,$B127,'Trust - Frontsheet'!O$14:O$213))","v":""},"","","","",{"$f":"IF($B127=\"\",\"\",SUMIF('Trust - Frontsheet'!$C$14:$C$213,$B127,'Trust - Frontsheet'!T$14:T$213))","v":""},"","",""]
[null,{"$f":"IF(ISERROR(INDEX('Trust - Frontsheet'!AV$1:AV$6187,SMALL(IF('Trust - Frontsheet'!$AX$1:$AX$6187=$B$2,ROW('Trust - Frontsheet'!$AX$1:$AX$6187)),ROW(122:122)))),\"\",INDEX('Trust - Frontsheet'!AV$1:AV$6187,SMALL(IF('Trust - Frontsheet'!$AX$1:$AX$6187=$B$2,ROW('Trust - Frontsheet'!$AX$1:$AX$6187)),ROW(122:122))))","v":""},{"$f":"IF(ISERROR(INDEX('Trust - Frontsheet'!AW$1:AW$6187,SMALL(IF('Trust - Frontsheet'!$AX$1:$AX$6187=$B$2,ROW('Trust - Frontsheet'!$AX$1:$AX$6187)),ROW(122:122)))),\"\",INDEX('Trust - Frontsheet'!AW$1:AW$6187,SMALL(IF('Trust - Frontsheet'!$AX$1:$AX$6187=$B$2,ROW('Trust - Frontsheet'!$AX$1:$AX$6187)),ROW(122:122))))","v":""},{"$f":"IF($B128=\"\",\"\",SUMIF('Trust - Frontsheet'!$C$14:$C$213,$B128,'Trust - Frontsheet'!H$14:H$213))","v":""},{"$f":"IF($B128=\"\",\"\",SUMIF('Trust - Frontsheet'!$C$14:$C$213,$B128,'Trust - Frontsheet'!I$14:I$213))","v":""},{"$f":"IF($B128=\"\",\"\",SUMIF('Trust - Frontsheet'!$C$14:$C$213,$B128,'Trust - Frontsheet'!J$14:J$213))","v":""},{"$f":"IF($B128=\"\",\"\",SUMIF('Trust - Frontsheet'!$C$14:$C$213,$B128,'Trust - Frontsheet'!K$14:K$213))","v":""},{"$f":"IF($B128=\"\",\"\",SUMIF('Trust - Frontsheet'!$C$14:$C$213,$B128,'Trust - Frontsheet'!L$14:L$213))","v":""},{"$f":"IF($B128=\"\",\"\",SUMIF('Trust - Frontsheet'!$C$14:$C$213,$B128,'Trust - Frontsheet'!M$14:M$213))","v":""},{"$f":"IF($B128=\"\",\"\",SUMIF('Trust - Frontsheet'!$C$14:$C$213,$B128,'Trust - Frontsheet'!N$14:N$213))","v":""},{"$f":"IF($B128=\"\",\"\",SUMIF('Trust - Frontsheet'!$C$14:$C$213,$B128,'Trust - Frontsheet'!O$14:O$213))","v":""},"","","","",{"$f":"IF($B128=\"\",\"\",SUMIF('Trust - Frontsheet'!$C$14:$C$213,$B128,'Trust - Frontsheet'!T$14:T$213))","v":""},"","",""]
[null,{"$f":"IF(ISERROR(INDEX('Trust - Frontsheet'!AV$1:AV$6187,SMALL(IF('Trust - Frontsheet'!$AX$1:$AX$6187=$B$2,ROW('Trust - Frontsheet'!$AX$1:$AX$6187)),ROW(123:123)))),\"\",INDEX('Trust - Frontsheet'!AV$1:AV$6187,SMALL(IF('Trust - Frontsheet'!$AX$1:$AX$6187=$B$2,ROW('Trust - Frontsheet'!$AX$1:$AX$6187)),ROW(123:123))))","v":""},{"$f":"IF(ISERROR(INDEX('Trust - Frontsheet'!AW$1:AW$6187,SMALL(IF('Trust - Frontsheet'!$AX$1:$AX$6187=$B$2,ROW('Trust - Frontsheet'!$AX$1:$AX$6187)),ROW(123:123)))),\"\",INDEX('Trust - Frontsheet'!AW$1:AW$6187,SMALL(IF('Trust - Frontsheet'!$AX$1:$AX$6187=$B$2,ROW('Trust - Frontsheet'!$AX$1:$AX$6187)),ROW(123:123))))","v":""},{"$f":"IF($B129=\"\",\"\",SUMIF('Trust - Frontsheet'!$C$14:$C$213,$B129,'Trust - Frontsheet'!H$14:H$213))","v":""},{"$f":"IF($B129=\"\",\"\",SUMIF('Trust - Frontsheet'!$C$14:$C$213,$B129,'Trust - Frontsheet'!I$14:I$213))","v":""},{"$f":"IF($B129=\"\",\"\",SUMIF('Trust - Frontsheet'!$C$14:$C$213,$B129,'Trust - Frontsheet'!J$14:J$213))","v":""},{"$f":"IF($B129=\"\",\"\",SUMIF('Trust - Frontsheet'!$C$14:$C$213,$B129,'Trust - Frontsheet'!K$14:K$213))","v":""},{"$f":"IF($B129=\"\",\"\",SUMIF('Trust - Frontsheet'!$C$14:$C$213,$B129,'Trust - Frontsheet'!L$14:L$213))","v":""},{"$f":"IF($B129=\"\",\"\",SUMIF('Trust - Frontsheet'!$C$14:$C$213,$B129,'Trust - Frontsheet'!M$14:M$213))","v":""},{"$f":"IF($B129=\"\",\"\",SUMIF('Trust - Frontsheet'!$C$14:$C$213,$B129,'Trust - Frontsheet'!N$14:N$213))","v":""},{"$f":"IF($B129=\"\",\"\",SUMIF('Trust - Frontsheet'!$C$14:$C$213,$B129,'Trust - Frontsheet'!O$14:O$213))","v":""},"","","","",{"$f":"IF($B129=\"\",\"\",SUMIF('Trust - Frontsheet'!$C$14:$C$213,$B129,'Trust - Frontsheet'!T$14:T$213))","v":""},"","",""]
[null,{"$f":"IF(ISERROR(INDEX('Trust - Frontsheet'!AV$1:AV$6187,SMALL(IF('Trust - Frontsheet'!$AX$1:$AX$6187=$B$2,ROW('Trust - Frontsheet'!$AX$1:$AX$6187)),ROW(124:124)))),\"\",INDEX('Trust - Frontsheet'!AV$1:AV$6187,SMALL(IF('Trust - Frontsheet'!$AX$1:$AX$6187=$B$2,ROW('Trust - Frontsheet'!$AX$1:$AX$6187)),ROW(124:124))))","v":""},{"$f":"IF(ISERROR(INDEX('Trust - Frontsheet'!AW$1:AW$6187,SMALL(IF('Trust - Frontsheet'!$AX$1:$AX$6187=$B$2,ROW('Trust - Frontsheet'!$AX$1:$AX$6187)),ROW(124:124)))),\"\",INDEX('Trust - Frontsheet'!AW$1:AW$6187,SMALL(IF('Trust - Frontsheet'!$AX$1:$AX$6187=$B$2,ROW('Trust - Frontsheet'!$AX$1:$AX$6187)),ROW(124:124))))","v":""},{"$f":"IF($B130=\"\",\"\",SUMIF('Trust - Frontsheet'!$C$14:$C$213,$B130,'Trust - Frontsheet'!H$14:H$213))","v":""},{"$f":"IF($B130=\"\",\"\",SUMIF('Trust - Frontsheet'!$C$14:$C$213,$B130,'Trust - Frontsheet'!I$14:I$213))","v":""},{"$f":"IF($B130=\"\",\"\",SUMIF('Trust - Frontsheet'!$C$14:$C$213,$B130,'Trust - Frontsheet'!J$14:J$213))","v":""},{"$f":"IF($B130=\"\",\"\",SUMIF('Trust - Frontsheet'!$C$14:$C$213,$B130,'Trust - Frontsheet'!K$14:K$213))","v":""},{"$f":"IF($B130=\"\",\"\",SUMIF('Trust - Frontsheet'!$C$14:$C$213,$B130,'Trust - Frontsheet'!L$14:L$213))","v":""},{"$f":"IF($B130=\"\",\"\",SUMIF('Trust - Frontsheet'!$C$14:$C$213,$B130,'Trust - Frontsheet'!M$14:M$213))","v":""},{"$f":"IF($B130=\"\",\"\",SUMIF('Trust - Frontsheet'!$C$14:$C$213,$B130,'Trust - Frontsheet'!N$14:N$213))","v":""},{"$f":"IF($B130=\"\",\"\",SUMIF('Trust - Frontsheet'!$C$14:$C$213,$B130,'Trust - Frontsheet'!O$14:O$213))","v":""},"","","","",{"$f":"IF($B130=\"\",\"\",SUMIF('Trust - Frontsheet'!$C$14:$C$213,$B130,'Trust - Frontsheet'!T$14:T$213))","v":""},"","",""]
[null,{"$f":"IF(ISERROR(INDEX('Trust - Frontsheet'!AV$1:AV$6187,SMALL(IF('Trust - Frontsheet'!$AX$1:$AX$6187=$B$2,ROW('Trust - Frontsheet'!$AX$1:$AX$6187)),ROW(125:125)))),\"\",INDEX('Trust - Frontsheet'!AV$1:AV$6187,SMALL(IF('Trust - Frontsheet'!$AX$1:$AX$6187=$B$2,ROW('Trust - Frontsheet'!$AX$1:$AX$6187)),ROW(125:125))))","v":""},{"$f":"IF(ISERROR(INDEX('Trust - Frontsheet'!AW$1:AW$6187,SMALL(IF('Trust - Frontsheet'!$AX$1:$AX$6187=$B$2,ROW('Trust - Frontsheet'!$AX$1:$AX$6187)),ROW(125:125)))),\"\",INDEX('Trust - Frontsheet'!AW$1:AW$6187,SMALL(IF('Trust - Frontsheet'!$AX$1:$AX$6187=$B$2,ROW('Trust - Frontsheet'!$AX$1:$AX$6187)),ROW(125:125))))","v":""},{"$f":"IF($B131=\"\",\"\",SUMIF('Trust - Frontsheet'!$C$14:$C$213,$B131,'Trust - Frontsheet'!H$14:H$213))","v":""},{"$f":"IF($B131=\"\",\"\",SUMIF('Trust - Frontsheet'!$C$14:$C$213,$B131,'Trust - Frontsheet'!I$14:I$213))","v":""},{"$f":"IF($B131=\"\",\"\",SUMIF('Trust - Frontsheet'!$C$14:$C$213,$B131,'Trust - Frontsheet'!J$14:J$213))","v":""},{"$f":"IF($B131=\"\",\"\",SUMIF('Trust - Frontsheet'!$C$14:$C$213,$B131,'Trust - Frontsheet'!K$14:K$213))","v":""},{"$f":"IF($B131=\"\",\"\",SUMIF('Trust - Frontsheet'!$C$14:$C$213,$B131,'Trust - Frontsheet'!L$14:L$213))","v":""},{"$f":"IF($B131=\"\",\"\",SUMIF('Trust - Frontsheet'!$C$14:$C$213,$B131,'Trust - Frontsheet'!M$14:M$213))","v":""},{"$f":"IF($B131=\"\",\"\",SUMIF('Trust - Frontsheet'!$C$14:$C$213,$B131,'Trust - Frontsheet'!N$14:N$213))","v":""},{"$f":"IF($B131=\"\",\"\",SUMIF('Trust - Frontsheet'!$C$14:$C$213,$B131,'Trust - Frontsheet'!O$14:O$213))","v":""},"","","","",{"$f":"IF($B131=\"\",\"\",SUMIF('Trust - Frontsheet'!$C$14:$C$213,$B131,'Trust - Frontsheet'!T$14:T$213))","v":""},"","",""]
[null,{"$f":"IF(ISERROR(INDEX('Trust - Frontsheet'!AV$1:AV$6187,SMALL(IF('Trust - Frontsheet'!$AX$1:$AX$6187=$B$2,ROW('Trust - Frontsheet'!$AX$1:$AX$6187)),ROW(126:126)))),\"\",INDEX('Trust - Frontsheet'!AV$1:AV$6187,SMALL(IF('Trust - Frontsheet'!$AX$1:$AX$6187=$B$2,ROW('Trust - Frontsheet'!$AX$1:$AX$6187)),ROW(126:126))))","v":""},{"$f":"IF(ISERROR(INDEX('Trust - Frontsheet'!AW$1:AW$6187,SMALL(IF('Trust - Frontsheet'!$AX$1:$AX$6187=$B$2,ROW('Trust - Frontsheet'!$AX$1:$AX$6187)),ROW(126:126)))),\"\",INDEX('Trust - Frontsheet'!AW$1:AW$6187,SMALL(IF('Trust - Frontsheet'!$AX$1:$AX$6187=$B$2,ROW('Trust - Frontsheet'!$AX$1:$AX$6187)),ROW(126:126))))","v":""},{"$f":"IF($B132=\"\",\"\",SUMIF('Trust - Frontsheet'!$C$14:$C$213,$B132,'Trust - Frontsheet'!H$14:H$213))","v":""},{"$f":"IF($B132=\"\",\"\",SUMIF('Trust - Frontsheet'!$C$14:$C$213,$B132,'Trust - Frontsheet'!I$14:I$213))","v":""},{"$f":"IF($B132=\"\",\"\",SUMIF('Trust - Frontsheet'!$C$14:$C$213,$B132,'Trust - Frontsheet'!J$14:J$213))","v":""},{"$f":"IF($B132=\"\",\"\",SUMIF('Trust - Frontsheet'!$C$14:$C$213,$B132,'Trust - Frontsheet'!K$14:K$213))","v":""},{"$f":"IF($B132=\"\",\"\",SUMIF('Trust - Frontsheet'!$C$14:$C$213,$B132,'Trust - Frontsheet'!L$14:L$213))","v":""},{"$f":"IF($B132=\"\",\"\",SUMIF('Trust - Frontsheet'!$C$14:$C$213,$B132,'Trust - Frontsheet'!M$14:M$213))","v":""},{"$f":"IF($B132=\"\",\"\",SUMIF('Trust - Frontsheet'!$C$14:$C$213,$B132,'Trust - Frontsheet'!N$14:N$213))","v":""},{"$f":"IF($B132=\"\",\"\",SUMIF('Trust - Frontsheet'!$C$14:$C$213,$B132,'Trust - Frontsheet'!O$14:O$213))","v":""},"","","","",{"$f":"IF($B132=\"\",\"\",SUMIF('Trust - Frontsheet'!$C$14:$C$213,$B132,'Trust - Frontsheet'!T$14:T$213))","v":""},"","",""]
[null,{"$f":"IF(ISERROR(INDEX('Trust - Frontsheet'!AV$1:AV$6187,SMALL(IF('Trust - Frontsheet'!$AX$1:$AX$6187=$B$2,ROW('Trust - Frontsheet'!$AX$1:$AX$6187)),ROW(127:127)))),\"\",INDEX('Trust - Frontsheet'!AV$1:AV$6187,SMALL(IF('Trust - Frontsheet'!$AX$1:$AX$6187=$B$2,ROW('Trust - Frontsheet'!$AX$1:$AX$6187)),ROW(127:127))))","v":""},{"$f":"IF(ISERROR(INDEX('Trust - Frontsheet'!AW$1:AW$6187,SMALL(IF('Trust - Frontsheet'!$AX$1:$AX$6187=$B$2,ROW('Trust - Frontsheet'!$AX$1:$AX$6187)),ROW(127:127)))),\"\",INDEX('Trust - Frontsheet'!AW$1:AW$6187,SMALL(IF('Trust - Frontsheet'!$AX$1:$AX$6187=$B$2,ROW('Trust - Frontsheet'!$AX$1:$AX$6187)),ROW(127:127))))","v":""},{"$f":"IF($B133=\"\",\"\",SUMIF('Trust - Frontsheet'!$C$14:$C$213,$B133,'Trust - Frontsheet'!H$14:H$213))","v":""},{"$f":"IF($B133=\"\",\"\",SUMIF('Trust - Frontsheet'!$C$14:$C$213,$B133,'Trust - Frontsheet'!I$14:I$213))","v":""},{"$f":"IF($B133=\"\",\"\",SUMIF('Trust - Frontsheet'!$C$14:$C$213,$B133,'Trust - Frontsheet'!J$14:J$213))","v":""},{"$f":"IF($B133=\"\",\"\",SUMIF('Trust - Frontsheet'!$C$14:$C$213,$B133,'Trust - Frontsheet'!K$14:K$213))","v":""},{"$f":"IF($B133=\"\",\"\",SUMIF('Trust - Frontsheet'!$C$14:$C$213,$B133,'Trust - Frontsheet'!L$14:L$213))","v":""},{"$f":"IF($B133=\"\",\"\",SUMIF('Trust - Frontsheet'!$C$14:$C$213,$B133,'Trust - Frontsheet'!M$14:M$213))","v":""},{"$f":"IF($B133=\"\",\"\",SUMIF('Trust - Frontsheet'!$C$14:$C$213,$B133,'Trust - Frontsheet'!N$14:N$213))","v":""},{"$f":"IF($B133=\"\",\"\",SUMIF('Trust - Frontsheet'!$C$14:$C$213,$B133,'Trust - Frontsheet'!O$14:O$213))","v":""},"","","","",{"$f":"IF($B133=\"\",\"\",SUMIF('Trust - Frontsheet'!$C$14:$C$213,$B133,'Trust - Frontsheet'!T$14:T$213))","v":""},"","",""]
[null,{"$f":"IF(ISERROR(INDEX('Trust - Frontsheet'!AV$1:AV$6187,SMALL(IF('Trust - Frontsheet'!$AX$1:$AX$6187=$B$2,ROW('Trust - Frontsheet'!$AX$1:$AX$6187)),ROW(128:128)))),\"\",INDEX('Trust - Frontsheet'!AV$1:AV$6187,SMALL(IF('Trust - Frontsheet'!$AX$1:$AX$6187=$B$2,ROW('Trust - Frontsheet'!$AX$1:$AX$6187)),ROW(128:128))))","v":""},{"$f":"IF(ISERROR(INDEX('Trust - Frontsheet'!AW$1:AW$6187,SMALL(IF('Trust - Frontsheet'!$AX$1:$AX$6187=$B$2,ROW('Trust - Frontsheet'!$AX$1:$AX$6187)),ROW(128:128)))),\"\",INDEX('Trust - Frontsheet'!AW$1:AW$6187,SMALL(IF('Trust - Frontsheet'!$AX$1:$AX$6187=$B$2,ROW('Trust - Frontsheet'!$AX$1:$AX$6187)),ROW(128:128))))","v":""},{"$f":"IF($B134=\"\",\"\",SUMIF('Trust - Frontsheet'!$C$14:$C$213,$B134,'Trust - Frontsheet'!H$14:H$213))","v":""},{"$f":"IF($B134=\"\",\"\",SUMIF('Trust - Frontsheet'!$C$14:$C$213,$B134,'Trust - Frontsheet'!I$14:I$213))","v":""},{"$f":"IF($B134=\"\",\"\",SUMIF('Trust - Frontsheet'!$C$14:$C$213,$B134,'Trust - Frontsheet'!J$14:J$213))","v":""},{"$f":"IF($B134=\"\",\"\",SUMIF('Trust - Frontsheet'!$C$14:$C$213,$B134,'Trust - Frontsheet'!K$14:K$213))","v":""},{"$f":"IF($B134=\"\",\"\",SUMIF('Trust - Frontsheet'!$C$14:$C$213,$B134,'Trust - Frontsheet'!L$14:L$213))","v":""},{"$f":"IF($B134=\"\",\"\",SUMIF('Trust - Frontsheet'!$C$14:$C$213,$B134,'Trust - Frontsheet'!M$14:M$213))","v":""},{"$f":"IF($B134=\"\",\"\",SUMIF('Trust - Frontsheet'!$C$14:$C$213,$B134,'Trust - Frontsheet'!N$14:N$213))","v":""},{"$f":"IF($B134=\"\",\"\",SUMIF('Trust - Frontsheet'!$C$14:$C$213,$B134,'Trust - Frontsheet'!O$14:O$213))","v":""},"","","","",{"$f":"IF($B134=\"\",\"\",SUMIF('Trust - Frontsheet'!$C$14:$C$213,$B134,'Trust - Frontsheet'!T$14:T$213))","v":""},"","",""]
[null,{"$f":"IF(ISERROR(INDEX('Trust - Frontsheet'!AV$1:AV$6187,SMALL(IF('Trust - Frontsheet'!$AX$1:$AX$6187=$B$2,ROW('Trust - Frontsheet'!$AX$1:$AX$6187)),ROW(129:129)))),\"\",INDEX('Trust - Frontsheet'!AV$1:AV$6187,SMALL(IF('Trust - Frontsheet'!$AX$1:$AX$6187=$B$2,ROW('Trust - Frontsheet'!$AX$1:$AX$6187)),ROW(129:129))))","v":""},{"$f":"IF(ISERROR(INDEX('Trust - Frontsheet'!AW$1:AW$6187,SMALL(IF('Trust - Frontsheet'!$AX$1:$AX$6187=$B$2,ROW('Trust - Frontsheet'!$AX$1:$AX$6187)),ROW(129:129)))),\"\",INDEX('Trust - Frontsheet'!AW$1:AW$6187,SMALL(IF('Trust - Frontsheet'!$AX$1:$AX$6187=$B$2,ROW('Trust - Frontsheet'!$AX$1:$AX$6187)),ROW(129:129))))","v":""},{"$f":"IF($B135=\"\",\"\",SUMIF('Trust - Frontsheet'!$C$14:$C$213,$B135,'Trust - Frontsheet'!H$14:H$213))","v":""},{"$f":"IF($B135=\"\",\"\",SUMIF('Trust - Frontsheet'!$C$14:$C$213,$B135,'Trust - Frontsheet'!I$14:I$213))","v":""},{"$f":"IF($B135=\"\",\"\",SUMIF('Trust - Frontsheet'!$C$14:$C$213,$B135,'Trust - Frontsheet'!J$14:J$213))","v":""},{"$f":"IF($B135=\"\",\"\",SUMIF('Trust - Frontsheet'!$C$14:$C$213,$B135,'Trust - Frontsheet'!K$14:K$213))","v":""},{"$f":"IF($B135=\"\",\"\",SUMIF('Trust - Frontsheet'!$C$14:$C$213,$B135,'Trust - Frontsheet'!L$14:L$213))","v":""},{"$f":"IF($B135=\"\",\"\",SUMIF('Trust - Frontsheet'!$C$14:$C$213,$B135,'Trust - Frontsheet'!M$14:M$213))","v":""},{"$f":"IF($B135=\"\",\"\",SUMIF('Trust - Frontsheet'!$C$14:$C$213,$B135,'Trust - Frontsheet'!N$14:N$213))","v":""},{"$f":"IF($B135=\"\",\"\",SUMIF('Trust - Frontsheet'!$C$14:$C$213,$B135,'Trust - Frontsheet'!O$14:O$213))","v":""},"","","","",{"$f":"IF($B135=\"\",\"\",SUMIF('Trust - Frontsheet'!$C$14:$C$213,$B135,'Trust - Frontsheet'!T$14:T$213))","v":""},"","",""]
[null,{"$f":"IF(ISERROR(INDEX('Trust - Frontsheet'!AV$1:AV$6187,SMALL(IF('Trust - Frontsheet'!$AX$1:$AX$6187=$B$2,ROW('Trust - Frontsheet'!$AX$1:$AX$6187)),ROW(130:130)))),\"\",INDEX('Trust - Frontsheet'!AV$1:AV$6187,SMALL(IF('Trust - Frontsheet'!$AX$1:$AX$6187=$B$2,ROW('Trust - Frontsheet'!$AX$1:$AX$6187)),ROW(130:130))))","v":""},{"$f":"IF(ISERROR(INDEX('Trust - Frontsheet'!AW$1:AW$6187,SMALL(IF('Trust - Frontsheet'!$AX$1:$AX$6187=$B$2,ROW('Trust - Frontsheet'!$AX$1:$AX$6187)),ROW(130:130)))),\"\",INDEX('Trust - Frontsheet'!AW$1:AW$6187,SMALL(IF('Trust - Frontsheet'!$AX$1:$AX$6187=$B$2,ROW('Trust - Frontsheet'!$AX$1:$AX$6187)),ROW(130:130))))","v":""},{"$f":"IF($B136=\"\",\"\",SUMIF('Trust - Frontsheet'!$C$14:$C$213,$B136,'Trust - Frontsheet'!H$14:H$213))","v":""},{"$f":"IF($B136=\"\",\"\",SUMIF('Trust - Frontsheet'!$C$14:$C$213,$B136,'Trust - Frontsheet'!I$14:I$213))","v":""},{"$f":"IF($B136=\"\",\"\",SUMIF('Trust - Frontsheet'!$C$14:$C$213,$B136,'Trust - Frontsheet'!J$14:J$213))","v":""},{"$f":"IF($B136=\"\",\"\",SUMIF('Trust - Frontsheet'!$C$14:$C$213,$B136,'Trust - Frontsheet'!K$14:K$213))","v":""},{"$f":"IF($B136=\"\",\"\",SUMIF('Trust - Frontsheet'!$C$14:$C$213,$B136,'Trust - Frontsheet'!L$14:L$213))","v":""},{"$f":"IF($B136=\"\",\"\",SUMIF('Trust - Frontsheet'!$C$14:$C$213,$B136,'Trust - Frontsheet'!M$14:M$213))","v":""},{"$f":"IF($B136=\"\",\"\",SUMIF('Trust - Frontsheet'!$C$14:$C$213,$B136,'Trust - Frontsheet'!N$14:N$213))","v":""},{"$f":"IF($B136=\"\",\"\",SUMIF('Trust - Frontsheet'!$C$14:$C$213,$B136,'Trust - Frontsheet'!O$14:O$213))","v":""},{"$f":"IF(D136=\"\",\"\",IF(D136=0,0,E136/D136))","v":""},{"$f":"IF(F136=\"\",\"\",IF(F136=0,0,G136/F136))","v":""},{"$f":"IF(H136=\"\",\"\",IF(H136=0,0,I136/H136))","v":""},{"$f":"IF(J136=\"\",\"\",IF(J136=0,0,K136/J136))","v":""},{"$f":"IF($B136=\"\",\"\",SUMIF('Trust - Frontsheet'!$C$14:$C$213,$B136,'Trust - Frontsheet'!T$14:T$213))","v":""},{"$f":"IF(ISERROR(IF($P136=\"\",\"\",SUM(E136,I136)/$P136)),\"-\",(IF($P136=\"\",\"\",SUM(E136,I136)/$P136)))","v":""},{"$f":"IF(ISERROR(IF($P136=\"\",\"\",SUM(G136,K136)/$P136)),\"-\",(IF($P136=\"\",\"\",SUM(G136,K136)/$P136)))","v":""},{"$f":"IF(ISERROR(IF($P136=\"\",\"\",SUM(E136,G136,I136,K136)/$P136)),\"-\",(IF($P136=\"\",\"\",SUM(E136,G136,I136,K136)/$P136)))","v":""}]
[null,{"$f":"IF(ISERROR(INDEX('Trust - Frontsheet'!AV$1:AV$6187,SMALL(IF('Trust - Frontsheet'!$AX$1:$AX$6187=$B$2,ROW('Trust - Frontsheet'!$AX$1:$AX$6187)),ROW(131:131)))),\"\",INDEX('Trust - Frontsheet'!AV$1:AV$6187,SMALL(IF('Trust - Frontsheet'!$AX$1:$AX$6187=$B$2,ROW('Trust - Frontsheet'!$AX$1:$AX$6187)),ROW(131:131))))","v":""},{"$f":"IF(ISERROR(INDEX('Trust - Frontsheet'!AW$1:AW$6187,SMALL(IF('Trust - Frontsheet'!$AX$1:$AX$6187=$B$2,ROW('Trust - Frontsheet'!$AX$1:$AX$6187)),ROW(131:131)))),\"\",INDEX('Trust - Frontsheet'!AW$1:AW$6187,SMALL(IF('Trust - Frontsheet'!$AX$1:$AX$6187=$B$2,ROW('Trust - Frontsheet'!$AX$1:$AX$6187)),ROW(131:131))))","v":""},{"$f":"IF($B137=\"\",\"\",SUMIF('Trust - Frontsheet'!$C$14:$C$213,$B137,'Trust - Frontsheet'!H$14:H$213))","v":""},{"$f":"IF($B137=\"\",\"\",SUMIF('Trust - Frontsheet'!$C$14:$C$213,$B137,'Trust - Frontsheet'!I$14:I$213))","v":""},{"$f":"IF($B137=\"\",\"\",SUMIF('Trust - Frontsheet'!$C$14:$C$213,$B137,'Trust - Frontsheet'!J$14:J$213))","v":""},{"$f":"IF($B137=\"\",\"\",SUMIF('Trust - Frontsheet'!$C$14:$C$213,$B137,'Trust - Frontsheet'!K$14:K$213))","v":""},{"$f":"IF($B137=\"\",\"\",SUMIF('Trust - Frontsheet'!$C$14:$C$213,$B137,'Trust - Frontsheet'!L$14:L$213))","v":""},{"$f":"IF($B137=\"\",\"\",SUMIF('Trust - Frontsheet'!$C$14:$C$213,$B137,'Trust - Frontsheet'!M$14:M$213))","v":""},{"$f":"IF($B137=\"\",\"\",SUMIF('Trust - Frontsheet'!$C$14:$C$213,$B137,'Trust - Frontsheet'!N$14:N$213))","v":""},{"$f":"IF($B137=\"\",\"\",SUMIF('Trust - Frontsheet'!$C$14:$C$213,$B137,'Trust - Frontsheet'!O$14:O$213))","v":""},"","","","",{"$f":"IF($B137=\"\",\"\",SUMIF('Trust - Frontsheet'!$C$14:$C$213,$B137,'Trust - Frontsheet'!T$14:T$213))","v":""},"","",""]
[null,{"$f":"IF(ISERROR(INDEX('Trust - Frontsheet'!AV$1:AV$6187,SMALL(IF('Trust - Frontsheet'!$AX$1:$AX$6187=$B$2,ROW('Trust - Frontsheet'!$AX$1:$AX$6187)),ROW(132:132)))),\"\",INDEX('Trust - Frontsheet'!AV$1:AV$6187,SMALL(IF('Trust - Frontsheet'!$AX$1:$AX$6187=$B$2,ROW('Trust - Frontsheet'!$AX$1:$AX$6187)),ROW(132:132))))","v":""},{"$f":"IF(ISERROR(INDEX('Trust - Frontsheet'!AW$1:AW$6187,SMALL(IF('Trust - Frontsheet'!$AX$1:$AX$6187=$B$2,ROW('Trust - Frontsheet'!$AX$1:$AX$6187)),ROW(132:132)))),\"\",INDEX('Trust - Frontsheet'!AW$1:AW$6187,SMALL(IF('Trust - Frontsheet'!$AX$1:$AX$6187=$B$2,ROW('Trust - Frontsheet'!$AX$1:$AX$6187)),ROW(132:132))))","v":""},{"$f":"IF($B138=\"\",\"\",SUMIF('Trust - Frontsheet'!$C$14:$C$213,$B138,'Trust - Frontsheet'!H$14:H$213))","v":""},{"$f":"IF($B138=\"\",\"\",SUMIF('Trust - Frontsheet'!$C$14:$C$213,$B138,'Trust - Frontsheet'!I$14:I$213))","v":""},{"$f":"IF($B138=\"\",\"\",SUMIF('Trust - Frontsheet'!$C$14:$C$213,$B138,'Trust - Frontsheet'!J$14:J$213))","v":""},{"$f":"IF($B138=\"\",\"\",SUMIF('Trust - Frontsheet'!$C$14:$C$213,$B138,'Trust - Frontsheet'!K$14:K$213))","v":""},{"$f":"IF($B138=\"\",\"\",SUMIF('Trust - Frontsheet'!$C$14:$C$213,$B138,'Trust - Frontsheet'!L$14:L$213))","v":""},{"$f":"IF($B138=\"\",\"\",SUMIF('Trust - Frontsheet'!$C$14:$C$213,$B138,'Trust - Frontsheet'!M$14:M$213))","v":""},{"$f":"IF($B138=\"\",\"\",SUMIF('Trust - Frontsheet'!$C$14:$C$213,$B138,'Trust - Frontsheet'!N$14:N$213))","v":""},{"$f":"IF($B138=\"\",\"\",SUMIF('Trust - Frontsheet'!$C$14:$C$213,$B138,'Trust - Frontsheet'!O$14:O$213))","v":""},"","","","",{"$f":"IF($B138=\"\",\"\",SUMIF('Trust - Frontsheet'!$C$14:$C$213,$B138,'Trust - Frontsheet'!T$14:T$213))","v":""},"","",""]
[null,{"$f":"IF(ISERROR(INDEX('Trust - Frontsheet'!AV$1:AV$6187,SMALL(IF('Trust - Frontsheet'!$AX$1:$AX$6187=$B$2,ROW('Trust - Frontsheet'!$AX$1:$AX$6187)),ROW(133:133)))),\"\",INDEX('Trust - Frontsheet'!AV$1:AV$6187,SMALL(IF('Trust - Frontsheet'!$AX$1:$AX$6187=$B$2,ROW('Trust - Frontsheet'!$AX$1:$AX$6187)),ROW(133:133))))","v":""},{"$f":"IF(ISERROR(INDEX('Trust - Frontsheet'!AW$1:AW$6187,SMALL(IF('Trust - Frontsheet'!$AX$1:$AX$6187=$B$2,ROW('Trust - Frontsheet'!$AX$1:$AX$6187)),ROW(133:133)))),\"\",INDEX('Trust - Frontsheet'!AW$1:AW$6187,SMALL(IF('Trust - Frontsheet'!$AX$1:$AX$6187=$B$2,ROW('Trust - Frontsheet'!$AX$1:$AX$6187)),ROW(133:133))))","v":""},{"$f":"IF($B139=\"\",\"\",SUMIF('Trust - Frontsheet'!$C$14:$C$213,$B139,'Trust - Frontsheet'!H$14:H$213))","v":""},{"$f":"IF($B139=\"\",\"\",SUMIF('Trust - Frontsheet'!$C$14:$C$213,$B139,'Trust - Frontsheet'!I$14:I$213))","v":""},{"$f":"IF($B139=\"\",\"\",SUMIF('Trust - Frontsheet'!$C$14:$C$213,$B139,'Trust - Frontsheet'!J$14:J$213))","v":""},{"$f":"IF($B139=\"\",\"\",SUMIF('Trust - Frontsheet'!$C$14:$C$213,$B139,'Trust - Frontsheet'!K$14:K$213))","v":""},{"$f":"IF($B139=\"\",\"\",SUMIF('Trust - Frontsheet'!$C$14:$C$213,$B139,'Trust - Frontsheet'!L$14:L$213))","v":""},{"$f":"IF($B139=\"\",\"\",SUMIF('Trust - Frontsheet'!$C$14:$C$213,$B139,'Trust - Frontsheet'!M$14:M$213))","v":""},{"$f":"IF($B139=\"\",\"\",SUMIF('Trust - Frontsheet'!$C$14:$C$213,$B139,'Trust - Frontsheet'!N$14:N$213))","v":""},{"$f":"IF($B139=\"\",\"\",SUMIF('Trust - Frontsheet'!$C$14:$C$213,$B139,'Trust - Frontsheet'!O$14:O$213))","v":""},"","","","",{"$f":"IF($B139=\"\",\"\",SUMIF('Trust - Frontsheet'!$C$14:$C$213,$B139,'Trust - Frontsheet'!T$14:T$213))","v":""},"","",""]
[null,{"$f":"IF(ISERROR(INDEX('Trust - Frontsheet'!AV$1:AV$6187,SMALL(IF('Trust - Frontsheet'!$AX$1:$AX$6187=$B$2,ROW('Trust - Frontsheet'!$AX$1:$AX$6187)),ROW(134:134)))),\"\",INDEX('Trust - Frontsheet'!AV$1:AV$6187,SMALL(IF('Trust - Frontsheet'!$AX$1:$AX$6187=$B$2,ROW('Trust - Frontsheet'!$AX$1:$AX$6187)),ROW(134:134))))","v":""},{"$f":"IF(ISERROR(INDEX('Trust - Frontsheet'!AW$1:AW$6187,SMALL(IF('Trust - Frontsheet'!$AX$1:$AX$6187=$B$2,ROW('Trust - Frontsheet'!$AX$1:$AX$6187)),ROW(134:134)))),\"\",INDEX('Trust - Frontsheet'!AW$1:AW$6187,SMALL(IF('Trust - Frontsheet'!$AX$1:$AX$6187=$B$2,ROW('Trust - Frontsheet'!$AX$1:$AX$6187)),ROW(134:134))))","v":""},{"$f":"IF($B140=\"\",\"\",SUMIF('Trust - Frontsheet'!$C$14:$C$213,$B140,'Trust - Frontsheet'!H$14:H$213))","v":""},{"$f":"IF($B140=\"\",\"\",SUMIF('Trust - Frontsheet'!$C$14:$C$213,$B140,'Trust - Frontsheet'!I$14:I$213))","v":""},{"$f":"IF($B140=\"\",\"\",SUMIF('Trust - Frontsheet'!$C$14:$C$213,$B140,'Trust - Frontsheet'!J$14:J$213))","v":""},{"$f":"IF($B140=\"\",\"\",SUMIF('Trust - Frontsheet'!$C$14:$C$213,$B140,'Trust - Frontsheet'!K$14:K$213))","v":""},{"$f":"IF($B140=\"\",\"\",SUMIF('Trust - Frontsheet'!$C$14:$C$213,$B140,'Trust - Frontsheet'!L$14:L$213))","v":""},{"$f":"IF($B140=\"\",\"\",SUMIF('Trust - Frontsheet'!$C$14:$C$213,$B140,'Trust - Frontsheet'!M$14:M$213))","v":""},{"$f":"IF($B140=\"\",\"\",SUMIF('Trust - Frontsheet'!$C$14:$C$213,$B140,'Trust - Frontsheet'!N$14:N$213))","v":""},{"$f":"IF($B140=\"\",\"\",SUMIF('Trust - Frontsheet'!$C$14:$C$213,$B140,'Trust - Frontsheet'!O$14:O$213))","v":""},"","","","",{"$f":"IF($B140=\"\",\"\",SUMIF('Trust - Frontsheet'!$C$14:$C$213,$B140,'Trust - Frontsheet'!T$14:T$213))","v":""},"","",""]
[null,{"$f":"IF(ISERROR(INDEX('Trust - Frontsheet'!AV$1:AV$6187,SMALL(IF('Trust - Frontsheet'!$AX$1:$AX$6187=$B$2,ROW('Trust - Frontsheet'!$AX$1:$AX$6187)),ROW(135:135)))),\"\",INDEX('Trust - Frontsheet'!AV$1:AV$6187,SMALL(IF('Trust - Frontsheet'!$AX$1:$AX$6187=$B$2,ROW('Trust - Frontsheet'!$AX$1:$AX$6187)),ROW(135:135))))","v":""},{"$f":"IF(ISERROR(INDEX('Trust - Frontsheet'!AW$1:AW$6187,SMALL(IF('Trust - Frontsheet'!$AX$1:$AX$6187=$B$2,ROW('Trust - Frontsheet'!$AX$1:$AX$6187)),ROW(135:135)))),\"\",INDEX('Trust - Frontsheet'!AW$1:AW$6187,SMALL(IF('Trust - Frontsheet'!$AX$1:$AX$6187=$B$2,ROW('Trust - Frontsheet'!$AX$1:$AX$6187)),ROW(135:135))))","v":""},{"$f":"IF($B141=\"\",\"\",SUMIF('Trust - Frontsheet'!$C$14:$C$213,$B141,'Trust - Frontsheet'!H$14:H$213))","v":""},{"$f":"IF($B141=\"\",\"\",SUMIF('Trust - Frontsheet'!$C$14:$C$213,$B141,'Trust - Frontsheet'!I$14:I$213))","v":""},{"$f":"IF($B141=\"\",\"\",SUMIF('Trust - Frontsheet'!$C$14:$C$213,$B141,'Trust - Frontsheet'!J$14:J$213))","v":""},{"$f":"IF($B141=\"\",\"\",SUMIF('Trust - Frontsheet'!$C$14:$C$213,$B141,'Trust - Frontsheet'!K$14:K$213))","v":""},{"$f":"IF($B141=\"\",\"\",SUMIF('Trust - Frontsheet'!$C$14:$C$213,$B141,'Trust - Frontsheet'!L$14:L$213))","v":""},{"$f":"IF($B141=\"\",\"\",SUMIF('Trust - Frontsheet'!$C$14:$C$213,$B141,'Trust - Frontsheet'!M$14:M$213))","v":""},{"$f":"IF($B141=\"\",\"\",SUMIF('Trust - Frontsheet'!$C$14:$C$213,$B141,'Trust - Frontsheet'!N$14:N$213))","v":""},{"$f":"IF($B141=\"\",\"\",SUMIF('Trust - Frontsheet'!$C$14:$C$213,$B141,'Trust - Frontsheet'!O$14:O$213))","v":""},"","","","",{"$f":"IF($B141=\"\",\"\",SUMIF('Trust - Frontsheet'!$C$14:$C$213,$B141,'Trust - Frontsheet'!T$14:T$213))","v":""},"","",""]
[null,{"$f":"IF(ISERROR(INDEX('Trust - Frontsheet'!AV$1:AV$6187,SMALL(IF('Trust - Frontsheet'!$AX$1:$AX$6187=$B$2,ROW('Trust - Frontsheet'!$AX$1:$AX$6187)),ROW(136:136)))),\"\",INDEX('Trust - Frontsheet'!AV$1:AV$6187,SMALL(IF('Trust - Frontsheet'!$AX$1:$AX$6187=$B$2,ROW('Trust - Frontsheet'!$AX$1:$AX$6187)),ROW(136:136))))","v":""},{"$f":"IF(ISERROR(INDEX('Trust - Frontsheet'!AW$1:AW$6187,SMALL(IF('Trust - Frontsheet'!$AX$1:$AX$6187=$B$2,ROW('Trust - Frontsheet'!$AX$1:$AX$6187)),ROW(136:136)))),\"\",INDEX('Trust - Frontsheet'!AW$1:AW$6187,SMALL(IF('Trust - Frontsheet'!$AX$1:$AX$6187=$B$2,ROW('Trust - Frontsheet'!$AX$1:$AX$6187)),ROW(136:136))))","v":""},{"$f":"IF($B142=\"\",\"\",SUMIF('Trust - Frontsheet'!$C$14:$C$213,$B142,'Trust - Frontsheet'!H$14:H$213))","v":""},{"$f":"IF($B142=\"\",\"\",SUMIF('Trust - Frontsheet'!$C$14:$C$213,$B142,'Trust - Frontsheet'!I$14:I$213))","v":""},{"$f":"IF($B142=\"\",\"\",SUMIF('Trust - Frontsheet'!$C$14:$C$213,$B142,'Trust - Frontsheet'!J$14:J$213))","v":""},{"$f":"IF($B142=\"\",\"\",SUMIF('Trust - Frontsheet'!$C$14:$C$213,$B142,'Trust - Frontsheet'!K$14:K$213))","v":""},{"$f":"IF($B142=\"\",\"\",SUMIF('Trust - Frontsheet'!$C$14:$C$213,$B142,'Trust - Frontsheet'!L$14:L$213))","v":""},{"$f":"IF($B142=\"\",\"\",SUMIF('Trust - Frontsheet'!$C$14:$C$213,$B142,'Trust - Frontsheet'!M$14:M$213))","v":""},{"$f":"IF($B142=\"\",\"\",SUMIF('Trust - Frontsheet'!$C$14:$C$213,$B142,'Trust - Frontsheet'!N$14:N$213))","v":""},{"$f":"IF($B142=\"\",\"\",SUMIF('Trust - Frontsheet'!$C$14:$C$213,$B142,'Trust - Frontsheet'!O$14:O$213))","v":""},"","","","",{"$f":"IF($B142=\"\",\"\",SUMIF('Trust - Frontsheet'!$C$14:$C$213,$B142,'Trust - Frontsheet'!T$14:T$213))","v":""},"","",""]
[null,{"$f":"IF(ISERROR(INDEX('Trust - Frontsheet'!AV$1:AV$6187,SMALL(IF('Trust - Frontsheet'!$AX$1:$AX$6187=$B$2,ROW('Trust - Frontsheet'!$AX$1:$AX$6187)),ROW(137:137)))),\"\",INDEX('Trust - Frontsheet'!AV$1:AV$6187,SMALL(IF('Trust - Frontsheet'!$AX$1:$AX$6187=$B$2,ROW('Trust - Frontsheet'!$AX$1:$AX$6187)),ROW(137:137))))","v":""},{"$f":"IF(ISERROR(INDEX('Trust - Frontsheet'!AW$1:AW$6187,SMALL(IF('Trust - Frontsheet'!$AX$1:$AX$6187=$B$2,ROW('Trust - Frontsheet'!$AX$1:$AX$6187)),ROW(137:137)))),\"\",INDEX('Trust - Frontsheet'!AW$1:AW$6187,SMALL(IF('Trust - Frontsheet'!$AX$1:$AX$6187=$B$2,ROW('Trust - Frontsheet'!$AX$1:$AX$6187)),ROW(137:137))))","v":""},{"$f":"IF($B143=\"\",\"\",SUMIF('Trust - Frontsheet'!$C$14:$C$213,$B143,'Trust - Frontsheet'!H$14:H$213))","v":""},{"$f":"IF($B143=\"\",\"\",SUMIF('Trust - Frontsheet'!$C$14:$C$213,$B143,'Trust - Frontsheet'!I$14:I$213))","v":""},{"$f":"IF($B143=\"\",\"\",SUMIF('Trust - Frontsheet'!$C$14:$C$213,$B143,'Trust - Frontsheet'!J$14:J$213))","v":""},{"$f":"IF($B143=\"\",\"\",SUMIF('Trust - Frontsheet'!$C$14:$C$213,$B143,'Trust - Frontsheet'!K$14:K$213))","v":""},{"$f":"IF($B143=\"\",\"\",SUMIF('Trust - Frontsheet'!$C$14:$C$213,$B143,'Trust - Frontsheet'!L$14:L$213))","v":""},{"$f":"IF($B143=\"\",\"\",SUMIF('Trust - Frontsheet'!$C$14:$C$213,$B143,'Trust - Frontsheet'!M$14:M$213))","v":""},{"$f":"IF($B143=\"\",\"\",SUMIF('Trust - Frontsheet'!$C$14:$C$213,$B143,'Trust - Frontsheet'!N$14:N$213))","v":""},{"$f":"IF($B143=\"\",\"\",SUMIF('Trust - Frontsheet'!$C$14:$C$213,$B143,'Trust - Frontsheet'!O$14:O$213))","v":""},"","","","",{"$f":"IF($B143=\"\",\"\",SUMIF('Trust - Frontsheet'!$C$14:$C$213,$B143,'Trust - Frontsheet'!T$14:T$213))","v":""},"","",""]
[null,{"$f":"IF(ISERROR(INDEX('Trust - Frontsheet'!AV$1:AV$6187,SMALL(IF('Trust - Frontsheet'!$AX$1:$AX$6187=$B$2,ROW('Trust - Frontsheet'!$AX$1:$AX$6187)),ROW(138:138)))),\"\",INDEX('Trust - Frontsheet'!AV$1:AV$6187,SMALL(IF('Trust - Frontsheet'!$AX$1:$AX$6187=$B$2,ROW('Trust - Frontsheet'!$AX$1:$AX$6187)),ROW(138:138))))","v":""},{"$f":"IF(ISERROR(INDEX('Trust - Frontsheet'!AW$1:AW$6187,SMALL(IF('Trust - Frontsheet'!$AX$1:$AX$6187=$B$2,ROW('Trust - Frontsheet'!$AX$1:$AX$6187)),ROW(138:138)))),\"\",INDEX('Trust - Frontsheet'!AW$1:AW$6187,SMALL(IF('Trust - Frontsheet'!$AX$1:$AX$6187=$B$2,ROW('Trust - Frontsheet'!$AX$1:$AX$6187)),ROW(138:138))))","v":""},{"$f":"IF($B144=\"\",\"\",SUMIF('Trust - Frontsheet'!$C$14:$C$213,$B144,'Trust - Frontsheet'!H$14:H$213))","v":""},{"$f":"IF($B144=\"\",\"\",SUMIF('Trust - Frontsheet'!$C$14:$C$213,$B144,'Trust - Frontsheet'!I$14:I$213))","v":""},{"$f":"IF($B144=\"\",\"\",SUMIF('Trust - Frontsheet'!$C$14:$C$213,$B144,'Trust - Frontsheet'!J$14:J$213))","v":""},{"$f":"IF($B144=\"\",\"\",SUMIF('Trust - Frontsheet'!$C$14:$C$213,$B144,'Trust - Frontsheet'!K$14:K$213))","v":""},{"$f":"IF($B144=\"\",\"\",SUMIF('Trust - Frontsheet'!$C$14:$C$213,$B144,'Trust - Frontsheet'!L$14:L$213))","v":""},{"$f":"IF($B144=\"\",\"\",SUMIF('Trust - Frontsheet'!$C$14:$C$213,$B144,'Trust - Frontsheet'!M$14:M$213))","v":""},{"$f":"IF($B144=\"\",\"\",SUMIF('Trust - Frontsheet'!$C$14:$C$213,$B144,'Trust - Frontsheet'!N$14:N$213))","v":""},{"$f":"IF($B144=\"\",\"\",SUMIF('Trust - Frontsheet'!$C$14:$C$213,$B144,'Trust - Frontsheet'!O$14:O$213))","v":""},"","","","",{"$f":"IF($B144=\"\",\"\",SUMIF('Trust - Frontsheet'!$C$14:$C$213,$B144,'Trust - Frontsheet'!T$14:T$213))","v":""},"","",""]
[null,{"$f":"IF(ISERROR(INDEX('Trust - Frontsheet'!AV$1:AV$6187,SMALL(IF('Trust - Frontsheet'!$AX$1:$AX$6187=$B$2,ROW('Trust - Frontsheet'!$AX$1:$AX$6187)),ROW(139:139)))),\"\",INDEX('Trust - Frontsheet'!AV$1:AV$6187,SMALL(IF('Trust - Frontsheet'!$AX$1:$AX$6187=$B$2,ROW('Trust - Frontsheet'!$AX$1:$AX$6187)),ROW(139:139))))","v":""},{"$f":"IF(ISERROR(INDEX('Trust - Frontsheet'!AW$1:AW$6187,SMALL(IF('Trust - Frontsheet'!$AX$1:$AX$6187=$B$2,ROW('Trust - Frontsheet'!$AX$1:$AX$6187)),ROW(139:139)))),\"\",INDEX('Trust - Frontsheet'!AW$1:AW$6187,SMALL(IF('Trust - Frontsheet'!$AX$1:$AX$6187=$B$2,ROW('Trust - Frontsheet'!$AX$1:$AX$6187)),ROW(139:139))))","v":""},{"$f":"IF($B145=\"\",\"\",SUMIF('Trust - Frontsheet'!$C$14:$C$213,$B145,'Trust - Frontsheet'!H$14:H$213))","v":""},{"$f":"IF($B145=\"\",\"\",SUMIF('Trust - Frontsheet'!$C$14:$C$213,$B145,'Trust - Frontsheet'!I$14:I$213))","v":""},{"$f":"IF($B145=\"\",\"\",SUMIF('Trust - Frontsheet'!$C$14:$C$213,$B145,'Trust - Frontsheet'!J$14:J$213))","v":""},{"$f":"IF($B145=\"\",\"\",SUMIF('Trust - Frontsheet'!$C$14:$C$213,$B145,'Trust - Frontsheet'!K$14:K$213))","v":""},{"$f":"IF($B145=\"\",\"\",SUMIF('Trust - Frontsheet'!$C$14:$C$213,$B145,'Trust - Frontsheet'!L$14:L$213))","v":""},{"$f":"IF($B145=\"\",\"\",SUMIF('Trust - Frontsheet'!$C$14:$C$213,$B145,'Trust - Frontsheet'!M$14:M$213))","v":""},{"$f":"IF($B145=\"\",\"\",SUMIF('Trust - Frontsheet'!$C$14:$C$213,$B145,'Trust - Frontsheet'!N$14:N$213))","v":""},{"$f":"IF($B145=\"\",\"\",SUMIF('Trust - Frontsheet'!$C$14:$C$213,$B145,'Trust - Frontsheet'!O$14:O$213))","v":""},"","","","",{"$f":"IF($B145=\"\",\"\",SUMIF('Trust - Frontsheet'!$C$14:$C$213,$B145,'Trust - Frontsheet'!T$14:T$213))","v":""},"","",""]
[null,{"$f":"IF(ISERROR(INDEX('Trust - Frontsheet'!AV$1:AV$6187,SMALL(IF('Trust - Frontsheet'!$AX$1:$AX$6187=$B$2,ROW('Trust - Frontsheet'!$AX$1:$AX$6187)),ROW(140:140)))),\"\",INDEX('Trust - Frontsheet'!AV$1:AV$6187,SMALL(IF('Trust - Frontsheet'!$AX$1:$AX$6187=$B$2,ROW('Trust - Frontsheet'!$AX$1:$AX$6187)),ROW(140:140))))","v":""},{"$f":"IF(ISERROR(INDEX('Trust - Frontsheet'!AW$1:AW$6187,SMALL(IF('Trust - Frontsheet'!$AX$1:$AX$6187=$B$2,ROW('Trust - Frontsheet'!$AX$1:$AX$6187)),ROW(140:140)))),\"\",INDEX('Trust - Frontsheet'!AW$1:AW$6187,SMALL(IF('Trust - Frontsheet'!$AX$1:$AX$6187=$B$2,ROW('Trust - Frontsheet'!$AX$1:$AX$6187)),ROW(140:140))))","v":""},{"$f":"IF($B146=\"\",\"\",SUMIF('Trust - Frontsheet'!$C$14:$C$213,$B146,'Trust - Frontsheet'!H$14:H$213))","v":""},{"$f":"IF($B146=\"\",\"\",SUMIF('Trust - Frontsheet'!$C$14:$C$213,$B146,'Trust - Frontsheet'!I$14:I$213))","v":""},{"$f":"IF($B146=\"\",\"\",SUMIF('Trust - Frontsheet'!$C$14:$C$213,$B146,'Trust - Frontsheet'!J$14:J$213))","v":""},{"$f":"IF($B146=\"\",\"\",SUMIF('Trust - Frontsheet'!$C$14:$C$213,$B146,'Trust - Frontsheet'!K$14:K$213))","v":""},{"$f":"IF($B146=\"\",\"\",SUMIF('Trust - Frontsheet'!$C$14:$C$213,$B146,'Trust - Frontsheet'!L$14:L$213))","v":""},{"$f":"IF($B146=\"\",\"\",SUMIF('Trust - Frontsheet'!$C$14:$C$213,$B146,'Trust - Frontsheet'!M$14:M$213))","v":""},{"$f":"IF($B146=\"\",\"\",SUMIF('Trust - Frontsheet'!$C$14:$C$213,$B146,'Trust - Frontsheet'!N$14:N$213))","v":""},{"$f":"IF($B146=\"\",\"\",SUMIF('Trust - Frontsheet'!$C$14:$C$213,$B146,'Trust - Frontsheet'!O$14:O$213))","v":""},"","","","",{"$f":"IF($B146=\"\",\"\",SUMIF('Trust - Frontsheet'!$C$14:$C$213,$B146,'Trust - Frontsheet'!T$14:T$213))","v":""},"","",""]
[null,{"$f":"IF(ISERROR(INDEX('Trust - Frontsheet'!AV$1:AV$6187,SMALL(IF('Trust - Frontsheet'!$AX$1:$AX$6187=$B$2,ROW('Trust - Frontsheet'!$AX$1:$AX$6187)),ROW(141:141)))),\"\",INDEX('Trust - Frontsheet'!AV$1:AV$6187,SMALL(IF('Trust - Frontsheet'!$AX$1:$AX$6187=$B$2,ROW('Trust - Frontsheet'!$AX$1:$AX$6187)),ROW(141:141))))","v":""},{"$f":"IF(ISERROR(INDEX('Trust - Frontsheet'!AW$1:AW$6187,SMALL(IF('Trust - Frontsheet'!$AX$1:$AX$6187=$B$2,ROW('Trust - Frontsheet'!$AX$1:$AX$6187)),ROW(141:141)))),\"\",INDEX('Trust - Frontsheet'!AW$1:AW$6187,SMALL(IF('Trust - Frontsheet'!$AX$1:$AX$6187=$B$2,ROW('Trust - Frontsheet'!$AX$1:$AX$6187)),ROW(141:141))))","v":""},{"$f":"IF($B147=\"\",\"\",SUMIF('Trust - Frontsheet'!$C$14:$C$213,$B147,'Trust - Frontsheet'!H$14:H$213))","v":""},{"$f":"IF($B147=\"\",\"\",SUMIF('Trust - Frontsheet'!$C$14:$C$213,$B147,'Trust - Frontsheet'!I$14:I$213))","v":""},{"$f":"IF($B147=\"\",\"\",SUMIF('Trust - Frontsheet'!$C$14:$C$213,$B147,'Trust - Frontsheet'!J$14:J$213))","v":""},{"$f":"IF($B147=\"\",\"\",SUMIF('Trust - Frontsheet'!$C$14:$C$213,$B147,'Trust - Frontsheet'!K$14:K$213))","v":""},{"$f":"IF($B147=\"\",\"\",SUMIF('Trust - Frontsheet'!$C$14:$C$213,$B147,'Trust - Frontsheet'!L$14:L$213))","v":""},{"$f":"IF($B147=\"\",\"\",SUMIF('Trust - Frontsheet'!$C$14:$C$213,$B147,'Trust - Frontsheet'!M$14:M$213))","v":""},{"$f":"IF($B147=\"\",\"\",SUMIF('Trust - Frontsheet'!$C$14:$C$213,$B147,'Trust - Frontsheet'!N$14:N$213))","v":""},{"$f":"IF($B147=\"\",\"\",SUMIF('Trust - Frontsheet'!$C$14:$C$213,$B147,'Trust - Frontsheet'!O$14:O$213))","v":""},"","","","",{"$f":"IF($B147=\"\",\"\",SUMIF('Trust - Frontsheet'!$C$14:$C$213,$B147,'Trust - Frontsheet'!T$14:T$213))","v":""},"","",""]
[null,{"$f":"IF(ISERROR(INDEX('Trust - Frontsheet'!AV$1:AV$6187,SMALL(IF('Trust - Frontsheet'!$AX$1:$AX$6187=$B$2,ROW('Trust - Frontsheet'!$AX$1:$AX$6187)),ROW(142:142)))),\"\",INDEX('Trust - Frontsheet'!AV$1:AV$6187,SMALL(IF('Trust - Frontsheet'!$AX$1:$AX$6187=$B$2,ROW('Trust - Frontsheet'!$AX$1:$AX$6187)),ROW(142:142))))","v":""},{"$f":"IF(ISERROR(INDEX('Trust - Frontsheet'!AW$1:AW$6187,SMALL(IF('Trust - Frontsheet'!$AX$1:$AX$6187=$B$2,ROW('Trust - Frontsheet'!$AX$1:$AX$6187)),ROW(142:142)))),\"\",INDEX('Trust - Frontsheet'!AW$1:AW$6187,SMALL(IF('Trust - Frontsheet'!$AX$1:$AX$6187=$B$2,ROW('Trust - Frontsheet'!$AX$1:$AX$6187)),ROW(142:142))))","v":""},{"$f":"IF($B148=\"\",\"\",SUMIF('Trust - Frontsheet'!$C$14:$C$213,$B148,'Trust - Frontsheet'!H$14:H$213))","v":""},{"$f":"IF($B148=\"\",\"\",SUMIF('Trust - Frontsheet'!$C$14:$C$213,$B148,'Trust - Frontsheet'!I$14:I$213))","v":""},{"$f":"IF($B148=\"\",\"\",SUMIF('Trust - Frontsheet'!$C$14:$C$213,$B148,'Trust - Frontsheet'!J$14:J$213))","v":""},{"$f":"IF($B148=\"\",\"\",SUMIF('Trust - Frontsheet'!$C$14:$C$213,$B148,'Trust - Frontsheet'!K$14:K$213))","v":""},{"$f":"IF($B148=\"\",\"\",SUMIF('Trust - Frontsheet'!$C$14:$C$213,$B148,'Trust - Frontsheet'!L$14:L$213))","v":""},{"$f":"IF($B148=\"\",\"\",SUMIF('Trust - Frontsheet'!$C$14:$C$213,$B148,'Trust - Frontsheet'!M$14:M$213))","v":""},{"$f":"IF($B148=\"\",\"\",SUMIF('Trust - Frontsheet'!$C$14:$C$213,$B148,'Trust - Frontsheet'!N$14:N$213))","v":""},{"$f":"IF($B148=\"\",\"\",SUMIF('Trust - Frontsheet'!$C$14:$C$213,$B148,'Trust - Frontsheet'!O$14:O$213))","v":""},"","","","",{"$f":"IF($B148=\"\",\"\",SUMIF('Trust - Frontsheet'!$C$14:$C$213,$B148,'Trust - Frontsheet'!T$14:T$213))","v":""},"","",""]
[null,{"$f":"IF(ISERROR(INDEX('Trust - Frontsheet'!AV$1:AV$6187,SMALL(IF('Trust - Frontsheet'!$AX$1:$AX$6187=$B$2,ROW('Trust - Frontsheet'!$AX$1:$AX$6187)),ROW(143:143)))),\"\",INDEX('Trust - Frontsheet'!AV$1:AV$6187,SMALL(IF('Trust - Frontsheet'!$AX$1:$AX$6187=$B$2,ROW('Trust - Frontsheet'!$AX$1:$AX$6187)),ROW(143:143))))","v":""},{"$f":"IF(ISERROR(INDEX('Trust - Frontsheet'!AW$1:AW$6187,SMALL(IF('Trust - Frontsheet'!$AX$1:$AX$6187=$B$2,ROW('Trust - Frontsheet'!$AX$1:$AX$6187)),ROW(143:143)))),\"\",INDEX('Trust - Frontsheet'!AW$1:AW$6187,SMALL(IF('Trust - Frontsheet'!$AX$1:$AX$6187=$B$2,ROW('Trust - Frontsheet'!$AX$1:$AX$6187)),ROW(143:143))))","v":""},{"$f":"IF($B149=\"\",\"\",SUMIF('Trust - Frontsheet'!$C$14:$C$213,$B149,'Trust - Frontsheet'!H$14:H$213))","v":""},{"$f":"IF($B149=\"\",\"\",SUMIF('Trust - Frontsheet'!$C$14:$C$213,$B149,'Trust - Frontsheet'!I$14:I$213))","v":""},{"$f":"IF($B149=\"\",\"\",SUMIF('Trust - Frontsheet'!$C$14:$C$213,$B149,'Trust - Frontsheet'!J$14:J$213))","v":""},{"$f":"IF($B149=\"\",\"\",SUMIF('Trust - Frontsheet'!$C$14:$C$213,$B149,'Trust - Frontsheet'!K$14:K$213))","v":""},{"$f":"IF($B149=\"\",\"\",SUMIF('Trust - Frontsheet'!$C$14:$C$213,$B149,'Trust - Frontsheet'!L$14:L$213))","v":""},{"$f":"IF($B149=\"\",\"\",SUMIF('Trust - Frontsheet'!$C$14:$C$213,$B149,'Trust - Frontsheet'!M$14:M$213))","v":""},{"$f":"IF($B149=\"\",\"\",SUMIF('Trust - Frontsheet'!$C$14:$C$213,$B149,'Trust - Frontsheet'!N$14:N$213))","v":""},{"$f":"IF($B149=\"\",\"\",SUMIF('Trust - Frontsheet'!$C$14:$C$213,$B149,'Trust - Frontsheet'!O$14:O$213))","v":""},"","","","",{"$f":"IF($B149=\"\",\"\",SUMIF('Trust - Frontsheet'!$C$14:$C$213,$B149,'Trust - Frontsheet'!T$14:T$213))","v":""},"","",""]
[null,{"$f":"IF(ISERROR(INDEX('Trust - Frontsheet'!AV$1:AV$6187,SMALL(IF('Trust - Frontsheet'!$AX$1:$AX$6187=$B$2,ROW('Trust - Frontsheet'!$AX$1:$AX$6187)),ROW(144:144)))),\"\",INDEX('Trust - Frontsheet'!AV$1:AV$6187,SMALL(IF('Trust - Frontsheet'!$AX$1:$AX$6187=$B$2,ROW('Trust - Frontsheet'!$AX$1:$AX$6187)),ROW(144:144))))","v":""},{"$f":"IF(ISERROR(INDEX('Trust - Frontsheet'!AW$1:AW$6187,SMALL(IF('Trust - Frontsheet'!$AX$1:$AX$6187=$B$2,ROW('Trust - Frontsheet'!$AX$1:$AX$6187)),ROW(144:144)))),\"\",INDEX('Trust - Frontsheet'!AW$1:AW$6187,SMALL(IF('Trust - Frontsheet'!$AX$1:$AX$6187=$B$2,ROW('Trust - Frontsheet'!$AX$1:$AX$6187)),ROW(144:144))))","v":""},{"$f":"IF($B150=\"\",\"\",SUMIF('Trust - Frontsheet'!$C$14:$C$213,$B150,'Trust - Frontsheet'!H$14:H$213))","v":""},{"$f":"IF($B150=\"\",\"\",SUMIF('Trust - Frontsheet'!$C$14:$C$213,$B150,'Trust - Frontsheet'!I$14:I$213))","v":""},{"$f":"IF($B150=\"\",\"\",SUMIF('Trust - Frontsheet'!$C$14:$C$213,$B150,'Trust - Frontsheet'!J$14:J$213))","v":""},{"$f":"IF($B150=\"\",\"\",SUMIF('Trust - Frontsheet'!$C$14:$C$213,$B150,'Trust - Frontsheet'!K$14:K$213))","v":""},{"$f":"IF($B150=\"\",\"\",SUMIF('Trust - Frontsheet'!$C$14:$C$213,$B150,'Trust - Frontsheet'!L$14:L$213))","v":""},{"$f":"IF($B150=\"\",\"\",SUMIF('Trust - Frontsheet'!$C$14:$C$213,$B150,'Trust - Frontsheet'!M$14:M$213))","v":""},{"$f":"IF($B150=\"\",\"\",SUMIF('Trust - Frontsheet'!$C$14:$C$213,$B150,'Trust - Frontsheet'!N$14:N$213))","v":""},{"$f":"IF($B150=\"\",\"\",SUMIF('Trust - Frontsheet'!$C$14:$C$213,$B150,'Trust - Frontsheet'!O$14:O$213))","v":""},"","","","",{"$f":"IF($B150=\"\",\"\",SUMIF('Trust - Frontsheet'!$C$14:$C$213,$B150,'Trust - Frontsheet'!T$14:T$213))","v":""},"","",""]
[null,{"$f":"IF(ISERROR(INDEX('Trust - Frontsheet'!AV$1:AV$6187,SMALL(IF('Trust - Frontsheet'!$AX$1:$AX$6187=$B$2,ROW('Trust - Frontsheet'!$AX$1:$AX$6187)),ROW(145:145)))),\"\",INDEX('Trust - Frontsheet'!AV$1:AV$6187,SMALL(IF('Trust - Frontsheet'!$AX$1:$AX$6187=$B$2,ROW('Trust - Frontsheet'!$AX$1:$AX$6187)),ROW(145:145))))","v":""},{"$f":"IF(ISERROR(INDEX('Trust - Frontsheet'!AW$1:AW$6187,SMALL(IF('Trust - Frontsheet'!$AX$1:$AX$6187=$B$2,ROW('Trust - Frontsheet'!$AX$1:$AX$6187)),ROW(145:145)))),\"\",INDEX('Trust - Frontsheet'!AW$1:AW$6187,SMALL(IF('Trust - Frontsheet'!$AX$1:$AX$6187=$B$2,ROW('Trust - Frontsheet'!$AX$1:$AX$6187)),ROW(145:145))))","v":""},{"$f":"IF($B151=\"\",\"\",SUMIF('Trust - Frontsheet'!$C$14:$C$213,$B151,'Trust - Frontsheet'!H$14:H$213))","v":""},{"$f":"IF($B151=\"\",\"\",SUMIF('Trust - Frontsheet'!$C$14:$C$213,$B151,'Trust - Frontsheet'!I$14:I$213))","v":""},{"$f":"IF($B151=\"\",\"\",SUMIF('Trust - Frontsheet'!$C$14:$C$213,$B151,'Trust - Frontsheet'!J$14:J$213))","v":""},{"$f":"IF($B151=\"\",\"\",SUMIF('Trust - Frontsheet'!$C$14:$C$213,$B151,'Trust - Frontsheet'!K$14:K$213))","v":""},{"$f":"IF($B151=\"\",\"\",SUMIF('Trust - Frontsheet'!$C$14:$C$213,$B151,'Trust - Frontsheet'!L$14:L$213))","v":""},{"$f":"IF($B151=\"\",\"\",SUMIF('Trust - Frontsheet'!$C$14:$C$213,$B151,'Trust - Frontsheet'!M$14:M$213))","v":""},{"$f":"IF($B151=\"\",\"\",SUMIF('Trust - Frontsheet'!$C$14:$C$213,$B151,'Trust - Frontsheet'!N$14:N$213))","v":""},{"$f":"IF($B151=\"\",\"\",SUMIF('Trust - Frontsheet'!$C$14:$C$213,$B151,'Trust - Frontsheet'!O$14:O$213))","v":""},"","","","",{"$f":"IF($B151=\"\",\"\",SUMIF('Trust - Frontsheet'!$C$14:$C$213,$B151,'Trust - Frontsheet'!T$14:T$213))","v":""},"","",""]
[null,{"$f":"IF(ISERROR(INDEX('Trust - Frontsheet'!AV$1:AV$6187,SMALL(IF('Trust - Frontsheet'!$AX$1:$AX$6187=$B$2,ROW('Trust - Frontsheet'!$AX$1:$AX$6187)),ROW(146:146)))),\"\",INDEX('Trust - Frontsheet'!AV$1:AV$6187,SMALL(IF('Trust - Frontsheet'!$AX$1:$AX$6187=$B$2,ROW('Trust - Frontsheet'!$AX$1:$AX$6187)),ROW(146:146))))","v":""},{"$f":"IF(ISERROR(INDEX('Trust - Frontsheet'!AW$1:AW$6187,SMALL(IF('Trust - Frontsheet'!$AX$1:$AX$6187=$B$2,ROW('Trust - Frontsheet'!$AX$1:$AX$6187)),ROW(146:146)))),\"\",INDEX('Trust - Frontsheet'!AW$1:AW$6187,SMALL(IF('Trust - Frontsheet'!$AX$1:$AX$6187=$B$2,ROW('Trust - Frontsheet'!$AX$1:$AX$6187)),ROW(146:146))))","v":""},{"$f":"IF($B152=\"\",\"\",SUMIF('Trust - Frontsheet'!$C$14:$C$213,$B152,'Trust - Frontsheet'!H$14:H$213))","v":""},{"$f":"IF($B152=\"\",\"\",SUMIF('Trust - Frontsheet'!$C$14:$C$213,$B152,'Trust - Frontsheet'!I$14:I$213))","v":""},{"$f":"IF($B152=\"\",\"\",SUMIF('Trust - Frontsheet'!$C$14:$C$213,$B152,'Trust - Frontsheet'!J$14:J$213))","v":""},{"$f":"IF($B152=\"\",\"\",SUMIF('Trust - Frontsheet'!$C$14:$C$213,$B152,'Trust - Frontsheet'!K$14:K$213))","v":""},{"$f":"IF($B152=\"\",\"\",SUMIF('Trust - Frontsheet'!$C$14:$C$213,$B152,'Trust - Frontsheet'!L$14:L$213))","v":""},{"$f":"IF($B152=\"\",\"\",SUMIF('Trust - Frontsheet'!$C$14:$C$213,$B152,'Trust - Frontsheet'!M$14:M$213))","v":""},{"$f":"IF($B152=\"\",\"\",SUMIF('Trust - Frontsheet'!$C$14:$C$213,$B152,'Trust - Frontsheet'!N$14:N$213))","v":""},{"$f":"IF($B152=\"\",\"\",SUMIF('Trust - Frontsheet'!$C$14:$C$213,$B152,'Trust - Frontsheet'!O$14:O$213))","v":""},"","","","",{"$f":"IF($B152=\"\",\"\",SUMIF('Trust - Frontsheet'!$C$14:$C$213,$B152,'Trust - Frontsheet'!T$14:T$213))","v":""},"","",""]
[null,{"$f":"IF(ISERROR(INDEX('Trust - Frontsheet'!AV$1:AV$6187,SMALL(IF('Trust - Frontsheet'!$AX$1:$AX$6187=$B$2,ROW('Trust - Frontsheet'!$AX$1:$AX$6187)),ROW(147:147)))),\"\",INDEX('Trust - Frontsheet'!AV$1:AV$6187,SMALL(IF('Trust - Frontsheet'!$AX$1:$AX$6187=$B$2,ROW('Trust - Frontsheet'!$AX$1:$AX$6187)),ROW(147:147))))","v":""},{"$f":"IF(ISERROR(INDEX('Trust - Frontsheet'!AW$1:AW$6187,SMALL(IF('Trust - Frontsheet'!$AX$1:$AX$6187=$B$2,ROW('Trust - Frontsheet'!$AX$1:$AX$6187)),ROW(147:147)))),\"\",INDEX('Trust - Frontsheet'!AW$1:AW$6187,SMALL(IF('Trust - Frontsheet'!$AX$1:$AX$6187=$B$2,ROW('Trust - Frontsheet'!$AX$1:$AX$6187)),ROW(147:147))))","v":""},{"$f":"IF($B153=\"\",\"\",SUMIF('Trust - Frontsheet'!$C$14:$C$213,$B153,'Trust - Frontsheet'!H$14:H$213))","v":""},{"$f":"IF($B153=\"\",\"\",SUMIF('Trust - Frontsheet'!$C$14:$C$213,$B153,'Trust - Frontsheet'!I$14:I$213))","v":""},{"$f":"IF($B153=\"\",\"\",SUMIF('Trust - Frontsheet'!$C$14:$C$213,$B153,'Trust - Frontsheet'!J$14:J$213))","v":""},{"$f":"IF($B153=\"\",\"\",SUMIF('Trust - Frontsheet'!$C$14:$C$213,$B153,'Trust - Frontsheet'!K$14:K$213))","v":""},{"$f":"IF($B153=\"\",\"\",SUMIF('Trust - Frontsheet'!$C$14:$C$213,$B153,'Trust - Frontsheet'!L$14:L$213))","v":""},{"$f":"IF($B153=\"\",\"\",SUMIF('Trust - Frontsheet'!$C$14:$C$213,$B153,'Trust - Frontsheet'!M$14:M$213))","v":""},{"$f":"IF($B153=\"\",\"\",SUMIF('Trust - Frontsheet'!$C$14:$C$213,$B153,'Trust - Frontsheet'!N$14:N$213))","v":""},{"$f":"IF($B153=\"\",\"\",SUMIF('Trust - Frontsheet'!$C$14:$C$213,$B153,'Trust - Frontsheet'!O$14:O$213))","v":""},"","","","",{"$f":"IF($B153=\"\",\"\",SUMIF('Trust - Frontsheet'!$C$14:$C$213,$B153,'Trust - Frontsheet'!T$14:T$213))","v":""},"","",""]
[null,{"$f":"IF(ISERROR(INDEX('Trust - Frontsheet'!AV$1:AV$6187,SMALL(IF('Trust - Frontsheet'!$AX$1:$AX$6187=$B$2,ROW('Trust - Frontsheet'!$AX$1:$AX$6187)),ROW(148:148)))),\"\",INDEX('Trust - Frontsheet'!AV$1:AV$6187,SMALL(IF('Trust - Frontsheet'!$AX$1:$AX$6187=$B$2,ROW('Trust - Frontsheet'!$AX$1:$AX$6187)),ROW(148:148))))","v":""},{"$f":"IF(ISERROR(INDEX('Trust - Frontsheet'!AW$1:AW$6187,SMALL(IF('Trust - Frontsheet'!$AX$1:$AX$6187=$B$2,ROW('Trust - Frontsheet'!$AX$1:$AX$6187)),ROW(148:148)))),\"\",INDEX('Trust - Frontsheet'!AW$1:AW$6187,SMALL(IF('Trust - Frontsheet'!$AX$1:$AX$6187=$B$2,ROW('Trust - Frontsheet'!$AX$1:$AX$6187)),ROW(148:148))))","v":""},{"$f":"IF($B154=\"\",\"\",SUMIF('Trust - Frontsheet'!$C$14:$C$213,$B154,'Trust - Frontsheet'!H$14:H$213))","v":""},{"$f":"IF($B154=\"\",\"\",SUMIF('Trust - Frontsheet'!$C$14:$C$213,$B154,'Trust - Frontsheet'!I$14:I$213))","v":""},{"$f":"IF($B154=\"\",\"\",SUMIF('Trust - Frontsheet'!$C$14:$C$213,$B154,'Trust - Frontsheet'!J$14:J$213))","v":""},{"$f":"IF($B154=\"\",\"\",SUMIF('Trust - Frontsheet'!$C$14:$C$213,$B154,'Trust - Frontsheet'!K$14:K$213))","v":""},{"$f":"IF($B154=\"\",\"\",SUMIF('Trust - Frontsheet'!$C$14:$C$213,$B154,'Trust - Frontsheet'!L$14:L$213))","v":""},{"$f":"IF($B154=\"\",\"\",SUMIF('Trust - Frontsheet'!$C$14:$C$213,$B154,'Trust - Frontsheet'!M$14:M$213))","v":""},{"$f":"IF($B154=\"\",\"\",SUMIF('Trust - Frontsheet'!$C$14:$C$213,$B154,'Trust - Frontsheet'!N$14:N$213))","v":""},{"$f":"IF($B154=\"\",\"\",SUMIF('Trust - Frontsheet'!$C$14:$C$213,$B154,'Trust - Frontsheet'!O$14:O$213))","v":""},"","","","",{"$f":"IF($B154=\"\",\"\",SUMIF('Trust - Frontsheet'!$C$14:$C$213,$B154,'Trust - Frontsheet'!T$14:T$213))","v":""},"","",""]
[null,{"$f":"IF(ISERROR(INDEX('Trust - Frontsheet'!AV$1:AV$6187,SMALL(IF('Trust - Frontsheet'!$AX$1:$AX$6187=$B$2,ROW('Trust - Frontsheet'!$AX$1:$AX$6187)),ROW(149:149)))),\"\",INDEX('Trust - Frontsheet'!AV$1:AV$6187,SMALL(IF('Trust - Frontsheet'!$AX$1:$AX$6187=$B$2,ROW('Trust - Frontsheet'!$AX$1:$AX$6187)),ROW(149:149))))","v":""},{"$f":"IF(ISERROR(INDEX('Trust - Frontsheet'!AW$1:AW$6187,SMALL(IF('Trust - Frontsheet'!$AX$1:$AX$6187=$B$2,ROW('Trust - Frontsheet'!$AX$1:$AX$6187)),ROW(149:149)))),\"\",INDEX('Trust - Frontsheet'!AW$1:AW$6187,SMALL(IF('Trust - Frontsheet'!$AX$1:$AX$6187=$B$2,ROW('Trust - Frontsheet'!$AX$1:$AX$6187)),ROW(149:149))))","v":""},{"$f":"IF($B155=\"\",\"\",SUMIF('Trust - Frontsheet'!$C$14:$C$213,$B155,'Trust - Frontsheet'!H$14:H$213))","v":""},{"$f":"IF($B155=\"\",\"\",SUMIF('Trust - Frontsheet'!$C$14:$C$213,$B155,'Trust - Frontsheet'!I$14:I$213))","v":""},{"$f":"IF($B155=\"\",\"\",SUMIF('Trust - Frontsheet'!$C$14:$C$213,$B155,'Trust - Frontsheet'!J$14:J$213))","v":""},{"$f":"IF($B155=\"\",\"\",SUMIF('Trust - Frontsheet'!$C$14:$C$213,$B155,'Trust - Frontsheet'!K$14:K$213))","v":""},{"$f":"IF($B155=\"\",\"\",SUMIF('Trust - Frontsheet'!$C$14:$C$213,$B155,'Trust - Frontsheet'!L$14:L$213))","v":""},{"$f":"IF($B155=\"\",\"\",SUMIF('Trust - Frontsheet'!$C$14:$C$213,$B155,'Trust - Frontsheet'!M$14:M$213))","v":""},{"$f":"IF($B155=\"\",\"\",SUMIF('Trust - Frontsheet'!$C$14:$C$213,$B155,'Trust - Frontsheet'!N$14:N$213))","v":""},{"$f":"IF($B155=\"\",\"\",SUMIF('Trust - Frontsheet'!$C$14:$C$213,$B155,'Trust - Frontsheet'!O$14:O$213))","v":""},"","","","",{"$f":"IF($B155=\"\",\"\",SUMIF('Trust - Frontsheet'!$C$14:$C$213,$B155,'Trust - Frontsheet'!T$14:T$213))","v":""},"","",""]
[null,{"$f":"IF(ISERROR(INDEX('Trust - Frontsheet'!AV$1:AV$6187,SMALL(IF('Trust - Frontsheet'!$AX$1:$AX$6187=$B$2,ROW('Trust - Frontsheet'!$AX$1:$AX$6187)),ROW(150:150)))),\"\",INDEX('Trust - Frontsheet'!AV$1:AV$6187,SMALL(IF('Trust - Frontsheet'!$AX$1:$AX$6187=$B$2,ROW('Trust - Frontsheet'!$AX$1:$AX$6187)),ROW(150:150))))","v":""},{"$f":"IF(ISERROR(INDEX('Trust - Frontsheet'!AW$1:AW$6187,SMALL(IF('Trust - Frontsheet'!$AX$1:$AX$6187=$B$2,ROW('Trust - Frontsheet'!$AX$1:$AX$6187)),ROW(150:150)))),\"\",INDEX('Trust - Frontsheet'!AW$1:AW$6187,SMALL(IF('Trust - Frontsheet'!$AX$1:$AX$6187=$B$2,ROW('Trust - Frontsheet'!$AX$1:$AX$6187)),ROW(150:150))))","v":""},{"$f":"IF($B156=\"\",\"\",SUMIF('Trust - Frontsheet'!$C$14:$C$213,$B156,'Trust - Frontsheet'!H$14:H$213))","v":""},{"$f":"IF($B156=\"\",\"\",SUMIF('Trust - Frontsheet'!$C$14:$C$213,$B156,'Trust - Frontsheet'!I$14:I$213))","v":""},{"$f":"IF($B156=\"\",\"\",SUMIF('Trust - Frontsheet'!$C$14:$C$213,$B156,'Trust - Frontsheet'!J$14:J$213))","v":""},{"$f":"IF($B156=\"\",\"\",SUMIF('Trust - Frontsheet'!$C$14:$C$213,$B156,'Trust - Frontsheet'!K$14:K$213))","v":""},{"$f":"IF($B156=\"\",\"\",SUMIF('Trust - Frontsheet'!$C$14:$C$213,$B156,'Trust - Frontsheet'!L$14:L$213))","v":""},{"$f":"IF($B156=\"\",\"\",SUMIF('Trust - Frontsheet'!$C$14:$C$213,$B156,'Trust - Frontsheet'!M$14:M$213))","v":""},{"$f":"IF($B156=\"\",\"\",SUMIF('Trust - Frontsheet'!$C$14:$C$213,$B156,'Trust - Frontsheet'!N$14:N$213))","v":""},{"$f":"IF($B156=\"\",\"\",SUMIF('Trust - Frontsheet'!$C$14:$C$213,$B156,'Trust - Frontsheet'!O$14:O$213))","v":""},"","","","",{"$f":"IF($B156=\"\",\"\",SUMIF('Trust - Frontsheet'!$C$14:$C$213,$B156,'Trust - Frontsheet'!T$14:T$213))","v":""},"","",""]
[null,{"$f":"IF(ISERROR(INDEX('Trust - Frontsheet'!AV$1:AV$6187,SMALL(IF('Trust - Frontsheet'!$AX$1:$AX$6187=$B$2,ROW('Trust - Frontsheet'!$AX$1:$AX$6187)),ROW(151:151)))),\"\",INDEX('Trust - Frontsheet'!AV$1:AV$6187,SMALL(IF('Trust - Frontsheet'!$AX$1:$AX$6187=$B$2,ROW('Trust - Frontsheet'!$AX$1:$AX$6187)),ROW(151:151))))","v":""},{"$f":"IF(ISERROR(INDEX('Trust - Frontsheet'!AW$1:AW$6187,SMALL(IF('Trust - Frontsheet'!$AX$1:$AX$6187=$B$2,ROW('Trust - Frontsheet'!$AX$1:$AX$6187)),ROW(151:151)))),\"\",INDEX('Trust - Frontsheet'!AW$1:AW$6187,SMALL(IF('Trust - Frontsheet'!$AX$1:$AX$6187=$B$2,ROW('Trust - Frontsheet'!$AX$1:$AX$6187)),ROW(151:151))))","v":""},{"$f":"IF($B157=\"\",\"\",SUMIF('Trust - Frontsheet'!$C$14:$C$213,$B157,'Trust - Frontsheet'!H$14:H$213))","v":""},{"$f":"IF($B157=\"\",\"\",SUMIF('Trust - Frontsheet'!$C$14:$C$213,$B157,'Trust - Frontsheet'!I$14:I$213))","v":""},{"$f":"IF($B157=\"\",\"\",SUMIF('Trust - Frontsheet'!$C$14:$C$213,$B157,'Trust - Frontsheet'!J$14:J$213))","v":""},{"$f":"IF($B157=\"\",\"\",SUMIF('Trust - Frontsheet'!$C$14:$C$213,$B157,'Trust - Frontsheet'!K$14:K$213))","v":""},{"$f":"IF($B157=\"\",\"\",SUMIF('Trust - Frontsheet'!$C$14:$C$213,$B157,'Trust - Frontsheet'!L$14:L$213))","v":""},{"$f":"IF($B157=\"\",\"\",SUMIF('Trust - Frontsheet'!$C$14:$C$213,$B157,'Trust - Frontsheet'!M$14:M$213))","v":""},{"$f":"IF($B157=\"\",\"\",SUMIF('Trust - Frontsheet'!$C$14:$C$213,$B157,'Trust - Frontsheet'!N$14:N$213))","v":""},{"$f":"IF($B157=\"\",\"\",SUMIF('Trust - Frontsheet'!$C$14:$C$213,$B157,'Trust - Frontsheet'!O$14:O$213))","v":""},"","","","",{"$f":"IF($B157=\"\",\"\",SUMIF('Trust - Frontsheet'!$C$14:$C$213,$B157,'Trust - Frontsheet'!T$14:T$213))","v":""},"","",""]
[null,{"$f":"IF(ISERROR(INDEX('Trust - Frontsheet'!AV$1:AV$6187,SMALL(IF('Trust - Frontsheet'!$AX$1:$AX$6187=$B$2,ROW('Trust - Frontsheet'!$AX$1:$AX$6187)),ROW(152:152)))),\"\",INDEX('Trust - Frontsheet'!AV$1:AV$6187,SMALL(IF('Trust - Frontsheet'!$AX$1:$AX$6187=$B$2,ROW('Trust - Frontsheet'!$AX$1:$AX$6187)),ROW(152:152))))","v":""},{"$f":"IF(ISERROR(INDEX('Trust - Frontsheet'!AW$1:AW$6187,SMALL(IF('Trust - Frontsheet'!$AX$1:$AX$6187=$B$2,ROW('Trust - Frontsheet'!$AX$1:$AX$6187)),ROW(152:152)))),\"\",INDEX('Trust - Frontsheet'!AW$1:AW$6187,SMALL(IF('Trust - Frontsheet'!$AX$1:$AX$6187=$B$2,ROW('Trust - Frontsheet'!$AX$1:$AX$6187)),ROW(152:152))))","v":""},{"$f":"IF($B158=\"\",\"\",SUMIF('Trust - Frontsheet'!$C$14:$C$213,$B158,'Trust - Frontsheet'!H$14:H$213))","v":""},{"$f":"IF($B158=\"\",\"\",SUMIF('Trust - Frontsheet'!$C$14:$C$213,$B158,'Trust - Frontsheet'!I$14:I$213))","v":""},{"$f":"IF($B158=\"\",\"\",SUMIF('Trust - Frontsheet'!$C$14:$C$213,$B158,'Trust - Frontsheet'!J$14:J$213))","v":""},{"$f":"IF($B158=\"\",\"\",SUMIF('Trust - Frontsheet'!$C$14:$C$213,$B158,'Trust - Frontsheet'!K$14:K$213))","v":""},{"$f":"IF($B158=\"\",\"\",SUMIF('Trust - Frontsheet'!$C$14:$C$213,$B158,'Trust - Frontsheet'!L$14:L$213))","v":""},{"$f":"IF($B158=\"\",\"\",SUMIF('Trust - Frontsheet'!$C$14:$C$213,$B158,'Trust - Frontsheet'!M$14:M$213))","v":""},{"$f":"IF($B158=\"\",\"\",SUMIF('Trust - Frontsheet'!$C$14:$C$213,$B158,'Trust - Frontsheet'!N$14:N$213))","v":""},{"$f":"IF($B158=\"\",\"\",SUMIF('Trust - Frontsheet'!$C$14:$C$213,$B158,'Trust - Frontsheet'!O$14:O$213))","v":""},"","","","",{"$f":"IF($B158=\"\",\"\",SUMIF('Trust - Frontsheet'!$C$14:$C$213,$B158,'Trust - Frontsheet'!T$14:T$213))","v":""},"","",""]
[null,{"$f":"IF(ISERROR(INDEX('Trust - Frontsheet'!AV$1:AV$6187,SMALL(IF('Trust - Frontsheet'!$AX$1:$AX$6187=$B$2,ROW('Trust - Frontsheet'!$AX$1:$AX$6187)),ROW(153:153)))),\"\",INDEX('Trust - Frontsheet'!AV$1:AV$6187,SMALL(IF('Trust - Frontsheet'!$AX$1:$AX$6187=$B$2,ROW('Trust - Frontsheet'!$AX$1:$AX$6187)),ROW(153:153))))","v":""},{"$f":"IF(ISERROR(INDEX('Trust - Frontsheet'!AW$1:AW$6187,SMALL(IF('Trust - Frontsheet'!$AX$1:$AX$6187=$B$2,ROW('Trust - Frontsheet'!$AX$1:$AX$6187)),ROW(153:153)))),\"\",INDEX('Trust - Frontsheet'!AW$1:AW$6187,SMALL(IF('Trust - Frontsheet'!$AX$1:$AX$6187=$B$2,ROW('Trust - Frontsheet'!$AX$1:$AX$6187)),ROW(153:153))))","v":""},{"$f":"IF($B159=\"\",\"\",SUMIF('Trust - Frontsheet'!$C$14:$C$213,$B159,'Trust - Frontsheet'!H$14:H$213))","v":""},{"$f":"IF($B159=\"\",\"\",SUMIF('Trust - Frontsheet'!$C$14:$C$213,$B159,'Trust - Frontsheet'!I$14:I$213))","v":""},{"$f":"IF($B159=\"\",\"\",SUMIF('Trust - Frontsheet'!$C$14:$C$213,$B159,'Trust - Frontsheet'!J$14:J$213))","v":""},{"$f":"IF($B159=\"\",\"\",SUMIF('Trust - Frontsheet'!$C$14:$C$213,$B159,'Trust - Frontsheet'!K$14:K$213))","v":""},{"$f":"IF($B159=\"\",\"\",SUMIF('Trust - Frontsheet'!$C$14:$C$213,$B159,'Trust - Frontsheet'!L$14:L$213))","v":""},{"$f":"IF($B159=\"\",\"\",SUMIF('Trust - Frontsheet'!$C$14:$C$213,$B159,'Trust - Frontsheet'!M$14:M$213))","v":""},{"$f":"IF($B159=\"\",\"\",SUMIF('Trust - Frontsheet'!$C$14:$C$213,$B159,'Trust - Frontsheet'!N$14:N$213))","v":""},{"$f":"IF($B159=\"\",\"\",SUMIF('Trust - Frontsheet'!$C$14:$C$213,$B159,'Trust - Frontsheet'!O$14:O$213))","v":""},"","","","",{"$f":"IF($B159=\"\",\"\",SUMIF('Trust - Frontsheet'!$C$14:$C$213,$B159,'Trust - Frontsheet'!T$14:T$213))","v":""},"","",""]
[null,{"$f":"IF(ISERROR(INDEX('Trust - Frontsheet'!AV$1:AV$6187,SMALL(IF('Trust - Frontsheet'!$AX$1:$AX$6187=$B$2,ROW('Trust - Frontsheet'!$AX$1:$AX$6187)),ROW(154:154)))),\"\",INDEX('Trust - Frontsheet'!AV$1:AV$6187,SMALL(IF('Trust - Frontsheet'!$AX$1:$AX$6187=$B$2,ROW('Trust - Frontsheet'!$AX$1:$AX$6187)),ROW(154:154))))","v":""},{"$f":"IF(ISERROR(INDEX('Trust - Frontsheet'!AW$1:AW$6187,SMALL(IF('Trust - Frontsheet'!$AX$1:$AX$6187=$B$2,ROW('Trust - Frontsheet'!$AX$1:$AX$6187)),ROW(154:154)))),\"\",INDEX('Trust - Frontsheet'!AW$1:AW$6187,SMALL(IF('Trust - Frontsheet'!$AX$1:$AX$6187=$B$2,ROW('Trust - Frontsheet'!$AX$1:$AX$6187)),ROW(154:154))))","v":""},{"$f":"IF($B160=\"\",\"\",SUMIF('Trust - Frontsheet'!$C$14:$C$213,$B160,'Trust - Frontsheet'!H$14:H$213))","v":""},{"$f":"IF($B160=\"\",\"\",SUMIF('Trust - Frontsheet'!$C$14:$C$213,$B160,'Trust - Frontsheet'!I$14:I$213))","v":""},{"$f":"IF($B160=\"\",\"\",SUMIF('Trust - Frontsheet'!$C$14:$C$213,$B160,'Trust - Frontsheet'!J$14:J$213))","v":""},{"$f":"IF($B160=\"\",\"\",SUMIF('Trust - Frontsheet'!$C$14:$C$213,$B160,'Trust - Frontsheet'!K$14:K$213))","v":""},{"$f":"IF($B160=\"\",\"\",SUMIF('Trust - Frontsheet'!$C$14:$C$213,$B160,'Trust - Frontsheet'!L$14:L$213))","v":""},{"$f":"IF($B160=\"\",\"\",SUMIF('Trust - Frontsheet'!$C$14:$C$213,$B160,'Trust - Frontsheet'!M$14:M$213))","v":""},{"$f":"IF($B160=\"\",\"\",SUMIF('Trust - Frontsheet'!$C$14:$C$213,$B160,'Trust - Frontsheet'!N$14:N$213))","v":""},{"$f":"IF($B160=\"\",\"\",SUMIF('Trust - Frontsheet'!$C$14:$C$213,$B160,'Trust - Frontsheet'!O$14:O$213))","v":""},"","","","",{"$f":"IF($B160=\"\",\"\",SUMIF('Trust - Frontsheet'!$C$14:$C$213,$B160,'Trust - Frontsheet'!T$14:T$213))","v":""},"","",""]
[null,{"$f":"IF(ISERROR(INDEX('Trust - Frontsheet'!AV$1:AV$6187,SMALL(IF('Trust - Frontsheet'!$AX$1:$AX$6187=$B$2,ROW('Trust - Frontsheet'!$AX$1:$AX$6187)),ROW(155:155)))),\"\",INDEX('Trust - Frontsheet'!AV$1:AV$6187,SMALL(IF('Trust - Frontsheet'!$AX$1:$AX$6187=$B$2,ROW('Trust - Frontsheet'!$AX$1:$AX$6187)),ROW(155:155))))","v":""},{"$f":"IF(ISERROR(INDEX('Trust - Frontsheet'!AW$1:AW$6187,SMALL(IF('Trust - Frontsheet'!$AX$1:$AX$6187=$B$2,ROW('Trust - Frontsheet'!$AX$1:$AX$6187)),ROW(155:155)))),\"\",INDEX('Trust - Frontsheet'!AW$1:AW$6187,SMALL(IF('Trust - Frontsheet'!$AX$1:$AX$6187=$B$2,ROW('Trust - Frontsheet'!$AX$1:$AX$6187)),ROW(155:155))))","v":""},{"$f":"IF($B161=\"\",\"\",SUMIF('Trust - Frontsheet'!$C$14:$C$213,$B161,'Trust - Frontsheet'!H$14:H$213))","v":""},{"$f":"IF($B161=\"\",\"\",SUMIF('Trust - Frontsheet'!$C$14:$C$213,$B161,'Trust - Frontsheet'!I$14:I$213))","v":""},{"$f":"IF($B161=\"\",\"\",SUMIF('Trust - Frontsheet'!$C$14:$C$213,$B161,'Trust - Frontsheet'!J$14:J$213))","v":""},{"$f":"IF($B161=\"\",\"\",SUMIF('Trust - Frontsheet'!$C$14:$C$213,$B161,'Trust - Frontsheet'!K$14:K$213))","v":""},{"$f":"IF($B161=\"\",\"\",SUMIF('Trust - Frontsheet'!$C$14:$C$213,$B161,'Trust - Frontsheet'!L$14:L$213))","v":""},{"$f":"IF($B161=\"\",\"\",SUMIF('Trust - Frontsheet'!$C$14:$C$213,$B161,'Trust - Frontsheet'!M$14:M$213))","v":""},{"$f":"IF($B161=\"\",\"\",SUMIF('Trust - Frontsheet'!$C$14:$C$213,$B161,'Trust - Frontsheet'!N$14:N$213))","v":""},{"$f":"IF($B161=\"\",\"\",SUMIF('Trust - Frontsheet'!$C$14:$C$213,$B161,'Trust - Frontsheet'!O$14:O$213))","v":""},"","","","",{"$f":"IF($B161=\"\",\"\",SUMIF('Trust - Frontsheet'!$C$14:$C$213,$B161,'Trust - Frontsheet'!T$14:T$213))","v":""},"","",""]
[null,{"$f":"IF(ISERROR(INDEX('Trust - Frontsheet'!AV$1:AV$6187,SMALL(IF('Trust - Frontsheet'!$AX$1:$AX$6187=$B$2,ROW('Trust - Frontsheet'!$AX$1:$AX$6187)),ROW(156:156)))),\"\",INDEX('Trust - Frontsheet'!AV$1:AV$6187,SMALL(IF('Trust - Frontsheet'!$AX$1:$AX$6187=$B$2,ROW('Trust - Frontsheet'!$AX$1:$AX$6187)),ROW(156:156))))","v":""},{"$f":"IF(ISERROR(INDEX('Trust - Frontsheet'!AW$1:AW$6187,SMALL(IF('Trust - Frontsheet'!$AX$1:$AX$6187=$B$2,ROW('Trust - Frontsheet'!$AX$1:$AX$6187)),ROW(156:156)))),\"\",INDEX('Trust - Frontsheet'!AW$1:AW$6187,SMALL(IF('Trust - Frontsheet'!$AX$1:$AX$6187=$B$2,ROW('Trust - Frontsheet'!$AX$1:$AX$6187)),ROW(156:156))))","v":""},{"$f":"IF($B162=\"\",\"\",SUMIF('Trust - Frontsheet'!$C$14:$C$213,$B162,'Trust - Frontsheet'!H$14:H$213))","v":""},{"$f":"IF($B162=\"\",\"\",SUMIF('Trust - Frontsheet'!$C$14:$C$213,$B162,'Trust - Frontsheet'!I$14:I$213))","v":""},{"$f":"IF($B162=\"\",\"\",SUMIF('Trust - Frontsheet'!$C$14:$C$213,$B162,'Trust - Frontsheet'!J$14:J$213))","v":""},{"$f":"IF($B162=\"\",\"\",SUMIF('Trust - Frontsheet'!$C$14:$C$213,$B162,'Trust - Frontsheet'!K$14:K$213))","v":""},{"$f":"IF($B162=\"\",\"\",SUMIF('Trust - Frontsheet'!$C$14:$C$213,$B162,'Trust - Frontsheet'!L$14:L$213))","v":""},{"$f":"IF($B162=\"\",\"\",SUMIF('Trust - Frontsheet'!$C$14:$C$213,$B162,'Trust - Frontsheet'!M$14:M$213))","v":""},{"$f":"IF($B162=\"\",\"\",SUMIF('Trust - Frontsheet'!$C$14:$C$213,$B162,'Trust - Frontsheet'!N$14:N$213))","v":""},{"$f":"IF($B162=\"\",\"\",SUMIF('Trust - Frontsheet'!$C$14:$C$213,$B162,'Trust - Frontsheet'!O$14:O$213))","v":""},"","","","",{"$f":"IF($B162=\"\",\"\",SUMIF('Trust - Frontsheet'!$C$14:$C$213,$B162,'Trust - Frontsheet'!T$14:T$213))","v":""},"","",""]
[null,{"$f":"IF(ISERROR(INDEX('Trust - Frontsheet'!AV$1:AV$6187,SMALL(IF('Trust - Frontsheet'!$AX$1:$AX$6187=$B$2,ROW('Trust - Frontsheet'!$AX$1:$AX$6187)),ROW(157:157)))),\"\",INDEX('Trust - Frontsheet'!AV$1:AV$6187,SMALL(IF('Trust - Frontsheet'!$AX$1:$AX$6187=$B$2,ROW('Trust - Frontsheet'!$AX$1:$AX$6187)),ROW(157:157))))","v":""},{"$f":"IF(ISERROR(INDEX('Trust - Frontsheet'!AW$1:AW$6187,SMALL(IF('Trust - Frontsheet'!$AX$1:$AX$6187=$B$2,ROW('Trust - Frontsheet'!$AX$1:$AX$6187)),ROW(157:157)))),\"\",INDEX('Trust - Frontsheet'!AW$1:AW$6187,SMALL(IF('Trust - Frontsheet'!$AX$1:$AX$6187=$B$2,ROW('Trust - Frontsheet'!$AX$1:$AX$6187)),ROW(157:157))))","v":""},{"$f":"IF($B163=\"\",\"\",SUMIF('Trust - Frontsheet'!$C$14:$C$213,$B163,'Trust - Frontsheet'!H$14:H$213))","v":""},{"$f":"IF($B163=\"\",\"\",SUMIF('Trust - Frontsheet'!$C$14:$C$213,$B163,'Trust - Frontsheet'!I$14:I$213))","v":""},{"$f":"IF($B163=\"\",\"\",SUMIF('Trust - Frontsheet'!$C$14:$C$213,$B163,'Trust - Frontsheet'!J$14:J$213))","v":""},{"$f":"IF($B163=\"\",\"\",SUMIF('Trust - Frontsheet'!$C$14:$C$213,$B163,'Trust - Frontsheet'!K$14:K$213))","v":""},{"$f":"IF($B163=\"\",\"\",SUMIF('Trust - Frontsheet'!$C$14:$C$213,$B163,'Trust - Frontsheet'!L$14:L$213))","v":""},{"$f":"IF($B163=\"\",\"\",SUMIF('Trust - Frontsheet'!$C$14:$C$213,$B163,'Trust - Frontsheet'!M$14:M$213))","v":""},{"$f":"IF($B163=\"\",\"\",SUMIF('Trust - Frontsheet'!$C$14:$C$213,$B163,'Trust - Frontsheet'!N$14:N$213))","v":""},{"$f":"IF($B163=\"\",\"\",SUMIF('Trust - Frontsheet'!$C$14:$C$213,$B163,'Trust - Frontsheet'!O$14:O$213))","v":""},"","","","",{"$f":"IF($B163=\"\",\"\",SUMIF('Trust - Frontsheet'!$C$14:$C$213,$B163,'Trust - Frontsheet'!T$14:T$213))","v":""},"","",""]
[null,{"$f":"IF(ISERROR(INDEX('Trust - Frontsheet'!AV$1:AV$6187,SMALL(IF('Trust - Frontsheet'!$AX$1:$AX$6187=$B$2,ROW('Trust - Frontsheet'!$AX$1:$AX$6187)),ROW(158:158)))),\"\",INDEX('Trust - Frontsheet'!AV$1:AV$6187,SMALL(IF('Trust - Frontsheet'!$AX$1:$AX$6187=$B$2,ROW('Trust - Frontsheet'!$AX$1:$AX$6187)),ROW(158:158))))","v":""},{"$f":"IF(ISERROR(INDEX('Trust - Frontsheet'!AW$1:AW$6187,SMALL(IF('Trust - Frontsheet'!$AX$1:$AX$6187=$B$2,ROW('Trust - Frontsheet'!$AX$1:$AX$6187)),ROW(158:158)))),\"\",INDEX('Trust - Frontsheet'!AW$1:AW$6187,SMALL(IF('Trust - Frontsheet'!$AX$1:$AX$6187=$B$2,ROW('Trust - Frontsheet'!$AX$1:$AX$6187)),ROW(158:158))))","v":""},{"$f":"IF($B164=\"\",\"\",SUMIF('Trust - Frontsheet'!$C$14:$C$213,$B164,'Trust - Frontsheet'!H$14:H$213))","v":""},{"$f":"IF($B164=\"\",\"\",SUMIF('Trust - Frontsheet'!$C$14:$C$213,$B164,'Trust - Frontsheet'!I$14:I$213))","v":""},{"$f":"IF($B164=\"\",\"\",SUMIF('Trust - Frontsheet'!$C$14:$C$213,$B164,'Trust - Frontsheet'!J$14:J$213))","v":""},{"$f":"IF($B164=\"\",\"\",SUMIF('Trust - Frontsheet'!$C$14:$C$213,$B164,'Trust - Frontsheet'!K$14:K$213))","v":""},{"$f":"IF($B164=\"\",\"\",SUMIF('Trust - Frontsheet'!$C$14:$C$213,$B164,'Trust - Frontsheet'!L$14:L$213))","v":""},{"$f":"IF($B164=\"\",\"\",SUMIF('Trust - Frontsheet'!$C$14:$C$213,$B164,'Trust - Frontsheet'!M$14:M$213))","v":""},{"$f":"IF($B164=\"\",\"\",SUMIF('Trust - Frontsheet'!$C$14:$C$213,$B164,'Trust - Frontsheet'!N$14:N$213))","v":""},{"$f":"IF($B164=\"\",\"\",SUMIF('Trust - Frontsheet'!$C$14:$C$213,$B164,'Trust - Frontsheet'!O$14:O$213))","v":""},"","","","",{"$f":"IF($B164=\"\",\"\",SUMIF('Trust - Frontsheet'!$C$14:$C$213,$B164,'Trust - Frontsheet'!T$14:T$213))","v":""},"","",""]
[null,{"$f":"IF(ISERROR(INDEX('Trust - Frontsheet'!AV$1:AV$6187,SMALL(IF('Trust - Frontsheet'!$AX$1:$AX$6187=$B$2,ROW('Trust - Frontsheet'!$AX$1:$AX$6187)),ROW(159:159)))),\"\",INDEX('Trust - Frontsheet'!AV$1:AV$6187,SMALL(IF('Trust - Frontsheet'!$AX$1:$AX$6187=$B$2,ROW('Trust - Frontsheet'!$AX$1:$AX$6187)),ROW(159:159))))","v":""},{"$f":"IF(ISERROR(INDEX('Trust - Frontsheet'!AW$1:AW$6187,SMALL(IF('Trust - Frontsheet'!$AX$1:$AX$6187=$B$2,ROW('Trust - Frontsheet'!$AX$1:$AX$6187)),ROW(159:159)))),\"\",INDEX('Trust - Frontsheet'!AW$1:AW$6187,SMALL(IF('Trust - Frontsheet'!$AX$1:$AX$6187=$B$2,ROW('Trust - Frontsheet'!$AX$1:$AX$6187)),ROW(159:159))))","v":""},{"$f":"IF($B165=\"\",\"\",SUMIF('Trust - Frontsheet'!$C$14:$C$213,$B165,'Trust - Frontsheet'!H$14:H$213))","v":""},{"$f":"IF($B165=\"\",\"\",SUMIF('Trust - Frontsheet'!$C$14:$C$213,$B165,'Trust - Frontsheet'!I$14:I$213))","v":""},{"$f":"IF($B165=\"\",\"\",SUMIF('Trust - Frontsheet'!$C$14:$C$213,$B165,'Trust - Frontsheet'!J$14:J$213))","v":""},{"$f":"IF($B165=\"\",\"\",SUMIF('Trust - Frontsheet'!$C$14:$C$213,$B165,'Trust - Frontsheet'!K$14:K$213))","v":""},{"$f":"IF($B165=\"\",\"\",SUMIF('Trust - Frontsheet'!$C$14:$C$213,$B165,'Trust - Frontsheet'!L$14:L$213))","v":""},{"$f":"IF($B165=\"\",\"\",SUMIF('Trust - Frontsheet'!$C$14:$C$213,$B165,'Trust - Frontsheet'!M$14:M$213))","v":""},{"$f":"IF($B165=\"\",\"\",SUMIF('Trust - Frontsheet'!$C$14:$C$213,$B165,'Trust - Frontsheet'!N$14:N$213))","v":""},{"$f":"IF($B165=\"\",\"\",SUMIF('Trust - Frontsheet'!$C$14:$C$213,$B165,'Trust - Frontsheet'!O$14:O$213))","v":""},"","","","",{"$f":"IF($B165=\"\",\"\",SUMIF('Trust - Frontsheet'!$C$14:$C$213,$B165,'Trust - Frontsheet'!T$14:T$213))","v":""},"","",""]
[null,{"$f":"IF(ISERROR(INDEX('Trust - Frontsheet'!AV$1:AV$6187,SMALL(IF('Trust - Frontsheet'!$AX$1:$AX$6187=$B$2,ROW('Trust - Frontsheet'!$AX$1:$AX$6187)),ROW(160:160)))),\"\",INDEX('Trust - Frontsheet'!AV$1:AV$6187,SMALL(IF('Trust - Frontsheet'!$AX$1:$AX$6187=$B$2,ROW('Trust - Frontsheet'!$AX$1:$AX$6187)),ROW(160:160))))","v":""},{"$f":"IF(ISERROR(INDEX('Trust - Frontsheet'!AW$1:AW$6187,SMALL(IF('Trust - Frontsheet'!$AX$1:$AX$6187=$B$2,ROW('Trust - Frontsheet'!$AX$1:$AX$6187)),ROW(160:160)))),\"\",INDEX('Trust - Frontsheet'!AW$1:AW$6187,SMALL(IF('Trust - Frontsheet'!$AX$1:$AX$6187=$B$2,ROW('Trust - Frontsheet'!$AX$1:$AX$6187)),ROW(160:160))))","v":""},{"$f":"IF($B166=\"\",\"\",SUMIF('Trust - Frontsheet'!$C$14:$C$213,$B166,'Trust - Frontsheet'!H$14:H$213))","v":""},{"$f":"IF($B166=\"\",\"\",SUMIF('Trust - Frontsheet'!$C$14:$C$213,$B166,'Trust - Frontsheet'!I$14:I$213))","v":""},{"$f":"IF($B166=\"\",\"\",SUMIF('Trust - Frontsheet'!$C$14:$C$213,$B166,'Trust - Frontsheet'!J$14:J$213))","v":""},{"$f":"IF($B166=\"\",\"\",SUMIF('Trust - Frontsheet'!$C$14:$C$213,$B166,'Trust - Frontsheet'!K$14:K$213))","v":""},{"$f":"IF($B166=\"\",\"\",SUMIF('Trust - Frontsheet'!$C$14:$C$213,$B166,'Trust - Frontsheet'!L$14:L$213))","v":""},{"$f":"IF($B166=\"\",\"\",SUMIF('Trust - Frontsheet'!$C$14:$C$213,$B166,'Trust - Frontsheet'!M$14:M$213))","v":""},{"$f":"IF($B166=\"\",\"\",SUMIF('Trust - Frontsheet'!$C$14:$C$213,$B166,'Trust - Frontsheet'!N$14:N$213))","v":""},{"$f":"IF($B166=\"\",\"\",SUMIF('Trust - Frontsheet'!$C$14:$C$213,$B166,'Trust - Frontsheet'!O$14:O$213))","v":""},"","","","",{"$f":"IF($B166=\"\",\"\",SUMIF('Trust - Frontsheet'!$C$14:$C$213,$B166,'Trust - Frontsheet'!T$14:T$213))","v":""},"","",""]
[null,{"$f":"IF(ISERROR(INDEX('Trust - Frontsheet'!AV$1:AV$6187,SMALL(IF('Trust - Frontsheet'!$AX$1:$AX$6187=$B$2,ROW('Trust - Frontsheet'!$AX$1:$AX$6187)),ROW(161:161)))),\"\",INDEX('Trust - Frontsheet'!AV$1:AV$6187,SMALL(IF('Trust - Frontsheet'!$AX$1:$AX$6187=$B$2,ROW('Trust - Frontsheet'!$AX$1:$AX$6187)),ROW(161:161))))","v":""},{"$f":"IF(ISERROR(INDEX('Trust - Frontsheet'!AW$1:AW$6187,SMALL(IF('Trust - Frontsheet'!$AX$1:$AX$6187=$B$2,ROW('Trust - Frontsheet'!$AX$1:$AX$6187)),ROW(161:161)))),\"\",INDEX('Trust - Frontsheet'!AW$1:AW$6187,SMALL(IF('Trust - Frontsheet'!$AX$1:$AX$6187=$B$2,ROW('Trust - Frontsheet'!$AX$1:$AX$6187)),ROW(161:161))))","v":""},{"$f":"IF($B167=\"\",\"\",SUMIF('Trust - Frontsheet'!$C$14:$C$213,$B167,'Trust - Frontsheet'!H$14:H$213))","v":""},{"$f":"IF($B167=\"\",\"\",SUMIF('Trust - Frontsheet'!$C$14:$C$213,$B167,'Trust - Frontsheet'!I$14:I$213))","v":""},{"$f":"IF($B167=\"\",\"\",SUMIF('Trust - Frontsheet'!$C$14:$C$213,$B167,'Trust - Frontsheet'!J$14:J$213))","v":""},{"$f":"IF($B167=\"\",\"\",SUMIF('Trust - Frontsheet'!$C$14:$C$213,$B167,'Trust - Frontsheet'!K$14:K$213))","v":""},{"$f":"IF($B167=\"\",\"\",SUMIF('Trust - Frontsheet'!$C$14:$C$213,$B167,'Trust - Frontsheet'!L$14:L$213))","v":""},{"$f":"IF($B167=\"\",\"\",SUMIF('Trust - Frontsheet'!$C$14:$C$213,$B167,'Trust - Frontsheet'!M$14:M$213))","v":""},{"$f":"IF($B167=\"\",\"\",SUMIF('Trust - Frontsheet'!$C$14:$C$213,$B167,'Trust - Frontsheet'!N$14:N$213))","v":""},{"$f":"IF($B167=\"\",\"\",SUMIF('Trust - Frontsheet'!$C$14:$C$213,$B167,'Trust - Frontsheet'!O$14:O$213))","v":""},"","","","",{"$f":"IF($B167=\"\",\"\",SUMIF('Trust - Frontsheet'!$C$14:$C$213,$B167,'Trust - Frontsheet'!T$14:T$213))","v":""},"","",""]
[null,{"$f":"IF(ISERROR(INDEX('Trust - Frontsheet'!AV$1:AV$6187,SMALL(IF('Trust - Frontsheet'!$AX$1:$AX$6187=$B$2,ROW('Trust - Frontsheet'!$AX$1:$AX$6187)),ROW(162:162)))),\"\",INDEX('Trust - Frontsheet'!AV$1:AV$6187,SMALL(IF('Trust - Frontsheet'!$AX$1:$AX$6187=$B$2,ROW('Trust - Frontsheet'!$AX$1:$AX$6187)),ROW(162:162))))","v":""},{"$f":"IF(ISERROR(INDEX('Trust - Frontsheet'!AW$1:AW$6187,SMALL(IF('Trust - Frontsheet'!$AX$1:$AX$6187=$B$2,ROW('Trust - Frontsheet'!$AX$1:$AX$6187)),ROW(162:162)))),\"\",INDEX('Trust - Frontsheet'!AW$1:AW$6187,SMALL(IF('Trust - Frontsheet'!$AX$1:$AX$6187=$B$2,ROW('Trust - Frontsheet'!$AX$1:$AX$6187)),ROW(162:162))))","v":""},{"$f":"IF($B168=\"\",\"\",SUMIF('Trust - Frontsheet'!$C$14:$C$213,$B168,'Trust - Frontsheet'!H$14:H$213))","v":""},{"$f":"IF($B168=\"\",\"\",SUMIF('Trust - Frontsheet'!$C$14:$C$213,$B168,'Trust - Frontsheet'!I$14:I$213))","v":""},{"$f":"IF($B168=\"\",\"\",SUMIF('Trust - Frontsheet'!$C$14:$C$213,$B168,'Trust - Frontsheet'!J$14:J$213))","v":""},{"$f":"IF($B168=\"\",\"\",SUMIF('Trust - Frontsheet'!$C$14:$C$213,$B168,'Trust - Frontsheet'!K$14:K$213))","v":""},{"$f":"IF($B168=\"\",\"\",SUMIF('Trust - Frontsheet'!$C$14:$C$213,$B168,'Trust - Frontsheet'!L$14:L$213))","v":""},{"$f":"IF($B168=\"\",\"\",SUMIF('Trust - Frontsheet'!$C$14:$C$213,$B168,'Trust - Frontsheet'!M$14:M$213))","v":""},{"$f":"IF($B168=\"\",\"\",SUMIF('Trust - Frontsheet'!$C$14:$C$213,$B168,'Trust - Frontsheet'!N$14:N$213))","v":""},{"$f":"IF($B168=\"\",\"\",SUMIF('Trust - Frontsheet'!$C$14:$C$213,$B168,'Trust - Frontsheet'!O$14:O$213))","v":""},"","","","",{"$f":"IF($B168=\"\",\"\",SUMIF('Trust - Frontsheet'!$C$14:$C$213,$B168,'Trust - Frontsheet'!T$14:T$213))","v":""},"","",""]
[null,{"$f":"IF(ISERROR(INDEX('Trust - Frontsheet'!AV$1:AV$6187,SMALL(IF('Trust - Frontsheet'!$AX$1:$AX$6187=$B$2,ROW('Trust - Frontsheet'!$AX$1:$AX$6187)),ROW(163:163)))),\"\",INDEX('Trust - Frontsheet'!AV$1:AV$6187,SMALL(IF('Trust - Frontsheet'!$AX$1:$AX$6187=$B$2,ROW('Trust - Frontsheet'!$AX$1:$AX$6187)),ROW(163:163))))","v":""},{"$f":"IF(ISERROR(INDEX('Trust - Frontsheet'!AW$1:AW$6187,SMALL(IF('Trust - Frontsheet'!$AX$1:$AX$6187=$B$2,ROW('Trust - Frontsheet'!$AX$1:$AX$6187)),ROW(163:163)))),\"\",INDEX('Trust - Frontsheet'!AW$1:AW$6187,SMALL(IF('Trust - Frontsheet'!$AX$1:$AX$6187=$B$2,ROW('Trust - Frontsheet'!$AX$1:$AX$6187)),ROW(163:163))))","v":""},{"$f":"IF($B169=\"\",\"\",SUMIF('Trust - Frontsheet'!$C$14:$C$213,$B169,'Trust - Frontsheet'!H$14:H$213))","v":""},{"$f":"IF($B169=\"\",\"\",SUMIF('Trust - Frontsheet'!$C$14:$C$213,$B169,'Trust - Frontsheet'!I$14:I$213))","v":""},{"$f":"IF($B169=\"\",\"\",SUMIF('Trust - Frontsheet'!$C$14:$C$213,$B169,'Trust - Frontsheet'!J$14:J$213))","v":""},{"$f":"IF($B169=\"\",\"\",SUMIF('Trust - Frontsheet'!$C$14:$C$213,$B169,'Trust - Frontsheet'!K$14:K$213))","v":""},{"$f":"IF($B169=\"\",\"\",SUMIF('Trust - Frontsheet'!$C$14:$C$213,$B169,'Trust - Frontsheet'!L$14:L$213))","v":""},{"$f":"IF($B169=\"\",\"\",SUMIF('Trust - Frontsheet'!$C$14:$C$213,$B169,'Trust - Frontsheet'!M$14:M$213))","v":""},{"$f":"IF($B169=\"\",\"\",SUMIF('Trust - Frontsheet'!$C$14:$C$213,$B169,'Trust - Frontsheet'!N$14:N$213))","v":""},{"$f":"IF($B169=\"\",\"\",SUMIF('Trust - Frontsheet'!$C$14:$C$213,$B169,'Trust - Frontsheet'!O$14:O$213))","v":""},"","","","",{"$f":"IF($B169=\"\",\"\",SUMIF('Trust - Frontsheet'!$C$14:$C$213,$B169,'Trust - Frontsheet'!T$14:T$213))","v":""},"","",""]
[null,{"$f":"IF(ISERROR(INDEX('Trust - Frontsheet'!AV$1:AV$6187,SMALL(IF('Trust - Frontsheet'!$AX$1:$AX$6187=$B$2,ROW('Trust - Frontsheet'!$AX$1:$AX$6187)),ROW(164:164)))),\"\",INDEX('Trust - Frontsheet'!AV$1:AV$6187,SMALL(IF('Trust - Frontsheet'!$AX$1:$AX$6187=$B$2,ROW('Trust - Frontsheet'!$AX$1:$AX$6187)),ROW(164:164))))","v":""},{"$f":"IF(ISERROR(INDEX('Trust - Frontsheet'!AW$1:AW$6187,SMALL(IF('Trust - Frontsheet'!$AX$1:$AX$6187=$B$2,ROW('Trust - Frontsheet'!$AX$1:$AX$6187)),ROW(164:164)))),\"\",INDEX('Trust - Frontsheet'!AW$1:AW$6187,SMALL(IF('Trust - Frontsheet'!$AX$1:$AX$6187=$B$2,ROW('Trust - Frontsheet'!$AX$1:$AX$6187)),ROW(164:164))))","v":""},{"$f":"IF($B170=\"\",\"\",SUMIF('Trust - Frontsheet'!$C$14:$C$213,$B170,'Trust - Frontsheet'!H$14:H$213))","v":""},{"$f":"IF($B170=\"\",\"\",SUMIF('Trust - Frontsheet'!$C$14:$C$213,$B170,'Trust - Frontsheet'!I$14:I$213))","v":""},{"$f":"IF($B170=\"\",\"\",SUMIF('Trust - Frontsheet'!$C$14:$C$213,$B170,'Trust - Frontsheet'!J$14:J$213))","v":""},{"$f":"IF($B170=\"\",\"\",SUMIF('Trust - Frontsheet'!$C$14:$C$213,$B170,'Trust - Frontsheet'!K$14:K$213))","v":""},{"$f":"IF($B170=\"\",\"\",SUMIF('Trust - Frontsheet'!$C$14:$C$213,$B170,'Trust - Frontsheet'!L$14:L$213))","v":""},{"$f":"IF($B170=\"\",\"\",SUMIF('Trust - Frontsheet'!$C$14:$C$213,$B170,'Trust - Frontsheet'!M$14:M$213))","v":""},{"$f":"IF($B170=\"\",\"\",SUMIF('Trust - Frontsheet'!$C$14:$C$213,$B170,'Trust - Frontsheet'!N$14:N$213))","v":""},{"$f":"IF($B170=\"\",\"\",SUMIF('Trust - Frontsheet'!$C$14:$C$213,$B170,'Trust - Frontsheet'!O$14:O$213))","v":""},"","","","",{"$f":"IF($B170=\"\",\"\",SUMIF('Trust - Frontsheet'!$C$14:$C$213,$B170,'Trust - Frontsheet'!T$14:T$213))","v":""},"","",""]
[null,{"$f":"IF(ISERROR(INDEX('Trust - Frontsheet'!AV$1:AV$6187,SMALL(IF('Trust - Frontsheet'!$AX$1:$AX$6187=$B$2,ROW('Trust - Frontsheet'!$AX$1:$AX$6187)),ROW(165:165)))),\"\",INDEX('Trust - Frontsheet'!AV$1:AV$6187,SMALL(IF('Trust - Frontsheet'!$AX$1:$AX$6187=$B$2,ROW('Trust - Frontsheet'!$AX$1:$AX$6187)),ROW(165:165))))","v":""},{"$f":"IF(ISERROR(INDEX('Trust - Frontsheet'!AW$1:AW$6187,SMALL(IF('Trust - Frontsheet'!$AX$1:$AX$6187=$B$2,ROW('Trust - Frontsheet'!$AX$1:$AX$6187)),ROW(165:165)))),\"\",INDEX('Trust - Frontsheet'!AW$1:AW$6187,SMALL(IF('Trust - Frontsheet'!$AX$1:$AX$6187=$B$2,ROW('Trust - Frontsheet'!$AX$1:$AX$6187)),ROW(165:165))))","v":""},{"$f":"IF($B171=\"\",\"\",SUMIF('Trust - Frontsheet'!$C$14:$C$213,$B171,'Trust - Frontsheet'!H$14:H$213))","v":""},{"$f":"IF($B171=\"\",\"\",SUMIF('Trust - Frontsheet'!$C$14:$C$213,$B171,'Trust - Frontsheet'!I$14:I$213))","v":""},{"$f":"IF($B171=\"\",\"\",SUMIF('Trust - Frontsheet'!$C$14:$C$213,$B171,'Trust - Frontsheet'!J$14:J$213))","v":""},{"$f":"IF($B171=\"\",\"\",SUMIF('Trust - Frontsheet'!$C$14:$C$213,$B171,'Trust - Frontsheet'!K$14:K$213))","v":""},{"$f":"IF($B171=\"\",\"\",SUMIF('Trust - Frontsheet'!$C$14:$C$213,$B171,'Trust - Frontsheet'!L$14:L$213))","v":""},{"$f":"IF($B171=\"\",\"\",SUMIF('Trust - Frontsheet'!$C$14:$C$213,$B171,'Trust - Frontsheet'!M$14:M$213))","v":""},{"$f":"IF($B171=\"\",\"\",SUMIF('Trust - Frontsheet'!$C$14:$C$213,$B171,'Trust - Frontsheet'!N$14:N$213))","v":""},{"$f":"IF($B171=\"\",\"\",SUMIF('Trust - Frontsheet'!$C$14:$C$213,$B171,'Trust - Frontsheet'!O$14:O$213))","v":""},"","","","",{"$f":"IF($B171=\"\",\"\",SUMIF('Trust - Frontsheet'!$C$14:$C$213,$B171,'Trust - Frontsheet'!T$14:T$213))","v":""},"","",""]
[null,{"$f":"IF(ISERROR(INDEX('Trust - Frontsheet'!AV$1:AV$6187,SMALL(IF('Trust - Frontsheet'!$AX$1:$AX$6187=$B$2,ROW('Trust - Frontsheet'!$AX$1:$AX$6187)),ROW(166:166)))),\"\",INDEX('Trust - Frontsheet'!AV$1:AV$6187,SMALL(IF('Trust - Frontsheet'!$AX$1:$AX$6187=$B$2,ROW('Trust - Frontsheet'!$AX$1:$AX$6187)),ROW(166:166))))","v":""},{"$f":"IF(ISERROR(INDEX('Trust - Frontsheet'!AW$1:AW$6187,SMALL(IF('Trust - Frontsheet'!$AX$1:$AX$6187=$B$2,ROW('Trust - Frontsheet'!$AX$1:$AX$6187)),ROW(166:166)))),\"\",INDEX('Trust - Frontsheet'!AW$1:AW$6187,SMALL(IF('Trust - Frontsheet'!$AX$1:$AX$6187=$B$2,ROW('Trust - Frontsheet'!$AX$1:$AX$6187)),ROW(166:166))))","v":""},{"$f":"IF($B172=\"\",\"\",SUMIF('Trust - Frontsheet'!$C$14:$C$213,$B172,'Trust - Frontsheet'!H$14:H$213))","v":""},{"$f":"IF($B172=\"\",\"\",SUMIF('Trust - Frontsheet'!$C$14:$C$213,$B172,'Trust - Frontsheet'!I$14:I$213))","v":""},{"$f":"IF($B172=\"\",\"\",SUMIF('Trust - Frontsheet'!$C$14:$C$213,$B172,'Trust - Frontsheet'!J$14:J$213))","v":""},{"$f":"IF($B172=\"\",\"\",SUMIF('Trust - Frontsheet'!$C$14:$C$213,$B172,'Trust - Frontsheet'!K$14:K$213))","v":""},{"$f":"IF($B172=\"\",\"\",SUMIF('Trust - Frontsheet'!$C$14:$C$213,$B172,'Trust - Frontsheet'!L$14:L$213))","v":""},{"$f":"IF($B172=\"\",\"\",SUMIF('Trust - Frontsheet'!$C$14:$C$213,$B172,'Trust - Frontsheet'!M$14:M$213))","v":""},{"$f":"IF($B172=\"\",\"\",SUMIF('Trust - Frontsheet'!$C$14:$C$213,$B172,'Trust - Frontsheet'!N$14:N$213))","v":""},{"$f":"IF($B172=\"\",\"\",SUMIF('Trust - Frontsheet'!$C$14:$C$213,$B172,'Trust - Frontsheet'!O$14:O$213))","v":""},"","","","",{"$f":"IF($B172=\"\",\"\",SUMIF('Trust - Frontsheet'!$C$14:$C$213,$B172,'Trust - Frontsheet'!T$14:T$213))","v":""},"","",""]
[null,{"$f":"IF(ISERROR(INDEX('Trust - Frontsheet'!AV$1:AV$6187,SMALL(IF('Trust - Frontsheet'!$AX$1:$AX$6187=$B$2,ROW('Trust - Frontsheet'!$AX$1:$AX$6187)),ROW(167:167)))),\"\",INDEX('Trust - Frontsheet'!AV$1:AV$6187,SMALL(IF('Trust - Frontsheet'!$AX$1:$AX$6187=$B$2,ROW('Trust - Frontsheet'!$AX$1:$AX$6187)),ROW(167:167))))","v":""},{"$f":"IF(ISERROR(INDEX('Trust - Frontsheet'!AW$1:AW$6187,SMALL(IF('Trust - Frontsheet'!$AX$1:$AX$6187=$B$2,ROW('Trust - Frontsheet'!$AX$1:$AX$6187)),ROW(167:167)))),\"\",INDEX('Trust - Frontsheet'!AW$1:AW$6187,SMALL(IF('Trust - Frontsheet'!$AX$1:$AX$6187=$B$2,ROW('Trust - Frontsheet'!$AX$1:$AX$6187)),ROW(167:167))))","v":""},{"$f":"IF($B173=\"\",\"\",SUMIF('Trust - Frontsheet'!$C$14:$C$213,$B173,'Trust - Frontsheet'!H$14:H$213))","v":""},{"$f":"IF($B173=\"\",\"\",SUMIF('Trust - Frontsheet'!$C$14:$C$213,$B173,'Trust - Frontsheet'!I$14:I$213))","v":""},{"$f":"IF($B173=\"\",\"\",SUMIF('Trust - Frontsheet'!$C$14:$C$213,$B173,'Trust - Frontsheet'!J$14:J$213))","v":""},{"$f":"IF($B173=\"\",\"\",SUMIF('Trust - Frontsheet'!$C$14:$C$213,$B173,'Trust - Frontsheet'!K$14:K$213))","v":""},{"$f":"IF($B173=\"\",\"\",SUMIF('Trust - Frontsheet'!$C$14:$C$213,$B173,'Trust - Frontsheet'!L$14:L$213))","v":""},{"$f":"IF($B173=\"\",\"\",SUMIF('Trust - Frontsheet'!$C$14:$C$213,$B173,'Trust - Frontsheet'!M$14:M$213))","v":""},{"$f":"IF($B173=\"\",\"\",SUMIF('Trust - Frontsheet'!$C$14:$C$213,$B173,'Trust - Frontsheet'!N$14:N$213))","v":""},{"$f":"IF($B173=\"\",\"\",SUMIF('Trust - Frontsheet'!$C$14:$C$213,$B173,'Trust - Frontsheet'!O$14:O$213))","v":""},"","","","",{"$f":"IF($B173=\"\",\"\",SUMIF('Trust - Frontsheet'!$C$14:$C$213,$B173,'Trust - Frontsheet'!T$14:T$213))","v":""},"","",""]
[null,{"$f":"IF(ISERROR(INDEX('Trust - Frontsheet'!AV$1:AV$6187,SMALL(IF('Trust - Frontsheet'!$AX$1:$AX$6187=$B$2,ROW('Trust - Frontsheet'!$AX$1:$AX$6187)),ROW(168:168)))),\"\",INDEX('Trust - Frontsheet'!AV$1:AV$6187,SMALL(IF('Trust - Frontsheet'!$AX$1:$AX$6187=$B$2,ROW('Trust - Frontsheet'!$AX$1:$AX$6187)),ROW(168:168))))","v":""},{"$f":"IF(ISERROR(INDEX('Trust - Frontsheet'!AW$1:AW$6187,SMALL(IF('Trust - Frontsheet'!$AX$1:$AX$6187=$B$2,ROW('Trust - Frontsheet'!$AX$1:$AX$6187)),ROW(168:168)))),\"\",INDEX('Trust - Frontsheet'!AW$1:AW$6187,SMALL(IF('Trust - Frontsheet'!$AX$1:$AX$6187=$B$2,ROW('Trust - Frontsheet'!$AX$1:$AX$6187)),ROW(168:168))))","v":""},{"$f":"IF($B174=\"\",\"\",SUMIF('Trust - Frontsheet'!$C$14:$C$213,$B174,'Trust - Frontsheet'!H$14:H$213))","v":""},{"$f":"IF($B174=\"\",\"\",SUMIF('Trust - Frontsheet'!$C$14:$C$213,$B174,'Trust - Frontsheet'!I$14:I$213))","v":""},{"$f":"IF($B174=\"\",\"\",SUMIF('Trust - Frontsheet'!$C$14:$C$213,$B174,'Trust - Frontsheet'!J$14:J$213))","v":""},{"$f":"IF($B174=\"\",\"\",SUMIF('Trust - Frontsheet'!$C$14:$C$213,$B174,'Trust - Frontsheet'!K$14:K$213))","v":""},{"$f":"IF($B174=\"\",\"\",SUMIF('Trust - Frontsheet'!$C$14:$C$213,$B174,'Trust - Frontsheet'!L$14:L$213))","v":""},{"$f":"IF($B174=\"\",\"\",SUMIF('Trust - Frontsheet'!$C$14:$C$213,$B174,'Trust - Frontsheet'!M$14:M$213))","v":""},{"$f":"IF($B174=\"\",\"\",SUMIF('Trust - Frontsheet'!$C$14:$C$213,$B174,'Trust - Frontsheet'!N$14:N$213))","v":""},{"$f":"IF($B174=\"\",\"\",SUMIF('Trust - Frontsheet'!$C$14:$C$213,$B174,'Trust - Frontsheet'!O$14:O$213))","v":""},"","","","",{"$f":"IF($B174=\"\",\"\",SUMIF('Trust - Frontsheet'!$C$14:$C$213,$B174,'Trust - Frontsheet'!T$14:T$213))","v":""},"","",""]
[null,{"$f":"IF(ISERROR(INDEX('Trust - Frontsheet'!AV$1:AV$6187,SMALL(IF('Trust - Frontsheet'!$AX$1:$AX$6187=$B$2,ROW('Trust - Frontsheet'!$AX$1:$AX$6187)),ROW(169:169)))),\"\",INDEX('Trust - Frontsheet'!AV$1:AV$6187,SMALL(IF('Trust - Frontsheet'!$AX$1:$AX$6187=$B$2,ROW('Trust - Frontsheet'!$AX$1:$AX$6187)),ROW(169:169))))","v":""},{"$f":"IF(ISERROR(INDEX('Trust - Frontsheet'!AW$1:AW$6187,SMALL(IF('Trust - Frontsheet'!$AX$1:$AX$6187=$B$2,ROW('Trust - Frontsheet'!$AX$1:$AX$6187)),ROW(169:169)))),\"\",INDEX('Trust - Frontsheet'!AW$1:AW$6187,SMALL(IF('Trust - Frontsheet'!$AX$1:$AX$6187=$B$2,ROW('Trust - Frontsheet'!$AX$1:$AX$6187)),ROW(169:169))))","v":""},{"$f":"IF($B175=\"\",\"\",SUMIF('Trust - Frontsheet'!$C$14:$C$213,$B175,'Trust - Frontsheet'!H$14:H$213))","v":""},{"$f":"IF($B175=\"\",\"\",SUMIF('Trust - Frontsheet'!$C$14:$C$213,$B175,'Trust - Frontsheet'!I$14:I$213))","v":""},{"$f":"IF($B175=\"\",\"\",SUMIF('Trust - Frontsheet'!$C$14:$C$213,$B175,'Trust - Frontsheet'!J$14:J$213))","v":""},{"$f":"IF($B175=\"\",\"\",SUMIF('Trust - Frontsheet'!$C$14:$C$213,$B175,'Trust - Frontsheet'!K$14:K$213))","v":""},{"$f":"IF($B175=\"\",\"\",SUMIF('Trust - Frontsheet'!$C$14:$C$213,$B175,'Trust - Frontsheet'!L$14:L$213))","v":""},{"$f":"IF($B175=\"\",\"\",SUMIF('Trust - Frontsheet'!$C$14:$C$213,$B175,'Trust - Frontsheet'!M$14:M$213))","v":""},{"$f":"IF($B175=\"\",\"\",SUMIF('Trust - Frontsheet'!$C$14:$C$213,$B175,'Trust - Frontsheet'!N$14:N$213))","v":""},{"$f":"IF($B175=\"\",\"\",SUMIF('Trust - Frontsheet'!$C$14:$C$213,$B175,'Trust - Frontsheet'!O$14:O$213))","v":""},"","","","",{"$f":"IF($B175=\"\",\"\",SUMIF('Trust - Frontsheet'!$C$14:$C$213,$B175,'Trust - Frontsheet'!T$14:T$213))","v":""},"","",""]
[null,{"$f":"IF(ISERROR(INDEX('Trust - Frontsheet'!AV$1:AV$6187,SMALL(IF('Trust - Frontsheet'!$AX$1:$AX$6187=$B$2,ROW('Trust - Frontsheet'!$AX$1:$AX$6187)),ROW(170:170)))),\"\",INDEX('Trust - Frontsheet'!AV$1:AV$6187,SMALL(IF('Trust - Frontsheet'!$AX$1:$AX$6187=$B$2,ROW('Trust - Frontsheet'!$AX$1:$AX$6187)),ROW(170:170))))","v":""},{"$f":"IF(ISERROR(INDEX('Trust - Frontsheet'!AW$1:AW$6187,SMALL(IF('Trust - Frontsheet'!$AX$1:$AX$6187=$B$2,ROW('Trust - Frontsheet'!$AX$1:$AX$6187)),ROW(170:170)))),\"\",INDEX('Trust - Frontsheet'!AW$1:AW$6187,SMALL(IF('Trust - Frontsheet'!$AX$1:$AX$6187=$B$2,ROW('Trust - Frontsheet'!$AX$1:$AX$6187)),ROW(170:170))))","v":""},{"$f":"IF($B176=\"\",\"\",SUMIF('Trust - Frontsheet'!$C$14:$C$213,$B176,'Trust - Frontsheet'!H$14:H$213))","v":""},{"$f":"IF($B176=\"\",\"\",SUMIF('Trust - Frontsheet'!$C$14:$C$213,$B176,'Trust - Frontsheet'!I$14:I$213))","v":""},{"$f":"IF($B176=\"\",\"\",SUMIF('Trust - Frontsheet'!$C$14:$C$213,$B176,'Trust - Frontsheet'!J$14:J$213))","v":""},{"$f":"IF($B176=\"\",\"\",SUMIF('Trust - Frontsheet'!$C$14:$C$213,$B176,'Trust - Frontsheet'!K$14:K$213))","v":""},{"$f":"IF($B176=\"\",\"\",SUMIF('Trust - Frontsheet'!$C$14:$C$213,$B176,'Trust - Frontsheet'!L$14:L$213))","v":""},{"$f":"IF($B176=\"\",\"\",SUMIF('Trust - Frontsheet'!$C$14:$C$213,$B176,'Trust - Frontsheet'!M$14:M$213))","v":""},{"$f":"IF($B176=\"\",\"\",SUMIF('Trust - Frontsheet'!$C$14:$C$213,$B176,'Trust - Frontsheet'!N$14:N$213))","v":""},{"$f":"IF($B176=\"\",\"\",SUMIF('Trust - Frontsheet'!$C$14:$C$213,$B176,'Trust - Frontsheet'!O$14:O$213))","v":""},"","","","",{"$f":"IF($B176=\"\",\"\",SUMIF('Trust - Frontsheet'!$C$14:$C$213,$B176,'Trust - Frontsheet'!T$14:T$213))","v":""},"","",""]
[null,{"$f":"IF(ISERROR(INDEX('Trust - Frontsheet'!AV$1:AV$6187,SMALL(IF('Trust - Frontsheet'!$AX$1:$AX$6187=$B$2,ROW('Trust - Frontsheet'!$AX$1:$AX$6187)),ROW(171:171)))),\"\",INDEX('Trust - Frontsheet'!AV$1:AV$6187,SMALL(IF('Trust - Frontsheet'!$AX$1:$AX$6187=$B$2,ROW('Trust - Frontsheet'!$AX$1:$AX$6187)),ROW(171:171))))","v":""},{"$f":"IF(ISERROR(INDEX('Trust - Frontsheet'!AW$1:AW$6187,SMALL(IF('Trust - Frontsheet'!$AX$1:$AX$6187=$B$2,ROW('Trust - Frontsheet'!$AX$1:$AX$6187)),ROW(171:171)))),\"\",INDEX('Trust - Frontsheet'!AW$1:AW$6187,SMALL(IF('Trust - Frontsheet'!$AX$1:$AX$6187=$B$2,ROW('Trust - Frontsheet'!$AX$1:$AX$6187)),ROW(171:171))))","v":""},{"$f":"IF($B177=\"\",\"\",SUMIF('Trust - Frontsheet'!$C$14:$C$213,$B177,'Trust - Frontsheet'!H$14:H$213))","v":""},{"$f":"IF($B177=\"\",\"\",SUMIF('Trust - Frontsheet'!$C$14:$C$213,$B177,'Trust - Frontsheet'!I$14:I$213))","v":""},{"$f":"IF($B177=\"\",\"\",SUMIF('Trust - Frontsheet'!$C$14:$C$213,$B177,'Trust - Frontsheet'!J$14:J$213))","v":""},{"$f":"IF($B177=\"\",\"\",SUMIF('Trust - Frontsheet'!$C$14:$C$213,$B177,'Trust - Frontsheet'!K$14:K$213))","v":""},{"$f":"IF($B177=\"\",\"\",SUMIF('Trust - Frontsheet'!$C$14:$C$213,$B177,'Trust - Frontsheet'!L$14:L$213))","v":""},{"$f":"IF($B177=\"\",\"\",SUMIF('Trust - Frontsheet'!$C$14:$C$213,$B177,'Trust - Frontsheet'!M$14:M$213))","v":""},{"$f":"IF($B177=\"\",\"\",SUMIF('Trust - Frontsheet'!$C$14:$C$213,$B177,'Trust - Frontsheet'!N$14:N$213))","v":""},{"$f":"IF($B177=\"\",\"\",SUMIF('Trust - Frontsheet'!$C$14:$C$213,$B177,'Trust - Frontsheet'!O$14:O$213))","v":""},"","","","",{"$f":"IF($B177=\"\",\"\",SUMIF('Trust - Frontsheet'!$C$14:$C$213,$B177,'Trust - Frontsheet'!T$14:T$213))","v":""},"","",""]
[null,{"$f":"IF(ISERROR(INDEX('Trust - Frontsheet'!AV$1:AV$6187,SMALL(IF('Trust - Frontsheet'!$AX$1:$AX$6187=$B$2,ROW('Trust - Frontsheet'!$AX$1:$AX$6187)),ROW(172:172)))),\"\",INDEX('Trust - Frontsheet'!AV$1:AV$6187,SMALL(IF('Trust - Frontsheet'!$AX$1:$AX$6187=$B$2,ROW('Trust - Frontsheet'!$AX$1:$AX$6187)),ROW(172:172))))","v":""},{"$f":"IF(ISERROR(INDEX('Trust - Frontsheet'!AW$1:AW$6187,SMALL(IF('Trust - Frontsheet'!$AX$1:$AX$6187=$B$2,ROW('Trust - Frontsheet'!$AX$1:$AX$6187)),ROW(172:172)))),\"\",INDEX('Trust - Frontsheet'!AW$1:AW$6187,SMALL(IF('Trust - Frontsheet'!$AX$1:$AX$6187=$B$2,ROW('Trust - Frontsheet'!$AX$1:$AX$6187)),ROW(172:172))))","v":""},{"$f":"IF($B178=\"\",\"\",SUMIF('Trust - Frontsheet'!$C$14:$C$213,$B178,'Trust - Frontsheet'!H$14:H$213))","v":""},{"$f":"IF($B178=\"\",\"\",SUMIF('Trust - Frontsheet'!$C$14:$C$213,$B178,'Trust - Frontsheet'!I$14:I$213))","v":""},{"$f":"IF($B178=\"\",\"\",SUMIF('Trust - Frontsheet'!$C$14:$C$213,$B178,'Trust - Frontsheet'!J$14:J$213))","v":""},{"$f":"IF($B178=\"\",\"\",SUMIF('Trust - Frontsheet'!$C$14:$C$213,$B178,'Trust - Frontsheet'!K$14:K$213))","v":""},{"$f":"IF($B178=\"\",\"\",SUMIF('Trust - Frontsheet'!$C$14:$C$213,$B178,'Trust - Frontsheet'!L$14:L$213))","v":""},{"$f":"IF($B178=\"\",\"\",SUMIF('Trust - Frontsheet'!$C$14:$C$213,$B178,'Trust - Frontsheet'!M$14:M$213))","v":""},{"$f":"IF($B178=\"\",\"\",SUMIF('Trust - Frontsheet'!$C$14:$C$213,$B178,'Trust - Frontsheet'!N$14:N$213))","v":""},{"$f":"IF($B178=\"\",\"\",SUMIF('Trust - Frontsheet'!$C$14:$C$213,$B178,'Trust - Frontsheet'!O$14:O$213))","v":""},"","","","",{"$f":"IF($B178=\"\",\"\",SUMIF('Trust - Frontsheet'!$C$14:$C$213,$B178,'Trust - Frontsheet'!T$14:T$213))","v":""},"","",""]
[null,{"$f":"IF(ISERROR(INDEX('Trust - Frontsheet'!AV$1:AV$6187,SMALL(IF('Trust - Frontsheet'!$AX$1:$AX$6187=$B$2,ROW('Trust - Frontsheet'!$AX$1:$AX$6187)),ROW(173:173)))),\"\",INDEX('Trust - Frontsheet'!AV$1:AV$6187,SMALL(IF('Trust - Frontsheet'!$AX$1:$AX$6187=$B$2,ROW('Trust - Frontsheet'!$AX$1:$AX$6187)),ROW(173:173))))","v":""},{"$f":"IF(ISERROR(INDEX('Trust - Frontsheet'!AW$1:AW$6187,SMALL(IF('Trust - Frontsheet'!$AX$1:$AX$6187=$B$2,ROW('Trust - Frontsheet'!$AX$1:$AX$6187)),ROW(173:173)))),\"\",INDEX('Trust - Frontsheet'!AW$1:AW$6187,SMALL(IF('Trust - Frontsheet'!$AX$1:$AX$6187=$B$2,ROW('Trust - Frontsheet'!$AX$1:$AX$6187)),ROW(173:173))))","v":""},{"$f":"IF($B179=\"\",\"\",SUMIF('Trust - Frontsheet'!$C$14:$C$213,$B179,'Trust - Frontsheet'!H$14:H$213))","v":""},{"$f":"IF($B179=\"\",\"\",SUMIF('Trust - Frontsheet'!$C$14:$C$213,$B179,'Trust - Frontsheet'!I$14:I$213))","v":""},{"$f":"IF($B179=\"\",\"\",SUMIF('Trust - Frontsheet'!$C$14:$C$213,$B179,'Trust - Frontsheet'!J$14:J$213))","v":""},{"$f":"IF($B179=\"\",\"\",SUMIF('Trust - Frontsheet'!$C$14:$C$213,$B179,'Trust - Frontsheet'!K$14:K$213))","v":""},{"$f":"IF($B179=\"\",\"\",SUMIF('Trust - Frontsheet'!$C$14:$C$213,$B179,'Trust - Frontsheet'!L$14:L$213))","v":""},{"$f":"IF($B179=\"\",\"\",SUMIF('Trust - Frontsheet'!$C$14:$C$213,$B179,'Trust - Frontsheet'!M$14:M$213))","v":""},{"$f":"IF($B179=\"\",\"\",SUMIF('Trust - Frontsheet'!$C$14:$C$213,$B179,'Trust - Frontsheet'!N$14:N$213))","v":""},{"$f":"IF($B179=\"\",\"\",SUMIF('Trust - Frontsheet'!$C$14:$C$213,$B179,'Trust - Frontsheet'!O$14:O$213))","v":""},"","","","",{"$f":"IF($B179=\"\",\"\",SUMIF('Trust - Frontsheet'!$C$14:$C$213,$B179,'Trust - Frontsheet'!T$14:T$213))","v":""},"","",""]
[null,{"$f":"IF(ISERROR(INDEX('Trust - Frontsheet'!AV$1:AV$6187,SMALL(IF('Trust - Frontsheet'!$AX$1:$AX$6187=$B$2,ROW('Trust - Frontsheet'!$AX$1:$AX$6187)),ROW(174:174)))),\"\",INDEX('Trust - Frontsheet'!AV$1:AV$6187,SMALL(IF('Trust - Frontsheet'!$AX$1:$AX$6187=$B$2,ROW('Trust - Frontsheet'!$AX$1:$AX$6187)),ROW(174:174))))","v":""},{"$f":"IF(ISERROR(INDEX('Trust - Frontsheet'!AW$1:AW$6187,SMALL(IF('Trust - Frontsheet'!$AX$1:$AX$6187=$B$2,ROW('Trust - Frontsheet'!$AX$1:$AX$6187)),ROW(174:174)))),\"\",INDEX('Trust - Frontsheet'!AW$1:AW$6187,SMALL(IF('Trust - Frontsheet'!$AX$1:$AX$6187=$B$2,ROW('Trust - Frontsheet'!$AX$1:$AX$6187)),ROW(174:174))))","v":""},{"$f":"IF($B180=\"\",\"\",SUMIF('Trust - Frontsheet'!$C$14:$C$213,$B180,'Trust - Frontsheet'!H$14:H$213))","v":""},{"$f":"IF($B180=\"\",\"\",SUMIF('Trust - Frontsheet'!$C$14:$C$213,$B180,'Trust - Frontsheet'!I$14:I$213))","v":""},{"$f":"IF($B180=\"\",\"\",SUMIF('Trust - Frontsheet'!$C$14:$C$213,$B180,'Trust - Frontsheet'!J$14:J$213))","v":""},{"$f":"IF($B180=\"\",\"\",SUMIF('Trust - Frontsheet'!$C$14:$C$213,$B180,'Trust - Frontsheet'!K$14:K$213))","v":""},{"$f":"IF($B180=\"\",\"\",SUMIF('Trust - Frontsheet'!$C$14:$C$213,$B180,'Trust - Frontsheet'!L$14:L$213))","v":""},{"$f":"IF($B180=\"\",\"\",SUMIF('Trust - Frontsheet'!$C$14:$C$213,$B180,'Trust - Frontsheet'!M$14:M$213))","v":""},{"$f":"IF($B180=\"\",\"\",SUMIF('Trust - Frontsheet'!$C$14:$C$213,$B180,'Trust - Frontsheet'!N$14:N$213))","v":""},{"$f":"IF($B180=\"\",\"\",SUMIF('Trust - Frontsheet'!$C$14:$C$213,$B180,'Trust - Frontsheet'!O$14:O$213))","v":""},"","","","",{"$f":"IF($B180=\"\",\"\",SUMIF('Trust - Frontsheet'!$C$14:$C$213,$B180,'Trust - Frontsheet'!T$14:T$213))","v":""},"","",""]
[null,{"$f":"IF(ISERROR(INDEX('Trust - Frontsheet'!AV$1:AV$6187,SMALL(IF('Trust - Frontsheet'!$AX$1:$AX$6187=$B$2,ROW('Trust - Frontsheet'!$AX$1:$AX$6187)),ROW(175:175)))),\"\",INDEX('Trust - Frontsheet'!AV$1:AV$6187,SMALL(IF('Trust - Frontsheet'!$AX$1:$AX$6187=$B$2,ROW('Trust - Frontsheet'!$AX$1:$AX$6187)),ROW(175:175))))","v":""},{"$f":"IF(ISERROR(INDEX('Trust - Frontsheet'!AW$1:AW$6187,SMALL(IF('Trust - Frontsheet'!$AX$1:$AX$6187=$B$2,ROW('Trust - Frontsheet'!$AX$1:$AX$6187)),ROW(175:175)))),\"\",INDEX('Trust - Frontsheet'!AW$1:AW$6187,SMALL(IF('Trust - Frontsheet'!$AX$1:$AX$6187=$B$2,ROW('Trust - Frontsheet'!$AX$1:$AX$6187)),ROW(175:175))))","v":""},{"$f":"IF($B181=\"\",\"\",SUMIF('Trust - Frontsheet'!$C$14:$C$213,$B181,'Trust - Frontsheet'!H$14:H$213))","v":""},{"$f":"IF($B181=\"\",\"\",SUMIF('Trust - Frontsheet'!$C$14:$C$213,$B181,'Trust - Frontsheet'!I$14:I$213))","v":""},{"$f":"IF($B181=\"\",\"\",SUMIF('Trust - Frontsheet'!$C$14:$C$213,$B181,'Trust - Frontsheet'!J$14:J$213))","v":""},{"$f":"IF($B181=\"\",\"\",SUMIF('Trust - Frontsheet'!$C$14:$C$213,$B181,'Trust - Frontsheet'!K$14:K$213))","v":""},{"$f":"IF($B181=\"\",\"\",SUMIF('Trust - Frontsheet'!$C$14:$C$213,$B181,'Trust - Frontsheet'!L$14:L$213))","v":""},{"$f":"IF($B181=\"\",\"\",SUMIF('Trust - Frontsheet'!$C$14:$C$213,$B181,'Trust - Frontsheet'!M$14:M$213))","v":""},{"$f":"IF($B181=\"\",\"\",SUMIF('Trust - Frontsheet'!$C$14:$C$213,$B181,'Trust - Frontsheet'!N$14:N$213))","v":""},{"$f":"IF($B181=\"\",\"\",SUMIF('Trust - Frontsheet'!$C$14:$C$213,$B181,'Trust - Frontsheet'!O$14:O$213))","v":""},"","","","",{"$f":"IF($B181=\"\",\"\",SUMIF('Trust - Frontsheet'!$C$14:$C$213,$B181,'Trust - Frontsheet'!T$14:T$213))","v":""},"","",""]
[null,{"$f":"IF(ISERROR(INDEX('Trust - Frontsheet'!AV$1:AV$6187,SMALL(IF('Trust - Frontsheet'!$AX$1:$AX$6187=$B$2,ROW('Trust - Frontsheet'!$AX$1:$AX$6187)),ROW(176:176)))),\"\",INDEX('Trust - Frontsheet'!AV$1:AV$6187,SMALL(IF('Trust - Frontsheet'!$AX$1:$AX$6187=$B$2,ROW('Trust - Frontsheet'!$AX$1:$AX$6187)),ROW(176:176))))","v":""},{"$f":"IF(ISERROR(INDEX('Trust - Frontsheet'!AW$1:AW$6187,SMALL(IF('Trust - Frontsheet'!$AX$1:$AX$6187=$B$2,ROW('Trust - Frontsheet'!$AX$1:$AX$6187)),ROW(176:176)))),\"\",INDEX('Trust - Frontsheet'!AW$1:AW$6187,SMALL(IF('Trust - Frontsheet'!$AX$1:$AX$6187=$B$2,ROW('Trust - Frontsheet'!$AX$1:$AX$6187)),ROW(176:176))))","v":""},{"$f":"IF($B182=\"\",\"\",SUMIF('Trust - Frontsheet'!$C$14:$C$213,$B182,'Trust - Frontsheet'!H$14:H$213))","v":""},{"$f":"IF($B182=\"\",\"\",SUMIF('Trust - Frontsheet'!$C$14:$C$213,$B182,'Trust - Frontsheet'!I$14:I$213))","v":""},{"$f":"IF($B182=\"\",\"\",SUMIF('Trust - Frontsheet'!$C$14:$C$213,$B182,'Trust - Frontsheet'!J$14:J$213))","v":""},{"$f":"IF($B182=\"\",\"\",SUMIF('Trust - Frontsheet'!$C$14:$C$213,$B182,'Trust - Frontsheet'!K$14:K$213))","v":""},{"$f":"IF($B182=\"\",\"\",SUMIF('Trust - Frontsheet'!$C$14:$C$213,$B182,'Trust - Frontsheet'!L$14:L$213))","v":""},{"$f":"IF($B182=\"\",\"\",SUMIF('Trust - Frontsheet'!$C$14:$C$213,$B182,'Trust - Frontsheet'!M$14:M$213))","v":""},{"$f":"IF($B182=\"\",\"\",SUMIF('Trust - Frontsheet'!$C$14:$C$213,$B182,'Trust - Frontsheet'!N$14:N$213))","v":""},{"$f":"IF($B182=\"\",\"\",SUMIF('Trust - Frontsheet'!$C$14:$C$213,$B182,'Trust - Frontsheet'!O$14:O$213))","v":""},"","","","",{"$f":"IF($B182=\"\",\"\",SUMIF('Trust - Frontsheet'!$C$14:$C$213,$B182,'Trust - Frontsheet'!T$14:T$213))","v":""},"","",""]
[null,{"$f":"IF(ISERROR(INDEX('Trust - Frontsheet'!AV$1:AV$6187,SMALL(IF('Trust - Frontsheet'!$AX$1:$AX$6187=$B$2,ROW('Trust - Frontsheet'!$AX$1:$AX$6187)),ROW(177:177)))),\"\",INDEX('Trust - Frontsheet'!AV$1:AV$6187,SMALL(IF('Trust - Frontsheet'!$AX$1:$AX$6187=$B$2,ROW('Trust - Frontsheet'!$AX$1:$AX$6187)),ROW(177:177))))","v":""},{"$f":"IF(ISERROR(INDEX('Trust - Frontsheet'!AW$1:AW$6187,SMALL(IF('Trust - Frontsheet'!$AX$1:$AX$6187=$B$2,ROW('Trust - Frontsheet'!$AX$1:$AX$6187)),ROW(177:177)))),\"\",INDEX('Trust - Frontsheet'!AW$1:AW$6187,SMALL(IF('Trust - Frontsheet'!$AX$1:$AX$6187=$B$2,ROW('Trust - Frontsheet'!$AX$1:$AX$6187)),ROW(177:177))))","v":""},{"$f":"IF($B183=\"\",\"\",SUMIF('Trust - Frontsheet'!$C$14:$C$213,$B183,'Trust - Frontsheet'!H$14:H$213))","v":""},{"$f":"IF($B183=\"\",\"\",SUMIF('Trust - Frontsheet'!$C$14:$C$213,$B183,'Trust - Frontsheet'!I$14:I$213))","v":""},{"$f":"IF($B183=\"\",\"\",SUMIF('Trust - Frontsheet'!$C$14:$C$213,$B183,'Trust - Frontsheet'!J$14:J$213))","v":""},{"$f":"IF($B183=\"\",\"\",SUMIF('Trust - Frontsheet'!$C$14:$C$213,$B183,'Trust - Frontsheet'!K$14:K$213))","v":""},{"$f":"IF($B183=\"\",\"\",SUMIF('Trust - Frontsheet'!$C$14:$C$213,$B183,'Trust - Frontsheet'!L$14:L$213))","v":""},{"$f":"IF($B183=\"\",\"\",SUMIF('Trust - Frontsheet'!$C$14:$C$213,$B183,'Trust - Frontsheet'!M$14:M$213))","v":""},{"$f":"IF($B183=\"\",\"\",SUMIF('Trust - Frontsheet'!$C$14:$C$213,$B183,'Trust - Frontsheet'!N$14:N$213))","v":""},{"$f":"IF($B183=\"\",\"\",SUMIF('Trust - Frontsheet'!$C$14:$C$213,$B183,'Trust - Frontsheet'!O$14:O$213))","v":""},"","","","",{"$f":"IF($B183=\"\",\"\",SUMIF('Trust - Frontsheet'!$C$14:$C$213,$B183,'Trust - Frontsheet'!T$14:T$213))","v":""},"","",""]
[null,{"$f":"IF(ISERROR(INDEX('Trust - Frontsheet'!AV$1:AV$6187,SMALL(IF('Trust - Frontsheet'!$AX$1:$AX$6187=$B$2,ROW('Trust - Frontsheet'!$AX$1:$AX$6187)),ROW(178:178)))),\"\",INDEX('Trust - Frontsheet'!AV$1:AV$6187,SMALL(IF('Trust - Frontsheet'!$AX$1:$AX$6187=$B$2,ROW('Trust - Frontsheet'!$AX$1:$AX$6187)),ROW(178:178))))","v":""},{"$f":"IF(ISERROR(INDEX('Trust - Frontsheet'!AW$1:AW$6187,SMALL(IF('Trust - Frontsheet'!$AX$1:$AX$6187=$B$2,ROW('Trust - Frontsheet'!$AX$1:$AX$6187)),ROW(178:178)))),\"\",INDEX('Trust - Frontsheet'!AW$1:AW$6187,SMALL(IF('Trust - Frontsheet'!$AX$1:$AX$6187=$B$2,ROW('Trust - Frontsheet'!$AX$1:$AX$6187)),ROW(178:178))))","v":""},{"$f":"IF($B184=\"\",\"\",SUMIF('Trust - Frontsheet'!$C$14:$C$213,$B184,'Trust - Frontsheet'!H$14:H$213))","v":""},{"$f":"IF($B184=\"\",\"\",SUMIF('Trust - Frontsheet'!$C$14:$C$213,$B184,'Trust - Frontsheet'!I$14:I$213))","v":""},{"$f":"IF($B184=\"\",\"\",SUMIF('Trust - Frontsheet'!$C$14:$C$213,$B184,'Trust - Frontsheet'!J$14:J$213))","v":""},{"$f":"IF($B184=\"\",\"\",SUMIF('Trust - Frontsheet'!$C$14:$C$213,$B184,'Trust - Frontsheet'!K$14:K$213))","v":""},{"$f":"IF($B184=\"\",\"\",SUMIF('Trust - Frontsheet'!$C$14:$C$213,$B184,'Trust - Frontsheet'!L$14:L$213))","v":""},{"$f":"IF($B184=\"\",\"\",SUMIF('Trust - Frontsheet'!$C$14:$C$213,$B184,'Trust - Frontsheet'!M$14:M$213))","v":""},{"$f":"IF($B184=\"\",\"\",SUMIF('Trust - Frontsheet'!$C$14:$C$213,$B184,'Trust - Frontsheet'!N$14:N$213))","v":""},{"$f":"IF($B184=\"\",\"\",SUMIF('Trust - Frontsheet'!$C$14:$C$213,$B184,'Trust - Frontsheet'!O$14:O$213))","v":""},"","","","",{"$f":"IF($B184=\"\",\"\",SUMIF('Trust - Frontsheet'!$C$14:$C$213,$B184,'Trust - Frontsheet'!T$14:T$213))","v":""},"","",""]
[null,{"$f":"IF(ISERROR(INDEX('Trust - Frontsheet'!AV$1:AV$6187,SMALL(IF('Trust - Frontsheet'!$AX$1:$AX$6187=$B$2,ROW('Trust - Frontsheet'!$AX$1:$AX$6187)),ROW(179:179)))),\"\",INDEX('Trust - Frontsheet'!AV$1:AV$6187,SMALL(IF('Trust - Frontsheet'!$AX$1:$AX$6187=$B$2,ROW('Trust - Frontsheet'!$AX$1:$AX$6187)),ROW(179:179))))","v":""},{"$f":"IF(ISERROR(INDEX('Trust - Frontsheet'!AW$1:AW$6187,SMALL(IF('Trust - Frontsheet'!$AX$1:$AX$6187=$B$2,ROW('Trust - Frontsheet'!$AX$1:$AX$6187)),ROW(179:179)))),\"\",INDEX('Trust - Frontsheet'!AW$1:AW$6187,SMALL(IF('Trust - Frontsheet'!$AX$1:$AX$6187=$B$2,ROW('Trust - Frontsheet'!$AX$1:$AX$6187)),ROW(179:179))))","v":""},{"$f":"IF($B185=\"\",\"\",SUMIF('Trust - Frontsheet'!$C$14:$C$213,$B185,'Trust - Frontsheet'!H$14:H$213))","v":""},{"$f":"IF($B185=\"\",\"\",SUMIF('Trust - Frontsheet'!$C$14:$C$213,$B185,'Trust - Frontsheet'!I$14:I$213))","v":""},{"$f":"IF($B185=\"\",\"\",SUMIF('Trust - Frontsheet'!$C$14:$C$213,$B185,'Trust - Frontsheet'!J$14:J$213))","v":""},{"$f":"IF($B185=\"\",\"\",SUMIF('Trust - Frontsheet'!$C$14:$C$213,$B185,'Trust - Frontsheet'!K$14:K$213))","v":""},{"$f":"IF($B185=\"\",\"\",SUMIF('Trust - Frontsheet'!$C$14:$C$213,$B185,'Trust - Frontsheet'!L$14:L$213))","v":""},{"$f":"IF($B185=\"\",\"\",SUMIF('Trust - Frontsheet'!$C$14:$C$213,$B185,'Trust - Frontsheet'!M$14:M$213))","v":""},{"$f":"IF($B185=\"\",\"\",SUMIF('Trust - Frontsheet'!$C$14:$C$213,$B185,'Trust - Frontsheet'!N$14:N$213))","v":""},{"$f":"IF($B185=\"\",\"\",SUMIF('Trust - Frontsheet'!$C$14:$C$213,$B185,'Trust - Frontsheet'!O$14:O$213))","v":""},"","","","",{"$f":"IF($B185=\"\",\"\",SUMIF('Trust - Frontsheet'!$C$14:$C$213,$B185,'Trust - Frontsheet'!T$14:T$213))","v":""},"","",""]
[null,{"$f":"IF(ISERROR(INDEX('Trust - Frontsheet'!AV$1:AV$6187,SMALL(IF('Trust - Frontsheet'!$AX$1:$AX$6187=$B$2,ROW('Trust - Frontsheet'!$AX$1:$AX$6187)),ROW(180:180)))),\"\",INDEX('Trust - Frontsheet'!AV$1:AV$6187,SMALL(IF('Trust - Frontsheet'!$AX$1:$AX$6187=$B$2,ROW('Trust - Frontsheet'!$AX$1:$AX$6187)),ROW(180:180))))","v":""},{"$f":"IF(ISERROR(INDEX('Trust - Frontsheet'!AW$1:AW$6187,SMALL(IF('Trust - Frontsheet'!$AX$1:$AX$6187=$B$2,ROW('Trust - Frontsheet'!$AX$1:$AX$6187)),ROW(180:180)))),\"\",INDEX('Trust - Frontsheet'!AW$1:AW$6187,SMALL(IF('Trust - Frontsheet'!$AX$1:$AX$6187=$B$2,ROW('Trust - Frontsheet'!$AX$1:$AX$6187)),ROW(180:180))))","v":""},{"$f":"IF($B186=\"\",\"\",SUMIF('Trust - Frontsheet'!$C$14:$C$213,$B186,'Trust - Frontsheet'!H$14:H$213))","v":""},{"$f":"IF($B186=\"\",\"\",SUMIF('Trust - Frontsheet'!$C$14:$C$213,$B186,'Trust - Frontsheet'!I$14:I$213))","v":""},{"$f":"IF($B186=\"\",\"\",SUMIF('Trust - Frontsheet'!$C$14:$C$213,$B186,'Trust - Frontsheet'!J$14:J$213))","v":""},{"$f":"IF($B186=\"\",\"\",SUMIF('Trust - Frontsheet'!$C$14:$C$213,$B186,'Trust - Frontsheet'!K$14:K$213))","v":""},{"$f":"IF($B186=\"\",\"\",SUMIF('Trust - Frontsheet'!$C$14:$C$213,$B186,'Trust - Frontsheet'!L$14:L$213))","v":""},{"$f":"IF($B186=\"\",\"\",SUMIF('Trust - Frontsheet'!$C$14:$C$213,$B186,'Trust - Frontsheet'!M$14:M$213))","v":""},{"$f":"IF($B186=\"\",\"\",SUMIF('Trust - Frontsheet'!$C$14:$C$213,$B186,'Trust - Frontsheet'!N$14:N$213))","v":""},{"$f":"IF($B186=\"\",\"\",SUMIF('Trust - Frontsheet'!$C$14:$C$213,$B186,'Trust - Frontsheet'!O$14:O$213))","v":""},"","","","",{"$f":"IF($B186=\"\",\"\",SUMIF('Trust - Frontsheet'!$C$14:$C$213,$B186,'Trust - Frontsheet'!T$14:T$213))","v":""},"","",""]
[null,{"$f":"IF(ISERROR(INDEX('Trust - Frontsheet'!AV$1:AV$6187,SMALL(IF('Trust - Frontsheet'!$AX$1:$AX$6187=$B$2,ROW('Trust - Frontsheet'!$AX$1:$AX$6187)),ROW(181:181)))),\"\",INDEX('Trust - Frontsheet'!AV$1:AV$6187,SMALL(IF('Trust - Frontsheet'!$AX$1:$AX$6187=$B$2,ROW('Trust - Frontsheet'!$AX$1:$AX$6187)),ROW(181:181))))","v":""},{"$f":"IF(ISERROR(INDEX('Trust - Frontsheet'!AW$1:AW$6187,SMALL(IF('Trust - Frontsheet'!$AX$1:$AX$6187=$B$2,ROW('Trust - Frontsheet'!$AX$1:$AX$6187)),ROW(181:181)))),\"\",INDEX('Trust - Frontsheet'!AW$1:AW$6187,SMALL(IF('Trust - Frontsheet'!$AX$1:$AX$6187=$B$2,ROW('Trust - Frontsheet'!$AX$1:$AX$6187)),ROW(181:181))))","v":""},{"$f":"IF($B187=\"\",\"\",SUMIF('Trust - Frontsheet'!$C$14:$C$213,$B187,'Trust - Frontsheet'!H$14:H$213))","v":""},{"$f":"IF($B187=\"\",\"\",SUMIF('Trust - Frontsheet'!$C$14:$C$213,$B187,'Trust - Frontsheet'!I$14:I$213))","v":""},{"$f":"IF($B187=\"\",\"\",SUMIF('Trust - Frontsheet'!$C$14:$C$213,$B187,'Trust - Frontsheet'!J$14:J$213))","v":""},{"$f":"IF($B187=\"\",\"\",SUMIF('Trust - Frontsheet'!$C$14:$C$213,$B187,'Trust - Frontsheet'!K$14:K$213))","v":""},{"$f":"IF($B187=\"\",\"\",SUMIF('Trust - Frontsheet'!$C$14:$C$213,$B187,'Trust - Frontsheet'!L$14:L$213))","v":""},{"$f":"IF($B187=\"\",\"\",SUMIF('Trust - Frontsheet'!$C$14:$C$213,$B187,'Trust - Frontsheet'!M$14:M$213))","v":""},{"$f":"IF($B187=\"\",\"\",SUMIF('Trust - Frontsheet'!$C$14:$C$213,$B187,'Trust - Frontsheet'!N$14:N$213))","v":""},{"$f":"IF($B187=\"\",\"\",SUMIF('Trust - Frontsheet'!$C$14:$C$213,$B187,'Trust - Frontsheet'!O$14:O$213))","v":""},"","","","",{"$f":"IF($B187=\"\",\"\",SUMIF('Trust - Frontsheet'!$C$14:$C$213,$B187,'Trust - Frontsheet'!T$14:T$213))","v":""},"","",""]
[null,{"$f":"IF(ISERROR(INDEX('Trust - Frontsheet'!AV$1:AV$6187,SMALL(IF('Trust - Frontsheet'!$AX$1:$AX$6187=$B$2,ROW('Trust - Frontsheet'!$AX$1:$AX$6187)),ROW(182:182)))),\"\",INDEX('Trust - Frontsheet'!AV$1:AV$6187,SMALL(IF('Trust - Frontsheet'!$AX$1:$AX$6187=$B$2,ROW('Trust - Frontsheet'!$AX$1:$AX$6187)),ROW(182:182))))","v":""},{"$f":"IF(ISERROR(INDEX('Trust - Frontsheet'!AW$1:AW$6187,SMALL(IF('Trust - Frontsheet'!$AX$1:$AX$6187=$B$2,ROW('Trust - Frontsheet'!$AX$1:$AX$6187)),ROW(182:182)))),\"\",INDEX('Trust - Frontsheet'!AW$1:AW$6187,SMALL(IF('Trust - Frontsheet'!$AX$1:$AX$6187=$B$2,ROW('Trust - Frontsheet'!$AX$1:$AX$6187)),ROW(182:182))))","v":""},{"$f":"IF($B188=\"\",\"\",SUMIF('Trust - Frontsheet'!$C$14:$C$213,$B188,'Trust - Frontsheet'!H$14:H$213))","v":""},{"$f":"IF($B188=\"\",\"\",SUMIF('Trust - Frontsheet'!$C$14:$C$213,$B188,'Trust - Frontsheet'!I$14:I$213))","v":""},{"$f":"IF($B188=\"\",\"\",SUMIF('Trust - Frontsheet'!$C$14:$C$213,$B188,'Trust - Frontsheet'!J$14:J$213))","v":""},{"$f":"IF($B188=\"\",\"\",SUMIF('Trust - Frontsheet'!$C$14:$C$213,$B188,'Trust - Frontsheet'!K$14:K$213))","v":""},{"$f":"IF($B188=\"\",\"\",SUMIF('Trust - Frontsheet'!$C$14:$C$213,$B188,'Trust - Frontsheet'!L$14:L$213))","v":""},{"$f":"IF($B188=\"\",\"\",SUMIF('Trust - Frontsheet'!$C$14:$C$213,$B188,'Trust - Frontsheet'!M$14:M$213))","v":""},{"$f":"IF($B188=\"\",\"\",SUMIF('Trust - Frontsheet'!$C$14:$C$213,$B188,'Trust - Frontsheet'!N$14:N$213))","v":""},{"$f":"IF($B188=\"\",\"\",SUMIF('Trust - Frontsheet'!$C$14:$C$213,$B188,'Trust - Frontsheet'!O$14:O$213))","v":""},"","","","",{"$f":"IF($B188=\"\",\"\",SUMIF('Trust - Frontsheet'!$C$14:$C$213,$B188,'Trust - Frontsheet'!T$14:T$213))","v":""},"","",""]
[null,{"$f":"IF(ISERROR(INDEX('Trust - Frontsheet'!AV$1:AV$6187,SMALL(IF('Trust - Frontsheet'!$AX$1:$AX$6187=$B$2,ROW('Trust - Frontsheet'!$AX$1:$AX$6187)),ROW(183:183)))),\"\",INDEX('Trust - Frontsheet'!AV$1:AV$6187,SMALL(IF('Trust - Frontsheet'!$AX$1:$AX$6187=$B$2,ROW('Trust - Frontsheet'!$AX$1:$AX$6187)),ROW(183:183))))","v":""},{"$f":"IF(ISERROR(INDEX('Trust - Frontsheet'!AW$1:AW$6187,SMALL(IF('Trust - Frontsheet'!$AX$1:$AX$6187=$B$2,ROW('Trust - Frontsheet'!$AX$1:$AX$6187)),ROW(183:183)))),\"\",INDEX('Trust - Frontsheet'!AW$1:AW$6187,SMALL(IF('Trust - Frontsheet'!$AX$1:$AX$6187=$B$2,ROW('Trust - Frontsheet'!$AX$1:$AX$6187)),ROW(183:183))))","v":""},{"$f":"IF($B189=\"\",\"\",SUMIF('Trust - Frontsheet'!$C$14:$C$213,$B189,'Trust - Frontsheet'!H$14:H$213))","v":""},{"$f":"IF($B189=\"\",\"\",SUMIF('Trust - Frontsheet'!$C$14:$C$213,$B189,'Trust - Frontsheet'!I$14:I$213))","v":""},{"$f":"IF($B189=\"\",\"\",SUMIF('Trust - Frontsheet'!$C$14:$C$213,$B189,'Trust - Frontsheet'!J$14:J$213))","v":""},{"$f":"IF($B189=\"\",\"\",SUMIF('Trust - Frontsheet'!$C$14:$C$213,$B189,'Trust - Frontsheet'!K$14:K$213))","v":""},{"$f":"IF($B189=\"\",\"\",SUMIF('Trust - Frontsheet'!$C$14:$C$213,$B189,'Trust - Frontsheet'!L$14:L$213))","v":""},{"$f":"IF($B189=\"\",\"\",SUMIF('Trust - Frontsheet'!$C$14:$C$213,$B189,'Trust - Frontsheet'!M$14:M$213))","v":""},{"$f":"IF($B189=\"\",\"\",SUMIF('Trust - Frontsheet'!$C$14:$C$213,$B189,'Trust - Frontsheet'!N$14:N$213))","v":""},{"$f":"IF($B189=\"\",\"\",SUMIF('Trust - Frontsheet'!$C$14:$C$213,$B189,'Trust - Frontsheet'!O$14:O$213))","v":""},"","","","",{"$f":"IF($B189=\"\",\"\",SUMIF('Trust - Frontsheet'!$C$14:$C$213,$B189,'Trust - Frontsheet'!T$14:T$213))","v":""},"","",""]
[null,{"$f":"IF(ISERROR(INDEX('Trust - Frontsheet'!AV$1:AV$6187,SMALL(IF('Trust - Frontsheet'!$AX$1:$AX$6187=$B$2,ROW('Trust - Frontsheet'!$AX$1:$AX$6187)),ROW(184:184)))),\"\",INDEX('Trust - Frontsheet'!AV$1:AV$6187,SMALL(IF('Trust - Frontsheet'!$AX$1:$AX$6187=$B$2,ROW('Trust - Frontsheet'!$AX$1:$AX$6187)),ROW(184:184))))","v":""},{"$f":"IF(ISERROR(INDEX('Trust - Frontsheet'!AW$1:AW$6187,SMALL(IF('Trust - Frontsheet'!$AX$1:$AX$6187=$B$2,ROW('Trust - Frontsheet'!$AX$1:$AX$6187)),ROW(184:184)))),\"\",INDEX('Trust - Frontsheet'!AW$1:AW$6187,SMALL(IF('Trust - Frontsheet'!$AX$1:$AX$6187=$B$2,ROW('Trust - Frontsheet'!$AX$1:$AX$6187)),ROW(184:184))))","v":""},{"$f":"IF($B190=\"\",\"\",SUMIF('Trust - Frontsheet'!$C$14:$C$213,$B190,'Trust - Frontsheet'!H$14:H$213))","v":""},{"$f":"IF($B190=\"\",\"\",SUMIF('Trust - Frontsheet'!$C$14:$C$213,$B190,'Trust - Frontsheet'!I$14:I$213))","v":""},{"$f":"IF($B190=\"\",\"\",SUMIF('Trust - Frontsheet'!$C$14:$C$213,$B190,'Trust - Frontsheet'!J$14:J$213))","v":""},{"$f":"IF($B190=\"\",\"\",SUMIF('Trust - Frontsheet'!$C$14:$C$213,$B190,'Trust - Frontsheet'!K$14:K$213))","v":""},{"$f":"IF($B190=\"\",\"\",SUMIF('Trust - Frontsheet'!$C$14:$C$213,$B190,'Trust - Frontsheet'!L$14:L$213))","v":""},{"$f":"IF($B190=\"\",\"\",SUMIF('Trust - Frontsheet'!$C$14:$C$213,$B190,'Trust - Frontsheet'!M$14:M$213))","v":""},{"$f":"IF($B190=\"\",\"\",SUMIF('Trust - Frontsheet'!$C$14:$C$213,$B190,'Trust - Frontsheet'!N$14:N$213))","v":""},{"$f":"IF($B190=\"\",\"\",SUMIF('Trust - Frontsheet'!$C$14:$C$213,$B190,'Trust - Frontsheet'!O$14:O$213))","v":""},"","","","",{"$f":"IF($B190=\"\",\"\",SUMIF('Trust - Frontsheet'!$C$14:$C$213,$B190,'Trust - Frontsheet'!T$14:T$213))","v":""},"","",""]
[null,{"$f":"IF(ISERROR(INDEX('Trust - Frontsheet'!AV$1:AV$6187,SMALL(IF('Trust - Frontsheet'!$AX$1:$AX$6187=$B$2,ROW('Trust - Frontsheet'!$AX$1:$AX$6187)),ROW(185:185)))),\"\",INDEX('Trust - Frontsheet'!AV$1:AV$6187,SMALL(IF('Trust - Frontsheet'!$AX$1:$AX$6187=$B$2,ROW('Trust - Frontsheet'!$AX$1:$AX$6187)),ROW(185:185))))","v":""},{"$f":"IF(ISERROR(INDEX('Trust - Frontsheet'!AW$1:AW$6187,SMALL(IF('Trust - Frontsheet'!$AX$1:$AX$6187=$B$2,ROW('Trust - Frontsheet'!$AX$1:$AX$6187)),ROW(185:185)))),\"\",INDEX('Trust - Frontsheet'!AW$1:AW$6187,SMALL(IF('Trust - Frontsheet'!$AX$1:$AX$6187=$B$2,ROW('Trust - Frontsheet'!$AX$1:$AX$6187)),ROW(185:185))))","v":""},{"$f":"IF($B191=\"\",\"\",SUMIF('Trust - Frontsheet'!$C$14:$C$213,$B191,'Trust - Frontsheet'!H$14:H$213))","v":""},{"$f":"IF($B191=\"\",\"\",SUMIF('Trust - Frontsheet'!$C$14:$C$213,$B191,'Trust - Frontsheet'!I$14:I$213))","v":""},{"$f":"IF($B191=\"\",\"\",SUMIF('Trust - Frontsheet'!$C$14:$C$213,$B191,'Trust - Frontsheet'!J$14:J$213))","v":""},{"$f":"IF($B191=\"\",\"\",SUMIF('Trust - Frontsheet'!$C$14:$C$213,$B191,'Trust - Frontsheet'!K$14:K$213))","v":""},{"$f":"IF($B191=\"\",\"\",SUMIF('Trust - Frontsheet'!$C$14:$C$213,$B191,'Trust - Frontsheet'!L$14:L$213))","v":""},{"$f":"IF($B191=\"\",\"\",SUMIF('Trust - Frontsheet'!$C$14:$C$213,$B191,'Trust - Frontsheet'!M$14:M$213))","v":""},{"$f":"IF($B191=\"\",\"\",SUMIF('Trust - Frontsheet'!$C$14:$C$213,$B191,'Trust - Frontsheet'!N$14:N$213))","v":""},{"$f":"IF($B191=\"\",\"\",SUMIF('Trust - Frontsheet'!$C$14:$C$213,$B191,'Trust - Frontsheet'!O$14:O$213))","v":""},"","","","",{"$f":"IF($B191=\"\",\"\",SUMIF('Trust - Frontsheet'!$C$14:$C$213,$B191,'Trust - Frontsheet'!T$14:T$213))","v":""},"","",""]
[null,{"$f":"IF(ISERROR(INDEX('Trust - Frontsheet'!AV$1:AV$6187,SMALL(IF('Trust - Frontsheet'!$AX$1:$AX$6187=$B$2,ROW('Trust - Frontsheet'!$AX$1:$AX$6187)),ROW(186:186)))),\"\",INDEX('Trust - Frontsheet'!AV$1:AV$6187,SMALL(IF('Trust - Frontsheet'!$AX$1:$AX$6187=$B$2,ROW('Trust - Frontsheet'!$AX$1:$AX$6187)),ROW(186:186))))","v":""},{"$f":"IF(ISERROR(INDEX('Trust - Frontsheet'!AW$1:AW$6187,SMALL(IF('Trust - Frontsheet'!$AX$1:$AX$6187=$B$2,ROW('Trust - Frontsheet'!$AX$1:$AX$6187)),ROW(186:186)))),\"\",INDEX('Trust - Frontsheet'!AW$1:AW$6187,SMALL(IF('Trust - Frontsheet'!$AX$1:$AX$6187=$B$2,ROW('Trust - Frontsheet'!$AX$1:$AX$6187)),ROW(186:186))))","v":""},{"$f":"IF($B192=\"\",\"\",SUMIF('Trust - Frontsheet'!$C$14:$C$213,$B192,'Trust - Frontsheet'!H$14:H$213))","v":""},{"$f":"IF($B192=\"\",\"\",SUMIF('Trust - Frontsheet'!$C$14:$C$213,$B192,'Trust - Frontsheet'!I$14:I$213))","v":""},{"$f":"IF($B192=\"\",\"\",SUMIF('Trust - Frontsheet'!$C$14:$C$213,$B192,'Trust - Frontsheet'!J$14:J$213))","v":""},{"$f":"IF($B192=\"\",\"\",SUMIF('Trust - Frontsheet'!$C$14:$C$213,$B192,'Trust - Frontsheet'!K$14:K$213))","v":""},{"$f":"IF($B192=\"\",\"\",SUMIF('Trust - Frontsheet'!$C$14:$C$213,$B192,'Trust - Frontsheet'!L$14:L$213))","v":""},{"$f":"IF($B192=\"\",\"\",SUMIF('Trust - Frontsheet'!$C$14:$C$213,$B192,'Trust - Frontsheet'!M$14:M$213))","v":""},{"$f":"IF($B192=\"\",\"\",SUMIF('Trust - Frontsheet'!$C$14:$C$213,$B192,'Trust - Frontsheet'!N$14:N$213))","v":""},{"$f":"IF($B192=\"\",\"\",SUMIF('Trust - Frontsheet'!$C$14:$C$213,$B192,'Trust - Frontsheet'!O$14:O$213))","v":""},"","","","",{"$f":"IF($B192=\"\",\"\",SUMIF('Trust - Frontsheet'!$C$14:$C$213,$B192,'Trust - Frontsheet'!T$14:T$213))","v":""},"","",""]
[null,{"$f":"IF(ISERROR(INDEX('Trust - Frontsheet'!AV$1:AV$6187,SMALL(IF('Trust - Frontsheet'!$AX$1:$AX$6187=$B$2,ROW('Trust - Frontsheet'!$AX$1:$AX$6187)),ROW(187:187)))),\"\",INDEX('Trust - Frontsheet'!AV$1:AV$6187,SMALL(IF('Trust - Frontsheet'!$AX$1:$AX$6187=$B$2,ROW('Trust - Frontsheet'!$AX$1:$AX$6187)),ROW(187:187))))","v":""},{"$f":"IF(ISERROR(INDEX('Trust - Frontsheet'!AW$1:AW$6187,SMALL(IF('Trust - Frontsheet'!$AX$1:$AX$6187=$B$2,ROW('Trust - Frontsheet'!$AX$1:$AX$6187)),ROW(187:187)))),\"\",INDEX('Trust - Frontsheet'!AW$1:AW$6187,SMALL(IF('Trust - Frontsheet'!$AX$1:$AX$6187=$B$2,ROW('Trust - Frontsheet'!$AX$1:$AX$6187)),ROW(187:187))))","v":""},{"$f":"IF($B193=\"\",\"\",SUMIF('Trust - Frontsheet'!$C$14:$C$213,$B193,'Trust - Frontsheet'!H$14:H$213))","v":""},{"$f":"IF($B193=\"\",\"\",SUMIF('Trust - Frontsheet'!$C$14:$C$213,$B193,'Trust - Frontsheet'!I$14:I$213))","v":""},{"$f":"IF($B193=\"\",\"\",SUMIF('Trust - Frontsheet'!$C$14:$C$213,$B193,'Trust - Frontsheet'!J$14:J$213))","v":""},{"$f":"IF($B193=\"\",\"\",SUMIF('Trust - Frontsheet'!$C$14:$C$213,$B193,'Trust - Frontsheet'!K$14:K$213))","v":""},{"$f":"IF($B193=\"\",\"\",SUMIF('Trust - Frontsheet'!$C$14:$C$213,$B193,'Trust - Frontsheet'!L$14:L$213))","v":""},{"$f":"IF($B193=\"\",\"\",SUMIF('Trust - Frontsheet'!$C$14:$C$213,$B193,'Trust - Frontsheet'!M$14:M$213))","v":""},{"$f":"IF($B193=\"\",\"\",SUMIF('Trust - Frontsheet'!$C$14:$C$213,$B193,'Trust - Frontsheet'!N$14:N$213))","v":""},{"$f":"IF($B193=\"\",\"\",SUMIF('Trust - Frontsheet'!$C$14:$C$213,$B193,'Trust - Frontsheet'!O$14:O$213))","v":""},"","","","",{"$f":"IF($B193=\"\",\"\",SUMIF('Trust - Frontsheet'!$C$14:$C$213,$B193,'Trust - Frontsheet'!T$14:T$213))","v":""},"","",""]
[null,{"$f":"IF(ISERROR(INDEX('Trust - Frontsheet'!AV$1:AV$6187,SMALL(IF('Trust - Frontsheet'!$AX$1:$AX$6187=$B$2,ROW('Trust - Frontsheet'!$AX$1:$AX$6187)),ROW(188:188)))),\"\",INDEX('Trust - Frontsheet'!AV$1:AV$6187,SMALL(IF('Trust - Frontsheet'!$AX$1:$AX$6187=$B$2,ROW('Trust - Frontsheet'!$AX$1:$AX$6187)),ROW(188:188))))","v":""},{"$f":"IF(ISERROR(INDEX('Trust - Frontsheet'!AW$1:AW$6187,SMALL(IF('Trust - Frontsheet'!$AX$1:$AX$6187=$B$2,ROW('Trust - Frontsheet'!$AX$1:$AX$6187)),ROW(188:188)))),\"\",INDEX('Trust - Frontsheet'!AW$1:AW$6187,SMALL(IF('Trust - Frontsheet'!$AX$1:$AX$6187=$B$2,ROW('Trust - Frontsheet'!$AX$1:$AX$6187)),ROW(188:188))))","v":""},{"$f":"IF($B194=\"\",\"\",SUMIF('Trust - Frontsheet'!$C$14:$C$213,$B194,'Trust - Frontsheet'!H$14:H$213))","v":""},{"$f":"IF($B194=\"\",\"\",SUMIF('Trust - Frontsheet'!$C$14:$C$213,$B194,'Trust - Frontsheet'!I$14:I$213))","v":""},{"$f":"IF($B194=\"\",\"\",SUMIF('Trust - Frontsheet'!$C$14:$C$213,$B194,'Trust - Frontsheet'!J$14:J$213))","v":""},{"$f":"IF($B194=\"\",\"\",SUMIF('Trust - Frontsheet'!$C$14:$C$213,$B194,'Trust - Frontsheet'!K$14:K$213))","v":""},{"$f":"IF($B194=\"\",\"\",SUMIF('Trust - Frontsheet'!$C$14:$C$213,$B194,'Trust - Frontsheet'!L$14:L$213))","v":""},{"$f":"IF($B194=\"\",\"\",SUMIF('Trust - Frontsheet'!$C$14:$C$213,$B194,'Trust - Frontsheet'!M$14:M$213))","v":""},{"$f":"IF($B194=\"\",\"\",SUMIF('Trust - Frontsheet'!$C$14:$C$213,$B194,'Trust - Frontsheet'!N$14:N$213))","v":""},{"$f":"IF($B194=\"\",\"\",SUMIF('Trust - Frontsheet'!$C$14:$C$213,$B194,'Trust - Frontsheet'!O$14:O$213))","v":""},"","","","",{"$f":"IF($B194=\"\",\"\",SUMIF('Trust - Frontsheet'!$C$14:$C$213,$B194,'Trust - Frontsheet'!T$14:T$213))","v":""},"","",""]
[null,{"$f":"IF(ISERROR(INDEX('Trust - Frontsheet'!AV$1:AV$6187,SMALL(IF('Trust - Frontsheet'!$AX$1:$AX$6187=$B$2,ROW('Trust - Frontsheet'!$AX$1:$AX$6187)),ROW(189:189)))),\"\",INDEX('Trust - Frontsheet'!AV$1:AV$6187,SMALL(IF('Trust - Frontsheet'!$AX$1:$AX$6187=$B$2,ROW('Trust - Frontsheet'!$AX$1:$AX$6187)),ROW(189:189))))","v":""},{"$f":"IF(ISERROR(INDEX('Trust - Frontsheet'!AW$1:AW$6187,SMALL(IF('Trust - Frontsheet'!$AX$1:$AX$6187=$B$2,ROW('Trust - Frontsheet'!$AX$1:$AX$6187)),ROW(189:189)))),\"\",INDEX('Trust - Frontsheet'!AW$1:AW$6187,SMALL(IF('Trust - Frontsheet'!$AX$1:$AX$6187=$B$2,ROW('Trust - Frontsheet'!$AX$1:$AX$6187)),ROW(189:189))))","v":""},{"$f":"IF($B195=\"\",\"\",SUMIF('Trust - Frontsheet'!$C$14:$C$213,$B195,'Trust - Frontsheet'!H$14:H$213))","v":""},{"$f":"IF($B195=\"\",\"\",SUMIF('Trust - Frontsheet'!$C$14:$C$213,$B195,'Trust - Frontsheet'!I$14:I$213))","v":""},{"$f":"IF($B195=\"\",\"\",SUMIF('Trust - Frontsheet'!$C$14:$C$213,$B195,'Trust - Frontsheet'!J$14:J$213))","v":""},{"$f":"IF($B195=\"\",\"\",SUMIF('Trust - Frontsheet'!$C$14:$C$213,$B195,'Trust - Frontsheet'!K$14:K$213))","v":""},{"$f":"IF($B195=\"\",\"\",SUMIF('Trust - Frontsheet'!$C$14:$C$213,$B195,'Trust - Frontsheet'!L$14:L$213))","v":""},{"$f":"IF($B195=\"\",\"\",SUMIF('Trust - Frontsheet'!$C$14:$C$213,$B195,'Trust - Frontsheet'!M$14:M$213))","v":""},{"$f":"IF($B195=\"\",\"\",SUMIF('Trust - Frontsheet'!$C$14:$C$213,$B195,'Trust - Frontsheet'!N$14:N$213))","v":""},{"$f":"IF($B195=\"\",\"\",SUMIF('Trust - Frontsheet'!$C$14:$C$213,$B195,'Trust - Frontsheet'!O$14:O$213))","v":""},"","","","",{"$f":"IF($B195=\"\",\"\",SUMIF('Trust - Frontsheet'!$C$14:$C$213,$B195,'Trust - Frontsheet'!T$14:T$213))","v":""},"","",""]
[null,{"$f":"IF(ISERROR(INDEX('Trust - Frontsheet'!AV$1:AV$6187,SMALL(IF('Trust - Frontsheet'!$AX$1:$AX$6187=$B$2,ROW('Trust - Frontsheet'!$AX$1:$AX$6187)),ROW(190:190)))),\"\",INDEX('Trust - Frontsheet'!AV$1:AV$6187,SMALL(IF('Trust - Frontsheet'!$AX$1:$AX$6187=$B$2,ROW('Trust - Frontsheet'!$AX$1:$AX$6187)),ROW(190:190))))","v":""},{"$f":"IF(ISERROR(INDEX('Trust - Frontsheet'!AW$1:AW$6187,SMALL(IF('Trust - Frontsheet'!$AX$1:$AX$6187=$B$2,ROW('Trust - Frontsheet'!$AX$1:$AX$6187)),ROW(190:190)))),\"\",INDEX('Trust - Frontsheet'!AW$1:AW$6187,SMALL(IF('Trust - Frontsheet'!$AX$1:$AX$6187=$B$2,ROW('Trust - Frontsheet'!$AX$1:$AX$6187)),ROW(190:190))))","v":""},{"$f":"IF($B196=\"\",\"\",SUMIF('Trust - Frontsheet'!$C$14:$C$213,$B196,'Trust - Frontsheet'!H$14:H$213))","v":""},{"$f":"IF($B196=\"\",\"\",SUMIF('Trust - Frontsheet'!$C$14:$C$213,$B196,'Trust - Frontsheet'!I$14:I$213))","v":""},{"$f":"IF($B196=\"\",\"\",SUMIF('Trust - Frontsheet'!$C$14:$C$213,$B196,'Trust - Frontsheet'!J$14:J$213))","v":""},{"$f":"IF($B196=\"\",\"\",SUMIF('Trust - Frontsheet'!$C$14:$C$213,$B196,'Trust - Frontsheet'!K$14:K$213))","v":""},{"$f":"IF($B196=\"\",\"\",SUMIF('Trust - Frontsheet'!$C$14:$C$213,$B196,'Trust - Frontsheet'!L$14:L$213))","v":""},{"$f":"IF($B196=\"\",\"\",SUMIF('Trust - Frontsheet'!$C$14:$C$213,$B196,'Trust - Frontsheet'!M$14:M$213))","v":""},{"$f":"IF($B196=\"\",\"\",SUMIF('Trust - Frontsheet'!$C$14:$C$213,$B196,'Trust - Frontsheet'!N$14:N$213))","v":""},{"$f":"IF($B196=\"\",\"\",SUMIF('Trust - Frontsheet'!$C$14:$C$213,$B196,'Trust - Frontsheet'!O$14:O$213))","v":""},"","","","",{"$f":"IF($B196=\"\",\"\",SUMIF('Trust - Frontsheet'!$C$14:$C$213,$B196,'Trust - Frontsheet'!T$14:T$213))","v":""},"","",""]
[null,{"$f":"IF(ISERROR(INDEX('Trust - Frontsheet'!AV$1:AV$6187,SMALL(IF('Trust - Frontsheet'!$AX$1:$AX$6187=$B$2,ROW('Trust - Frontsheet'!$AX$1:$AX$6187)),ROW(191:191)))),\"\",INDEX('Trust - Frontsheet'!AV$1:AV$6187,SMALL(IF('Trust - Frontsheet'!$AX$1:$AX$6187=$B$2,ROW('Trust - Frontsheet'!$AX$1:$AX$6187)),ROW(191:191))))","v":""},{"$f":"IF(ISERROR(INDEX('Trust - Frontsheet'!AW$1:AW$6187,SMALL(IF('Trust - Frontsheet'!$AX$1:$AX$6187=$B$2,ROW('Trust - Frontsheet'!$AX$1:$AX$6187)),ROW(191:191)))),\"\",INDEX('Trust - Frontsheet'!AW$1:AW$6187,SMALL(IF('Trust - Frontsheet'!$AX$1:$AX$6187=$B$2,ROW('Trust - Frontsheet'!$AX$1:$AX$6187)),ROW(191:191))))","v":""},{"$f":"IF($B197=\"\",\"\",SUMIF('Trust - Frontsheet'!$C$14:$C$213,$B197,'Trust - Frontsheet'!H$14:H$213))","v":""},{"$f":"IF($B197=\"\",\"\",SUMIF('Trust - Frontsheet'!$C$14:$C$213,$B197,'Trust - Frontsheet'!I$14:I$213))","v":""},{"$f":"IF($B197=\"\",\"\",SUMIF('Trust - Frontsheet'!$C$14:$C$213,$B197,'Trust - Frontsheet'!J$14:J$213))","v":""},{"$f":"IF($B197=\"\",\"\",SUMIF('Trust - Frontsheet'!$C$14:$C$213,$B197,'Trust - Frontsheet'!K$14:K$213))","v":""},{"$f":"IF($B197=\"\",\"\",SUMIF('Trust - Frontsheet'!$C$14:$C$213,$B197,'Trust - Frontsheet'!L$14:L$213))","v":""},{"$f":"IF($B197=\"\",\"\",SUMIF('Trust - Frontsheet'!$C$14:$C$213,$B197,'Trust - Frontsheet'!M$14:M$213))","v":""},{"$f":"IF($B197=\"\",\"\",SUMIF('Trust - Frontsheet'!$C$14:$C$213,$B197,'Trust - Frontsheet'!N$14:N$213))","v":""},{"$f":"IF($B197=\"\",\"\",SUMIF('Trust - Frontsheet'!$C$14:$C$213,$B197,'Trust - Frontsheet'!O$14:O$213))","v":""},"","","","",{"$f":"IF($B197=\"\",\"\",SUMIF('Trust - Frontsheet'!$C$14:$C$213,$B197,'Trust - Frontsheet'!T$14:T$213))","v":""},"","",""]
[null,{"$f":"IF(ISERROR(INDEX('Trust - Frontsheet'!AV$1:AV$6187,SMALL(IF('Trust - Frontsheet'!$AX$1:$AX$6187=$B$2,ROW('Trust - Frontsheet'!$AX$1:$AX$6187)),ROW(192:192)))),\"\",INDEX('Trust - Frontsheet'!AV$1:AV$6187,SMALL(IF('Trust - Frontsheet'!$AX$1:$AX$6187=$B$2,ROW('Trust - Frontsheet'!$AX$1:$AX$6187)),ROW(192:192))))","v":""},{"$f":"IF(ISERROR(INDEX('Trust - Frontsheet'!AW$1:AW$6187,SMALL(IF('Trust - Frontsheet'!$AX$1:$AX$6187=$B$2,ROW('Trust - Frontsheet'!$AX$1:$AX$6187)),ROW(192:192)))),\"\",INDEX('Trust - Frontsheet'!AW$1:AW$6187,SMALL(IF('Trust - Frontsheet'!$AX$1:$AX$6187=$B$2,ROW('Trust - Frontsheet'!$AX$1:$AX$6187)),ROW(192:192))))","v":""},{"$f":"IF($B198=\"\",\"\",SUMIF('Trust - Frontsheet'!$C$14:$C$213,$B198,'Trust - Frontsheet'!H$14:H$213))","v":""},{"$f":"IF($B198=\"\",\"\",SUMIF('Trust - Frontsheet'!$C$14:$C$213,$B198,'Trust - Frontsheet'!I$14:I$213))","v":""},{"$f":"IF($B198=\"\",\"\",SUMIF('Trust - Frontsheet'!$C$14:$C$213,$B198,'Trust - Frontsheet'!J$14:J$213))","v":""},{"$f":"IF($B198=\"\",\"\",SUMIF('Trust - Frontsheet'!$C$14:$C$213,$B198,'Trust - Frontsheet'!K$14:K$213))","v":""},{"$f":"IF($B198=\"\",\"\",SUMIF('Trust - Frontsheet'!$C$14:$C$213,$B198,'Trust - Frontsheet'!L$14:L$213))","v":""},{"$f":"IF($B198=\"\",\"\",SUMIF('Trust - Frontsheet'!$C$14:$C$213,$B198,'Trust - Frontsheet'!M$14:M$213))","v":""},{"$f":"IF($B198=\"\",\"\",SUMIF('Trust - Frontsheet'!$C$14:$C$213,$B198,'Trust - Frontsheet'!N$14:N$213))","v":""},{"$f":"IF($B198=\"\",\"\",SUMIF('Trust - Frontsheet'!$C$14:$C$213,$B198,'Trust - Frontsheet'!O$14:O$213))","v":""},"","","","",{"$f":"IF($B198=\"\",\"\",SUMIF('Trust - Frontsheet'!$C$14:$C$213,$B198,'Trust - Frontsheet'!T$14:T$213))","v":""},"","",""]
[null,{"$f":"IF(ISERROR(INDEX('Trust - Frontsheet'!AV$1:AV$6187,SMALL(IF('Trust - Frontsheet'!$AX$1:$AX$6187=$B$2,ROW('Trust - Frontsheet'!$AX$1:$AX$6187)),ROW(193:193)))),\"\",INDEX('Trust - Frontsheet'!AV$1:AV$6187,SMALL(IF('Trust - Frontsheet'!$AX$1:$AX$6187=$B$2,ROW('Trust - Frontsheet'!$AX$1:$AX$6187)),ROW(193:193))))","v":""},{"$f":"IF(ISERROR(INDEX('Trust - Frontsheet'!AW$1:AW$6187,SMALL(IF('Trust - Frontsheet'!$AX$1:$AX$6187=$B$2,ROW('Trust - Frontsheet'!$AX$1:$AX$6187)),ROW(193:193)))),\"\",INDEX('Trust - Frontsheet'!AW$1:AW$6187,SMALL(IF('Trust - Frontsheet'!$AX$1:$AX$6187=$B$2,ROW('Trust - Frontsheet'!$AX$1:$AX$6187)),ROW(193:193))))","v":""},{"$f":"IF($B199=\"\",\"\",SUMIF('Trust - Frontsheet'!$C$14:$C$213,$B199,'Trust - Frontsheet'!H$14:H$213))","v":""},{"$f":"IF($B199=\"\",\"\",SUMIF('Trust - Frontsheet'!$C$14:$C$213,$B199,'Trust - Frontsheet'!I$14:I$213))","v":""},{"$f":"IF($B199=\"\",\"\",SUMIF('Trust - Frontsheet'!$C$14:$C$213,$B199,'Trust - Frontsheet'!J$14:J$213))","v":""},{"$f":"IF($B199=\"\",\"\",SUMIF('Trust - Frontsheet'!$C$14:$C$213,$B199,'Trust - Frontsheet'!K$14:K$213))","v":""},{"$f":"IF($B199=\"\",\"\",SUMIF('Trust - Frontsheet'!$C$14:$C$213,$B199,'Trust - Frontsheet'!L$14:L$213))","v":""},{"$f":"IF($B199=\"\",\"\",SUMIF('Trust - Frontsheet'!$C$14:$C$213,$B199,'Trust - Frontsheet'!M$14:M$213))","v":""},{"$f":"IF($B199=\"\",\"\",SUMIF('Trust - Frontsheet'!$C$14:$C$213,$B199,'Trust - Frontsheet'!N$14:N$213))","v":""},{"$f":"IF($B199=\"\",\"\",SUMIF('Trust - Frontsheet'!$C$14:$C$213,$B199,'Trust - Frontsheet'!O$14:O$213))","v":""},"","","","",{"$f":"IF($B199=\"\",\"\",SUMIF('Trust - Frontsheet'!$C$14:$C$213,$B199,'Trust - Frontsheet'!T$14:T$213))","v":""},"","",""]
[null,{"$f":"IF(ISERROR(INDEX('Trust - Frontsheet'!AV$1:AV$6187,SMALL(IF('Trust - Frontsheet'!$AX$1:$AX$6187=$B$2,ROW('Trust - Frontsheet'!$AX$1:$AX$6187)),ROW(194:194)))),\"\",INDEX('Trust - Frontsheet'!AV$1:AV$6187,SMALL(IF('Trust - Frontsheet'!$AX$1:$AX$6187=$B$2,ROW('Trust - Frontsheet'!$AX$1:$AX$6187)),ROW(194:194))))","v":""},{"$f":"IF(ISERROR(INDEX('Trust - Frontsheet'!AW$1:AW$6187,SMALL(IF('Trust - Frontsheet'!$AX$1:$AX$6187=$B$2,ROW('Trust - Frontsheet'!$AX$1:$AX$6187)),ROW(194:194)))),\"\",INDEX('Trust - Frontsheet'!AW$1:AW$6187,SMALL(IF('Trust - Frontsheet'!$AX$1:$AX$6187=$B$2,ROW('Trust - Frontsheet'!$AX$1:$AX$6187)),ROW(194:194))))","v":""},{"$f":"IF($B200=\"\",\"\",SUMIF('Trust - Frontsheet'!$C$14:$C$213,$B200,'Trust - Frontsheet'!H$14:H$213))","v":""},{"$f":"IF($B200=\"\",\"\",SUMIF('Trust - Frontsheet'!$C$14:$C$213,$B200,'Trust - Frontsheet'!I$14:I$213))","v":""},{"$f":"IF($B200=\"\",\"\",SUMIF('Trust - Frontsheet'!$C$14:$C$213,$B200,'Trust - Frontsheet'!J$14:J$213))","v":""},{"$f":"IF($B200=\"\",\"\",SUMIF('Trust - Frontsheet'!$C$14:$C$213,$B200,'Trust - Frontsheet'!K$14:K$213))","v":""},{"$f":"IF($B200=\"\",\"\",SUMIF('Trust - Frontsheet'!$C$14:$C$213,$B200,'Trust - Frontsheet'!L$14:L$213))","v":""},{"$f":"IF($B200=\"\",\"\",SUMIF('Trust - Frontsheet'!$C$14:$C$213,$B200,'Trust - Frontsheet'!M$14:M$213))","v":""},{"$f":"IF($B200=\"\",\"\",SUMIF('Trust - Frontsheet'!$C$14:$C$213,$B200,'Trust - Frontsheet'!N$14:N$213))","v":""},{"$f":"IF($B200=\"\",\"\",SUMIF('Trust - Frontsheet'!$C$14:$C$213,$B200,'Trust - Frontsheet'!O$14:O$213))","v":""},{"$f":"IF(D200=\"\",\"\",IF(D200=0,0,E200/D200))","v":""},{"$f":"IF(F200=\"\",\"\",IF(F200=0,0,G200/F200))","v":""},{"$f":"IF(H200=\"\",\"\",IF(H200=0,0,I200/H200))","v":""},{"$f":"IF(J200=\"\",\"\",IF(J200=0,0,K200/J200))","v":""},{"$f":"IF($B200=\"\",\"\",SUMIF('Trust - Frontsheet'!$C$14:$C$213,$B200,'Trust - Frontsheet'!T$14:T$213))","v":""},{"$f":"IF(ISERROR(IF($P200=\"\",\"\",SUM(E200,I200)/$P200)),\"-\",(IF($P200=\"\",\"\",SUM(E200,I200)/$P200)))","v":""},{"$f":"IF(ISERROR(IF($P200=\"\",\"\",SUM(G200,K200)/$P200)),\"-\",(IF($P200=\"\",\"\",SUM(G200,K200)/$P200)))","v":""},{"$f":"IF(ISERROR(IF($P200=\"\",\"\",SUM(E200,G200,I200,K200)/$P200)),\"-\",(IF($P200=\"\",\"\",SUM(E200,G200,I200,K200)/$P200)))","v":""}]

{"sheet":"Backsheet","index":6,"n_rows":2810,"n_cols":7,"rows_kept":2810,"cut":false,"hidden":false,"merged":[]}
["TemplateType"]
["NON_DCT"]
[]
["Collection_Reference","Org_Code","Com_Code","ComProv_Flag","Period_ID","Upload","Last_Row"]
["NStf_Fil",{"$f":"'Trust - Frontsheet'!A2:B2","v":"RWD"},null,"0",{"$f":"VLOOKUP(Control_Panel!PeriodSelection,Index!J2:K13, 2, 0)","v":10162},{"$f":"IF(Control_Panel!K31=0,\"Y\",\"N\")","v":"Y"},2810]
[]
["GLI_ID","GLI_Desc","Question_Type","Data"]
["TXT","TXT","TXT","TXT_To_enable_upload_of_more_than_255_characters_append_extra_characters_to_this_string_xxxxxxxxxxxxxxxxxxxxxxxxxxxxxxxxxxxxxxxxxxxxxxxxxxxxxxxxxxxxxxxxxxxxxxxxxxxxxxxxxxxxxxxxxxxxxxxxxxxxxxxxxxxxxxxxxxxxxxxxxxxxxxxxxxxxxxxxxxxxxxxxxxxxxxxxxxxxxxxxxxxxxxxxxxxxxxxxxxxxxxxxxxxxxxxxxxxxxxxxxxxxxxxxxxxxxxxxxxxxxxxxxxxxxxxxxxxxxxxxxxxxxxxxxxxxxxxxxxxxxxxxxxxxxxxxxxxxxxxxxxxxxxxxxxxxxxxxxxxxxxxxxxxxxxxxxxxxxxxxxxxxxxxxxxxxxxxxxxxxxxxxxxxxxxxxxxxxxxxxxxxxxxxxxxxxxxxxxxxxxxxxxxxxxxxxxxxxxxxxxxxxxxxxxxxxxxxxxxxxxxxxxxxxxxxxxxxxxxxxxxxxxxxxxxxxxxxxxxxxxxxxxxxxxxxxxxxxxxxxxxxxxxxxxxxxxxxxxxxxxxxxxxxxxxxxxxxxxxxxxxxxxxxxxxxxxxxxxxxxxxxxxxxxxxxxxxxxxxxxxxxxxxxxxxxxxxxxxxxxxxxxxxxxxxxxxxxxxxxxxxxxxxxxxxxxxxxxxxxxxxxxxxxxxxxxxxxxxxxxxxxxxxxxxxxxxxxxxxxxxxxxxxxxxxxxxxxxxxxxxxxxxxxxxxxxxxxxxxxxxxxxxxxxxxxxxxxxxxxxxxxxxxxxxxxxxxxxxxxxxxxxxxxxxxxxxxxxxxxxxxxxxxxxxxxxxxxxxxxxxxxxxxxxxxxxxxxxxxxxxxxxxxxxxxxxxxxxxxxxxxxxxxxxxxxxxxxxxxxxxxxxxxxxxxxxxxxxxxxxxxxxxxxxxxxxxxxxxxxxxxxxxxxxxxxxxxxxxxxxxxxxxxxxxxxxxxxxxxxxxxxxxxxxxxxxxxxxxxxxxxxxxxxxxxxxxxxxxxxxxxxxxxxxxxxxxxxxxxxxxxxxxxxxxxxxxxxxxxxxxxxxxxxxxxxxxxxxxxxxxxxxxxxxxxxxxxxxxxxxxxxxxxxxxxxxxxxxxxxxxxxxxxxxxxxxxxxxxxxxxxxxxxxxxxxxxxxxxxxxxxxxxxxxxxxxxxxxxxxxxxxxxxxxxxxxxxxxxxxxxxxxxxxxxxxxxxxxxxxxxxxxxxxxxxxxxxxxxxxxxxxxxxxxxxxxxxxxxxxxxxxxxxxxxxxxxxxxxxxxxxxxxxxxxxxxxxxxxxxxxxxxxxxxxxxxxxxxxxxxxxxxxxxxxxxxxxxxxxxxxxxxxxxxxxxxxxxxxxxxxxxxxxxxxxxxxxxxxxxxxxxxxxxxxxxxxxxxxxxxxxxxxxxxxxxxxxxxxxxxxxxxxxxxxxxxxxxxxxxxxxxxxxxxxxxxxxxxxxxxxxxxxxxxxxxxxxxxxxxxxxxxxxxxxxxxxxxxxxxxxxxxxxxxxxxxxxxxxxxxxxxxxxxxxxxxxxxxxxxxxxxxxxxxxxxxxxxxxxxxxxxxxxxxxxxxxxxxxxxxxxxxxxxxxxxxxxxxxxxxxxxxxxxxxxxxxxxxxxxxxxxxxxxxxxxxxxxxxxxxxxxxxxxxxxxxxxxxxxxxxxxxxxxxxxxxxxxxxxxxxxxxxxxxxxxxxxxxxxxxxxxxxxxxxxxxxxxxxxxxxxxxxxxxxxxxxxxxxxxxxxxxxxxxxxxxxxxxxxxxxxxxxxxxxxxxxxxxxxxxxxxxxxxxxxxxxxxxxxxxxxxxxxxxxxxxxxxxxxxxxxxxxxxxxxxxxxxxxxxxxxxxxxxxxxxxxxxxxxxxxxxxxxxxxxxxxxxxxxxxxxxxxxxxxxxxxxxxxxxxxxxxxxxxxxxxxxxxxxxxxxxxxxxxxxxxxxxxxxxxxxxxxxxxxxxxxxxxxxxxxxxxxxxxxxxxxxxxxxxxxxxxxxxxxxxxxxxxxxxxxxxxxxxxxxxxxxxxxxxxxxxxxxxxxxxxxxxxxxxxxxxxxxxxxxxxxxxxxxxxxxxxxxxxxxxxxxxxxxxxxxxxxxxxxxxxxxxxxxxxxxxxxxxxxxxxxxxxxxxxxxxxxxxxxxxxxxxxxxxxxxxxxxxxxxxxxxxxxxxxxxxxxxxxxxxxxxxxxxxxxxxxxxxxxxxxxxxxxxxxxxxxxxxxxxxxxxxxxxxxxxxxxxxxxxxxxxxxxxxxxxxxxxxxxxxxxxxxxxxxxxxxxxxxxxxxxxxxxxxxxxxxxxxxxxxxxxxxxxxxxxxxxxxxxxxxxxxxxxxxxxxxxxxxxxxxxxxxxxxxxxxxxxxxxxxxxxxxxxxxxxxxxxxxxxxxxxxxxxxxxxxxxxxxxxxxxxxxxxxxxxxxxxxxxxxxxxxxxxxxxxxxxxxxxxxxxxxxxxxxxxxxxxxxxxxxxxxxxxxxxxxxxxxxxxxxxxxxxxxxxxxxxxxxxxxxxxxxxxxxxxxxxxxxxxxxxxxxxxxxxxxxxxxxxxxxxxxxxxxxxxxxxxxxxxxxxxxxxxxxxxxxxxxxxxxxxxxxxxxxxxxxxxxxxxxxxxxxxxxxxxxxxxxxxxxxxxxxxxxxxxxxxxxxxxxxxxxxxxxxxxxxxxxxxxxxxxxxxxxxxxxxxxxxxxxxxxxxxxxxxxxxxxxxxxxxxxxxxxxxxxxxxxxxxxxxxxxxxxxxxxxxxxxxxxxxxxxxxxxxxxxxxxxxxxxxxxxxxxxxxxxxxxxxxxxxxxxxxxxxxxxxxxxxxxxxxxxxxxxxxxxxxxxxxxxxxxxxxxxxxxxxxxxxxxxxxxxxxxxxxxxxxxxxxxxxxxxxxxxxxxxxxxxxxxxxxxxxxxxxxxxxxxxxxxxxxxxxxxxxxxxxxxxxxxxxxxxxxxxxxxxxxxxxxxxxxxxxxxxxxxxxxxxxxxxxxxxxxxxxxxxxxxxxxxxxxxxxxxxxxxxxxxxxxxxxxxxxxxxxxxxxxxxxxxxxxxxxxxxxxxxxxxxxxxxxxxxxxxxxxxxxxxxxxxxxxxxxxxxxxxxxxxxxxxxxxxxxxxxxxxxxxxxxxxxxxxxxxxxxxxxxxxxxxxxxxxxxxxxxxxxxxxxxxxxxxxxxxxxxxxxxxxxxxxxxxxxxxxxxxxxxxxxxxxxxxxxxxxxxxxxxxxxxxxxxxxxxxxxxxxxxxxxxxxxxxxxxxxxxxxxxxxxxxxxxxxxxxxxxxxxxxxxxxxxxxxxxxxxxxxxxxxxxxxxxxxxxxxxxxxxxxxxxxxxxxxxxxxxxxxxxxxxxxxxxxxxxxxxxxxxxxxxxxxxxxxxxxxxxxxxxxxxxxxxxxxxxxxxxxxxxxxxxxxxxxxxxxxxxxxxxxxxxxxxxxxxxxxxxxxxxxxxxxxxxxxxxxxxxxxxxxxxxxxxxxxxxxxxxxxxxxxxxxxxxxxxxxxxxxxxxxxxxxxxxxxxxxxxxxxxxxxxxxxxxxxxxxxxxxxxxxxxxxxxxxxxxxxxxxxxxxxxxxxxxxxxxxxxxxxxxxxxxxxxxxxxxxxxxxxxxxxxxxxxxxxxxxxxxxxxxxxxxxxxxxxxxxxxxxxxxxxxxxxxxxxxxxxxxxxxxxxxxxxxxxxxxxxxxxxxxxxxxxxxxxxxxxxxxxxxxxxxxxxxxxxxxxxxxxxxxxxxxxxxxxxxxxxxxxxxxxxxxxxxxxxxxxxxxxxxxxxxxxxxxxxxxxxxxxxxxxxxxxxxxxxxxxxxxxxxxxxxxxxxxxxxxxxxxxxxxxxxxxxxxxxxxxxxxxxxxxxxxxxxxxxxxxxxxxxxxxxxxxxxxxxxxxxxxxxxxxxxxxxxxxxxxxxxxxxxxxxxxxxxxxxxxxxxxxxxxxxxxxxxxxxxxxxxxxxxxxxxxxxxxxxxxxxxxxxxxxxxxxxxxxxxxxxxxxxxxxxxxxxxxxxxxxxxxxxxxxxxxxxxxxxxxxxxxxxxxxxxxxxxxxxxxxxxxxxxxxxxxxxxxxxxxxxxxxxxxxxxxxxxxxxxxxxxxxxxxxxxxxxxxxxxxxxxxxxxxxxxxxxxxxxxxxxxxxxxxxxxxxxxxxxxxxxxxxxxxxxxxxxxxxxxxxxxxxxxxxxxxxxxxxxxxxxxxxxxxxxxxxxxxxxxxxxxxxxxxxxxxxxxxxxxxxxxxxxxxxxxxxxxxxxxxxxxxxxxxxxxxxxxxxxxxxxxxxxxxxxxxxxxxxxxxxxxxxxxxxxxxxxxxxxxxxxxxxxxxxxxxxxxxxxxxxxxxxxxxxxxxxxxxxxxxxxxxxxxxxxxxxxxxxxxxxxxxxxxxxxxxxxxxxxxxxxxxxxxxxxxxxxxxxxxxxxxxxxxxxxxxxxxxxxxxxxxxxxxxxxxxxxxxxxxxxxxxxxxxxxxxxxxxxxxxxxxxxxxxxxxxxxxxxxxxxxxxxxxxxxxxxxxxxxxxxxxxxxxxxxxxxxxxxxxxxxxxxxxxxxxxxxxxxxxxxxxxxxxxxxxxxxxxxxxxxxxxxxxxxxxxxxxxxxxxxxxxxxxxxxxxxxxxxxxxxxxxxxxxxxxxxxxxxxxxxxxxxxxxxxxxxxxxxxxxxxxxxxxxxxxxxxxxxxxxxxxxxxxxxxxxxxxxxxxxxxxxxxxxxxxxxxxxxxxxxxxxxx"]
["103706289","Staff_url:Staffing_url","TextBox",{"$f":"'Trust - Frontsheet'!E7","v":"http://www.ulh.nhs.uk/for_patients/staffing"}]
["113535886","Staff_url:Staff_comments","TextBox",{"$f":"'Trust - Frontsheet'!E9","v":0}]
["103703687","Staff_cols:Site_code, Staff_row:Staff_row1","TextBox",{"$f":"IF(ISERROR(INDEX('Trust - Frontsheet'!$C$14:$T$213,Index!B3,Index!A3)),0,INDEX('Trust - Frontsheet'!$C$14:$T$213,Index!B3,Index!A3))","v":"RWDLP"}]
["103703798","Staff_cols:Site_code, Staff_row:Staff_row2","TextBox",{"$f":"IF(ISERROR(INDEX('Trust - Frontsheet'!$C$14:$T$213,Index!B4,Index!A4)),0,INDEX('Trust - Frontsheet'!$C$14:$T$213,Index!B4,Index!A4))","v":"RWDLP"}]
["103703810","Staff_cols:Site_code, Staff_row:Staff_row3","TextBox",{"$f":"IF(ISERROR(INDEX('Trust - Frontsheet'!$C$14:$T$213,Index!B5,Index!A5)),0,INDEX('Trust - Frontsheet'!$C$14:$T$213,Index!B5,Index!A5))","v":"RWDLP"}]
["103703821","Staff_cols:Site_code, Staff_row:Staff_row4","TextBox",{"$f":"IF(ISERROR(INDEX('Trust - Frontsheet'!$C$14:$T$213,Index!B6,Index!A6)),0,INDEX('Trust - Frontsheet'!$C$14:$T$213,Index!B6,Index!A6))","v":"RWDLP"}]
["103703832","Staff_cols:Site_code, Staff_row:Staff_row5","TextBox",{"$f":"IF(ISERROR(INDEX('Trust - Frontsheet'!$C$14:$T$213,Index!B7,Index!A7)),0,INDEX('Trust - Frontsheet'!$C$14:$T$213,Index!B7,Index!A7))","v":"RWDLP"}]
["103703843","Staff_cols:Site_code, Staff_row:Staff_row6","TextBox",{"$f":"IF(ISERROR(INDEX('Trust - Frontsheet'!$C$14:$T$213,Index!B8,Index!A8)),0,INDEX('Trust - Frontsheet'!$C$14:$T$213,Index!B8,Index!A8))","v":"RWDDA"}]
["103703854","Staff_cols:Site_code, Staff_row:Staff_row7","TextBox",{"$f":"IF(ISERROR(INDEX('Trust - Frontsheet'!$C$14:$T$213,Index!B9,Index!A9)),0,INDEX('Trust - Frontsheet'!$C$14:$T$213,Index!B9,Index!A9))","v":"RWDDA"}]
["103703865","Staff_cols:Site_code, Staff_row:Staff_row8","TextBox",{"$f":"IF(ISERROR(INDEX('Trust - Frontsheet'!$C$14:$T$213,Index!B10,Index!A10)),0,INDEX('Trust - Frontsheet'!$C$14:$T$213,Index!B10,Index!A10))","v":"RWDDA"}]
["103703876","Staff_cols:Site_code, Staff_row:Staff_row9","TextBox",{"$f":"IF(ISERROR(INDEX('Trust - Frontsheet'!$C$14:$T$213,Index!B11,Index!A11)),0,INDEX('Trust - Frontsheet'!$C$14:$T$213,Index!B11,Index!A11))","v":"RWDDA"}]
["103703688","Staff_cols:Site_code, Staff_row:Staff_row10","TextBox",{"$f":"IF(ISERROR(INDEX('Trust - Frontsheet'!$C$14:$T$213,Index!B12,Index!A12)),0,INDEX('Trust - Frontsheet'!$C$14:$T$213,Index!B12,Index!A12))","v":"RWDDA"}]
["103703699","Staff_cols:Site_code, Staff_row:Staff_row11","TextBox",{"$f":"IF(ISERROR(INDEX('Trust - Frontsheet'!$C$14:$T$213,Index!B13,Index!A13)),0,INDEX('Trust - Frontsheet'!$C$14:$T$213,Index!B13,Index!A13))","v":"RWDDA"}]
["103703710","Staff_cols:Site_code, Staff_row:Staff_row12","TextBox",{"$f":"IF(ISERROR(INDEX('Trust - Frontsheet'!$C$14:$T$213,Index!B14,Index!A14)),0,INDEX('Trust - Frontsheet'!$C$14:$T$213,Index!B14,Index!A14))","v":"RWDDA"}]
["103703721","Staff_cols:Site_code, Staff_row:Staff_row13","TextBox",{"$f":"IF(ISERROR(INDEX('Trust - Frontsheet'!$C$14:$T$213,Index!B15,Index!A15)),0,INDEX('Trust - Frontsheet'!$C$14:$T$213,Index!B15,Index!A15))","v":"RWDDA"}]
["103703732","Staff_cols:Site_code, Staff_row:Staff_row14","TextBox",{"$f":"IF(ISERROR(INDEX('Trust - Frontsheet'!$C$14:$T$213,Index!B16,Index!A16)),0,INDEX('Trust - Frontsheet'!$C$14:$T$213,Index!B16,Index!A16))","v":"RWDDA"}]
["103703743","Staff_cols:Site_code, Staff_row:Staff_row15","TextBox",{"$f":"IF(ISERROR(INDEX('Trust - Frontsheet'!$C$14:$T$213,Index!B17,Index!A17)),0,INDEX('Trust - Frontsheet'!$C$14:$T$213,Index!B17,Index!A17))","v":"RWDDA"}]
["103703754","Staff_cols:Site_code, Staff_row:Staff_row16","TextBox",{"$f":"IF(ISERROR(INDEX('Trust - Frontsheet'!$C$14:$T$213,Index!B18,Index!A18)),0,INDEX('Trust - Frontsheet'!$C$14:$T$213,Index!B18,Index!A18))","v":"RWDDA"}]
["103703765","Staff_cols:Site_code, Staff_row:Staff_row17","TextBox",{"$f":"IF(ISERROR(INDEX('Trust - Frontsheet'!$C$14:$T$213,Index!B19,Index!A19)),0,INDEX('Trust - Frontsheet'!$C$14:$T$213,Index!B19,Index!A19))","v":"RWDDA"}]
["103703776","Staff_cols:Site_code, Staff_row:Staff_row18","TextBox",{"$f":"IF(ISERROR(INDEX('Trust - Frontsheet'!$C$14:$T$213,Index!B20,Index!A20)),0,INDEX('Trust - Frontsheet'!$C$14:$T$213,Index!B20,Index!A20))","v":"RWDDA"}]
["103703787","Staff_cols:Site_code, Staff_row:Staff_row19","TextBox",{"$f":"IF(ISERROR(INDEX('Trust - Frontsheet'!$C$14:$T$213,Index!B21,Index!A21)),0,INDEX('Trust - Frontsheet'!$C$14:$T$213,Index!B21,Index!A21))","v":"RWDDA"}]
["103703799","Staff_cols:Site_code, Staff_row:Staff_row20","TextBox",{"$f":"IF(ISERROR(INDEX('Trust - Frontsheet'!$C$14:$T$213,Index!B22,Index!A22)),0,INDEX('Trust - Frontsheet'!$C$14:$T$213,Index!B22,Index!A22))","v":"RWDDA"}]
["103703801","Staff_cols:Site_code, Staff_row:Staff_row21","TextBox",{"$f":"IF(ISERROR(INDEX('Trust - Frontsheet'!$C$14:$T$213,Index!B23,Index!A23)),0,INDEX('Trust - Frontsheet'!$C$14:$T$213,Index!B23,Index!A23))","v":"RWDDA"}]
["103703802","Staff_cols:Site_code, Staff_row:Staff_row22","TextBox",{"$f":"IF(ISERROR(INDEX('Trust - Frontsheet'!$C$14:$T$213,Index!B24,Index!A24)),0,INDEX('Trust - Frontsheet'!$C$14:$T$213,Index!B24,Index!A24))","v":"RWDDA"}]
["103703803","Staff_cols:Site_code, Staff_row:Staff_row23","TextBox",{"$f":"IF(ISERROR(INDEX('Trust - Frontsheet'!$C$14:$T$213,Index!B25,Index!A25)),0,INDEX('Trust - Frontsheet'!$C$14:$T$213,Index!B25,Index!A25))","v":"RWDDA"}]
["103703804","Staff_cols:Site_code, Staff_row:Staff_row24","TextBox",{"$f":"IF(ISERROR(INDEX('Trust - Frontsheet'!$C$14:$T$213,Index!B26,Index!A26)),0,INDEX('Trust - Frontsheet'!$C$14:$T$213,Index!B26,Index!A26))","v":"RWDDA"}]
["103703805","Staff_cols:Site_code, Staff_row:Staff_row25","TextBox",{"$f":"IF(ISERROR(INDEX('Trust - Frontsheet'!$C$14:$T$213,Index!B27,Index!A27)),0,INDEX('Trust - Frontsheet'!$C$14:$T$213,Index!B27,Index!A27))","v":"RWDDA"}]
["103703806","Staff_cols:Site_code, Staff_row:Staff_row26","TextBox",{"$f":"IF(ISERROR(INDEX('Trust - Frontsheet'!$C$14:$T$213,Index!B28,Index!A28)),0,INDEX('Trust - Frontsheet'!$C$14:$T$213,Index!B28,Index!A28))","v":"RWDDA"}]
["103703807","Staff_cols:Site_code, Staff_row:Staff_row27","TextBox",{"$f":"IF(ISERROR(INDEX('Trust - Frontsheet'!$C$14:$T$213,Index!B29,Index!A29)),0,INDEX('Trust - Frontsheet'!$C$14:$T$213,Index!B29,Index!A29))","v":"RWDDA"}]
["103703808","Staff_cols:Site_code, Staff_row:Staff_row28","TextBox",{"$f":"IF(ISERROR(INDEX('Trust - Frontsheet'!$C$14:$T$213,Index!B30,Index!A30)),0,INDEX('Trust - Frontsheet'!$C$14:$T$213,Index!B30,Index!A30))","v":"RWDDA"}]
["103703809","Staff_cols:Site_code, Staff_row:Staff_row29","TextBox",{"$f":"IF(ISERROR(INDEX('Trust - Frontsheet'!$C$14:$T$213,Index!B31,Index!A31)),0,INDEX('Trust - Frontsheet'!$C$14:$T$213,Index!B31,Index!A31))","v":"RWDDA"}]
["103703811","Staff_cols:Site_code, Staff_row:Staff_row30","TextBox",{"$f":"IF(ISERROR(INDEX('Trust - Frontsheet'!$C$14:$T$213,Index!B32,Index!A32)),0,INDEX('Trust - Frontsheet'!$C$14:$T$213,Index!B32,Index!A32))","v":"RWDLA"}]
["103703812","Staff_cols:Site_code, Staff_row:Staff_row31","TextBox",{"$f":"IF(ISERROR(INDEX('Trust - Frontsheet'!$C$14:$T$213,Index!B33,Index!A33)),0,INDEX('Trust - Frontsheet'!$C$14:$T$213,Index!B33,Index!A33))","v":"RWDLA"}]
["103703813","Staff_cols:Site_code, Staff_row:Staff_row32","TextBox",{"$f":"IF(ISERROR(INDEX('Trust - Frontsheet'!$C$14:$T$213,Index!B34,Index!A34)),0,INDEX('Trust - Frontsheet'!$C$14:$T$213,Index!B34,Index!A34))","v":"RWDLA"}]
["103703814","Staff_cols:Site_code, Staff_row:Staff_row33","TextBox",{"$f":"IF(ISERROR(INDEX('Trust - Frontsheet'!$C$14:$T$213,Index!B35,Index!A35)),0,INDEX('Trust - Frontsheet'!$C$14:$T$213,Index!B35,Index!A35))","v":"RWDLA"}]
["103703815","Staff_cols:Site_code, Staff_row:Staff_row34","TextBox",{"$f":"IF(ISERROR(INDEX('Trust - Frontsheet'!$C$14:$T$213,Index!B36,Index!A36)),0,INDEX('Trust - Frontsheet'!$C$14:$T$213,Index!B36,Index!A36))","v":"RWDLA"}]
["103703816","Staff_cols:Site_code, Staff_row:Staff_row35","TextBox",{"$f":"IF(ISERROR(INDEX('Trust - Frontsheet'!$C$14:$T$213,Index!B37,Index!A37)),0,INDEX('Trust - Frontsheet'!$C$14:$T$213,Index!B37,Index!A37))","v":"RWDLA"}]
["103703817","Staff_cols:Site_code, Staff_row:Staff_row36","TextBox",{"$f":"IF(ISERROR(INDEX('Trust - Frontsheet'!$C$14:$T$213,Index!B38,Index!A38)),0,INDEX('Trust - Frontsheet'!$C$14:$T$213,Index!B38,Index!A38))","v":"RWDLA"}]
["103703818","Staff_cols:Site_code, Staff_row:Staff_row37","TextBox",{"$f":"IF(ISERROR(INDEX('Trust - Frontsheet'!$C$14:$T$213,Index!B39,Index!A39)),0,INDEX('Trust - Frontsheet'!$C$14:$T$213,Index!B39,Index!A39))","v":"RWDLA"}]
["103703819","Staff_cols:Site_code, Staff_row:Staff_row38","TextBox",{"$f":"IF(ISERROR(INDEX('Trust - Frontsheet'!$C$14:$T$213,Index!B40,Index!A40)),0,INDEX('Trust - Frontsheet'!$C$14:$T$213,Index!B40,Index!A40))","v":"RWDLA"}]
["103703820","Staff_cols:Site_code, Staff_row:Staff_row39","TextBox",{"$f":"IF(ISERROR(INDEX('Trust - Frontsheet'!$C$14:$T$213,Index!B41,Index!A41)),0,INDEX('Trust - Frontsheet'!$C$14:$T$213,Index!B41,Index!A41))","v":"RWDLA"}]
["103703822","Staff_cols:Site_code, Staff_row:Staff_row40","TextBox",{"$f":"IF(ISERROR(INDEX('Trust - Frontsheet'!$C$14:$T$213,Index!B42,Index!A42)),0,INDEX('Trust - Frontsheet'!$C$14:$T$213,Index!B42,Index!A42))","v":"RWDLA"}]
["103703823","Staff_cols:Site_code, Staff_row:Staff_row41","TextBox",{"$f":"IF(ISERROR(INDEX('Trust - Frontsheet'!$C$14:$T$213,Index!B43,Index!A43)),0,INDEX('Trust - Frontsheet'!$C$14:$T$213,Index!B43,Index!A43))","v":"RWDLA"}]
["103703824","Staff_cols:Site_code, Staff_row:Staff_row42","TextBox",{"$f":"IF(ISERROR(INDEX('Trust - Frontsheet'!$C$14:$T$213,Index!B44,Index!A44)),0,INDEX('Trust - Frontsheet'!$C$14:$T$213,Index!B44,Index!A44))","v":"RWDLA"}]
["103703825","Staff_cols:Site_code, Staff_row:Staff_row43","TextBox",{"$f":"IF(ISERROR(INDEX('Trust - Frontsheet'!$C$14:$T$213,Index!B45,Index!A45)),0,INDEX('Trust - Frontsheet'!$C$14:$T$213,Index!B45,Index!A45))","v":"RWDLA"}]
["103703826","Staff_cols:Site_code, Staff_row:Staff_row44","TextBox",{"$f":"IF(ISERROR(INDEX('Trust - Frontsheet'!$C$14:$T$213,Index!B46,Index!A46)),0,INDEX('Trust - Frontsheet'!$C$14:$T$213,Index!B46,Index!A46))","v":"RWDLA"}]
["103703827","Staff_cols:Site_code, Staff_row:Staff_row45","TextBox",{"$f":"IF(ISERROR(INDEX('Trust - Frontsheet'!$C$14:$T$213,Index!B47,Index!A47)),0,INDEX('Trust - Frontsheet'!$C$14:$T$213,Index!B47,Index!A47))","v":"RWDLA"}]
["103703828","Staff_cols:Site_code, Staff_row:Staff_row46","TextBox",{"$f":"IF(ISERROR(INDEX('Trust - Frontsheet'!$C$14:$T$213,Index!B48,Index!A48)),0,INDEX('Trust - Frontsheet'!$C$14:$T$213,Index!B48,Index!A48))","v":"RWDLA"}]
["103703829","Staff_cols:Site_code, Staff_row:Staff_row47","TextBox",{"$f":"IF(ISERROR(INDEX('Trust - Frontsheet'!$C$14:$T$213,Index!B49,Index!A49)),0,INDEX('Trust - Frontsheet'!$C$14:$T$213,Index!B49,Index!A49))","v":"RWDLA"}]
["103703830","Staff_cols:Site_code, Staff_row:Staff_row48","TextBox",{"$f":"IF(ISERROR(INDEX('Trust - Frontsheet'!$C$14:$T$213,Index!B50,Index!A50)),0,INDEX('Trust - Frontsheet'!$C$14:$T$213,Index!B50,Index!A50))","v":""}]
["103703831","Staff_cols:Site_code, Staff_row:Staff_row49","TextBox",{"$f":"IF(ISERROR(INDEX('Trust - Frontsheet'!$C$14:$T$213,Index!B51,Index!A51)),0,INDEX('Trust - Frontsheet'!$C$14:$T$213,Index!B51,Index!A51))","v":""}]
["103703833","Staff_cols:Site_code, Staff_row:Staff_row50","TextBox",{"$f":"IF(ISERROR(INDEX('Trust - Frontsheet'!$C$14:$T$213,Index!B52,Index!A52)),0,INDEX('Trust - Frontsheet'!$C$14:$T$213,Index!B52,Index!A52))","v":""}]
["103703834","Staff_cols:Site_code, Staff_row:Staff_row51","TextBox",{"$f":"IF(ISERROR(INDEX('Trust - Frontsheet'!$C$14:$T$213,Index!B53,Index!A53)),0,INDEX('Trust - Frontsheet'!$C$14:$T$213,Index!B53,Index!A53))","v":""}]
["103703835","Staff_cols:Site_code, Staff_row:Staff_row52","TextBox",{"$f":"IF(ISERROR(INDEX('Trust - Frontsheet'!$C$14:$T$213,Index!B54,Index!A54)),0,INDEX('Trust - Frontsheet'!$C$14:$T$213,Index!B54,Index!A54))","v":""}]
["103703836","Staff_cols:Site_code, Staff_row:Staff_row53","TextBox",{"$f":"IF(ISERROR(INDEX('Trust - Frontsheet'!$C$14:$T$213,Index!B55,Index!A55)),0,INDEX('Trust - Frontsheet'!$C$14:$T$213,Index!B55,Index!A55))","v":""}]
["103703837","Staff_cols:Site_code, Staff_row:Staff_row54","TextBox",{"$f":"IF(ISERROR(INDEX('Trust - Frontsheet'!$C$14:$T$213,Index!B56,Index!A56)),0,INDEX('Trust - Frontsheet'!$C$14:$T$213,Index!B56,Index!A56))","v":""}]
["103703838","Staff_cols:Site_code, Staff_row:Staff_row55","TextBox",{"$f":"IF(ISERROR(INDEX('Trust - Frontsheet'!$C$14:$T$213,Index!B57,Index!A57)),0,INDEX('Trust - Frontsheet'!$C$14:$T$213,Index!B57,Index!A57))","v":""}]
["103703839","Staff_cols:Site_code, Staff_row:Staff_row56","TextBox",{"$f":"IF(ISERROR(INDEX('Trust - Frontsheet'!$C$14:$T$213,Index!B58,Index!A58)),0,INDEX('Trust - Frontsheet'!$C$14:$T$213,Index!B58,Index!A58))","v":""}]
["103703840","Staff_cols:Site_code, Staff_row:Staff_row57","TextBox",{"$f":"IF(ISERROR(INDEX('Trust - Frontsheet'!$C$14:$T$213,Index!B59,Index!A59)),0,INDEX('Trust - Frontsheet'!$C$14:$T$213,Index!B59,Index!A59))","v":""}]
["103703841","Staff_cols:Site_code, Staff_row:Staff_row58","TextBox",{"$f":"IF(ISERROR(INDEX('Trust - Frontsheet'!$C$14:$T$213,Index!B60,Index!A60)),0,INDEX('Trust - Frontsheet'!$C$14:$T$213,Index!B60,Index!A60))","v":""}]
["103703842","Staff_cols:Site_code, Staff_row:Staff_row59","TextBox",{"$f":"IF(ISERROR(INDEX('Trust - Frontsheet'!$C$14:$T$213,Index!B61,Index!A61)),0,INDEX('Trust - Frontsheet'!$C$14:$T$213,Index!B61,Index!A61))","v":""}]
["103703844","Staff_cols:Site_code, Staff_row:Staff_row60","TextBox",{"$f":"IF(ISERROR(INDEX('Trust - Frontsheet'!$C$14:$T$213,Index!B62,Index!A62)),0,INDEX('Trust - Frontsheet'!$C$14:$T$213,Index!B62,Index!A62))","v":""}]
["103703845","Staff_cols:Site_code, Staff_row:Staff_row61","TextBox",{"$f":"IF(ISERROR(INDEX('Trust - Frontsheet'!$C$14:$T$213,Index!B63,Index!A63)),0,INDEX('Trust - Frontsheet'!$C$14:$T$213,Index!B63,Index!A63))","v":""}]
["103703846","Staff_cols:Site_code, Staff_row:Staff_row62","TextBox",{"$f":"IF(ISERROR(INDEX('Trust - Frontsheet'!$C$14:$T$213,Index!B64,Index!A64)),0,INDEX('Trust - Frontsheet'!$C$14:$T$213,Index!B64,Index!A64))","v":""}]
["103703847","Staff_cols:Site_code, Staff_row:Staff_row63","TextBox",{"$f":"IF(ISERROR(INDEX('Trust - Frontsheet'!$C$14:$T$213,Index!B65,Index!A65)),0,INDEX('Trust - Frontsheet'!$C$14:$T$213,Index!B65,Index!A65))","v":""}]
["103703848","Staff_cols:Site_code, Staff_row:Staff_row64","TextBox",{"$f":"IF(ISERROR(INDEX('Trust - Frontsheet'!$C$14:$T$213,Index!B66,Index!A66)),0,INDEX('Trust - Frontsheet'!$C$14:$T$213,Index!B66,Index!A66))","v":""}]
["103703849","Staff_cols:Site_code, Staff_row:Staff_row65","TextBox",{"$f":"IF(ISERROR(INDEX('Trust - Frontsheet'!$C$14:$T$213,Index!B67,Index!A67)),0,INDEX('Trust - Frontsheet'!$C$14:$T$213,Index!B67,Index!A67))","v":""}]
["103703850","Staff_cols:Site_code, Staff_row:Staff_row66","TextBox",{"$f":"IF(ISERROR(INDEX('Trust - Frontsheet'!$C$14:$T$213,Index!B68,Index!A68)),0,INDEX('Trust - Frontsheet'!$C$14:$T$213,Index!B68,Index!A68))","v":""}]
["103703851","Staff_cols:Site_code, Staff_row:Staff_row67","TextBox",{"$f":"IF(ISERROR(INDEX('Trust - Frontsheet'!$C$14:$T$213,Index!B69,Index!A69)),0,INDEX('Trust - Frontsheet'!$C$14:$T$213,Index!B69,Index!A69))","v":""}]
["103703852","Staff_cols:Site_code, Staff_row:Staff_row68","TextBox",{"$f":"IF(ISERROR(INDEX('Trust - Frontsheet'!$C$14:$T$213,Index!B70,Index!A70)),0,INDEX('Trust - Frontsheet'!$C$14:$T$213,Index!B70,Index!A70))","v":""}]
["103703853","Staff_cols:Site_code, Staff_row:Staff_row69","TextBox",{"$f":"IF(ISERROR(INDEX('Trust - Frontsheet'!$C$14:$T$213,Index!B71,Index!A71)),0,INDEX('Trust - Frontsheet'!$C$14:$T$213,Index!B71,Index!A71))","v":""}]
["103703855","Staff_cols:Site_code, Staff_row:Staff_row70","TextBox",{"$f":"IF(ISERROR(INDEX('Trust - Frontsheet'!$C$14:$T$213,Index!B72,Index!A72)),0,INDEX('Trust - Frontsheet'!$C$14:$T$213,Index!B72,Index!A72))","v":""}]
["103703856","Staff_cols:Site_code, Staff_row:Staff_row71","TextBox",{"$f":"IF(ISERROR(INDEX('Trust - Frontsheet'!$C$14:$T$213,Index!B73,Index!A73)),0,INDEX('Trust - Frontsheet'!$C$14:$T$213,Index!B73,Index!A73))","v":""}]
["103703857","Staff_cols:Site_code, Staff_row:Staff_row72","TextBox",{"$f":"IF(ISERROR(INDEX('Trust - Frontsheet'!$C$14:$T$213,Index!B74,Index!A74)),0,INDEX('Trust - Frontsheet'!$C$14:$T$213,Index!B74,Index!A74))","v":""}]
["103703858","Staff_cols:Site_code, Staff_row:Staff_row73","TextBox",{"$f":"IF(ISERROR(INDEX('Trust - Frontsheet'!$C$14:$T$213,Index!B75,Index!A75)),0,INDEX('Trust - Frontsheet'!$C$14:$T$213,Index!B75,Index!A75))","v":""}]
["103703859","Staff_cols:Site_code, Staff_row:Staff_row74","TextBox",{"$f":"IF(ISERROR(INDEX('Trust - Frontsheet'!$C$14:$T$213,Index!B76,Index!A76)),0,INDEX('Trust - Frontsheet'!$C$14:$T$213,Index!B76,Index!A76))","v":""}]
["103703860","Staff_cols:Site_code, Staff_row:Staff_row75","TextBox",{"$f":"IF(ISERROR(INDEX('Trust - Frontsheet'!$C$14:$T$213,Index!B77,Index!A77)),0,INDEX('Trust - Frontsheet'!$C$14:$T$213,Index!B77,Index!A77))","v":""}]
["103703861","Staff_cols:Site_code, Staff_row:Staff_row76","TextBox",{"$f":"IF(ISERROR(INDEX('Trust - Frontsheet'!$C$14:$T$213,Index!B78,Index!A78)),0,INDEX('Trust - Frontsheet'!$C$14:$T$213,Index!B78,Index!A78))","v":""}]
["103703862","Staff_cols:Site_code, Staff_row:Staff_row77","TextBox",{"$f":"IF(ISERROR(INDEX('Trust - Frontsheet'!$C$14:$T$213,Index!B79,Index!A79)),0,INDEX('Trust - Frontsheet'!$C$14:$T$213,Index!B79,Index!A79))","v":""}]
["103703863","Staff_cols:Site_code, Staff_row:Staff_row78","TextBox",{"$f":"IF(ISERROR(INDEX('Trust - Frontsheet'!$C$14:$T$213,Index!B80,Index!A80)),0,INDEX('Trust - Frontsheet'!$C$14:$T$213,Index!B80,Index!A80))","v":""}]
["103703864","Staff_cols:Site_code, Staff_row:Staff_row79","TextBox",{"$f":"IF(ISERROR(INDEX('Trust - Frontsheet'!$C$14:$T$213,Index!B81,Index!A81)),0,INDEX('Trust - Frontsheet'!$C$14:$T$213,Index!B81,Index!A81))","v":""}]
["103703866","Staff_cols:Site_code, Staff_row:Staff_row80","TextBox",{"$f":"IF(ISERROR(INDEX('Trust - Frontsheet'!$C$14:$T$213,Index!B82,Index!A82)),0,INDEX('Trust - Frontsheet'!$C$14:$T$213,Index!B82,Index!A82))","v":""}]
["103703867","Staff_cols:Site_code, Staff_row:Staff_row81","TextBox",{"$f":"IF(ISERROR(INDEX('Trust - Frontsheet'!$C$14:$T$213,Index!B83,Index!A83)),0,INDEX('Trust - Frontsheet'!$C$14:$T$213,Index!B83,Index!A83))","v":""}]
["103703868","Staff_cols:Site_code, Staff_row:Staff_row82","TextBox",{"$f":"IF(ISERROR(INDEX('Trust - Frontsheet'!$C$14:$T$213,Index!B84,Index!A84)),0,INDEX('Trust - Frontsheet'!$C$14:$T$213,Index!B84,Index!A84))","v":""}]
["103703869","Staff_cols:Site_code, Staff_row:Staff_row83","TextBox",{"$f":"IF(ISERROR(INDEX('Trust - Frontsheet'!$C$14:$T$213,Index!B85,Index!A85)),0,INDEX('Trust - Frontsheet'!$C$14:$T$213,Index!B85,Index!A85))","v":""}]
["103703870","Staff_cols:Site_code, Staff_row:Staff_row84","TextBox",{"$f":"IF(ISERROR(INDEX('Trust - Frontsheet'!$C$14:$T$213,Index!B86,Index!A86)),0,INDEX('Trust - Frontsheet'!$C$14:$T$213,Index!B86,Index!A86))","v":""}]
["103703871","Staff_cols:Site_code, Staff_row:Staff_row85","TextBox",{"$f":"IF(ISERROR(INDEX('Trust - Frontsheet'!$C$14:$T$213,Index!B87,Index!A87)),0,INDEX('Trust - Frontsheet'!$C$14:$T$213,Index!B87,Index!A87))","v":""}]
["103703872","Staff_cols:Site_code, Staff_row:Staff_row86","TextBox",{"$f":"IF(ISERROR(INDEX('Trust - Frontsheet'!$C$14:$T$213,Index!B88,Index!A88)),0,INDEX('Trust - Frontsheet'!$C$14:$T$213,Index!B88,Index!A88))","v":""}]
["103703873","Staff_cols:Site_code, Staff_row:Staff_row87","TextBox",{"$f":"IF(ISERROR(INDEX('Trust - Frontsheet'!$C$14:$T$213,Index!B89,Index!A89)),0,INDEX('Trust - Frontsheet'!$C$14:$T$213,Index!B89,Index!A89))","v":""}]
["103703874","Staff_cols:Site_code, Staff_row:Staff_row88","TextBox",{"$f":"IF(ISERROR(INDEX('Trust - Frontsheet'!$C$14:$T$213,Index!B90,Index!A90)),0,INDEX('Trust - Frontsheet'!$C$14:$T$213,Index!B90,Index!A90))","v":""}]
["103703875","Staff_cols:Site_code, Staff_row:Staff_row89","TextBox",{"$f":"IF(ISERROR(INDEX('Trust - Frontsheet'!$C$14:$T$213,Index!B91,Index!A91)),0,INDEX('Trust - Frontsheet'!$C$14:$T$213,Index!B91,Index!A91))","v":""}]
["103703877","Staff_cols:Site_code, Staff_row:Staff_row90","TextBox",{"$f":"IF(ISERROR(INDEX('Trust - Frontsheet'!$C$14:$T$213,Index!B92,Index!A92)),0,INDEX('Trust - Frontsheet'!$C$14:$T$213,Index!B92,Index!A92))","v":""}]
["103703878","Staff_cols:Site_code, Staff_row:Staff_row91","TextBox",{"$f":"IF(ISERROR(INDEX('Trust - Frontsheet'!$C$14:$T$213,Index!B93,Index!A93)),0,INDEX('Trust - Frontsheet'!$C$14:$T$213,Index!B93,Index!A93))","v":""}]
["103703879","Staff_cols:Site_code, Staff_row:Staff_row92","TextBox",{"$f":"IF(ISERROR(INDEX('Trust - Frontsheet'!$C$14:$T$213,Index!B94,Index!A94)),0,INDEX('Trust - Frontsheet'!$C$14:$T$213,Index!B94,Index!A94))","v":""}]
["103703880","Staff_cols:Site_code, Staff_row:Staff_row93","TextBox",{"$f":"IF(ISERROR(INDEX('Trust - Frontsheet'!$C$14:$T$213,Index!B95,Index!A95)),0,INDEX('Trust - Frontsheet'!$C$14:$T$213,Index!B95,Index!A95))","v":""}]
["103703881","Staff_cols:Site_code, Staff_row:Staff_row94","TextBox",{"$f":"IF(ISERROR(INDEX('Trust - Frontsheet'!$C$14:$T$213,Index!B96,Index!A96)),0,INDEX('Trust - Frontsheet'!$C$14:$T$213,Index!B96,Index!A96))","v":""}]
["103703882","Staff_cols:Site_code, Staff_row:Staff_row95","TextBox",{"$f":"IF(ISERROR(INDEX('Trust - Frontsheet'!$C$14:$T$213,Index!B97,Index!A97)),0,INDEX('Trust - Frontsheet'!$C$14:$T$213,Index!B97,Index!A97))","v":""}]
["103703883","Staff_cols:Site_code, Staff_row:Staff_row96","TextBox",{"$f":"IF(ISERROR(INDEX('Trust - Frontsheet'!$C$14:$T$213,Index!B98,Index!A98)),0,INDEX('Trust - Frontsheet'!$C$14:$T$213,Index!B98,Index!A98))","v":""}]
["103703884","Staff_cols:Site_code, Staff_row:Staff_row97","TextBox",{"$f":"IF(ISERROR(INDEX('Trust - Frontsheet'!$C$14:$T$213,Index!B99,Index!A99)),0,INDEX('Trust - Frontsheet'!$C$14:$T$213,Index!B99,Index!A99))","v":""}]
["103703885","Staff_cols:Site_code, Staff_row:Staff_row98","TextBox",{"$f":"IF(ISERROR(INDEX('Trust - Frontsheet'!$C$14:$T$213,Index!B100,Index!A100)),0,INDEX('Trust - Frontsheet'!$C$14:$T$213,Index!B100,Index!A100))","v":""}]
["103703886","Staff_cols:Site_code, Staff_row:Staff_row99","TextBox",{"$f":"IF(ISERROR(INDEX('Trust - Frontsheet'!$C$14:$T$213,Index!B101,Index!A101)),0,INDEX('Trust - Frontsheet'!$C$14:$T$213,Index!B101,Index!A101))","v":""}]
["103703689","Staff_cols:Site_code, Staff_row:Staff_row100","TextBox",{"$f":"IF(ISERROR(INDEX('Trust - Frontsheet'!$C$14:$T$213,Index!B102,Index!A102)),0,INDEX('Trust - Frontsheet'!$C$14:$T$213,Index!B102,Index!A102))","v":""}]
["103703690","Staff_cols:Site_code, Staff_row:Staff_row101","TextBox",{"$f":"IF(ISERROR(INDEX('Trust - Frontsheet'!$C$14:$T$213,Index!B103,Index!A103)),0,INDEX('Trust - Frontsheet'!$C$14:$T$213,Index!B103,Index!A103))","v":""}]
["103703691","Staff_cols:Site_code, Staff_row:Staff_row102","TextBox",{"$f":"IF(ISERROR(INDEX('Trust - Frontsheet'!$C$14:$T$213,Index!B104,Index!A104)),0,INDEX('Trust - Frontsheet'!$C$14:$T$213,Index!B104,Index!A104))","v":""}]
["103703692","Staff_cols:Site_code, Staff_row:Staff_row103","TextBox",{"$f":"IF(ISERROR(INDEX('Trust - Frontsheet'!$C$14:$T$213,Index!B105,Index!A105)),0,INDEX('Trust - Frontsheet'!$C$14:$T$213,Index!B105,Index!A105))","v":""}]
["103703693","Staff_cols:Site_code, Staff_row:Staff_row104","TextBox",{"$f":"IF(ISERROR(INDEX('Trust - Frontsheet'!$C$14:$T$213,Index!B106,Index!A106)),0,INDEX('Trust - Frontsheet'!$C$14:$T$213,Index!B106,Index!A106))","v":""}]
["103703694","Staff_cols:Site_code, Staff_row:Staff_row105","TextBox",{"$f":"IF(ISERROR(INDEX('Trust - Frontsheet'!$C$14:$T$213,Index!B107,Index!A107)),0,INDEX('Trust - Frontsheet'!$C$14:$T$213,Index!B107,Index!A107))","v":""}]
["103703695","Staff_cols:Site_code, Staff_row:Staff_row106","TextBox",{"$f":"IF(ISERROR(INDEX('Trust - Frontsheet'!$C$14:$T$213,Index!B108,Index!A108)),0,INDEX('Trust - Frontsheet'!$C$14:$T$213,Index!B108,Index!A108))","v":""}]
["103703696","Staff_cols:Site_code, Staff_row:Staff_row107","TextBox",{"$f":"IF(ISERROR(INDEX('Trust - Frontsheet'!$C$14:$T$213,Index!B109,Index!A109)),0,INDEX('Trust - Frontsheet'!$C$14:$T$213,Index!B109,Index!A109))","v":""}]
["103703697","Staff_cols:Site_code, Staff_row:Staff_row108","TextBox",{"$f":"IF(ISERROR(INDEX('Trust - Frontsheet'!$C$14:$T$213,Index!B110,Index!A110)),0,INDEX('Trust - Frontsheet'!$C$14:$T$213,Index!B110,Index!A110))","v":""}]
["103703698","Staff_cols:Site_code, Staff_row:Staff_row109","TextBox",{"$f":"IF(ISERROR(INDEX('Trust - Frontsheet'!$C$14:$T$213,Index!B111,Index!A111)),0,INDEX('Trust - Frontsheet'!$C$14:$T$213,Index!B111,Index!A111))","v":""}]
["103703700","Staff_cols:Site_code, Staff_row:Staff_row110","TextBox",{"$f":"IF(ISERROR(INDEX('Trust - Frontsheet'!$C$14:$T$213,Index!B112,Index!A112)),0,INDEX('Trust - Frontsheet'!$C$14:$T$213,Index!B112,Index!A112))","v":""}]
["103703701","Staff_cols:Site_code, Staff_row:Staff_row111","TextBox",{"$f":"IF(ISERROR(INDEX('Trust - Frontsheet'!$C$14:$T$213,Index!B113,Index!A113)),0,INDEX('Trust - Frontsheet'!$C$14:$T$213,Index!B113,Index!A113))","v":""}]
["103703702","Staff_cols:Site_code, Staff_row:Staff_row112","TextBox",{"$f":"IF(ISERROR(INDEX('Trust - Frontsheet'!$C$14:$T$213,Index!B114,Index!A114)),0,INDEX('Trust - Frontsheet'!$C$14:$T$213,Index!B114,Index!A114))","v":""}]
["103703703","Staff_cols:Site_code, Staff_row:Staff_row113","TextBox",{"$f":"IF(ISERROR(INDEX('Trust - Frontsheet'!$C$14:$T$213,Index!B115,Index!A115)),0,INDEX('Trust - Frontsheet'!$C$14:$T$213,Index!B115,Index!A115))","v":""}]
["103703704","Staff_cols:Site_code, Staff_row:Staff_row114","TextBox",{"$f":"IF(ISERROR(INDEX('Trust - Frontsheet'!$C$14:$T$213,Index!B116,Index!A116)),0,INDEX('Trust - Frontsheet'!$C$14:$T$213,Index!B116,Index!A116))","v":""}]
["103703705","Staff_cols:Site_code, Staff_row:Staff_row115","TextBox",{"$f":"IF(ISERROR(INDEX('Trust - Frontsheet'!$C$14:$T$213,Index!B117,Index!A117)),0,INDEX('Trust - Frontsheet'!$C$14:$T$213,Index!B117,Index!A117))","v":""}]
["103703706","Staff_cols:Site_code, Staff_row:Staff_row116","TextBox",{"$f":"IF(ISERROR(INDEX('Trust - Frontsheet'!$C$14:$T$213,Index!B118,Index!A118)),0,INDEX('Trust - Frontsheet'!$C$14:$T$213,Index!B118,Index!A118))","v":""}]
["103703707","Staff_cols:Site_code, Staff_row:Staff_row117","TextBox",{"$f":"IF(ISERROR(INDEX('Trust - Frontsheet'!$C$14:$T$213,Index!B119,Index!A119)),0,INDEX('Trust - Frontsheet'!$C$14:$T$213,Index!B119,Index!A119))","v":""}]
["103703708","Staff_cols:Site_code, Staff_row:Staff_row118","TextBox",{"$f":"IF(ISERROR(INDEX('Trust - Frontsheet'!$C$14:$T$213,Index!B120,Index!A120)),0,INDEX('Trust - Frontsheet'!$C$14:$T$213,Index!B120,Index!A120))","v":""}]
["103703709","Staff_cols:Site_code, Staff_row:Staff_row119","TextBox",{"$f":"IF(ISERROR(INDEX('Trust - Frontsheet'!$C$14:$T$213,Index!B121,Index!A121)),0,INDEX('Trust - Frontsheet'!$C$14:$T$213,Index!B121,Index!A121))","v":""}]
["103703711","Staff_cols:Site_code, Staff_row:Staff_row120","TextBox",{"$f":"IF(ISERROR(INDEX('Trust - Frontsheet'!$C$14:$T$213,Index!B122,Index!A122)),0,INDEX('Trust - Frontsheet'!$C$14:$T$213,Index!B122,Index!A122))","v":""}]
["103703712","Staff_cols:Site_code, Staff_row:Staff_row121","TextBox",{"$f":"IF(ISERROR(INDEX('Trust - Frontsheet'!$C$14:$T$213,Index!B123,Index!A123)),0,INDEX('Trust - Frontsheet'!$C$14:$T$213,Index!B123,Index!A123))","v":""}]
["103703713","Staff_cols:Site_code, Staff_row:Staff_row122","TextBox",{"$f":"IF(ISERROR(INDEX('Trust - Frontsheet'!$C$14:$T$213,Index!B124,Index!A124)),0,INDEX('Trust - Frontsheet'!$C$14:$T$213,Index!B124,Index!A124))","v":""}]
["103703714","Staff_cols:Site_code, Staff_row:Staff_row123","TextBox",{"$f":"IF(ISERROR(INDEX('Trust - Frontsheet'!$C$14:$T$213,Index!B125,Index!A125)),0,INDEX('Trust - Frontsheet'!$C$14:$T$213,Index!B125,Index!A125))","v":""}]
["103703715","Staff_cols:Site_code, Staff_row:Staff_row124","TextBox",{"$f":"IF(ISERROR(INDEX('Trust - Frontsheet'!$C$14:$T$213,Index!B126,Index!A126)),0,INDEX('Trust - Frontsheet'!$C$14:$T$213,Index!B126,Index!A126))","v":""}]
["103703716","Staff_cols:Site_code, Staff_row:Staff_row125","TextBox",{"$f":"IF(ISERROR(INDEX('Trust - Frontsheet'!$C$14:$T$213,Index!B127,Index!A127)),0,INDEX('Trust - Frontsheet'!$C$14:$T$213,Index!B127,Index!A127))","v":""}]
["103703717","Staff_cols:Site_code, Staff_row:Staff_row126","TextBox",{"$f":"IF(ISERROR(INDEX('Trust - Frontsheet'!$C$14:$T$213,Index!B128,Index!A128)),0,INDEX('Trust - Frontsheet'!$C$14:$T$213,Index!B128,Index!A128))","v":""}]
["103703718","Staff_cols:Site_code, Staff_row:Staff_row127","TextBox",{"$f":"IF(ISERROR(INDEX('Trust - Frontsheet'!$C$14:$T$213,Index!B129,Index!A129)),0,INDEX('Trust - Frontsheet'!$C$14:$T$213,Index!B129,Index!A129))","v":""}]
["103703719","Staff_cols:Site_code, Staff_row:Staff_row128","TextBox",{"$f":"IF(ISERROR(INDEX('Trust - Frontsheet'!$C$14:$T$213,Index!B130,Index!A130)),0,INDEX('Trust - Frontsheet'!$C$14:$T$213,Index!B130,Index!A130))","v":""}]
["103703720","Staff_cols:Site_code, Staff_row:Staff_row129","TextBox",{"$f":"IF(ISERROR(INDEX('Trust - Frontsheet'!$C$14:$T$213,Index!B131,Index!A131)),0,INDEX('Trust - Frontsheet'!$C$14:$T$213,Index!B131,Index!A131))","v":""}]
["103703722","Staff_cols:Site_code, Staff_row:Staff_row130","TextBox",{"$f":"IF(ISERROR(INDEX('Trust - Frontsheet'!$C$14:$T$213,Index!B132,Index!A132)),0,INDEX('Trust - Frontsheet'!$C$14:$T$213,Index!B132,Index!A132))","v":""}]
["103703723","Staff_cols:Site_code, Staff_row:Staff_row131","TextBox",{"$f":"IF(ISERROR(INDEX('Trust - Frontsheet'!$C$14:$T$213,Index!B133,Index!A133)),0,INDEX('Trust - Frontsheet'!$C$14:$T$213,Index!B133,Index!A133))","v":""}]
["103703724","Staff_cols:Site_code, Staff_row:Staff_row132","TextBox",{"$f":"IF(ISERROR(INDEX('Trust - Frontsheet'!$C$14:$T$213,Index!B134,Index!A134)),0,INDEX('Trust - Frontsheet'!$C$14:$T$213,Index!B134,Index!A134))","v":""}]
["103703725","Staff_cols:Site_code, Staff_row:Staff_row133","TextBox",{"$f":"IF(ISERROR(INDEX('Trust - Frontsheet'!$C$14:$T$213,Index!B135,Index!A135)),0,INDEX('Trust - Frontsheet'!$C$14:$T$213,Index!B135,Index!A135))","v":""}]
["103703726","Staff_cols:Site_code, Staff_row:Staff_row134","TextBox",{"$f":"IF(ISERROR(INDEX('Trust - Frontsheet'!$C$14:$T$213,Index!B136,Index!A136)),0,INDEX('Trust - Frontsheet'!$C$14:$T$213,Index!B136,Index!A136))","v":""}]
["103703727","Staff_cols:Site_code, Staff_row:Staff_row135","TextBox",{"$f":"IF(ISERROR(INDEX('Trust - Frontsheet'!$C$14:$T$213,Index!B137,Index!A137)),0,INDEX('Trust - Frontsheet'!$C$14:$T$213,Index!B137,Index!A137))","v":""}]
["103703728","Staff_cols:Site_code, Staff_row:Staff_row136","TextBox",{"$f":"IF(ISERROR(INDEX('Trust - Frontsheet'!$C$14:$T$213,Index!B138,Index!A138)),0,INDEX('Trust - Frontsheet'!$C$14:$T$213,Index!B138,Index!A138))","v":""}]
["103703729","Staff_cols:Site_code, Staff_row:Staff_row137","TextBox",{"$f":"IF(ISERROR(INDEX('Trust - Frontsheet'!$C$14:$T$213,Index!B139,Index!A139)),0,INDEX('Trust - Frontsheet'!$C$14:$T$213,Index!B139,Index!A139))","v":""}]
["103703730","Staff_cols:Site_code, Staff_row:Staff_row138","TextBox",{"$f":"IF(ISERROR(INDEX('Trust - Frontsheet'!$C$14:$T$213,Index!B140,Index!A140)),0,INDEX('Trust - Frontsheet'!$C$14:$T$213,Index!B140,Index!A140))","v":""}]
["103703731","Staff_cols:Site_code, Staff_row:Staff_row139","TextBox",{"$f":"IF(ISERROR(INDEX('Trust - Frontsheet'!$C$14:$T$213,Index!B141,Index!A141)),0,INDEX('Trust - Frontsheet'!$C$14:$T$213,Index!B141,Index!A141))","v":""}]
["103703733","Staff_cols:Site_code, Staff_row:Staff_row140","TextBox",{"$f":"IF(ISERROR(INDEX('Trust - Frontsheet'!$C$14:$T$213,Index!B142,Index!A142)),0,INDEX('Trust - Frontsheet'!$C$14:$T$213,Index!B142,Index!A142))","v":""}]
["103703734","Staff_cols:Site_code, Staff_row:Staff_row141","TextBox",{"$f":"IF(ISERROR(INDEX('Trust - Frontsheet'!$C$14:$T$213,Index!B143,Index!A143)),0,INDEX('Trust - Frontsheet'!$C$14:$T$213,Index!B143,Index!A143))","v":""}]
["103703735","Staff_cols:Site_code, Staff_row:Staff_row142","TextBox",{"$f":"IF(ISERROR(INDEX('Trust - Frontsheet'!$C$14:$T$213,Index!B144,Index!A144)),0,INDEX('Trust - Frontsheet'!$C$14:$T$213,Index!B144,Index!A144))","v":""}]
["103703736","Staff_cols:Site_code, Staff_row:Staff_row143","TextBox",{"$f":"IF(ISERROR(INDEX('Trust - Frontsheet'!$C$14:$T$213,Index!B145,Index!A145)),0,INDEX('Trust - Frontsheet'!$C$14:$T$213,Index!B145,Index!A145))","v":""}]
["103703737","Staff_cols:Site_code, Staff_row:Staff_row144","TextBox",{"$f":"IF(ISERROR(INDEX('Trust - Frontsheet'!$C$14:$T$213,Index!B146,Index!A146)),0,INDEX('Trust - Frontsheet'!$C$14:$T$213,Index!B146,Index!A146))","v":""}]
["103703738","Staff_cols:Site_code, Staff_row:Staff_row145","TextBox",{"$f":"IF(ISERROR(INDEX('Trust - Frontsheet'!$C$14:$T$213,Index!B147,Index!A147)),0,INDEX('Trust - Frontsheet'!$C$14:$T$213,Index!B147,Index!A147))","v":""}]
["103703739","Staff_cols:Site_code, Staff_row:Staff_row146","TextBox",{"$f":"IF(ISERROR(INDEX('Trust - Frontsheet'!$C$14:$T$213,Index!B148,Index!A148)),0,INDEX('Trust - Frontsheet'!$C$14:$T$213,Index!B148,Index!A148))","v":""}]
["103703740","Staff_cols:Site_code, Staff_row:Staff_row147","TextBox",{"$f":"IF(ISERROR(INDEX('Trust - Frontsheet'!$C$14:$T$213,Index!B149,Index!A149)),0,INDEX('Trust - Frontsheet'!$C$14:$T$213,Index!B149,Index!A149))","v":""}]
["103703741","Staff_cols:Site_code, Staff_row:Staff_row148","TextBox",{"$f":"IF(ISERROR(INDEX('Trust - Frontsheet'!$C$14:$T$213,Index!B150,Index!A150)),0,INDEX('Trust - Frontsheet'!$C$14:$T$213,Index!B150,Index!A150))","v":""}]
["103703742","Staff_cols:Site_code, Staff_row:Staff_row149","TextBox",{"$f":"IF(ISERROR(INDEX('Trust - Frontsheet'!$C$14:$T$213,Index!B151,Index!A151)),0,INDEX('Trust - Frontsheet'!$C$14:$T$213,Index!B151,Index!A151))","v":""}]
["103703744","Staff_cols:Site_code, Staff_row:Staff_row150","TextBox",{"$f":"IF(ISERROR(INDEX('Trust - Frontsheet'!$C$14:$T$213,Index!B152,Index!A152)),0,INDEX('Trust - Frontsheet'!$C$14:$T$213,Index!B152,Index!A152))","v":""}]
["103703745","Staff_cols:Site_code, Staff_row:Staff_row151","TextBox",{"$f":"IF(ISERROR(INDEX('Trust - Frontsheet'!$C$14:$T$213,Index!B153,Index!A153)),0,INDEX('Trust - Frontsheet'!$C$14:$T$213,Index!B153,Index!A153))","v":""}]
["103703746","Staff_cols:Site_code, Staff_row:Staff_row152","TextBox",{"$f":"IF(ISERROR(INDEX('Trust - Frontsheet'!$C$14:$T$213,Index!B154,Index!A154)),0,INDEX('Trust - Frontsheet'!$C$14:$T$213,Index!B154,Index!A154))","v":""}]
["103703747","Staff_cols:Site_code, Staff_row:Staff_row153","TextBox",{"$f":"IF(ISERROR(INDEX('Trust - Frontsheet'!$C$14:$T$213,Index!B155,Index!A155)),0,INDEX('Trust - Frontsheet'!$C$14:$T$213,Index!B155,Index!A155))","v":""}]
["103703748","Staff_cols:Site_code, Staff_row:Staff_row154","TextBox",{"$f":"IF(ISERROR(INDEX('Trust - Frontsheet'!$C$14:$T$213,Index!B156,Index!A156)),0,INDEX('Trust - Frontsheet'!$C$14:$T$213,Index!B156,Index!A156))","v":""}]
["103703749","Staff_cols:Site_code, Staff_row:Staff_row155","TextBox",{"$f":"IF(ISERROR(INDEX('Trust - Frontsheet'!$C$14:$T$213,Index!B157,Index!A157)),0,INDEX('Trust - Frontsheet'!$C$14:$T$213,Index!B157,Index!A157))","v":""}]
["103703750","Staff_cols:Site_code, Staff_row:Staff_row156","TextBox",{"$f":"IF(ISERROR(INDEX('Trust - Frontsheet'!$C$14:$T$213,Index!B158,Index!A158)),0,INDEX('Trust - Frontsheet'!$C$14:$T$213,Index!B158,Index!A158))","v":""}]
["103703751","Staff_cols:Site_code, Staff_row:Staff_row157","TextBox",{"$f":"IF(ISERROR(INDEX('Trust - Frontsheet'!$C$14:$T$213,Index!B159,Index!A159)),0,INDEX('Trust - Frontsheet'!$C$14:$T$213,Index!B159,Index!A159))","v":""}]
["103703752","Staff_cols:Site_code, Staff_row:Staff_row158","TextBox",{"$f":"IF(ISERROR(INDEX('Trust - Frontsheet'!$C$14:$T$213,Index!B160,Index!A160)),0,INDEX('Trust - Frontsheet'!$C$14:$T$213,Index!B160,Index!A160))","v":""}]
["103703753","Staff_cols:Site_code, Staff_row:Staff_row159","TextBox",{"$f":"IF(ISERROR(INDEX('Trust - Frontsheet'!$C$14:$T$213,Index!B161,Index!A161)),0,INDEX('Trust - Frontsheet'!$C$14:$T$213,Index!B161,Index!A161))","v":""}]
["103703755","Staff_cols:Site_code, Staff_row:Staff_row160","TextBox",{"$f":"IF(ISERROR(INDEX('Trust - Frontsheet'!$C$14:$T$213,Index!B162,Index!A162)),0,INDEX('Trust - Frontsheet'!$C$14:$T$213,Index!B162,Index!A162))","v":""}]
["103703756","Staff_cols:Site_code, Staff_row:Staff_row161","TextBox",{"$f":"IF(ISERROR(INDEX('Trust - Frontsheet'!$C$14:$T$213,Index!B163,Index!A163)),0,INDEX('Trust - Frontsheet'!$C$14:$T$213,Index!B163,Index!A163))","v":""}]
["103703757","Staff_cols:Site_code, Staff_row:Staff_row162","TextBox",{"$f":"IF(ISERROR(INDEX('Trust - Frontsheet'!$C$14:$T$213,Index!B164,Index!A164)),0,INDEX('Trust - Frontsheet'!$C$14:$T$213,Index!B164,Index!A164))","v":""}]
["103703758","Staff_cols:Site_code, Staff_row:Staff_row163","TextBox",{"$f":"IF(ISERROR(INDEX('Trust - Frontsheet'!$C$14:$T$213,Index!B165,Index!A165)),0,INDEX('Trust - Frontsheet'!$C$14:$T$213,Index!B165,Index!A165))","v":""}]
["103703759","Staff_cols:Site_code, Staff_row:Staff_row164","TextBox",{"$f":"IF(ISERROR(INDEX('Trust - Frontsheet'!$C$14:$T$213,Index!B166,Index!A166)),0,INDEX('Trust - Frontsheet'!$C$14:$T$213,Index!B166,Index!A166))","v":""}]
["103703760","Staff_cols:Site_code, Staff_row:Staff_row165","TextBox",{"$f":"IF(ISERROR(INDEX('Trust - Frontsheet'!$C$14:$T$213,Index!B167,Index!A167)),0,INDEX('Trust - Frontsheet'!$C$14:$T$213,Index!B167,Index!A167))","v":""}]
["103703761","Staff_cols:Site_code, Staff_row:Staff_row166","TextBox",{"$f":"IF(ISERROR(INDEX('Trust - Frontsheet'!$C$14:$T$213,Index!B168,Index!A168)),0,INDEX('Trust - Frontsheet'!$C$14:$T$213,Index!B168,Index!A168))","v":""}]
["103703762","Staff_cols:Site_code, Staff_row:Staff_row167","TextBox",{"$f":"IF(ISERROR(INDEX('Trust - Frontsheet'!$C$14:$T$213,Index!B169,Index!A169)),0,INDEX('Trust - Frontsheet'!$C$14:$T$213,Index!B169,Index!A169))","v":""}]
["103703763","Staff_cols:Site_code, Staff_row:Staff_row168","TextBox",{"$f":"IF(ISERROR(INDEX('Trust - Frontsheet'!$C$14:$T$213,Index!B170,Index!A170)),0,INDEX('Trust - Frontsheet'!$C$14:$T$213,Index!B170,Index!A170))","v":""}]
["103703764","Staff_cols:Site_code, Staff_row:Staff_row169","TextBox",{"$f":"IF(ISERROR(INDEX('Trust - Frontsheet'!$C$14:$T$213,Index!B171,Index!A171)),0,INDEX('Trust - Frontsheet'!$C$14:$T$213,Index!B171,Index!A171))","v":""}]
["103703766","Staff_cols:Site_code, Staff_row:Staff_row170","TextBox",{"$f":"IF(ISERROR(INDEX('Trust - Frontsheet'!$C$14:$T$213,Index!B172,Index!A172)),0,INDEX('Trust - Frontsheet'!$C$14:$T$213,Index!B172,Index!A172))","v":""}]
["103703767","Staff_cols:Site_code, Staff_row:Staff_row171","TextBox",{"$f":"IF(ISERROR(INDEX('Trust - Frontsheet'!$C$14:$T$213,Index!B173,Index!A173)),0,INDEX('Trust - Frontsheet'!$C$14:$T$213,Index!B173,Index!A173))","v":""}]
["103703768","Staff_cols:Site_code, Staff_row:Staff_row172","TextBox",{"$f":"IF(ISERROR(INDEX('Trust - Frontsheet'!$C$14:$T$213,Index!B174,Index!A174)),0,INDEX('Trust - Frontsheet'!$C$14:$T$213,Index!B174,Index!A174))","v":""}]
["103703769","Staff_cols:Site_code, Staff_row:Staff_row173","TextBox",{"$f":"IF(ISERROR(INDEX('Trust - Frontsheet'!$C$14:$T$213,Index!B175,Index!A175)),0,INDEX('Trust - Frontsheet'!$C$14:$T$213,Index!B175,Index!A175))","v":""}]
["103703770","Staff_cols:Site_code, Staff_row:Staff_row174","TextBox",{"$f":"IF(ISERROR(INDEX('Trust - Frontsheet'!$C$14:$T$213,Index!B176,Index!A176)),0,INDEX('Trust - Frontsheet'!$C$14:$T$213,Index!B176,Index!A176))","v":""}]
["103703771","Staff_cols:Site_code, Staff_row:Staff_row175","TextBox",{"$f":"IF(ISERROR(INDEX('Trust - Frontsheet'!$C$14:$T$213,Index!B177,Index!A177)),0,INDEX('Trust - Frontsheet'!$C$14:$T$213,Index!B177,Index!A177))","v":""}]
["103703772","Staff_cols:Site_code, Staff_row:Staff_row176","TextBox",{"$f":"IF(ISERROR(INDEX('Trust - Frontsheet'!$C$14:$T$213,Index!B178,Index!A178)),0,INDEX('Trust - Frontsheet'!$C$14:$T$213,Index!B178,Index!A178))","v":""}]
["103703773","Staff_cols:Site_code, Staff_row:Staff_row177","TextBox",{"$f":"IF(ISERROR(INDEX('Trust - Frontsheet'!$C$14:$T$213,Index!B179,Index!A179)),0,INDEX('Trust - Frontsheet'!$C$14:$T$213,Index!B179,Index!A179))","v":""}]
["103703774","Staff_cols:Site_code, Staff_row:Staff_row178","TextBox",{"$f":"IF(ISERROR(INDEX('Trust - Frontsheet'!$C$14:$T$213,Index!B180,Index!A180)),0,INDEX('Trust - Frontsheet'!$C$14:$T$213,Index!B180,Index!A180))","v":""}]
["103703775","Staff_cols:Site_code, Staff_row:Staff_row179","TextBox",{"$f":"IF(ISERROR(INDEX('Trust - Frontsheet'!$C$14:$T$213,Index!B181,Index!A181)),0,INDEX('Trust - Frontsheet'!$C$14:$T$213,Index!B181,Index!A181))","v":""}]
["103703777","Staff_cols:Site_code, Staff_row:Staff_row180","TextBox",{"$f":"IF(ISERROR(INDEX('Trust - Frontsheet'!$C$14:$T$213,Index!B182,Index!A182)),0,INDEX('Trust - Frontsheet'!$C$14:$T$213,Index!B182,Index!A182))","v":""}]
["103703778","Staff_cols:Site_code, Staff_row:Staff_row181","TextBox",{"$f":"IF(ISERROR(INDEX('Trust - Frontsheet'!$C$14:$T$213,Index!B183,Index!A183)),0,INDEX('Trust - Frontsheet'!$C$14:$T$213,Index!B183,Index!A183))","v":""}]
["103703779","Staff_cols:Site_code, Staff_row:Staff_row182","TextBox",{"$f":"IF(ISERROR(INDEX('Trust - Frontsheet'!$C$14:$T$213,Index!B184,Index!A184)),0,INDEX('Trust - Frontsheet'!$C$14:$T$213,Index!B184,Index!A184))","v":""}]
["103703780","Staff_cols:Site_code, Staff_row:Staff_row183","TextBox",{"$f":"IF(ISERROR(INDEX('Trust - Frontsheet'!$C$14:$T$213,Index!B185,Index!A185)),0,INDEX('Trust - Frontsheet'!$C$14:$T$213,Index!B185,Index!A185))","v":""}]
["103703781","Staff_cols:Site_code, Staff_row:Staff_row184","TextBox",{"$f":"IF(ISERROR(INDEX('Trust - Frontsheet'!$C$14:$T$213,Index!B186,Index!A186)),0,INDEX('Trust - Frontsheet'!$C$14:$T$213,Index!B186,Index!A186))","v":""}]
["103703782","Staff_cols:Site_code, Staff_row:Staff_row185","TextBox",{"$f":"IF(ISERROR(INDEX('Trust - Frontsheet'!$C$14:$T$213,Index!B187,Index!A187)),0,INDEX('Trust - Frontsheet'!$C$14:$T$213,Index!B187,Index!A187))","v":""}]
["103703783","Staff_cols:Site_code, Staff_row:Staff_row186","TextBox",{"$f":"IF(ISERROR(INDEX('Trust - Frontsheet'!$C$14:$T$213,Index!B188,Index!A188)),0,INDEX('Trust - Frontsheet'!$C$14:$T$213,Index!B188,Index!A188))","v":""}]
["103703784","Staff_cols:Site_code, Staff_row:Staff_row187","TextBox",{"$f":"IF(ISERROR(INDEX('Trust - Frontsheet'!$C$14:$T$213,Index!B189,Index!A189)),0,INDEX('Trust - Frontsheet'!$C$14:$T$213,Index!B189,Index!A189))","v":""}]
["103703785","Staff_cols:Site_code, Staff_row:Staff_row188","TextBox",{"$f":"IF(ISERROR(INDEX('Trust - Frontsheet'!$C$14:$T$213,Index!B190,Index!A190)),0,INDEX('Trust - Frontsheet'!$C$14:$T$213,Index!B190,Index!A190))","v":""}]
["103703786","Staff_cols:Site_code, Staff_row:Staff_row189","TextBox",{"$f":"IF(ISERROR(INDEX('Trust - Frontsheet'!$C$14:$T$213,Index!B191,Index!A191)),0,INDEX('Trust - Frontsheet'!$C$14:$T$213,Index!B191,Index!A191))","v":""}]
["103703788","Staff_cols:Site_code, Staff_row:Staff_row190","TextBox",{"$f":"IF(ISERROR(INDEX('Trust - Frontsheet'!$C$14:$T$213,Index!B192,Index!A192)),0,INDEX('Trust - Frontsheet'!$C$14:$T$213,Index!B192,Index!A192))","v":""}]
["103703789","Staff_cols:Site_code, Staff_row:Staff_row191","TextBox",{"$f":"IF(ISERROR(INDEX('Trust - Frontsheet'!$C$14:$T$213,Index!B193,Index!A193)),0,INDEX('Trust - Frontsheet'!$C$14:$T$213,Index!B193,Index!A193))","v":""}]
["103703790","Staff_cols:Site_code, Staff_row:Staff_row192","TextBox",{"$f":"IF(ISERROR(INDEX('Trust - Frontsheet'!$C$14:$T$213,Index!B194,Index!A194)),0,INDEX('Trust - Frontsheet'!$C$14:$T$213,Index!B194,Index!A194))","v":""}]
["103703791","Staff_cols:Site_code, Staff_row:Staff_row193","TextBox",{"$f":"IF(ISERROR(INDEX('Trust - Frontsheet'!$C$14:$T$213,Index!B195,Index!A195)),0,INDEX('Trust - Frontsheet'!$C$14:$T$213,Index!B195,Index!A195))","v":""}]
["103703792","Staff_cols:Site_code, Staff_row:Staff_row194","TextBox",{"$f":"IF(ISERROR(INDEX('Trust - Frontsheet'!$C$14:$T$213,Index!B196,Index!A196)),0,INDEX('Trust - Frontsheet'!$C$14:$T$213,Index!B196,Index!A196))","v":""}]
["103703793","Staff_cols:Site_code, Staff_row:Staff_row195","TextBox",{"$f":"IF(ISERROR(INDEX('Trust - Frontsheet'!$C$14:$T$213,Index!B197,Index!A197)),0,INDEX('Trust - Frontsheet'!$C$14:$T$213,Index!B197,Index!A197))","v":""}]
["103703794","Staff_cols:Site_code, Staff_row:Staff_row196","TextBox",{"$f":"IF(ISERROR(INDEX('Trust - Frontsheet'!$C$14:$T$213,Index!B198,Index!A198)),0,INDEX('Trust - Frontsheet'!$C$14:$T$213,Index!B198,Index!A198))","v":""}]
["103703795","Staff_cols:Site_code, Staff_row:Staff_row197","TextBox",{"$f":"IF(ISERROR(INDEX('Trust - Frontsheet'!$C$14:$T$213,Index!B199,Index!A199)),0,INDEX('Trust - Frontsheet'!$C$14:$T$213,Index!B199,Index!A199))","v":""}]
["103703796","Staff_cols:Site_code, Staff_row:Staff_row198","TextBox",{"$f":"IF(ISERROR(INDEX('Trust - Frontsheet'!$C$14:$T$213,Index!B200,Index!A200)),0,INDEX('Trust - Frontsheet'!$C$14:$T$213,Index!B200,Index!A200))","v":""}]
["103703797","Staff_cols:Site_code, Staff_row:Staff_row199","TextBox",{"$f":"IF(ISERROR(INDEX('Trust - Frontsheet'!$C$14:$T$213,Index!B201,Index!A201)),0,INDEX('Trust - Frontsheet'!$C$14:$T$213,Index!B201,Index!A201))","v":""}]
["103703800","Staff_cols:Site_code, Staff_row:Staff_row200","TextBox",{"$f":"IF(ISERROR(INDEX('Trust - Frontsheet'!$C$14:$T$213,Index!B202,Index!A202)),0,INDEX('Trust - Frontsheet'!$C$14:$T$213,Index!B202,Index!A202))","v":""}]
["103703887","Staff_cols:Site_name, Staff_row:Staff_row1","TextBox",{"$f":"IF(ISERROR(INDEX('Trust - Frontsheet'!$C$14:$T$213,Index!B203,Index!A203)),0,INDEX('Trust - Frontsheet'!$C$14:$T$213,Index!B203,Index!A203))","v":"Grantham and District Hospital - RWDLP"}]
["103703998","Staff_cols:Site_name, Staff_row:Staff_row2","TextBox",{"$f":"IF(ISERROR(INDEX('Trust - Frontsheet'!$C$14:$T$213,Index!B204,Index!A204)),0,INDEX('Trust - Frontsheet'!$C$14:$T$213,Index!B204,Index!A204))","v":"Grantham and District Hospital - RWDLP"}]
["103704010","Staff_cols:Site_name, Staff_row:Staff_row3","TextBox",{"$f":"IF(ISERROR(INDEX('Trust - Frontsheet'!$C$14:$T$213,Index!B205,Index!A205)),0,INDEX('Trust - Frontsheet'!$C$14:$T$213,Index!B205,Index!A205))","v":"Grantham and District Hospital - RWDLP"}]
["103704021","Staff_cols:Site_name, Staff_row:Staff_row4","TextBox",{"$f":"IF(ISERROR(INDEX('Trust - Frontsheet'!$C$14:$T$213,Index!B206,Index!A206)),0,INDEX('Trust - Frontsheet'!$C$14:$T$213,Index!B206,Index!A206))","v":"Grantham and District Hospital - RWDLP"}]
["103704032","Staff_cols:Site_name, Staff_row:Staff_row5","TextBox",{"$f":"IF(ISERROR(INDEX('Trust - Frontsheet'!$C$14:$T$213,Index!B207,Index!A207)),0,INDEX('Trust - Frontsheet'!$C$14:$T$213,Index!B207,Index!A207))","v":"Grantham and District Hospital - RWDLP"}]
["103704043","Staff_cols:Site_name, Staff_row:Staff_row6","TextBox",{"$f":"IF(ISERROR(INDEX('Trust - Frontsheet'!$C$14:$T$213,Index!B208,Index!A208)),0,INDEX('Trust - Frontsheet'!$C$14:$T$213,Index!B208,Index!A208))","v":"Lincoln County Hospital - RWDDA"}]
["103704054","Staff_cols:Site_name, Staff_row:Staff_row7","TextBox",{"$f":"IF(ISERROR(INDEX('Trust - Frontsheet'!$C$14:$T$213,Index!B209,Index!A209)),0,INDEX('Trust - Frontsheet'!$C$14:$T$213,Index!B209,Index!A209))","v":"Lincoln County Hospital - RWDDA"}]
["103704065","Staff_cols:Site_name, Staff_row:Staff_row8","TextBox",{"$f":"IF(ISERROR(INDEX('Trust - Frontsheet'!$C$14:$T$213,Index!B210,Index!A210)),0,INDEX('Trust - Frontsheet'!$C$14:$T$213,Index!B210,Index!A210))","v":"Lincoln County Hospital - RWDDA"}]
["103704076","Staff_cols:Site_name, Staff_row:Staff_row9","TextBox",{"$f":"IF(ISERROR(INDEX('Trust - Frontsheet'!$C$14:$T$213,Index!B211,Index!A211)),0,INDEX('Trust - Frontsheet'!$C$14:$T$213,Index!B211,Index!A211))","v":"Lincoln County Hospital - RWDDA"}]
["103703888","Staff_cols:Site_name, Staff_row:Staff_row10","TextBox",{"$f":"IF(ISERROR(INDEX('Trust - Frontsheet'!$C$14:$T$213,Index!B212,Index!A212)),0,INDEX('Trust - Frontsheet'!$C$14:$T$213,Index!B212,Index!A212))","v":"Lincoln County Hospital - RWDDA"}]
["103703899","Staff_cols:Site_name, Staff_row:Staff_row11","TextBox",{"$f":"IF(ISERROR(INDEX('Trust - Frontsheet'!$C$14:$T$213,Index!B213,Index!A213)),0,INDEX('Trust - Frontsheet'!$C$14:$T$213,Index!B213,Index!A213))","v":"Lincoln County Hospital - RWDDA"}]
["103703910","Staff_cols:Site_name, Staff_row:Staff_row12","TextBox",{"$f":"IF(ISERROR(INDEX('Trust - Frontsheet'!$C$14:$T$213,Index!B214,Index!A214)),0,INDEX('Trust - Frontsheet'!$C$14:$T$213,Index!B214,Index!A214))","v":"Lincoln County Hospital - RWDDA"}]
["103703921","Staff_cols:Site_name, Staff_row:Staff_row13","TextBox",{"$f":"IF(ISERROR(INDEX('Trust - Frontsheet'!$C$14:$T$213,Index!B215,Index!A215)),0,INDEX('Trust - Frontsheet'!$C$14:$T$213,Index!B215,Index!A215))","v":"Lincoln County Hospital - RWDDA"}]
["103703932","Staff_cols:Site_name, Staff_row:Staff_row14","TextBox",{"$f":"IF(ISERROR(INDEX('Trust - Frontsheet'!$C$14:$T$213,Index!B216,Index!A216)),0,INDEX('Trust - Frontsheet'!$C$14:$T$213,Index!B216,Index!A216))","v":"Lincoln County Hospital - RWDDA"}]
["103703943","Staff_cols:Site_name, Staff_row:Staff_row15","TextBox",{"$f":"IF(ISERROR(INDEX('Trust - Frontsheet'!$C$14:$T$213,Index!B217,Index!A217)),0,INDEX('Trust - Frontsheet'!$C$14:$T$213,Index!B217,Index!A217))","v":"Lincoln County Hospital - RWDDA"}]
["103703954","Staff_cols:Site_name, Staff_row:Staff_row16","TextBox",{"$f":"IF(ISERROR(INDEX('Trust - Frontsheet'!$C$14:$T$213,Index!B218,Index!A218)),0,INDEX('Trust - Frontsheet'!$C$14:$T$213,Index!B218,Index!A218))","v":"Lincoln County Hospital - RWDDA"}]
["103703965","Staff_cols:Site_name, Staff_row:Staff_row17","TextBox",{"$f":"IF(ISERROR(INDEX('Trust - Frontsheet'!$C$14:$T$213,Index!B219,Index!A219)),0,INDEX('Trust - Frontsheet'!$C$14:$T$213,Index!B219,Index!A219))","v":"Lincoln County Hospital - RWDDA"}]
["103703976","Staff_cols:Site_name, Staff_row:Staff_row18","TextBox",{"$f":"IF(ISERROR(INDEX('Trust - Frontsheet'!$C$14:$T$213,Index!B220,Index!A220)),0,INDEX('Trust - Frontsheet'!$C$14:$T$213,Index!B220,Index!A220))","v":"Lincoln County Hospital - RWDDA"}]
["103703987","Staff_cols:Site_name, Staff_row:Staff_row19","TextBox",{"$f":"IF(ISERROR(INDEX('Trust - Frontsheet'!$C$14:$T$213,Index!B221,Index!A221)),0,INDEX('Trust - Frontsheet'!$C$14:$T$213,Index!B221,Index!A221))","v":"Lincoln County Hospital - RWDDA"}]
["103703999","Staff_cols:Site_name, Staff_row:Staff_row20","TextBox",{"$f":"IF(ISERROR(INDEX('Trust - Frontsheet'!$C$14:$T$213,Index!B222,Index!A222)),0,INDEX('Trust - Frontsheet'!$C$14:$T$213,Index!B222,Index!A222))","v":"Lincoln County Hospital - RWDDA"}]
["103704001","Staff_cols:Site_name, Staff_row:Staff_row21","TextBox",{"$f":"IF(ISERROR(INDEX('Trust - Frontsheet'!$C$14:$T$213,Index!B223,Index!A223)),0,INDEX('Trust - Frontsheet'!$C$14:$T$213,Index!B223,Index!A223))","v":"Lincoln County Hospital - RWDDA"}]
["103704002","Staff_cols:Site_name, Staff_row:Staff_row22","TextBox",{"$f":"IF(ISERROR(INDEX('Trust - Frontsheet'!$C$14:$T$213,Index!B224,Index!A224)),0,INDEX('Trust - Frontsheet'!$C$14:$T$213,Index!B224,Index!A224))","v":"Lincoln County Hospital - RWDDA"}]
["103704003","Staff_cols:Site_name, Staff_row:Staff_row23","TextBox",{"$f":"IF(ISERROR(INDEX('Trust - Frontsheet'!$C$14:$T$213,Index!B225,Index!A225)),0,INDEX('Trust - Frontsheet'!$C$14:$T$213,Index!B225,Index!A225))","v":"Lincoln County Hospital - RWDDA"}]
["103704004","Staff_cols:Site_name, Staff_row:Staff_row24","TextBox",{"$f":"IF(ISERROR(INDEX('Trust - Frontsheet'!$C$14:$T$213,Index!B226,Index!A226)),0,INDEX('Trust - Frontsheet'!$C$14:$T$213,Index!B226,Index!A226))","v":"Lincoln County Hospital - RWDDA"}]
["103704005","Staff_cols:Site_name, Staff_row:Staff_row25","TextBox",{"$f":"IF(ISERROR(INDEX('Trust - Frontsheet'!$C$14:$T$213,Index!B227,Index!A227)),0,INDEX('Trust - Frontsheet'!$C$14:$T$213,Index!B227,Index!A227))","v":"Lincoln County Hospital - RWDDA"}]
["103704006","Staff_cols:Site_name, Staff_row:Staff_row26","TextBox",{"$f":"IF(ISERROR(INDEX('Trust - Frontsheet'!$C$14:$T$213,Index!B228,Index!A228)),0,INDEX('Trust - Frontsheet'!$C$14:$T$213,Index!B228,Index!A228))","v":"Lincoln County Hospital - RWDDA"}]
["103704007","Staff_cols:Site_name, Staff_row:Staff_row27","TextBox",{"$f":"IF(ISERROR(INDEX('Trust - Frontsheet'!$C$14:$T$213,Index!B229,Index!A229)),0,INDEX('Trust - Frontsheet'!$C$14:$T$213,Index!B229,Index!A229))","v":"Lincoln County Hospital - RWDDA"}]
["103704008","Staff_cols:Site_name, Staff_row:Staff_row28","TextBox",{"$f":"IF(ISERROR(INDEX('Trust - Frontsheet'!$C$14:$T$213,Index!B230,Index!A230)),0,INDEX('Trust - Frontsheet'!$C$14:$T$213,Index!B230,Index!A230))","v":"Lincoln County Hospital - RWDDA"}]
["103704009","Staff_cols:Site_name, Staff_row:Staff_row29","TextBox",{"$f":"IF(ISERROR(INDEX('Trust - Frontsheet'!$C$14:$T$213,Index!B231,Index!A231)),0,INDEX('Trust - Frontsheet'!$C$14:$T$213,Index!B231,Index!A231))","v":"Lincoln County Hospital - RWDDA"}]
["103704011","Staff_cols:Site_name, Staff_row:Staff_row30","TextBox",{"$f":"IF(ISERROR(INDEX('Trust - Frontsheet'!$C$14:$T$213,Index!B232,Index!A232)),0,INDEX('Trust - Frontsheet'!$C$14:$T$213,Index!B232,Index!A232))","v":"Pilgrim Hospital - RWDLA"}]
["103704012","Staff_cols:Site_name, Staff_row:Staff_row31","TextBox",{"$f":"IF(ISERROR(INDEX('Trust - Frontsheet'!$C$14:$T$213,Index!B233,Index!A233)),0,INDEX('Trust - Frontsheet'!$C$14:$T$213,Index!B233,Index!A233))","v":"Pilgrim Hospital - RWDLA"}]
["103704013","Staff_cols:Site_name, Staff_row:Staff_row32","TextBox",{"$f":"IF(ISERROR(INDEX('Trust - Frontsheet'!$C$14:$T$213,Index!B234,Index!A234)),0,INDEX('Trust - Frontsheet'!$C$14:$T$213,Index!B234,Index!A234))","v":"Pilgrim Hospital - RWDLA"}]
["103704014","Staff_cols:Site_name, Staff_row:Staff_row33","TextBox",{"$f":"IF(ISERROR(INDEX('Trust - Frontsheet'!$C$14:$T$213,Index!B235,Index!A235)),0,INDEX('Trust - Frontsheet'!$C$14:$T$213,Index!B235,Index!A235))","v":"Pilgrim Hospital - RWDLA"}]
["103704015","Staff_cols:Site_name, Staff_row:Staff_row34","TextBox",{"$f":"IF(ISERROR(INDEX('Trust - Frontsheet'!$C$14:$T$213,Index!B236,Index!A236)),0,INDEX('Trust - Frontsheet'!$C$14:$T$213,Index!B236,Index!A236))","v":"Pilgrim Hospital - RWDLA"}]
["103704016","Staff_cols:Site_name, Staff_row:Staff_row35","TextBox",{"$f":"IF(ISERROR(INDEX('Trust - Frontsheet'!$C$14:$T$213,Index!B237,Index!A237)),0,INDEX('Trust - Frontsheet'!$C$14:$T$213,Index!B237,Index!A237))","v":"Pilgrim Hospital - RWDLA"}]
["103704017","Staff_cols:Site_name, Staff_row:Staff_row36","TextBox",{"$f":"IF(ISERROR(INDEX('Trust - Frontsheet'!$C$14:$T$213,Index!B238,Index!A238)),0,INDEX('Trust - Frontsheet'!$C$14:$T$213,Index!B238,Index!A238))","v":"Pilgrim Hospital - RWDLA"}]
["103704018","Staff_cols:Site_name, Staff_row:Staff_row37","TextBox",{"$f":"IF(ISERROR(INDEX('Trust - Frontsheet'!$C$14:$T$213,Index!B239,Index!A239)),0,INDEX('Trust - Frontsheet'!$C$14:$T$213,Index!B239,Index!A239))","v":"Pilgrim Hospital - RWDLA"}]
["103704019","Staff_cols:Site_name, Staff_row:Staff_row38","TextBox",{"$f":"IF(ISERROR(INDEX('Trust - Frontsheet'!$C$14:$T$213,Index!B240,Index!A240)),0,INDEX('Trust - Frontsheet'!$C$14:$T$213,Index!B240,Index!A240))","v":"Pilgrim Hospital - RWDLA"}]
["103704020","Staff_cols:Site_name, Staff_row:Staff_row39","TextBox",{"$f":"IF(ISERROR(INDEX('Trust - Frontsheet'!$C$14:$T$213,Index!B241,Index!A241)),0,INDEX('Trust - Frontsheet'!$C$14:$T$213,Index!B241,Index!A241))","v":"Pilgrim Hospital - RWDLA"}]
["103704022","Staff_cols:Site_name, Staff_row:Staff_row40","TextBox",{"$f":"IF(ISERROR(INDEX('Trust - Frontsheet'!$C$14:$T$213,Index!B242,Index!A242)),0,INDEX('Trust - Frontsheet'!$C$14:$T$213,Index!B242,Index!A242))","v":"Pilgrim Hospital - RWDLA"}]
["103704023","Staff_cols:Site_name, Staff_row:Staff_row41","TextBox",{"$f":"IF(ISERROR(INDEX('Trust - Frontsheet'!$C$14:$T$213,Index!B243,Index!A243)),0,INDEX('Trust - Frontsheet'!$C$14:$T$213,Index!B243,Index!A243))","v":"Pilgrim Hospital - RWDLA"}]
["103704024","Staff_cols:Site_name, Staff_row:Staff_row42","TextBox",{"$f":"IF(ISERROR(INDEX('Trust - Frontsheet'!$C$14:$T$213,Index!B244,Index!A244)),0,INDEX('Trust - Frontsheet'!$C$14:$T$213,Index!B244,Index!A244))","v":"Pilgrim Hospital - RWDLA"}]
["103704025","Staff_cols:Site_name, Staff_row:Staff_row43","TextBox",{"$f":"IF(ISERROR(INDEX('Trust - Frontsheet'!$C$14:$T$213,Index!B245,Index!A245)),0,INDEX('Trust - Frontsheet'!$C$14:$T$213,Index!B245,Index!A245))","v":"Pilgrim Hospital - RWDLA"}]
["103704026","Staff_cols:Site_name, Staff_row:Staff_row44","TextBox",{"$f":"IF(ISERROR(INDEX('Trust - Frontsheet'!$C$14:$T$213,Index!B246,Index!A246)),0,INDEX('Trust - Frontsheet'!$C$14:$T$213,Index!B246,Index!A246))","v":"Pilgrim Hospital - RWDLA"}]
["103704027","Staff_cols:Site_name, Staff_row:Staff_row45","TextBox",{"$f":"IF(ISERROR(INDEX('Trust - Frontsheet'!$C$14:$T$213,Index!B247,Index!A247)),0,INDEX('Trust - Frontsheet'!$C$14:$T$213,Index!B247,Index!A247))","v":"Pilgrim Hospital - RWDLA"}]
["103704028","Staff_cols:Site_name, Staff_row:Staff_row46","TextBox",{"$f":"IF(ISERROR(INDEX('Trust - Frontsheet'!$C$14:$T$213,Index!B248,Index!A248)),0,INDEX('Trust - Frontsheet'!$C$14:$T$213,Index!B248,Index!A248))","v":"Pilgrim Hospital - RWDLA"}]
["103704029","Staff_cols:Site_name, Staff_row:Staff_row47","TextBox",{"$f":"IF(ISERROR(INDEX('Trust - Frontsheet'!$C$14:$T$213,Index!B249,Index!A249)),0,INDEX('Trust - Frontsheet'!$C$14:$T$213,Index!B249,Index!A249))","v":"Pilgrim Hospital - RWDLA"}]
["103704030","Staff_cols:Site_name, Staff_row:Staff_row48","TextBox",{"$f":"IF(ISERROR(INDEX('Trust - Frontsheet'!$C$14:$T$213,Index!B250,Index!A250)),0,INDEX('Trust - Frontsheet'!$C$14:$T$213,Index!B250,Index!A250))","v":0}]
["103704031","Staff_cols:Site_name, Staff_row:Staff_row49","TextBox",{"$f":"IF(ISERROR(INDEX('Trust - Frontsheet'!$C$14:$T$213,Index!B251,Index!A251)),0,INDEX('Trust - Frontsheet'!$C$14:$T$213,Index!B251,Index!A251))","v":0}]
["103704033","Staff_cols:Site_name, Staff_row:Staff_row50","TextBox",{"$f":"IF(ISERROR(INDEX('Trust - Frontsheet'!$C$14:$T$213,Index!B252,Index!A252)),0,INDEX('Trust - Frontsheet'!$C$14:$T$213,Index!B252,Index!A252))","v":0}]
["103704034","Staff_cols:Site_name, Staff_row:Staff_row51","TextBox",{"$f":"IF(ISERROR(INDEX('Trust - Frontsheet'!$C$14:$T$213,Index!B253,Index!A253)),0,INDEX('Trust - Frontsheet'!$C$14:$T$213,Index!B253,Index!A253))","v":0}]
["103704035","Staff_cols:Site_name, Staff_row:Staff_row52","TextBox",{"$f":"IF(ISERROR(INDEX('Trust - Frontsheet'!$C$14:$T$213,Index!B254,Index!A254)),0,INDEX('Trust - Frontsheet'!$C$14:$T$213,Index!B254,Index!A254))","v":0}]
["103704036","Staff_cols:Site_name, Staff_row:Staff_row53","TextBox",{"$f":"IF(ISERROR(INDEX('Trust - Frontsheet'!$C$14:$T$213,Index!B255,Index!A255)),0,INDEX('Trust - Frontsheet'!$C$14:$T$213,Index!B255,Index!A255))","v":0}]
["103704037","Staff_cols:Site_name, Staff_row:Staff_row54","TextBox",{"$f":"IF(ISERROR(INDEX('Trust - Frontsheet'!$C$14:$T$213,Index!B256,Index!A256)),0,INDEX('Trust - Frontsheet'!$C$14:$T$213,Index!B256,Index!A256))","v":0}]
["103704038","Staff_cols:Site_name, Staff_row:Staff_row55","TextBox",{"$f":"IF(ISERROR(INDEX('Trust - Frontsheet'!$C$14:$T$213,Index!B257,Index!A257)),0,INDEX('Trust - Frontsheet'!$C$14:$T$213,Index!B257,Index!A257))","v":0}]
["103704039","Staff_cols:Site_name, Staff_row:Staff_row56","TextBox",{"$f":"IF(ISERROR(INDEX('Trust - Frontsheet'!$C$14:$T$213,Index!B258,Index!A258)),0,INDEX('Trust - Frontsheet'!$C$14:$T$213,Index!B258,Index!A258))","v":0}]
["103704040","Staff_cols:Site_name, Staff_row:Staff_row57","TextBox",{"$f":"IF(ISERROR(INDEX('Trust - Frontsheet'!$C$14:$T$213,Index!B259,Index!A259)),0,INDEX('Trust - Frontsheet'!$C$14:$T$213,Index!B259,Index!A259))","v":0}]
["103704041","Staff_cols:Site_name, Staff_row:Staff_row58","TextBox",{"$f":"IF(ISERROR(INDEX('Trust - Frontsheet'!$C$14:$T$213,Index!B260,Index!A260)),0,INDEX('Trust - Frontsheet'!$C$14:$T$213,Index!B260,Index!A260))","v":0}]
["103704042","Staff_cols:Site_name, Staff_row:Staff_row59","TextBox",{"$f":"IF(ISERROR(INDEX('Trust - Frontsheet'!$C$14:$T$213,Index!B261,Index!A261)),0,INDEX('Trust - Frontsheet'!$C$14:$T$213,Index!B261,Index!A261))","v":0}]
["103704044","Staff_cols:Site_name, Staff_row:Staff_row60","TextBox",{"$f":"IF(ISERROR(INDEX('Trust - Frontsheet'!$C$14:$T$213,Index!B262,Index!A262)),0,INDEX('Trust - Frontsheet'!$C$14:$T$213,Index!B262,Index!A262))","v":0}]
["103704045","Staff_cols:Site_name, Staff_row:Staff_row61","TextBox",{"$f":"IF(ISERROR(INDEX('Trust - Frontsheet'!$C$14:$T$213,Index!B263,Index!A263)),0,INDEX('Trust - Frontsheet'!$C$14:$T$213,Index!B263,Index!A263))","v":0}]
["103704046","Staff_cols:Site_name, Staff_row:Staff_row62","TextBox",{"$f":"IF(ISERROR(INDEX('Trust - Frontsheet'!$C$14:$T$213,Index!B264,Index!A264)),0,INDEX('Trust - Frontsheet'!$C$14:$T$213,Index!B264,Index!A264))","v":0}]
["103704047","Staff_cols:Site_name, Staff_row:Staff_row63","TextBox",{"$f":"IF(ISERROR(INDEX('Trust - Frontsheet'!$C$14:$T$213,Index!B265,Index!A265)),0,INDEX('Trust - Frontsheet'!$C$14:$T$213,Index!B265,Index!A265))","v":0}]
["103704048","Staff_cols:Site_name, Staff_row:Staff_row64","TextBox",{"$f":"IF(ISERROR(INDEX('Trust - Frontsheet'!$C$14:$T$213,Index!B266,Index!A266)),0,INDEX('Trust - Frontsheet'!$C$14:$T$213,Index!B266,Index!A266))","v":0}]
["103704049","Staff_cols:Site_name, Staff_row:Staff_row65","TextBox",{"$f":"IF(ISERROR(INDEX('Trust - Frontsheet'!$C$14:$T$213,Index!B267,Index!A267)),0,INDEX('Trust - Frontsheet'!$C$14:$T$213,Index!B267,Index!A267))","v":0}]
["103704050","Staff_cols:Site_name, Staff_row:Staff_row66","TextBox",{"$f":"IF(ISERROR(INDEX('Trust - Frontsheet'!$C$14:$T$213,Index!B268,Index!A268)),0,INDEX('Trust - Frontsheet'!$C$14:$T$213,Index!B268,Index!A268))","v":0}]
["103704051","Staff_cols:Site_name, Staff_row:Staff_row67","TextBox",{"$f":"IF(ISERROR(INDEX('Trust - Frontsheet'!$C$14:$T$213,Index!B269,Index!A269)),0,INDEX('Trust - Frontsheet'!$C$14:$T$213,Index!B269,Index!A269))","v":0}]
["103704052","Staff_cols:Site_name, Staff_row:Staff_row68","TextBox",{"$f":"IF(ISERROR(INDEX('Trust - Frontsheet'!$C$14:$T$213,Index!B270,Index!A270)),0,INDEX('Trust - Frontsheet'!$C$14:$T$213,Index!B270,Index!A270))","v":0}]
["103704053","Staff_cols:Site_name, Staff_row:Staff_row69","TextBox",{"$f":"IF(ISERROR(INDEX('Trust - Frontsheet'!$C$14:$T$213,Index!B271,Index!A271)),0,INDEX('Trust - Frontsheet'!$C$14:$T$213,Index!B271,Index!A271))","v":0}]
["103704055","Staff_cols:Site_name, Staff_row:Staff_row70","TextBox",{"$f":"IF(ISERROR(INDEX('Trust - Frontsheet'!$C$14:$T$213,Index!B272,Index!A272)),0,INDEX('Trust - Frontsheet'!$C$14:$T$213,Index!B272,Index!A272))","v":0}]
["103704056","Staff_cols:Site_name, Staff_row:Staff_row71","TextBox",{"$f":"IF(ISERROR(INDEX('Trust - Frontsheet'!$C$14:$T$213,Index!B273,Index!A273)),0,INDEX('Trust - Frontsheet'!$C$14:$T$213,Index!B273,Index!A273))","v":0}]
["103704057","Staff_cols:Site_name, Staff_row:Staff_row72","TextBox",{"$f":"IF(ISERROR(INDEX('Trust - Frontsheet'!$C$14:$T$213,Index!B274,Index!A274)),0,INDEX('Trust - Frontsheet'!$C$14:$T$213,Index!B274,Index!A274))","v":0}]
["103704058","Staff_cols:Site_name, Staff_row:Staff_row73","TextBox",{"$f":"IF(ISERROR(INDEX('Trust - Frontsheet'!$C$14:$T$213,Index!B275,Index!A275)),0,INDEX('Trust - Frontsheet'!$C$14:$T$213,Index!B275,Index!A275))","v":0}]
["103704059","Staff_cols:Site_name, Staff_row:Staff_row74","TextBox",{"$f":"IF(ISERROR(INDEX('Trust - Frontsheet'!$C$14:$T$213,Index!B276,Index!A276)),0,INDEX('Trust - Frontsheet'!$C$14:$T$213,Index!B276,Index!A276))","v":0}]
["103704060","Staff_cols:Site_name, Staff_row:Staff_row75","TextBox",{"$f":"IF(ISERROR(INDEX('Trust - Frontsheet'!$C$14:$T$213,Index!B277,Index!A277)),0,INDEX('Trust - Frontsheet'!$C$14:$T$213,Index!B277,Index!A277))","v":0}]
["103704061","Staff_cols:Site_name, Staff_row:Staff_row76","TextBox",{"$f":"IF(ISERROR(INDEX('Trust - Frontsheet'!$C$14:$T$213,Index!B278,Index!A278)),0,INDEX('Trust - Frontsheet'!$C$14:$T$213,Index!B278,Index!A278))","v":0}]
["103704062","Staff_cols:Site_name, Staff_row:Staff_row77","TextBox",{"$f":"IF(ISERROR(INDEX('Trust - Frontsheet'!$C$14:$T$213,Index!B279,Index!A279)),0,INDEX('Trust - Frontsheet'!$C$14:$T$213,Index!B279,Index!A279))","v":0}]
["103704063","Staff_cols:Site_name, Staff_row:Staff_row78","TextBox",{"$f":"IF(ISERROR(INDEX('Trust - Frontsheet'!$C$14:$T$213,Index!B280,Index!A280)),0,INDEX('Trust - Frontsheet'!$C$14:$T$213,Index!B280,Index!A280))","v":0}]
["103704064","Staff_cols:Site_name, Staff_row:Staff_row79","TextBox",{"$f":"IF(ISERROR(INDEX('Trust - Frontsheet'!$C$14:$T$213,Index!B281,Index!A281)),0,INDEX('Trust - Frontsheet'!$C$14:$T$213,Index!B281,Index!A281))","v":0}]
["103704066","Staff_cols:Site_name, Staff_row:Staff_row80","TextBox",{"$f":"IF(ISERROR(INDEX('Trust - Frontsheet'!$C$14:$T$213,Index!B282,Index!A282)),0,INDEX('Trust - Frontsheet'!$C$14:$T$213,Index!B282,Index!A282))","v":0}]
["103704067","Staff_cols:Site_name, Staff_row:Staff_row81","TextBox",{"$f":"IF(ISERROR(INDEX('Trust - Frontsheet'!$C$14:$T$213,Index!B283,Index!A283)),0,INDEX('Trust - Frontsheet'!$C$14:$T$213,Index!B283,Index!A283))","v":0}]
["103704068","Staff_cols:Site_name, Staff_row:Staff_row82","TextBox",{"$f":"IF(ISERROR(INDEX('Trust - Frontsheet'!$C$14:$T$213,Index!B284,Index!A284)),0,INDEX('Trust - Frontsheet'!$C$14:$T$213,Index!B284,Index!A284))","v":0}]
["103704069","Staff_cols:Site_name, Staff_row:Staff_row83","TextBox",{"$f":"IF(ISERROR(INDEX('Trust - Frontsheet'!$C$14:$T$213,Index!B285,Index!A285)),0,INDEX('Trust - Frontsheet'!$C$14:$T$213,Index!B285,Index!A285))","v":0}]
["103704070","Staff_cols:Site_name, Staff_row:Staff_row84","TextBox",{"$f":"IF(ISERROR(INDEX('Trust - Frontsheet'!$C$14:$T$213,Index!B286,Index!A286)),0,INDEX('Trust - Frontsheet'!$C$14:$T$213,Index!B286,Index!A286))","v":0}]
["103704071","Staff_cols:Site_name, Staff_row:Staff_row85","TextBox",{"$f":"IF(ISERROR(INDEX('Trust - Frontsheet'!$C$14:$T$213,Index!B287,Index!A287)),0,INDEX('Trust - Frontsheet'!$C$14:$T$213,Index!B287,Index!A287))","v":0}]
["103704072","Staff_cols:Site_name, Staff_row:Staff_row86","TextBox",{"$f":"IF(ISERROR(INDEX('Trust - Frontsheet'!$C$14:$T$213,Index!B288,Index!A288)),0,INDEX('Trust - Frontsheet'!$C$14:$T$213,Index!B288,Index!A288))","v":0}]
["103704073","Staff_cols:Site_name, Staff_row:Staff_row87","TextBox",{"$f":"IF(ISERROR(INDEX('Trust - Frontsheet'!$C$14:$T$213,Index!B289,Index!A289)),0,INDEX('Trust - Frontsheet'!$C$14:$T$213,Index!B289,Index!A289))","v":0}]
["103704074","Staff_cols:Site_name, Staff_row:Staff_row88","TextBox",{"$f":"IF(ISERROR(INDEX('Trust - Frontsheet'!$C$14:$T$213,Index!B290,Index!A290)),0,INDEX('Trust - Frontsheet'!$C$14:$T$213,Index!B290,Index!A290))","v":0}]
["103704075","Staff_cols:Site_name, Staff_row:Staff_row89","TextBox",{"$f":"IF(ISERROR(INDEX('Trust - Frontsheet'!$C$14:$T$213,Index!B291,Index!A291)),0,INDEX('Trust - Frontsheet'!$C$14:$T$213,Index!B291,Index!A291))","v":0}]
["103704077","Staff_cols:Site_name, Staff_row:Staff_row90","TextBox",{"$f":"IF(ISERROR(INDEX('Trust - Frontsheet'!$C$14:$T$213,Index!B292,Index!A292)),0,INDEX('Trust - Frontsheet'!$C$14:$T$213,Index!B292,Index!A292))","v":0}]
["103704078","Staff_cols:Site_name, Staff_row:Staff_row91","TextBox",{"$f":"IF(ISERROR(INDEX('Trust - Frontsheet'!$C$14:$T$213,Index!B293,Index!A293)),0,INDEX('Trust - Frontsheet'!$C$14:$T$213,Index!B293,Index!A293))","v":0}]
["103704079","Staff_cols:Site_name, Staff_row:Staff_row92","TextBox",{"$f":"IF(ISERROR(INDEX('Trust - Frontsheet'!$C$14:$T$213,Index!B294,Index!A294)),0,INDEX('Trust - Frontsheet'!$C$14:$T$213,Index!B294,Index!A294))","v":0}]
["103704080","Staff_cols:Site_name, Staff_row:Staff_row93","TextBox",{"$f":"IF(ISERROR(INDEX('Trust - Frontsheet'!$C$14:$T$213,Index!B295,Index!A295)),0,INDEX('Trust - Frontsheet'!$C$14:$T$213,Index!B295,Index!A295))","v":0}]
["103704081","Staff_cols:Site_name, Staff_row:Staff_row94","TextBox",{"$f":"IF(ISERROR(INDEX('Trust - Frontsheet'!$C$14:$T$213,Index!B296,Index!A296)),0,INDEX('Trust - Frontsheet'!$C$14:$T$213,Index!B296,Index!A296))","v":0}]
["103704082","Staff_cols:Site_name, Staff_row:Staff_row95","TextBox",{"$f":"IF(ISERROR(INDEX('Trust - Frontsheet'!$C$14:$T$213,Index!B297,Index!A297)),0,INDEX('Trust - Frontsheet'!$C$14:$T$213,Index!B297,Index!A297))","v":0}]
["103704083","Staff_cols:Site_name, Staff_row:Staff_row96","TextBox",{"$f":"IF(ISERROR(INDEX('Trust - Frontsheet'!$C$14:$T$213,Index!B298,Index!A298)),0,INDEX('Trust - Frontsheet'!$C$14:$T$213,Index!B298,Index!A298))","v":0}]
["103704084","Staff_cols:Site_name, Staff_row:Staff_row97","TextBox",{"$f":"IF(ISERROR(INDEX('Trust - Frontsheet'!$C$14:$T$213,Index!B299,Index!A299)),0,INDEX('Trust - Frontsheet'!$C$14:$T$213,Index!B299,Index!A299))","v":0}]
["103704085","Staff_cols:Site_name, Staff_row:Staff_row98","TextBox",{"$f":"IF(ISERROR(INDEX('Trust - Frontsheet'!$C$14:$T$213,Index!B300,Index!A300)),0,INDEX('Trust - Frontsheet'!$C$14:$T$213,Index!B300,Index!A300))","v":0}]
["103704086","Staff_cols:Site_name, Staff_row:Staff_row99","TextBox",{"$f":"IF(ISERROR(INDEX('Trust - Frontsheet'!$C$14:$T$213,Index!B301,Index!A301)),0,INDEX('Trust - Frontsheet'!$C$14:$T$213,Index!B301,Index!A301))","v":0}]
["103703889","Staff_cols:Site_name, Staff_row:Staff_row100","TextBox",{"$f":"IF(ISERROR(INDEX('Trust - Frontsheet'!$C$14:$T$213,Index!B302,Index!A302)),0,INDEX('Trust - Frontsheet'!$C$14:$T$213,Index!B302,Index!A302))","v":0}]
["103703890","Staff_cols:Site_name, Staff_row:Staff_row101","TextBox",{"$f":"IF(ISERROR(INDEX('Trust - Frontsheet'!$C$14:$T$213,Index!B303,Index!A303)),0,INDEX('Trust - Frontsheet'!$C$14:$T$213,Index!B303,Index!A303))","v":0}]
["103703891","Staff_cols:Site_name, Staff_row:Staff_row102","TextBox",{"$f":"IF(ISERROR(INDEX('Trust - Frontsheet'!$C$14:$T$213,Index!B304,Index!A304)),0,INDEX('Trust - Frontsheet'!$C$14:$T$213,Index!B304,Index!A304))","v":0}]
["103703892","Staff_cols:Site_name, Staff_row:Staff_row103","TextBox",{"$f":"IF(ISERROR(INDEX('Trust - Frontsheet'!$C$14:$T$213,Index!B305,Index!A305)),0,INDEX('Trust - Frontsheet'!$C$14:$T$213,Index!B305,Index!A305))","v":0}]
["103703893","Staff_cols:Site_name, Staff_row:Staff_row104","TextBox",{"$f":"IF(ISERROR(INDEX('Trust - Frontsheet'!$C$14:$T$213,Index!B306,Index!A306)),0,INDEX('Trust - Frontsheet'!$C$14:$T$213,Index!B306,Index!A306))","v":0}]
["103703894","Staff_cols:Site_name, Staff_row:Staff_row105","TextBox",{"$f":"IF(ISERROR(INDEX('Trust - Frontsheet'!$C$14:$T$213,Index!B307,Index!A307)),0,INDEX('Trust - Frontsheet'!$C$14:$T$213,Index!B307,Index!A307))","v":0}]
["103703895","Staff_cols:Site_name, Staff_row:Staff_row106","TextBox",{"$f":"IF(ISERROR(INDEX('Trust - Frontsheet'!$C$14:$T$213,Index!B308,Index!A308)),0,INDEX('Trust - Frontsheet'!$C$14:$T$213,Index!B308,Index!A308))","v":0}]
["103703896","Staff_cols:Site_name, Staff_row:Staff_row107","TextBox",{"$f":"IF(ISERROR(INDEX('Trust - Frontsheet'!$C$14:$T$213,Index!B309,Index!A309)),0,INDEX('Trust - Frontsheet'!$C$14:$T$213,Index!B309,Index!A309))","v":0}]
["103703897","Staff_cols:Site_name, Staff_row:Staff_row108","TextBox",{"$f":"IF(ISERROR(INDEX('Trust - Frontsheet'!$C$14:$T$213,Index!B310,Index!A310)),0,INDEX('Trust - Frontsheet'!$C$14:$T$213,Index!B310,Index!A310))","v":0}]
["103703898","Staff_cols:Site_name, Staff_row:Staff_row109","TextBox",{"$f":"IF(ISERROR(INDEX('Trust - Frontsheet'!$C$14:$T$213,Index!B311,Index!A311)),0,INDEX('Trust - Frontsheet'!$C$14:$T$213,Index!B311,Index!A311))","v":0}]
["103703900","Staff_cols:Site_name, Staff_row:Staff_row110","TextBox",{"$f":"IF(ISERROR(INDEX('Trust - Frontsheet'!$C$14:$T$213,Index!B312,Index!A312)),0,INDEX('Trust - Frontsheet'!$C$14:$T$213,Index!B312,Index!A312))","v":0}]
["103703901","Staff_cols:Site_name, Staff_row:Staff_row111","TextBox",{"$f":"IF(ISERROR(INDEX('Trust - Frontsheet'!$C$14:$T$213,Index!B313,Index!A313)),0,INDEX('Trust - Frontsheet'!$C$14:$T$213,Index!B313,Index!A313))","v":0}]
["103703902","Staff_cols:Site_name, Staff_row:Staff_row112","TextBox",{"$f":"IF(ISERROR(INDEX('Trust - Frontsheet'!$C$14:$T$213,Index!B314,Index!A314)),0,INDEX('Trust - Frontsheet'!$C$14:$T$213,Index!B314,Index!A314))","v":0}]
["103703903","Staff_cols:Site_name, Staff_row:Staff_row113","TextBox",{"$f":"IF(ISERROR(INDEX('Trust - Frontsheet'!$C$14:$T$213,Index!B315,Index!A315)),0,INDEX('Trust - Frontsheet'!$C$14:$T$213,Index!B315,Index!A315))","v":0}]
["103703904","Staff_cols:Site_name, Staff_row:Staff_row114","TextBox",{"$f":"IF(ISERROR(INDEX('Trust - Frontsheet'!$C$14:$T$213,Index!B316,Index!A316)),0,INDEX('Trust - Frontsheet'!$C$14:$T$213,Index!B316,Index!A316))","v":0}]
["103703905","Staff_cols:Site_name, Staff_row:Staff_row115","TextBox",{"$f":"IF(ISERROR(INDEX('Trust - Frontsheet'!$C$14:$T$213,Index!B317,Index!A317)),0,INDEX('Trust - Frontsheet'!$C$14:$T$213,Index!B317,Index!A317))","v":0}]
["103703906","Staff_cols:Site_name, Staff_row:Staff_row116","TextBox",{"$f":"IF(ISERROR(INDEX('Trust - Frontsheet'!$C$14:$T$213,Index!B318,Index!A318)),0,INDEX('Trust - Frontsheet'!$C$14:$T$213,Index!B318,Index!A318))","v":0}]
["103703907","Staff_cols:Site_name, Staff_row:Staff_row117","TextBox",{"$f":"IF(ISERROR(INDEX('Trust - Frontsheet'!$C$14:$T$213,Index!B319,Index!A319)),0,INDEX('Trust - Frontsheet'!$C$14:$T$213,Index!B319,Index!A319))","v":0}]
["103703908","Staff_cols:Site_name, Staff_row:Staff_row118","TextBox",{"$f":"IF(ISERROR(INDEX('Trust - Frontsheet'!$C$14:$T$213,Index!B320,Index!A320)),0,INDEX('Trust - Frontsheet'!$C$14:$T$213,Index!B320,Index!A320))","v":0}]
["103703909","Staff_cols:Site_name, Staff_row:Staff_row119","TextBox",{"$f":"IF(ISERROR(INDEX('Trust - Frontsheet'!$C$14:$T$213,Index!B321,Index!A321)),0,INDEX('Trust - Frontsheet'!$C$14:$T$213,Index!B321,Index!A321))","v":0}]
["103703911","Staff_cols:Site_name, Staff_row:Staff_row120","TextBox",{"$f":"IF(ISERROR(INDEX('Trust - Frontsheet'!$C$14:$T$213,Index!B322,Index!A322)),0,INDEX('Trust - Frontsheet'!$C$14:$T$213,Index!B322,Index!A322))","v":0}]
["103703912","Staff_cols:Site_name, Staff_row:Staff_row121","TextBox",{"$f":"IF(ISERROR(INDEX('Trust - Frontsheet'!$C$14:$T$213,Index!B323,Index!A323)),0,INDEX('Trust - Frontsheet'!$C$14:$T$213,Index!B323,Index!A323))","v":0}]
["103703913","Staff_cols:Site_name, Staff_row:Staff_row122","TextBox",{"$f":"IF(ISERROR(INDEX('Trust - Frontsheet'!$C$14:$T$213,Index!B324,Index!A324)),0,INDEX('Trust - Frontsheet'!$C$14:$T$213,Index!B324,Index!A324))","v":0}]
["103703914","Staff_cols:Site_name, Staff_row:Staff_row123","TextBox",{"$f":"IF(ISERROR(INDEX('Trust - Frontsheet'!$C$14:$T$213,Index!B325,Index!A325)),0,INDEX('Trust - Frontsheet'!$C$14:$T$213,Index!B325,Index!A325))","v":0}]
["103703915","Staff_cols:Site_name, Staff_row:Staff_row124","TextBox",{"$f":"IF(ISERROR(INDEX('Trust - Frontsheet'!$C$14:$T$213,Index!B326,Index!A326)),0,INDEX('Trust - Frontsheet'!$C$14:$T$213,Index!B326,Index!A326))","v":0}]
["103703916","Staff_cols:Site_name, Staff_row:Staff_row125","TextBox",{"$f":"IF(ISERROR(INDEX('Trust - Frontsheet'!$C$14:$T$213,Index!B327,Index!A327)),0,INDEX('Trust - Frontsheet'!$C$14:$T$213,Index!B327,Index!A327))","v":0}]
["103703917","Staff_cols:Site_name, Staff_row:Staff_row126","TextBox",{"$f":"IF(ISERROR(INDEX('Trust - Frontsheet'!$C$14:$T$213,Index!B328,Index!A328)),0,INDEX('Trust - Frontsheet'!$C$14:$T$213,Index!B328,Index!A328))","v":0}]
["103703918","Staff_cols:Site_name, Staff_row:Staff_row127","TextBox",{"$f":"IF(ISERROR(INDEX('Trust - Frontsheet'!$C$14:$T$213,Index!B329,Index!A329)),0,INDEX('Trust - Frontsheet'!$C$14:$T$213,Index!B329,Index!A329))","v":0}]
["103703919","Staff_cols:Site_name, Staff_row:Staff_row128","TextBox",{"$f":"IF(ISERROR(INDEX('Trust - Frontsheet'!$C$14:$T$213,Index!B330,Index!A330)),0,INDEX('Trust - Frontsheet'!$C$14:$T$213,Index!B330,Index!A330))","v":0}]
["103703920","Staff_cols:Site_name, Staff_row:Staff_row129","TextBox",{"$f":"IF(ISERROR(INDEX('Trust - Frontsheet'!$C$14:$T$213,Index!B331,Index!A331)),0,INDEX('Trust - Frontsheet'!$C$14:$T$213,Index!B331,Index!A331))","v":0}]
["103703922","Staff_cols:Site_name, Staff_row:Staff_row130","TextBox",{"$f":"IF(ISERROR(INDEX('Trust - Frontsheet'!$C$14:$T$213,Index!B332,Index!A332)),0,INDEX('Trust - Frontsheet'!$C$14:$T$213,Index!B332,Index!A332))","v":0}]
["103703923","Staff_cols:Site_name, Staff_row:Staff_row131","TextBox",{"$f":"IF(ISERROR(INDEX('Trust - Frontsheet'!$C$14:$T$213,Index!B333,Index!A333)),0,INDEX('Trust - Frontsheet'!$C$14:$T$213,Index!B333,Index!A333))","v":0}]
["103703924","Staff_cols:Site_name, Staff_row:Staff_row132","TextBox",{"$f":"IF(ISERROR(INDEX('Trust - Frontsheet'!$C$14:$T$213,Index!B334,Index!A334)),0,INDEX('Trust - Frontsheet'!$C$14:$T$213,Index!B334,Index!A334))","v":0}]
["103703925","Staff_cols:Site_name, Staff_row:Staff_row133","TextBox",{"$f":"IF(ISERROR(INDEX('Trust - Frontsheet'!$C$14:$T$213,Index!B335,Index!A335)),0,INDEX('Trust - Frontsheet'!$C$14:$T$213,Index!B335,Index!A335))","v":0}]
["103703926","Staff_cols:Site_name, Staff_row:Staff_row134","TextBox",{"$f":"IF(ISERROR(INDEX('Trust - Frontsheet'!$C$14:$T$213,Index!B336,Index!A336)),0,INDEX('Trust - Frontsheet'!$C$14:$T$213,Index!B336,Index!A336))","v":0}]
["103703927","Staff_cols:Site_name, Staff_row:Staff_row135","TextBox",{"$f":"IF(ISERROR(INDEX('Trust - Frontsheet'!$C$14:$T$213,Index!B337,Index!A337)),0,INDEX('Trust - Frontsheet'!$C$14:$T$213,Index!B337,Index!A337))","v":0}]
["103703928","Staff_cols:Site_name, Staff_row:Staff_row136","TextBox",{"$f":"IF(ISERROR(INDEX('Trust - Frontsheet'!$C$14:$T$213,Index!B338,Index!A338)),0,INDEX('Trust - Frontsheet'!$C$14:$T$213,Index!B338,Index!A338))","v":0}]
["103703929","Staff_cols:Site_name, Staff_row:Staff_row137","TextBox",{"$f":"IF(ISERROR(INDEX('Trust - Frontsheet'!$C$14:$T$213,Index!B339,Index!A339)),0,INDEX('Trust - Frontsheet'!$C$14:$T$213,Index!B339,Index!A339))","v":0}]
["103703930","Staff_cols:Site_name, Staff_row:Staff_row138","TextBox",{"$f":"IF(ISERROR(INDEX('Trust - Frontsheet'!$C$14:$T$213,Index!B340,Index!A340)),0,INDEX('Trust - Frontsheet'!$C$14:$T$213,Index!B340,Index!A340))","v":0}]
["103703931","Staff_cols:Site_name, Staff_row:Staff_row139","TextBox",{"$f":"IF(ISERROR(INDEX('Trust - Frontsheet'!$C$14:$T$213,Index!B341,Index!A341)),0,INDEX('Trust - Frontsheet'!$C$14:$T$213,Index!B341,Index!A341))","v":0}]
["103703933","Staff_cols:Site_name, Staff_row:Staff_row140","TextBox",{"$f":"IF(ISERROR(INDEX('Trust - Frontsheet'!$C$14:$T$213,Index!B342,Index!A342)),0,INDEX('Trust - Frontsheet'!$C$14:$T$213,Index!B342,Index!A342))","v":0}]
["103703934","Staff_cols:Site_name, Staff_row:Staff_row141","TextBox",{"$f":"IF(ISERROR(INDEX('Trust - Frontsheet'!$C$14:$T$213,Index!B343,Index!A343)),0,INDEX('Trust - Frontsheet'!$C$14:$T$213,Index!B343,Index!A343))","v":0}]
["103703935","Staff_cols:Site_name, Staff_row:Staff_row142","TextBox",{"$f":"IF(ISERROR(INDEX('Trust - Frontsheet'!$C$14:$T$213,Index!B344,Index!A344)),0,INDEX('Trust - Frontsheet'!$C$14:$T$213,Index!B344,Index!A344))","v":0}]
["103703936","Staff_cols:Site_name, Staff_row:Staff_row143","TextBox",{"$f":"IF(ISERROR(INDEX('Trust - Frontsheet'!$C$14:$T$213,Index!B345,Index!A345)),0,INDEX('Trust - Frontsheet'!$C$14:$T$213,Index!B345,Index!A345))","v":0}]
["103703937","Staff_cols:Site_name, Staff_row:Staff_row144","TextBox",{"$f":"IF(ISERROR(INDEX('Trust - Frontsheet'!$C$14:$T$213,Index!B346,Index!A346)),0,INDEX('Trust - Frontsheet'!$C$14:$T$213,Index!B346,Index!A346))","v":0}]
["103703938","Staff_cols:Site_name, Staff_row:Staff_row145","TextBox",{"$f":"IF(ISERROR(INDEX('Trust - Frontsheet'!$C$14:$T$213,Index!B347,Index!A347)),0,INDEX('Trust - Frontsheet'!$C$14:$T$213,Index!B347,Index!A347))","v":0}]
["103703939","Staff_cols:Site_name, Staff_row:Staff_row146","TextBox",{"$f":"IF(ISERROR(INDEX('Trust - Frontsheet'!$C$14:$T$213,Index!B348,Index!A348)),0,INDEX('Trust - Frontsheet'!$C$14:$T$213,Index!B348,Index!A348))","v":0}]
["103703940","Staff_cols:Site_name, Staff_row:Staff_row147","TextBox",{"$f":"IF(ISERROR(INDEX('Trust - Frontsheet'!$C$14:$T$213,Index!B349,Index!A349)),0,INDEX('Trust - Frontsheet'!$C$14:$T$213,Index!B349,Index!A349))","v":0}]
["103703941","Staff_cols:Site_name, Staff_row:Staff_row148","TextBox",{"$f":"IF(ISERROR(INDEX('Trust - Frontsheet'!$C$14:$T$213,Index!B350,Index!A350)),0,INDEX('Trust - Frontsheet'!$C$14:$T$213,Index!B350,Index!A350))","v":0}]
["103703942","Staff_cols:Site_name, Staff_row:Staff_row149","TextBox",{"$f":"IF(ISERROR(INDEX('Trust - Frontsheet'!$C$14:$T$213,Index!B351,Index!A351)),0,INDEX('Trust - Frontsheet'!$C$14:$T$213,Index!B351,Index!A351))","v":0}]
["103703944","Staff_cols:Site_name, Staff_row:Staff_row150","TextBox",{"$f":"IF(ISERROR(INDEX('Trust - Frontsheet'!$C$14:$T$213,Index!B352,Index!A352)),0,INDEX('Trust - Frontsheet'!$C$14:$T$213,Index!B352,Index!A352))","v":0}]
["103703945","Staff_cols:Site_name, Staff_row:Staff_row151","TextBox",{"$f":"IF(ISERROR(INDEX('Trust - Frontsheet'!$C$14:$T$213,Index!B353,Index!A353)),0,INDEX('Trust - Frontsheet'!$C$14:$T$213,Index!B353,Index!A353))","v":0}]
["103703946","Staff_cols:Site_name, Staff_row:Staff_row152","TextBox",{"$f":"IF(ISERROR(INDEX('Trust - Frontsheet'!$C$14:$T$213,Index!B354,Index!A354)),0,INDEX('Trust - Frontsheet'!$C$14:$T$213,Index!B354,Index!A354))","v":0}]
["103703947","Staff_cols:Site_name, Staff_row:Staff_row153","TextBox",{"$f":"IF(ISERROR(INDEX('Trust - Frontsheet'!$C$14:$T$213,Index!B355,Index!A355)),0,INDEX('Trust - Frontsheet'!$C$14:$T$213,Index!B355,Index!A355))","v":0}]
["103703948","Staff_cols:Site_name, Staff_row:Staff_row154","TextBox",{"$f":"IF(ISERROR(INDEX('Trust - Frontsheet'!$C$14:$T$213,Index!B356,Index!A356)),0,INDEX('Trust - Frontsheet'!$C$14:$T$213,Index!B356,Index!A356))","v":0}]
["103703949","Staff_cols:Site_name, Staff_row:Staff_row155","TextBox",{"$f":"IF(ISERROR(INDEX('Trust - Frontsheet'!$C$14:$T$213,Index!B357,Index!A357)),0,INDEX('Trust - Frontsheet'!$C$14:$T$213,Index!B357,Index!A357))","v":0}]
["103703950","Staff_cols:Site_name, Staff_row:Staff_row156","TextBox",{"$f":"IF(ISERROR(INDEX('Trust - Frontsheet'!$C$14:$T$213,Index!B358,Index!A358)),0,INDEX('Trust - Frontsheet'!$C$14:$T$213,Index!B358,Index!A358))","v":0}]
["103703951","Staff_cols:Site_name, Staff_row:Staff_row157","TextBox",{"$f":"IF(ISERROR(INDEX('Trust - Frontsheet'!$C$14:$T$213,Index!B359,Index!A359)),0,INDEX('Trust - Frontsheet'!$C$14:$T$213,Index!B359,Index!A359))","v":0}]
["103703952","Staff_cols:Site_name, Staff_row:Staff_row158","TextBox",{"$f":"IF(ISERROR(INDEX('Trust - Frontsheet'!$C$14:$T$213,Index!B360,Index!A360)),0,INDEX('Trust - Frontsheet'!$C$14:$T$213,Index!B360,Index!A360))","v":0}]
["103703953","Staff_cols:Site_name, Staff_row:Staff_row159","TextBox",{"$f":"IF(ISERROR(INDEX('Trust - Frontsheet'!$C$14:$T$213,Index!B361,Index!A361)),0,INDEX('Trust - Frontsheet'!$C$14:$T$213,Index!B361,Index!A361))","v":0}]
["103703955","Staff_cols:Site_name, Staff_row:Staff_row160","TextBox",{"$f":"IF(ISERROR(INDEX('Trust - Frontsheet'!$C$14:$T$213,Index!B362,Index!A362)),0,INDEX('Trust - Frontsheet'!$C$14:$T$213,Index!B362,Index!A362))","v":0}]
["103703956","Staff_cols:Site_name, Staff_row:Staff_row161","TextBox",{"$f":"IF(ISERROR(INDEX('Trust - Frontsheet'!$C$14:$T$213,Index!B363,Index!A363)),0,INDEX('Trust - Frontsheet'!$C$14:$T$213,Index!B363,Index!A363))","v":0}]
["103703957","Staff_cols:Site_name, Staff_row:Staff_row162","TextBox",{"$f":"IF(ISERROR(INDEX('Trust - Frontsheet'!$C$14:$T$213,Index!B364,Index!A364)),0,INDEX('Trust - Frontsheet'!$C$14:$T$213,Index!B364,Index!A364))","v":0}]
["103703958","Staff_cols:Site_name, Staff_row:Staff_row163","TextBox",{"$f":"IF(ISERROR(INDEX('Trust - Frontsheet'!$C$14:$T$213,Index!B365,Index!A365)),0,INDEX('Trust - Frontsheet'!$C$14:$T$213,Index!B365,Index!A365))","v":0}]
["103703959","Staff_cols:Site_name, Staff_row:Staff_row164","TextBox",{"$f":"IF(ISERROR(INDEX('Trust - Frontsheet'!$C$14:$T$213,Index!B366,Index!A366)),0,INDEX('Trust - Frontsheet'!$C$14:$T$213,Index!B366,Index!A366))","v":0}]
["103703960","Staff_cols:Site_name, Staff_row:Staff_row165","TextBox",{"$f":"IF(ISERROR(INDEX('Trust - Frontsheet'!$C$14:$T$213,Index!B367,Index!A367)),0,INDEX('Trust - Frontsheet'!$C$14:$T$213,Index!B367,Index!A367))","v":0}]
["103703961","Staff_cols:Site_name, Staff_row:Staff_row166","TextBox",{"$f":"IF(ISERROR(INDEX('Trust - Frontsheet'!$C$14:$T$213,Index!B368,Index!A368)),0,INDEX('Trust - Frontsheet'!$C$14:$T$213,Index!B368,Index!A368))","v":0}]
["103703962","Staff_cols:Site_name, Staff_row:Staff_row167","TextBox",{"$f":"IF(ISERROR(INDEX('Trust - Frontsheet'!$C$14:$T$213,Index!B369,Index!A369)),0,INDEX('Trust - Frontsheet'!$C$14:$T$213,Index!B369,Index!A369))","v":0}]
["103703963","Staff_cols:Site_name, Staff_row:Staff_row168","TextBox",{"$f":"IF(ISERROR(INDEX('Trust - Frontsheet'!$C$14:$T$213,Index!B370,Index!A370)),0,INDEX('Trust - Frontsheet'!$C$14:$T$213,Index!B370,Index!A370))","v":0}]
["103703964","Staff_cols:Site_name, Staff_row:Staff_row169","TextBox",{"$f":"IF(ISERROR(INDEX('Trust - Frontsheet'!$C$14:$T$213,Index!B371,Index!A371)),0,INDEX('Trust - Frontsheet'!$C$14:$T$213,Index!B371,Index!A371))","v":0}]
["103703966","Staff_cols:Site_name, Staff_row:Staff_row170","TextBox",{"$f":"IF(ISERROR(INDEX('Trust - Frontsheet'!$C$14:$T$213,Index!B372,Index!A372)),0,INDEX('Trust - Frontsheet'!$C$14:$T$213,Index!B372,Index!A372))","v":0}]
["103703967","Staff_cols:Site_name, Staff_row:Staff_row171","TextBox",{"$f":"IF(ISERROR(INDEX('Trust - Frontsheet'!$C$14:$T$213,Index!B373,Index!A373)),0,INDEX('Trust - Frontsheet'!$C$14:$T$213,Index!B373,Index!A373))","v":0}]
["103703968","Staff_cols:Site_name, Staff_row:Staff_row172","TextBox",{"$f":"IF(ISERROR(INDEX('Trust - Frontsheet'!$C$14:$T$213,Index!B374,Index!A374)),0,INDEX('Trust - Frontsheet'!$C$14:$T$213,Index!B374,Index!A374))","v":0}]
["103703969","Staff_cols:Site_name, Staff_row:Staff_row173","TextBox",{"$f":"IF(ISERROR(INDEX('Trust - Frontsheet'!$C$14:$T$213,Index!B375,Index!A375)),0,INDEX('Trust - Frontsheet'!$C$14:$T$213,Index!B375,Index!A375))","v":0}]
["103703970","Staff_cols:Site_name, Staff_row:Staff_row174","TextBox",{"$f":"IF(ISERROR(INDEX('Trust - Frontsheet'!$C$14:$T$213,Index!B376,Index!A376)),0,INDEX('Trust - Frontsheet'!$C$14:$T$213,Index!B376,Index!A376))","v":0}]
["103703971","Staff_cols:Site_name, Staff_row:Staff_row175","TextBox",{"$f":"IF(ISERROR(INDEX('Trust - Frontsheet'!$C$14:$T$213,Index!B377,Index!A377)),0,INDEX('Trust - Frontsheet'!$C$14:$T$213,Index!B377,Index!A377))","v":0}]
["103703972","Staff_cols:Site_name, Staff_row:Staff_row176","TextBox",{"$f":"IF(ISERROR(INDEX('Trust - Frontsheet'!$C$14:$T$213,Index!B378,Index!A378)),0,INDEX('Trust - Frontsheet'!$C$14:$T$213,Index!B378,Index!A378))","v":0}]
["103703973","Staff_cols:Site_name, Staff_row:Staff_row177","TextBox",{"$f":"IF(ISERROR(INDEX('Trust - Frontsheet'!$C$14:$T$213,Index!B379,Index!A379)),0,INDEX('Trust - Frontsheet'!$C$14:$T$213,Index!B379,Index!A379))","v":0}]
["103703974","Staff_cols:Site_name, Staff_row:Staff_row178","TextBox",{"$f":"IF(ISERROR(INDEX('Trust - Frontsheet'!$C$14:$T$213,Index!B380,Index!A380)),0,INDEX('Trust - Frontsheet'!$C$14:$T$213,Index!B380,Index!A380))","v":0}]
["103703975","Staff_cols:Site_name, Staff_row:Staff_row179","TextBox",{"$f":"IF(ISERROR(INDEX('Trust - Frontsheet'!$C$14:$T$213,Index!B381,Index!A381)),0,INDEX('Trust - Frontsheet'!$C$14:$T$213,Index!B381,Index!A381))","v":0}]
["103703977","Staff_cols:Site_name, Staff_row:Staff_row180","TextBox",{"$f":"IF(ISERROR(INDEX('Trust - Frontsheet'!$C$14:$T$213,Index!B382,Index!A382)),0,INDEX('Trust - Frontsheet'!$C$14:$T$213,Index!B382,Index!A382))","v":0}]
["103703978","Staff_cols:Site_name, Staff_row:Staff_row181","TextBox",{"$f":"IF(ISERROR(INDEX('Trust - Frontsheet'!$C$14:$T$213,Index!B383,Index!A383)),0,INDEX('Trust - Frontsheet'!$C$14:$T$213,Index!B383,Index!A383))","v":0}]
["103703979","Staff_cols:Site_name, Staff_row:Staff_row182","TextBox",{"$f":"IF(ISERROR(INDEX('Trust - Frontsheet'!$C$14:$T$213,Index!B384,Index!A384)),0,INDEX('Trust - Frontsheet'!$C$14:$T$213,Index!B384,Index!A384))","v":0}]
["103703980","Staff_cols:Site_name, Staff_row:Staff_row183","TextBox",{"$f":"IF(ISERROR(INDEX('Trust - Frontsheet'!$C$14:$T$213,Index!B385,Index!A385)),0,INDEX('Trust - Frontsheet'!$C$14:$T$213,Index!B385,Index!A385))","v":0}]
["103703981","Staff_cols:Site_name, Staff_row:Staff_row184","TextBox",{"$f":"IF(ISERROR(INDEX('Trust - Frontsheet'!$C$14:$T$213,Index!B386,Index!A386)),0,INDEX('Trust - Frontsheet'!$C$14:$T$213,Index!B386,Index!A386))","v":0}]
["103703982","Staff_cols:Site_name, Staff_row:Staff_row185","TextBox",{"$f":"IF(ISERROR(INDEX('Trust - Frontsheet'!$C$14:$T$213,Index!B387,Index!A387)),0,INDEX('Trust - Frontsheet'!$C$14:$T$213,Index!B387,Index!A387))","v":0}]
["103703983","Staff_cols:Site_name, Staff_row:Staff_row186","TextBox",{"$f":"IF(ISERROR(INDEX('Trust - Frontsheet'!$C$14:$T$213,Index!B388,Index!A388)),0,INDEX('Trust - Frontsheet'!$C$14:$T$213,Index!B388,Index!A388))","v":0}]
["103703984","Staff_cols:Site_name, Staff_row:Staff_row187","TextBox",{"$f":"IF(ISERROR(INDEX('Trust - Frontsheet'!$C$14:$T$213,Index!B389,Index!A389)),0,INDEX('Trust - Frontsheet'!$C$14:$T$213,Index!B389,Index!A389))","v":0}]
["103703985","Staff_cols:Site_name, Staff_row:Staff_row188","TextBox",{"$f":"IF(ISERROR(INDEX('Trust - Frontsheet'!$C$14:$T$213,Index!B390,Index!A390)),0,INDEX('Trust - Frontsheet'!$C$14:$T$213,Index!B390,Index!A390))","v":0}]
["103703986","Staff_cols:Site_name, Staff_row:Staff_row189","TextBox",{"$f":"IF(ISERROR(INDEX('Trust - Frontsheet'!$C$14:$T$213,Index!B391,Index!A391)),0,INDEX('Trust - Frontsheet'!$C$14:$T$213,Index!B391,Index!A391))","v":0}]
["103703988","Staff_cols:Site_name, Staff_row:Staff_row190","TextBox",{"$f":"IF(ISERROR(INDEX('Trust - Frontsheet'!$C$14:$T$213,Index!B392,Index!A392)),0,INDEX('Trust - Frontsheet'!$C$14:$T$213,Index!B392,Index!A392))","v":0}]
["103703989","Staff_cols:Site_name, Staff_row:Staff_row191","TextBox",{"$f":"IF(ISERROR(INDEX('Trust - Frontsheet'!$C$14:$T$213,Index!B393,Index!A393)),0,INDEX('Trust - Frontsheet'!$C$14:$T$213,Index!B393,Index!A393))","v":0}]
["103703990","Staff_cols:Site_name, Staff_row:Staff_row192","TextBox",{"$f":"IF(ISERROR(INDEX('Trust - Frontsheet'!$C$14:$T$213,Index!B394,Index!A394)),0,INDEX('Trust - Frontsheet'!$C$14:$T$213,Index!B394,Index!A394))","v":0}]
["103703991","Staff_cols:Site_name, Staff_row:Staff_row193","TextBox",{"$f":"IF(ISERROR(INDEX('Trust - Frontsheet'!$C$14:$T$213,Index!B395,Index!A395)),0,INDEX('Trust - Frontsheet'!$C$14:$T$213,Index!B395,Index!A395))","v":0}]
["103703992","Staff_cols:Site_name, Staff_row:Staff_row194","TextBox",{"$f":"IF(ISERROR(INDEX('Trust - Frontsheet'!$C$14:$T$213,Index!B396,Index!A396)),0,INDEX('Trust - Frontsheet'!$C$14:$T$213,Index!B396,Index!A396))","v":0}]
["103703993","Staff_cols:Site_name, Staff_row:Staff_row195","TextBox",{"$f":"IF(ISERROR(INDEX('Trust - Frontsheet'!$C$14:$T$213,Index!B397,Index!A397)),0,INDEX('Trust - Frontsheet'!$C$14:$T$213,Index!B397,Index!A397))","v":0}]
["103703994","Staff_cols:Site_name, Staff_row:Staff_row196","TextBox",{"$f":"IF(ISERROR(INDEX('Trust - Frontsheet'!$C$14:$T$213,Index!B398,Index!A398)),0,INDEX('Trust - Frontsheet'!$C$14:$T$213,Index!B398,Index!A398))","v":0}]
["103703995","Staff_cols:Site_name, Staff_row:Staff_row197","TextBox",{"$f":"IF(ISERROR(INDEX('Trust - Frontsheet'!$C$14:$T$213,Index!B399,Index!A399)),0,INDEX('Trust - Frontsheet'!$C$14:$T$213,Index!B399,Index!A399))","v":0}]
["103703996","Staff_cols:Site_name, Staff_row:Staff_row198","TextBox",{"$f":"IF(ISERROR(INDEX('Trust - Frontsheet'!$C$14:$T$213,Index!B400,Index!A400)),0,INDEX('Trust - Frontsheet'!$C$14:$T$213,Index!B400,Index!A400))","v":0}]
["103703997","Staff_cols:Site_name, Staff_row:Staff_row199","TextBox",{"$f":"IF(ISERROR(INDEX('Trust - Frontsheet'!$C$14:$T$213,Index!B401,Index!A401)),0,INDEX('Trust - Frontsheet'!$C$14:$T$213,Index!B401,Index!A401))","v":0}]
["103704000","Staff_cols:Site_name, Staff_row:Staff_row200","TextBox",{"$f":"IF(ISERROR(INDEX('Trust - Frontsheet'!$C$14:$T$213,Index!B402,Index!A402)),0,INDEX('Trust - Frontsheet'!$C$14:$T$213,Index!B402,Index!A402))","v":0}]
["103704487","Staff_cols:Ward, Staff_row:Staff_row1","TextBox",{"$f":"IF(ISERROR(INDEX('Trust - Frontsheet'!$C$14:$T$213,Index!B403,Index!A403)),0,INDEX('Trust - Frontsheet'!$C$14:$T$213,Index!B403,Index!A403))","v":"Ward 1"}]
["103704598","Staff_cols:Ward, Staff_row:Staff_row2","TextBox",{"$f":"IF(ISERROR(INDEX('Trust - Frontsheet'!$C$14:$T$213,Index!B404,Index!A404)),0,INDEX('Trust - Frontsheet'!$C$14:$T$213,Index!B404,Index!A404))","v":"Ward 2"}]
["103704610","Staff_cols:Ward, Staff_row:Staff_row3","TextBox",{"$f":"IF(ISERROR(INDEX('Trust - Frontsheet'!$C$14:$T$213,Index!B405,Index!A405)),0,INDEX('Trust - Frontsheet'!$C$14:$T$213,Index!B405,Index!A405))","v":"Ward 6"}]
["103704621","Staff_cols:Ward, Staff_row:Staff_row4","TextBox",{"$f":"IF(ISERROR(INDEX('Trust - Frontsheet'!$C$14:$T$213,Index!B406,Index!A406)),0,INDEX('Trust - Frontsheet'!$C$14:$T$213,Index!B406,Index!A406))","v":"EAU"}]
["103704632","Staff_cols:Ward, Staff_row:Staff_row5","TextBox",{"$f":"IF(ISERROR(INDEX('Trust - Frontsheet'!$C$14:$T$213,Index!B407,Index!A407)),0,INDEX('Trust - Frontsheet'!$C$14:$T$213,Index!B407,Index!A407))","v":"Acute Care Unit/High Dependency Unit"}]
["103704643","Staff_cols:Ward, Staff_row:Staff_row6","TextBox",{"$f":"IF(ISERROR(INDEX('Trust - Frontsheet'!$C$14:$T$213,Index!B408,Index!A408)),0,INDEX('Trust - Frontsheet'!$C$14:$T$213,Index!B408,Index!A408))","v":"Ashby"}]
["103704654","Staff_cols:Ward, Staff_row:Staff_row7","TextBox",{"$f":"IF(ISERROR(INDEX('Trust - Frontsheet'!$C$14:$T$213,Index!B409,Index!A409)),0,INDEX('Trust - Frontsheet'!$C$14:$T$213,Index!B409,Index!A409))","v":"Bardney"}]
["103704665","Staff_cols:Ward, Staff_row:Staff_row8","TextBox",{"$f":"IF(ISERROR(INDEX('Trust - Frontsheet'!$C$14:$T$213,Index!B410,Index!A410)),0,INDEX('Trust - Frontsheet'!$C$14:$T$213,Index!B410,Index!A410))","v":"Branston"}]
["103704676","Staff_cols:Ward, Staff_row:Staff_row9","TextBox",{"$f":"IF(ISERROR(INDEX('Trust - Frontsheet'!$C$14:$T$213,Index!B411,Index!A411)),0,INDEX('Trust - Frontsheet'!$C$14:$T$213,Index!B411,Index!A411))","v":"Burton"}]
["103704488","Staff_cols:Ward, Staff_row:Staff_row10","TextBox",{"$f":"IF(ISERROR(INDEX('Trust - Frontsheet'!$C$14:$T$213,Index!B412,Index!A412)),0,INDEX('Trust - Frontsheet'!$C$14:$T$213,Index!B412,Index!A412))","v":"Carlton Coleby"}]
["103704499","Staff_cols:Ward, Staff_row:Staff_row11","TextBox",{"$f":"IF(ISERROR(INDEX('Trust - Frontsheet'!$C$14:$T$213,Index!B413,Index!A413)),0,INDEX('Trust - Frontsheet'!$C$14:$T$213,Index!B413,Index!A413))","v":"Clayton"}]
["103704510","Staff_cols:Ward, Staff_row:Staff_row12","TextBox",{"$f":"IF(ISERROR(INDEX('Trust - Frontsheet'!$C$14:$T$213,Index!B414,Index!A414)),0,INDEX('Trust - Frontsheet'!$C$14:$T$213,Index!B414,Index!A414))","v":"Dixon"}]
["103704521","Staff_cols:Ward, Staff_row:Staff_row13","TextBox",{"$f":"IF(ISERROR(INDEX('Trust - Frontsheet'!$C$14:$T$213,Index!B415,Index!A415)),0,INDEX('Trust - Frontsheet'!$C$14:$T$213,Index!B415,Index!A415))","v":"Digby"}]
["103704532","Staff_cols:Ward, Staff_row:Staff_row14","TextBox",{"$f":"IF(ISERROR(INDEX('Trust - Frontsheet'!$C$14:$T$213,Index!B416,Index!A416)),0,INDEX('Trust - Frontsheet'!$C$14:$T$213,Index!B416,Index!A416))","v":"Greetwell"}]
["103704543","Staff_cols:Ward, Staff_row:Staff_row15","TextBox",{"$f":"IF(ISERROR(INDEX('Trust - Frontsheet'!$C$14:$T$213,Index!B417,Index!A417)),0,INDEX('Trust - Frontsheet'!$C$14:$T$213,Index!B417,Index!A417))","v":"Hatton"}]
["103704554","Staff_cols:Ward, Staff_row:Staff_row16","TextBox",{"$f":"IF(ISERROR(INDEX('Trust - Frontsheet'!$C$14:$T$213,Index!B418,Index!A418)),0,INDEX('Trust - Frontsheet'!$C$14:$T$213,Index!B418,Index!A418))","v":"ICU"}]
["103704565","Staff_cols:Ward, Staff_row:Staff_row17","TextBox",{"$f":"IF(ISERROR(INDEX('Trust - Frontsheet'!$C$14:$T$213,Index!B419,Index!A419)),0,INDEX('Trust - Frontsheet'!$C$14:$T$213,Index!B419,Index!A419))","v":"Johnson"}]
["103704576","Staff_cols:Ward, Staff_row:Staff_row18","TextBox",{"$f":"IF(ISERROR(INDEX('Trust - Frontsheet'!$C$14:$T$213,Index!B420,Index!A420)),0,INDEX('Trust - Frontsheet'!$C$14:$T$213,Index!B420,Index!A420))","v":"Lancaster"}]
["103704587","Staff_cols:Ward, Staff_row:Staff_row19","TextBox",{"$f":"IF(ISERROR(INDEX('Trust - Frontsheet'!$C$14:$T$213,Index!B421,Index!A421)),0,INDEX('Trust - Frontsheet'!$C$14:$T$213,Index!B421,Index!A421))","v":"Navenby"}]
["103704599","Staff_cols:Ward, Staff_row:Staff_row20","TextBox",{"$f":"IF(ISERROR(INDEX('Trust - Frontsheet'!$C$14:$T$213,Index!B422,Index!A422)),0,INDEX('Trust - Frontsheet'!$C$14:$T$213,Index!B422,Index!A422))","v":"Nettleham"}]
["103704601","Staff_cols:Ward, Staff_row:Staff_row21","TextBox",{"$f":"IF(ISERROR(INDEX('Trust - Frontsheet'!$C$14:$T$213,Index!B423,Index!A423)),0,INDEX('Trust - Frontsheet'!$C$14:$T$213,Index!B423,Index!A423))","v":"Neustadt Welton"}]
["103704602","Staff_cols:Ward, Staff_row:Staff_row22","TextBox",{"$f":"IF(ISERROR(INDEX('Trust - Frontsheet'!$C$14:$T$213,Index!B424,Index!A424)),0,INDEX('Trust - Frontsheet'!$C$14:$T$213,Index!B424,Index!A424))","v":"Nocton"}]
["103704603","Staff_cols:Ward, Staff_row:Staff_row23","TextBox",{"$f":"IF(ISERROR(INDEX('Trust - Frontsheet'!$C$14:$T$213,Index!B425,Index!A425)),0,INDEX('Trust - Frontsheet'!$C$14:$T$213,Index!B425,Index!A425))","v":"Rainforest"}]
["103704604","Staff_cols:Ward, Staff_row:Staff_row24","TextBox",{"$f":"IF(ISERROR(INDEX('Trust - Frontsheet'!$C$14:$T$213,Index!B426,Index!A426)),0,INDEX('Trust - Frontsheet'!$C$14:$T$213,Index!B426,Index!A426))","v":"Scampton"}]
["103704605","Staff_cols:Ward, Staff_row:Staff_row25","TextBox",{"$f":"IF(ISERROR(INDEX('Trust - Frontsheet'!$C$14:$T$213,Index!B427,Index!A427)),0,INDEX('Trust - Frontsheet'!$C$14:$T$213,Index!B427,Index!A427))","v":"Shuttleworth"}]
["103704606","Staff_cols:Ward, Staff_row:Staff_row26","TextBox",{"$f":"IF(ISERROR(INDEX('Trust - Frontsheet'!$C$14:$T$213,Index!B428,Index!A428)),0,INDEX('Trust - Frontsheet'!$C$14:$T$213,Index!B428,Index!A428))","v":"Stroke Unit"}]
["103704607","Staff_cols:Ward, Staff_row:Staff_row27","TextBox",{"$f":"IF(ISERROR(INDEX('Trust - Frontsheet'!$C$14:$T$213,Index!B429,Index!A429)),0,INDEX('Trust - Frontsheet'!$C$14:$T$213,Index!B429,Index!A429))","v":"Waddington Unit"}]
["103704608","Staff_cols:Ward, Staff_row:Staff_row28","TextBox",{"$f":"IF(ISERROR(INDEX('Trust - Frontsheet'!$C$14:$T$213,Index!B430,Index!A430)),0,INDEX('Trust - Frontsheet'!$C$14:$T$213,Index!B430,Index!A430))","v":"MEAU"}]
["103704609","Staff_cols:Ward, Staff_row:Staff_row29","TextBox",{"$f":"IF(ISERROR(INDEX('Trust - Frontsheet'!$C$14:$T$213,Index!B431,Index!A431)),0,INDEX('Trust - Frontsheet'!$C$14:$T$213,Index!B431,Index!A431))","v":"SEAU"}]
["103704611","Staff_cols:Ward, Staff_row:Staff_row30","TextBox",{"$f":"IF(ISERROR(INDEX('Trust - Frontsheet'!$C$14:$T$213,Index!B432,Index!A432)),0,INDEX('Trust - Frontsheet'!$C$14:$T$213,Index!B432,Index!A432))","v":"Acute Cardiac Unit (formerly Coronary Care Unit)"}]
["103704612","Staff_cols:Ward, Staff_row:Staff_row31","TextBox",{"$f":"IF(ISERROR(INDEX('Trust - Frontsheet'!$C$14:$T$213,Index!B433,Index!A433)),0,INDEX('Trust - Frontsheet'!$C$14:$T$213,Index!B433,Index!A433))","v":"Labour Ward"}]
["103704613","Staff_cols:Ward, Staff_row:Staff_row32","TextBox",{"$f":"IF(ISERROR(INDEX('Trust - Frontsheet'!$C$14:$T$213,Index!B434,Index!A434)),0,INDEX('Trust - Frontsheet'!$C$14:$T$213,Index!B434,Index!A434))","v":"Neonatal"}]
["103704614","Staff_cols:Ward, Staff_row:Staff_row33","TextBox",{"$f":"IF(ISERROR(INDEX('Trust - Frontsheet'!$C$14:$T$213,Index!B435,Index!A435)),0,INDEX('Trust - Frontsheet'!$C$14:$T$213,Index!B435,Index!A435))","v":"Stroke Unit"}]
["103704615","Staff_cols:Ward, Staff_row:Staff_row34","TextBox",{"$f":"IF(ISERROR(INDEX('Trust - Frontsheet'!$C$14:$T$213,Index!B436,Index!A436)),0,INDEX('Trust - Frontsheet'!$C$14:$T$213,Index!B436,Index!A436))","v":"3A"}]
["103704616","Staff_cols:Ward, Staff_row:Staff_row35","TextBox",{"$f":"IF(ISERROR(INDEX('Trust - Frontsheet'!$C$14:$T$213,Index!B437,Index!A437)),0,INDEX('Trust - Frontsheet'!$C$14:$T$213,Index!B437,Index!A437))","v":"3B"}]
["103704617","Staff_cols:Ward, Staff_row:Staff_row36","TextBox",{"$f":"IF(ISERROR(INDEX('Trust - Frontsheet'!$C$14:$T$213,Index!B438,Index!A438)),0,INDEX('Trust - Frontsheet'!$C$14:$T$213,Index!B438,Index!A438))","v":"4A"}]
["103704618","Staff_cols:Ward, Staff_row:Staff_row37","TextBox",{"$f":"IF(ISERROR(INDEX('Trust - Frontsheet'!$C$14:$T$213,Index!B439,Index!A439)),0,INDEX('Trust - Frontsheet'!$C$14:$T$213,Index!B439,Index!A439))","v":"5A"}]
["103704619","Staff_cols:Ward, Staff_row:Staff_row38","TextBox",{"$f":"IF(ISERROR(INDEX('Trust - Frontsheet'!$C$14:$T$213,Index!B440,Index!A440)),0,INDEX('Trust - Frontsheet'!$C$14:$T$213,Index!B440,Index!A440))","v":"5B"}]
["103704620","Staff_cols:Ward, Staff_row:Staff_row39","TextBox",{"$f":"IF(ISERROR(INDEX('Trust - Frontsheet'!$C$14:$T$213,Index!B441,Index!A441)),0,INDEX('Trust - Frontsheet'!$C$14:$T$213,Index!B441,Index!A441))","v":"6A"}]
["103704622","Staff_cols:Ward, Staff_row:Staff_row40","TextBox",{"$f":"IF(ISERROR(INDEX('Trust - Frontsheet'!$C$14:$T$213,Index!B442,Index!A442)),0,INDEX('Trust - Frontsheet'!$C$14:$T$213,Index!B442,Index!A442))","v":"6B"}]
["103704623","Staff_cols:Ward, Staff_row:Staff_row41","TextBox",{"$f":"IF(ISERROR(INDEX('Trust - Frontsheet'!$C$14:$T$213,Index!B443,Index!A443)),0,INDEX('Trust - Frontsheet'!$C$14:$T$213,Index!B443,Index!A443))","v":"7A"}]
["103704624","Staff_cols:Ward, Staff_row:Staff_row42","TextBox",{"$f":"IF(ISERROR(INDEX('Trust - Frontsheet'!$C$14:$T$213,Index!B444,Index!A444)),0,INDEX('Trust - Frontsheet'!$C$14:$T$213,Index!B444,Index!A444))","v":"7B"}]
["103704625","Staff_cols:Ward, Staff_row:Staff_row43","TextBox",{"$f":"IF(ISERROR(INDEX('Trust - Frontsheet'!$C$14:$T$213,Index!B445,Index!A445)),0,INDEX('Trust - Frontsheet'!$C$14:$T$213,Index!B445,Index!A445))","v":"8A"}]
["103704626","Staff_cols:Ward, Staff_row:Staff_row44","TextBox",{"$f":"IF(ISERROR(INDEX('Trust - Frontsheet'!$C$14:$T$213,Index!B446,Index!A446)),0,INDEX('Trust - Frontsheet'!$C$14:$T$213,Index!B446,Index!A446))","v":"M2"}]
["103704627","Staff_cols:Ward, Staff_row:Staff_row45","TextBox",{"$f":"IF(ISERROR(INDEX('Trust - Frontsheet'!$C$14:$T$213,Index!B447,Index!A447)),0,INDEX('Trust - Frontsheet'!$C$14:$T$213,Index!B447,Index!A447))","v":"AMU (formerly CDU)"}]
["103704628","Staff_cols:Ward, Staff_row:Staff_row46","TextBox",{"$f":"IF(ISERROR(INDEX('Trust - Frontsheet'!$C$14:$T$213,Index!B448,Index!A448)),0,INDEX('Trust - Frontsheet'!$C$14:$T$213,Index!B448,Index!A448))","v":"Bostonian"}]
["103704629","Staff_cols:Ward, Staff_row:Staff_row47","TextBox",{"$f":"IF(ISERROR(INDEX('Trust - Frontsheet'!$C$14:$T$213,Index!B449,Index!A449)),0,INDEX('Trust - Frontsheet'!$C$14:$T$213,Index!B449,Index!A449))","v":"ICU"}]
["103704630","Staff_cols:Ward, Staff_row:Staff_row48","TextBox",{"$f":"IF(ISERROR(INDEX('Trust - Frontsheet'!$C$14:$T$213,Index!B450,Index!A450)),0,INDEX('Trust - Frontsheet'!$C$14:$T$213,Index!B450,Index!A450))","v":0}]
["103704631","Staff_cols:Ward, Staff_row:Staff_row49","TextBox",{"$f":"IF(ISERROR(INDEX('Trust - Frontsheet'!$C$14:$T$213,Index!B451,Index!A451)),0,INDEX('Trust - Frontsheet'!$C$14:$T$213,Index!B451,Index!A451))","v":0}]
["103704633","Staff_cols:Ward, Staff_row:Staff_row50","TextBox",{"$f":"IF(ISERROR(INDEX('Trust - Frontsheet'!$C$14:$T$213,Index!B452,Index!A452)),0,INDEX('Trust - Frontsheet'!$C$14:$T$213,Index!B452,Index!A452))","v":0}]
["103704634","Staff_cols:Ward, Staff_row:Staff_row51","TextBox",{"$f":"IF(ISERROR(INDEX('Trust - Frontsheet'!$C$14:$T$213,Index!B453,Index!A453)),0,INDEX('Trust - Frontsheet'!$C$14:$T$213,Index!B453,Index!A453))","v":0}]
["103704635","Staff_cols:Ward, Staff_row:Staff_row52","TextBox",{"$f":"IF(ISERROR(INDEX('Trust - Frontsheet'!$C$14:$T$213,Index!B454,Index!A454)),0,INDEX('Trust - Frontsheet'!$C$14:$T$213,Index!B454,Index!A454))","v":0}]
["103704636","Staff_cols:Ward, Staff_row:Staff_row53","TextBox",{"$f":"IF(ISERROR(INDEX('Trust - Frontsheet'!$C$14:$T$213,Index!B455,Index!A455)),0,INDEX('Trust - Frontsheet'!$C$14:$T$213,Index!B455,Index!A455))","v":0}]
["103704637","Staff_cols:Ward, Staff_row:Staff_row54","TextBox",{"$f":"IF(ISERROR(INDEX('Trust - Frontsheet'!$C$14:$T$213,Index!B456,Index!A456)),0,INDEX('Trust - Frontsheet'!$C$14:$T$213,Index!B456,Index!A456))","v":0}]
["103704638","Staff_cols:Ward, Staff_row:Staff_row55","TextBox",{"$f":"IF(ISERROR(INDEX('Trust - Frontsheet'!$C$14:$T$213,Index!B457,Index!A457)),0,INDEX('Trust - Frontsheet'!$C$14:$T$213,Index!B457,Index!A457))","v":0}]
["103704639","Staff_cols:Ward, Staff_row:Staff_row56","TextBox",{"$f":"IF(ISERROR(INDEX('Trust - Frontsheet'!$C$14:$T$213,Index!B458,Index!A458)),0,INDEX('Trust - Frontsheet'!$C$14:$T$213,Index!B458,Index!A458))","v":0}]
["103704640","Staff_cols:Ward, Staff_row:Staff_row57","TextBox",{"$f":"IF(ISERROR(INDEX('Trust - Frontsheet'!$C$14:$T$213,Index!B459,Index!A459)),0,INDEX('Trust - Frontsheet'!$C$14:$T$213,Index!B459,Index!A459))","v":0}]
["103704641","Staff_cols:Ward, Staff_row:Staff_row58","TextBox",{"$f":"IF(ISERROR(INDEX('Trust - Frontsheet'!$C$14:$T$213,Index!B460,Index!A460)),0,INDEX('Trust - Frontsheet'!$C$14:$T$213,Index!B460,Index!A460))","v":0}]
["103704642","Staff_cols:Ward, Staff_row:Staff_row59","TextBox",{"$f":"IF(ISERROR(INDEX('Trust - Frontsheet'!$C$14:$T$213,Index!B461,Index!A461)),0,INDEX('Trust - Frontsheet'!$C$14:$T$213,Index!B461,Index!A461))","v":0}]
["103704644","Staff_cols:Ward, Staff_row:Staff_row60","TextBox",{"$f":"IF(ISERROR(INDEX('Trust - Frontsheet'!$C$14:$T$213,Index!B462,Index!A462)),0,INDEX('Trust - Frontsheet'!$C$14:$T$213,Index!B462,Index!A462))","v":0}]
["103704645","Staff_cols:Ward, Staff_row:Staff_row61","TextBox",{"$f":"IF(ISERROR(INDEX('Trust - Frontsheet'!$C$14:$T$213,Index!B463,Index!A463)),0,INDEX('Trust - Frontsheet'!$C$14:$T$213,Index!B463,Index!A463))","v":0}]
["103704646","Staff_cols:Ward, Staff_row:Staff_row62","TextBox",{"$f":"IF(ISERROR(INDEX('Trust - Frontsheet'!$C$14:$T$213,Index!B464,Index!A464)),0,INDEX('Trust - Frontsheet'!$C$14:$T$213,Index!B464,Index!A464))","v":0}]
["103704647","Staff_cols:Ward, Staff_row:Staff_row63","TextBox",{"$f":"IF(ISERROR(INDEX('Trust - Frontsheet'!$C$14:$T$213,Index!B465,Index!A465)),0,INDEX('Trust - Frontsheet'!$C$14:$T$213,Index!B465,Index!A465))","v":0}]
["103704648","Staff_cols:Ward, Staff_row:Staff_row64","TextBox",{"$f":"IF(ISERROR(INDEX('Trust - Frontsheet'!$C$14:$T$213,Index!B466,Index!A466)),0,INDEX('Trust - Frontsheet'!$C$14:$T$213,Index!B466,Index!A466))","v":0}]
["103704649","Staff_cols:Ward, Staff_row:Staff_row65","TextBox",{"$f":"IF(ISERROR(INDEX('Trust - Frontsheet'!$C$14:$T$213,Index!B467,Index!A467)),0,INDEX('Trust - Frontsheet'!$C$14:$T$213,Index!B467,Index!A467))","v":0}]
["103704650","Staff_cols:Ward, Staff_row:Staff_row66","TextBox",{"$f":"IF(ISERROR(INDEX('Trust - Frontsheet'!$C$14:$T$213,Index!B468,Index!A468)),0,INDEX('Trust - Frontsheet'!$C$14:$T$213,Index!B468,Index!A468))","v":0}]
["103704651","Staff_cols:Ward, Staff_row:Staff_row67","TextBox",{"$f":"IF(ISERROR(INDEX('Trust - Frontsheet'!$C$14:$T$213,Index!B469,Index!A469)),0,INDEX('Trust - Frontsheet'!$C$14:$T$213,Index!B469,Index!A469))","v":0}]
["103704652","Staff_cols:Ward, Staff_row:Staff_row68","TextBox",{"$f":"IF(ISERROR(INDEX('Trust - Frontsheet'!$C$14:$T$213,Index!B470,Index!A470)),0,INDEX('Trust - Frontsheet'!$C$14:$T$213,Index!B470,Index!A470))","v":0}]
["103704653","Staff_cols:Ward, Staff_row:Staff_row69","TextBox",{"$f":"IF(ISERROR(INDEX('Trust - Frontsheet'!$C$14:$T$213,Index!B471,Index!A471)),0,INDEX('Trust - Frontsheet'!$C$14:$T$213,Index!B471,Index!A471))","v":0}]
["103704655","Staff_cols:Ward, Staff_row:Staff_row70","TextBox",{"$f":"IF(ISERROR(INDEX('Trust - Frontsheet'!$C$14:$T$213,Index!B472,Index!A472)),0,INDEX('Trust - Frontsheet'!$C$14:$T$213,Index!B472,Index!A472))","v":0}]
["103704656","Staff_cols:Ward, Staff_row:Staff_row71","TextBox",{"$f":"IF(ISERROR(INDEX('Trust - Frontsheet'!$C$14:$T$213,Index!B473,Index!A473)),0,INDEX('Trust - Frontsheet'!$C$14:$T$213,Index!B473,Index!A473))","v":0}]
["103704657","Staff_cols:Ward, Staff_row:Staff_row72","TextBox",{"$f":"IF(ISERROR(INDEX('Trust - Frontsheet'!$C$14:$T$213,Index!B474,Index!A474)),0,INDEX('Trust - Frontsheet'!$C$14:$T$213,Index!B474,Index!A474))","v":0}]
["103704658","Staff_cols:Ward, Staff_row:Staff_row73","TextBox",{"$f":"IF(ISERROR(INDEX('Trust - Frontsheet'!$C$14:$T$213,Index!B475,Index!A475)),0,INDEX('Trust - Frontsheet'!$C$14:$T$213,Index!B475,Index!A475))","v":0}]
["103704659","Staff_cols:Ward, Staff_row:Staff_row74","TextBox",{"$f":"IF(ISERROR(INDEX('Trust - Frontsheet'!$C$14:$T$213,Index!B476,Index!A476)),0,INDEX('Trust - Frontsheet'!$C$14:$T$213,Index!B476,Index!A476))","v":0}]
["103704660","Staff_cols:Ward, Staff_row:Staff_row75","TextBox",{"$f":"IF(ISERROR(INDEX('Trust - Frontsheet'!$C$14:$T$213,Index!B477,Index!A477)),0,INDEX('Trust - Frontsheet'!$C$14:$T$213,Index!B477,Index!A477))","v":0}]
["103704661","Staff_cols:Ward, Staff_row:Staff_row76","TextBox",{"$f":"IF(ISERROR(INDEX('Trust - Frontsheet'!$C$14:$T$213,Index!B478,Index!A478)),0,INDEX('Trust - Frontsheet'!$C$14:$T$213,Index!B478,Index!A478))","v":0}]
["103704662","Staff_cols:Ward, Staff_row:Staff_row77","TextBox",{"$f":"IF(ISERROR(INDEX('Trust - Frontsheet'!$C$14:$T$213,Index!B479,Index!A479)),0,INDEX('Trust - Frontsheet'!$C$14:$T$213,Index!B479,Index!A479))","v":0}]
["103704663","Staff_cols:Ward, Staff_row:Staff_row78","TextBox",{"$f":"IF(ISERROR(INDEX('Trust - Frontsheet'!$C$14:$T$213,Index!B480,Index!A480)),0,INDEX('Trust - Frontsheet'!$C$14:$T$213,Index!B480,Index!A480))","v":0}]
["103704664","Staff_cols:Ward, Staff_row:Staff_row79","TextBox",{"$f":"IF(ISERROR(INDEX('Trust - Frontsheet'!$C$14:$T$213,Index!B481,Index!A481)),0,INDEX('Trust - Frontsheet'!$C$14:$T$213,Index!B481,Index!A481))","v":0}]
["103704666","Staff_cols:Ward, Staff_row:Staff_row80","TextBox",{"$f":"IF(ISERROR(INDEX('Trust - Frontsheet'!$C$14:$T$213,Index!B482,Index!A482)),0,INDEX('Trust - Frontsheet'!$C$14:$T$213,Index!B482,Index!A482))","v":0}]
["103704667","Staff_cols:Ward, Staff_row:Staff_row81","TextBox",{"$f":"IF(ISERROR(INDEX('Trust - Frontsheet'!$C$14:$T$213,Index!B483,Index!A483)),0,INDEX('Trust - Frontsheet'!$C$14:$T$213,Index!B483,Index!A483))","v":0}]
["103704668","Staff_cols:Ward, Staff_row:Staff_row82","TextBox",{"$f":"IF(ISERROR(INDEX('Trust - Frontsheet'!$C$14:$T$213,Index!B484,Index!A484)),0,INDEX('Trust - Frontsheet'!$C$14:$T$213,Index!B484,Index!A484))","v":0}]
["103704669","Staff_cols:Ward, Staff_row:Staff_row83","TextBox",{"$f":"IF(ISERROR(INDEX('Trust - Frontsheet'!$C$14:$T$213,Index!B485,Index!A485)),0,INDEX('Trust - Frontsheet'!$C$14:$T$213,Index!B485,Index!A485))","v":0}]
["103704670","Staff_cols:Ward, Staff_row:Staff_row84","TextBox",{"$f":"IF(ISERROR(INDEX('Trust - Frontsheet'!$C$14:$T$213,Index!B486,Index!A486)),0,INDEX('Trust - Frontsheet'!$C$14:$T$213,Index!B486,Index!A486))","v":0}]
["103704671","Staff_cols:Ward, Staff_row:Staff_row85","TextBox",{"$f":"IF(ISERROR(INDEX('Trust - Frontsheet'!$C$14:$T$213,Index!B487,Index!A487)),0,INDEX('Trust - Frontsheet'!$C$14:$T$213,Index!B487,Index!A487))","v":0}]
["103704672","Staff_cols:Ward, Staff_row:Staff_row86","TextBox",{"$f":"IF(ISERROR(INDEX('Trust - Frontsheet'!$C$14:$T$213,Index!B488,Index!A488)),0,INDEX('Trust - Frontsheet'!$C$14:$T$213,Index!B488,Index!A488))","v":0}]
["103704673","Staff_cols:Ward, Staff_row:Staff_row87","TextBox",{"$f":"IF(ISERROR(INDEX('Trust - Frontsheet'!$C$14:$T$213,Index!B489,Index!A489)),0,INDEX('Trust - Frontsheet'!$C$14:$T$213,Index!B489,Index!A489))","v":0}]
["103704674","Staff_cols:Ward, Staff_row:Staff_row88","TextBox",{"$f":"IF(ISERROR(INDEX('Trust - Frontsheet'!$C$14:$T$213,Index!B490,Index!A490)),0,INDEX('Trust - Frontsheet'!$C$14:$T$213,Index!B490,Index!A490))","v":0}]
["103704675","Staff_cols:Ward, Staff_row:Staff_row89","TextBox",{"$f":"IF(ISERROR(INDEX('Trust - Frontsheet'!$C$14:$T$213,Index!B491,Index!A491)),0,INDEX('Trust - Frontsheet'!$C$14:$T$213,Index!B491,Index!A491))","v":0}]
["103704677","Staff_cols:Ward, Staff_row:Staff_row90","TextBox",{"$f":"IF(ISERROR(INDEX('Trust - Frontsheet'!$C$14:$T$213,Index!B492,Index!A492)),0,INDEX('Trust - Frontsheet'!$C$14:$T$213,Index!B492,Index!A492))","v":0}]
["103704678","Staff_cols:Ward, Staff_row:Staff_row91","TextBox",{"$f":"IF(ISERROR(INDEX('Trust - Frontsheet'!$C$14:$T$213,Index!B493,Index!A493)),0,INDEX('Trust - Frontsheet'!$C$14:$T$213,Index!B493,Index!A493))","v":0}]
["103704679","Staff_cols:Ward, Staff_row:Staff_row92","TextBox",{"$f":"IF(ISERROR(INDEX('Trust - Frontsheet'!$C$14:$T$213,Index!B494,Index!A494)),0,INDEX('Trust - Frontsheet'!$C$14:$T$213,Index!B494,Index!A494))","v":0}]
["103704680","Staff_cols:Ward, Staff_row:Staff_row93","TextBox",{"$f":"IF(ISERROR(INDEX('Trust - Frontsheet'!$C$14:$T$213,Index!B495,Index!A495)),0,INDEX('Trust - Frontsheet'!$C$14:$T$213,Index!B495,Index!A495))","v":0}]
["103704681","Staff_cols:Ward, Staff_row:Staff_row94","TextBox",{"$f":"IF(ISERROR(INDEX('Trust - Frontsheet'!$C$14:$T$213,Index!B496,Index!A496)),0,INDEX('Trust - Frontsheet'!$C$14:$T$213,Index!B496,Index!A496))","v":0}]
["103704682","Staff_cols:Ward, Staff_row:Staff_row95","TextBox",{"$f":"IF(ISERROR(INDEX('Trust - Frontsheet'!$C$14:$T$213,Index!B497,Index!A497)),0,INDEX('Trust - Frontsheet'!$C$14:$T$213,Index!B497,Index!A497))","v":0}]
["103704683","Staff_cols:Ward, Staff_row:Staff_row96","TextBox",{"$f":"IF(ISERROR(INDEX('Trust - Frontsheet'!$C$14:$T$213,Index!B498,Index!A498)),0,INDEX('Trust - Frontsheet'!$C$14:$T$213,Index!B498,Index!A498))","v":0}]
["103704684","Staff_cols:Ward, Staff_row:Staff_row97","TextBox",{"$f":"IF(ISERROR(INDEX('Trust - Frontsheet'!$C$14:$T$213,Index!B499,Index!A499)),0,INDEX('Trust - Frontsheet'!$C$14:$T$213,Index!B499,Index!A499))","v":0}]
["103704685","Staff_cols:Ward, Staff_row:Staff_row98","TextBox",{"$f":"IF(ISERROR(INDEX('Trust - Frontsheet'!$C$14:$T$213,Index!B500,Index!A500)),0,INDEX('Trust - Frontsheet'!$C$14:$T$213,Index!B500,Index!A500))","v":0}]
["103704686","Staff_cols:Ward, Staff_row:Staff_row99","TextBox",{"$f":"IF(ISERROR(INDEX('Trust - Frontsheet'!$C$14:$T$213,Index!B501,Index!A501)),0,INDEX('Trust - Frontsheet'!$C$14:$T$213,Index!B501,Index!A501))","v":0}]
["103704489","Staff_cols:Ward, Staff_row:Staff_row100","TextBox",{"$f":"IF(ISERROR(INDEX('Trust - Frontsheet'!$C$14:$T$213,Index!B502,Index!A502)),0,INDEX('Trust - Frontsheet'!$C$14:$T$213,Index!B502,Index!A502))","v":0}]
["103704490","Staff_cols:Ward, Staff_row:Staff_row101","TextBox",{"$f":"IF(ISERROR(INDEX('Trust - Frontsheet'!$C$14:$T$213,Index!B503,Index!A503)),0,INDEX('Trust - Frontsheet'!$C$14:$T$213,Index!B503,Index!A503))","v":0}]
["103704491","Staff_cols:Ward, Staff_row:Staff_row102","TextBox",{"$f":"IF(ISERROR(INDEX('Trust - Frontsheet'!$C$14:$T$213,Index!B504,Index!A504)),0,INDEX('Trust - Frontsheet'!$C$14:$T$213,Index!B504,Index!A504))","v":0}]
["103704492","Staff_cols:Ward, Staff_row:Staff_row103","TextBox",{"$f":"IF(ISERROR(INDEX('Trust - Frontsheet'!$C$14:$T$213,Index!B505,Index!A505)),0,INDEX('Trust - Frontsheet'!$C$14:$T$213,Index!B505,Index!A505))","v":0}]
["103704493","Staff_cols:Ward, Staff_row:Staff_row104","TextBox",{"$f":"IF(ISERROR(INDEX('Trust - Frontsheet'!$C$14:$T$213,Index!B506,Index!A506)),0,INDEX('Trust - Frontsheet'!$C$14:$T$213,Index!B506,Index!A506))","v":0}]
["103704494","Staff_cols:Ward, Staff_row:Staff_row105","TextBox",{"$f":"IF(ISERROR(INDEX('Trust - Frontsheet'!$C$14:$T$213,Index!B507,Index!A507)),0,INDEX('Trust - Frontsheet'!$C$14:$T$213,Index!B507,Index!A507))","v":0}]
["103704495","Staff_cols:Ward, Staff_row:Staff_row106","TextBox",{"$f":"IF(ISERROR(INDEX('Trust - Frontsheet'!$C$14:$T$213,Index!B508,Index!A508)),0,INDEX('Trust - Frontsheet'!$C$14:$T$213,Index!B508,Index!A508))","v":0}]
["103704496","Staff_cols:Ward, Staff_row:Staff_row107","TextBox",{"$f":"IF(ISERROR(INDEX('Trust - Frontsheet'!$C$14:$T$213,Index!B509,Index!A509)),0,INDEX('Trust - Frontsheet'!$C$14:$T$213,Index!B509,Index!A509))","v":0}]
["103704497","Staff_cols:Ward, Staff_row:Staff_row108","TextBox",{"$f":"IF(ISERROR(INDEX('Trust - Frontsheet'!$C$14:$T$213,Index!B510,Index!A510)),0,INDEX('Trust - Frontsheet'!$C$14:$T$213,Index!B510,Index!A510))","v":0}]
["103704498","Staff_cols:Ward, Staff_row:Staff_row109","TextBox",{"$f":"IF(ISERROR(INDEX('Trust - Frontsheet'!$C$14:$T$213,Index!B511,Index!A511)),0,INDEX('Trust - Frontsheet'!$C$14:$T$213,Index!B511,Index!A511))","v":0}]
["103704500","Staff_cols:Ward, Staff_row:Staff_row110","TextBox",{"$f":"IF(ISERROR(INDEX('Trust - Frontsheet'!$C$14:$T$213,Index!B512,Index!A512)),0,INDEX('Trust - Frontsheet'!$C$14:$T$213,Index!B512,Index!A512))","v":0}]
["103704501","Staff_cols:Ward, Staff_row:Staff_row111","TextBox",{"$f":"IF(ISERROR(INDEX('Trust - Frontsheet'!$C$14:$T$213,Index!B513,Index!A513)),0,INDEX('Trust - Frontsheet'!$C$14:$T$213,Index!B513,Index!A513))","v":0}]
["103704502","Staff_cols:Ward, Staff_row:Staff_row112","TextBox",{"$f":"IF(ISERROR(INDEX('Trust - Frontsheet'!$C$14:$T$213,Index!B514,Index!A514)),0,INDEX('Trust - Frontsheet'!$C$14:$T$213,Index!B514,Index!A514))","v":0}]
["103704503","Staff_cols:Ward, Staff_row:Staff_row113","TextBox",{"$f":"IF(ISERROR(INDEX('Trust - Frontsheet'!$C$14:$T$213,Index!B515,Index!A515)),0,INDEX('Trust - Frontsheet'!$C$14:$T$213,Index!B515,Index!A515))","v":0}]
["103704504","Staff_cols:Ward, Staff_row:Staff_row114","TextBox",{"$f":"IF(ISERROR(INDEX('Trust - Frontsheet'!$C$14:$T$213,Index!B516,Index!A516)),0,INDEX('Trust - Frontsheet'!$C$14:$T$213,Index!B516,Index!A516))","v":0}]
["103704505","Staff_cols:Ward, Staff_row:Staff_row115","TextBox",{"$f":"IF(ISERROR(INDEX('Trust - Frontsheet'!$C$14:$T$213,Index!B517,Index!A517)),0,INDEX('Trust - Frontsheet'!$C$14:$T$213,Index!B517,Index!A517))","v":0}]
["103704506","Staff_cols:Ward, Staff_row:Staff_row116","TextBox",{"$f":"IF(ISERROR(INDEX('Trust - Frontsheet'!$C$14:$T$213,Index!B518,Index!A518)),0,INDEX('Trust - Frontsheet'!$C$14:$T$213,Index!B518,Index!A518))","v":0}]
["103704507","Staff_cols:Ward, Staff_row:Staff_row117","TextBox",{"$f":"IF(ISERROR(INDEX('Trust - Frontsheet'!$C$14:$T$213,Index!B519,Index!A519)),0,INDEX('Trust - Frontsheet'!$C$14:$T$213,Index!B519,Index!A519))","v":0}]
["103704508","Staff_cols:Ward, Staff_row:Staff_row118","TextBox",{"$f":"IF(ISERROR(INDEX('Trust - Frontsheet'!$C$14:$T$213,Index!B520,Index!A520)),0,INDEX('Trust - Frontsheet'!$C$14:$T$213,Index!B520,Index!A520))","v":0}]
["103704509","Staff_cols:Ward, Staff_row:Staff_row119","TextBox",{"$f":"IF(ISERROR(INDEX('Trust - Frontsheet'!$C$14:$T$213,Index!B521,Index!A521)),0,INDEX('Trust - Frontsheet'!$C$14:$T$213,Index!B521,Index!A521))","v":0}]
["103704511","Staff_cols:Ward, Staff_row:Staff_row120","TextBox",{"$f":"IF(ISERROR(INDEX('Trust - Frontsheet'!$C$14:$T$213,Index!B522,Index!A522)),0,INDEX('Trust - Frontsheet'!$C$14:$T$213,Index!B522,Index!A522))","v":0}]
["103704512","Staff_cols:Ward, Staff_row:Staff_row121","TextBox",{"$f":"IF(ISERROR(INDEX('Trust - Frontsheet'!$C$14:$T$213,Index!B523,Index!A523)),0,INDEX('Trust - Frontsheet'!$C$14:$T$213,Index!B523,Index!A523))","v":0}]
["103704513","Staff_cols:Ward, Staff_row:Staff_row122","TextBox",{"$f":"IF(ISERROR(INDEX('Trust - Frontsheet'!$C$14:$T$213,Index!B524,Index!A524)),0,INDEX('Trust - Frontsheet'!$C$14:$T$213,Index!B524,Index!A524))","v":0}]
["103704514","Staff_cols:Ward, Staff_row:Staff_row123","TextBox",{"$f":"IF(ISERROR(INDEX('Trust - Frontsheet'!$C$14:$T$213,Index!B525,Index!A525)),0,INDEX('Trust - Frontsheet'!$C$14:$T$213,Index!B525,Index!A525))","v":0}]
["103704515","Staff_cols:Ward, Staff_row:Staff_row124","TextBox",{"$f":"IF(ISERROR(INDEX('Trust - Frontsheet'!$C$14:$T$213,Index!B526,Index!A526)),0,INDEX('Trust - Frontsheet'!$C$14:$T$213,Index!B526,Index!A526))","v":0}]
["103704516","Staff_cols:Ward, Staff_row:Staff_row125","TextBox",{"$f":"IF(ISERROR(INDEX('Trust - Frontsheet'!$C$14:$T$213,Index!B527,Index!A527)),0,INDEX('Trust - Frontsheet'!$C$14:$T$213,Index!B527,Index!A527))","v":0}]
["103704517","Staff_cols:Ward, Staff_row:Staff_row126","TextBox",{"$f":"IF(ISERROR(INDEX('Trust - Frontsheet'!$C$14:$T$213,Index!B528,Index!A528)),0,INDEX('Trust - Frontsheet'!$C$14:$T$213,Index!B528,Index!A528))","v":0}]
["103704518","Staff_cols:Ward, Staff_row:Staff_row127","TextBox",{"$f":"IF(ISERROR(INDEX('Trust - Frontsheet'!$C$14:$T$213,Index!B529,Index!A529)),0,INDEX('Trust - Frontsheet'!$C$14:$T$213,Index!B529,Index!A529))","v":0}]
["103704519","Staff_cols:Ward, Staff_row:Staff_row128","TextBox",{"$f":"IF(ISERROR(INDEX('Trust - Frontsheet'!$C$14:$T$213,Index!B530,Index!A530)),0,INDEX('Trust - Frontsheet'!$C$14:$T$213,Index!B530,Index!A530))","v":0}]
["103704520","Staff_cols:Ward, Staff_row:Staff_row129","TextBox",{"$f":"IF(ISERROR(INDEX('Trust - Frontsheet'!$C$14:$T$213,Index!B531,Index!A531)),0,INDEX('Trust - Frontsheet'!$C$14:$T$213,Index!B531,Index!A531))","v":0}]
["103704522","Staff_cols:Ward, Staff_row:Staff_row130","TextBox",{"$f":"IF(ISERROR(INDEX('Trust - Frontsheet'!$C$14:$T$213,Index!B532,Index!A532)),0,INDEX('Trust - Frontsheet'!$C$14:$T$213,Index!B532,Index!A532))","v":0}]
["103704523","Staff_cols:Ward, Staff_row:Staff_row131","TextBox",{"$f":"IF(ISERROR(INDEX('Trust - Frontsheet'!$C$14:$T$213,Index!B533,Index!A533)),0,INDEX('Trust - Frontsheet'!$C$14:$T$213,Index!B533,Index!A533))","v":0}]
["103704524","Staff_cols:Ward, Staff_row:Staff_row132","TextBox",{"$f":"IF(ISERROR(INDEX('Trust - Frontsheet'!$C$14:$T$213,Index!B534,Index!A534)),0,INDEX('Trust - Frontsheet'!$C$14:$T$213,Index!B534,Index!A534))","v":0}]
["103704525","Staff_cols:Ward, Staff_row:Staff_row133","TextBox",{"$f":"IF(ISERROR(INDEX('Trust - Frontsheet'!$C$14:$T$213,Index!B535,Index!A535)),0,INDEX('Trust - Frontsheet'!$C$14:$T$213,Index!B535,Index!A535))","v":0}]
["103704526","Staff_cols:Ward, Staff_row:Staff_row134","TextBox",{"$f":"IF(ISERROR(INDEX('Trust - Frontsheet'!$C$14:$T$213,Index!B536,Index!A536)),0,INDEX('Trust - Frontsheet'!$C$14:$T$213,Index!B536,Index!A536))","v":0}]
["103704527","Staff_cols:Ward, Staff_row:Staff_row135","TextBox",{"$f":"IF(ISERROR(INDEX('Trust - Frontsheet'!$C$14:$T$213,Index!B537,Index!A537)),0,INDEX('Trust - Frontsheet'!$C$14:$T$213,Index!B537,Index!A537))","v":0}]
["103704528","Staff_cols:Ward, Staff_row:Staff_row136","TextBox",{"$f":"IF(ISERROR(INDEX('Trust - Frontsheet'!$C$14:$T$213,Index!B538,Index!A538)),0,INDEX('Trust - Frontsheet'!$C$14:$T$213,Index!B538,Index!A538))","v":0}]
["103704529","Staff_cols:Ward, Staff_row:Staff_row137","TextBox",{"$f":"IF(ISERROR(INDEX('Trust - Frontsheet'!$C$14:$T$213,Index!B539,Index!A539)),0,INDEX('Trust - Frontsheet'!$C$14:$T$213,Index!B539,Index!A539))","v":0}]
["103704530","Staff_cols:Ward, Staff_row:Staff_row138","TextBox",{"$f":"IF(ISERROR(INDEX('Trust - Frontsheet'!$C$14:$T$213,Index!B540,Index!A540)),0,INDEX('Trust - Frontsheet'!$C$14:$T$213,Index!B540,Index!A540))","v":0}]
["103704531","Staff_cols:Ward, Staff_row:Staff_row139","TextBox",{"$f":"IF(ISERROR(INDEX('Trust - Frontsheet'!$C$14:$T$213,Index!B541,Index!A541)),0,INDEX('Trust - Frontsheet'!$C$14:$T$213,Index!B541,Index!A541))","v":0}]
["103704533","Staff_cols:Ward, Staff_row:Staff_row140","TextBox",{"$f":"IF(ISERROR(INDEX('Trust - Frontsheet'!$C$14:$T$213,Index!B542,Index!A542)),0,INDEX('Trust - Frontsheet'!$C$14:$T$213,Index!B542,Index!A542))","v":0}]
["103704534","Staff_cols:Ward, Staff_row:Staff_row141","TextBox",{"$f":"IF(ISERROR(INDEX('Trust - Frontsheet'!$C$14:$T$213,Index!B543,Index!A543)),0,INDEX('Trust - Frontsheet'!$C$14:$T$213,Index!B543,Index!A543))","v":0}]
["103704535","Staff_cols:Ward, Staff_row:Staff_row142","TextBox",{"$f":"IF(ISERROR(INDEX('Trust - Frontsheet'!$C$14:$T$213,Index!B544,Index!A544)),0,INDEX('Trust - Frontsheet'!$C$14:$T$213,Index!B544,Index!A544))","v":0}]
["103704536","Staff_cols:Ward, Staff_row:Staff_row143","TextBox",{"$f":"IF(ISERROR(INDEX('Trust - Frontsheet'!$C$14:$T$213,Index!B545,Index!A545)),0,INDEX('Trust - Frontsheet'!$C$14:$T$213,Index!B545,Index!A545))","v":0}]
["103704537","Staff_cols:Ward, Staff_row:Staff_row144","TextBox",{"$f":"IF(ISERROR(INDEX('Trust - Frontsheet'!$C$14:$T$213,Index!B546,Index!A546)),0,INDEX('Trust - Frontsheet'!$C$14:$T$213,Index!B546,Index!A546))","v":0}]
["103704538","Staff_cols:Ward, Staff_row:Staff_row145","TextBox",{"$f":"IF(ISERROR(INDEX('Trust - Frontsheet'!$C$14:$T$213,Index!B547,Index!A547)),0,INDEX('Trust - Frontsheet'!$C$14:$T$213,Index!B547,Index!A547))","v":0}]
["103704539","Staff_cols:Ward, Staff_row:Staff_row146","TextBox",{"$f":"IF(ISERROR(INDEX('Trust - Frontsheet'!$C$14:$T$213,Index!B548,Index!A548)),0,INDEX('Trust - Frontsheet'!$C$14:$T$213,Index!B548,Index!A548))","v":0}]
["103704540","Staff_cols:Ward, Staff_row:Staff_row147","TextBox",{"$f":"IF(ISERROR(INDEX('Trust - Frontsheet'!$C$14:$T$213,Index!B549,Index!A549)),0,INDEX('Trust - Frontsheet'!$C$14:$T$213,Index!B549,Index!A549))","v":0}]
["103704541","Staff_cols:Ward, Staff_row:Staff_row148","TextBox",{"$f":"IF(ISERROR(INDEX('Trust - Frontsheet'!$C$14:$T$213,Index!B550,Index!A550)),0,INDEX('Trust - Frontsheet'!$C$14:$T$213,Index!B550,Index!A550))","v":0}]
["103704542","Staff_cols:Ward, Staff_row:Staff_row149","TextBox",{"$f":"IF(ISERROR(INDEX('Trust - Frontsheet'!$C$14:$T$213,Index!B551,Index!A551)),0,INDEX('Trust - Frontsheet'!$C$14:$T$213,Index!B551,Index!A551))","v":0}]
["103704544","Staff_cols:Ward, Staff_row:Staff_row150","TextBox",{"$f":"IF(ISERROR(INDEX('Trust - Frontsheet'!$C$14:$T$213,Index!B552,Index!A552)),0,INDEX('Trust - Frontsheet'!$C$14:$T$213,Index!B552,Index!A552))","v":0}]
["103704545","Staff_cols:Ward, Staff_row:Staff_row151","TextBox",{"$f":"IF(ISERROR(INDEX('Trust - Frontsheet'!$C$14:$T$213,Index!B553,Index!A553)),0,INDEX('Trust - Frontsheet'!$C$14:$T$213,Index!B553,Index!A553))","v":0}]
["103704546","Staff_cols:Ward, Staff_row:Staff_row152","TextBox",{"$f":"IF(ISERROR(INDEX('Trust - Frontsheet'!$C$14:$T$213,Index!B554,Index!A554)),0,INDEX('Trust - Frontsheet'!$C$14:$T$213,Index!B554,Index!A554))","v":0}]
["103704547","Staff_cols:Ward, Staff_row:Staff_row153","TextBox",{"$f":"IF(ISERROR(INDEX('Trust - Frontsheet'!$C$14:$T$213,Index!B555,Index!A555)),0,INDEX('Trust - Frontsheet'!$C$14:$T$213,Index!B555,Index!A555))","v":0}]
["103704548","Staff_cols:Ward, Staff_row:Staff_row154","TextBox",{"$f":"IF(ISERROR(INDEX('Trust - Frontsheet'!$C$14:$T$213,Index!B556,Index!A556)),0,INDEX('Trust - Frontsheet'!$C$14:$T$213,Index!B556,Index!A556))","v":0}]
["103704549","Staff_cols:Ward, Staff_row:Staff_row155","TextBox",{"$f":"IF(ISERROR(INDEX('Trust - Frontsheet'!$C$14:$T$213,Index!B557,Index!A557)),0,INDEX('Trust - Frontsheet'!$C$14:$T$213,Index!B557,Index!A557))","v":0}]
["103704550","Staff_cols:Ward, Staff_row:Staff_row156","TextBox",{"$f":"IF(ISERROR(INDEX('Trust - Frontsheet'!$C$14:$T$213,Index!B558,Index!A558)),0,INDEX('Trust - Frontsheet'!$C$14:$T$213,Index!B558,Index!A558))","v":0}]
["103704551","Staff_cols:Ward, Staff_row:Staff_row157","TextBox",{"$f":"IF(ISERROR(INDEX('Trust - Frontsheet'!$C$14:$T$213,Index!B559,Index!A559)),0,INDEX('Trust - Frontsheet'!$C$14:$T$213,Index!B559,Index!A559))","v":0}]
["103704552","Staff_cols:Ward, Staff_row:Staff_row158","TextBox",{"$f":"IF(ISERROR(INDEX('Trust - Frontsheet'!$C$14:$T$213,Index!B560,Index!A560)),0,INDEX('Trust - Frontsheet'!$C$14:$T$213,Index!B560,Index!A560))","v":0}]
["103704553","Staff_cols:Ward, Staff_row:Staff_row159","TextBox",{"$f":"IF(ISERROR(INDEX('Trust - Frontsheet'!$C$14:$T$213,Index!B561,Index!A561)),0,INDEX('Trust - Frontsheet'!$C$14:$T$213,Index!B561,Index!A561))","v":0}]
["103704555","Staff_cols:Ward, Staff_row:Staff_row160","TextBox",{"$f":"IF(ISERROR(INDEX('Trust - Frontsheet'!$C$14:$T$213,Index!B562,Index!A562)),0,INDEX('Trust - Frontsheet'!$C$14:$T$213,Index!B562,Index!A562))","v":0}]
["103704556","Staff_cols:Ward, Staff_row:Staff_row161","TextBox",{"$f":"IF(ISERROR(INDEX('Trust - Frontsheet'!$C$14:$T$213,Index!B563,Index!A563)),0,INDEX('Trust - Frontsheet'!$C$14:$T$213,Index!B563,Index!A563))","v":0}]
["103704557","Staff_cols:Ward, Staff_row:Staff_row162","TextBox",{"$f":"IF(ISERROR(INDEX('Trust - Frontsheet'!$C$14:$T$213,Index!B564,Index!A564)),0,INDEX('Trust - Frontsheet'!$C$14:$T$213,Index!B564,Index!A564))","v":0}]
["103704558","Staff_cols:Ward, Staff_row:Staff_row163","TextBox",{"$f":"IF(ISERROR(INDEX('Trust - Frontsheet'!$C$14:$T$213,Index!B565,Index!A565)),0,INDEX('Trust - Frontsheet'!$C$14:$T$213,Index!B565,Index!A565))","v":0}]
["103704559","Staff_cols:Ward, Staff_row:Staff_row164","TextBox",{"$f":"IF(ISERROR(INDEX('Trust - Frontsheet'!$C$14:$T$213,Index!B566,Index!A566)),0,INDEX('Trust - Frontsheet'!$C$14:$T$213,Index!B566,Index!A566))","v":0}]
["103704560","Staff_cols:Ward, Staff_row:Staff_row165","TextBox",{"$f":"IF(ISERROR(INDEX('Trust - Frontsheet'!$C$14:$T$213,Index!B567,Index!A567)),0,INDEX('Trust - Frontsheet'!$C$14:$T$213,Index!B567,Index!A567))","v":0}]
["103704561","Staff_cols:Ward, Staff_row:Staff_row166","TextBox",{"$f":"IF(ISERROR(INDEX('Trust - Frontsheet'!$C$14:$T$213,Index!B568,Index!A568)),0,INDEX('Trust - Frontsheet'!$C$14:$T$213,Index!B568,Index!A568))","v":0}]
["103704562","Staff_cols:Ward, Staff_row:Staff_row167","TextBox",{"$f":"IF(ISERROR(INDEX('Trust - Frontsheet'!$C$14:$T$213,Index!B569,Index!A569)),0,INDEX('Trust - Frontsheet'!$C$14:$T$213,Index!B569,Index!A569))","v":0}]
["103704563","Staff_cols:Ward, Staff_row:Staff_row168","TextBox",{"$f":"IF(ISERROR(INDEX('Trust - Frontsheet'!$C$14:$T$213,Index!B570,Index!A570)),0,INDEX('Trust - Frontsheet'!$C$14:$T$213,Index!B570,Index!A570))","v":0}]
["103704564","Staff_cols:Ward, Staff_row:Staff_row169","TextBox",{"$f":"IF(ISERROR(INDEX('Trust - Frontsheet'!$C$14:$T$213,Index!B571,Index!A571)),0,INDEX('Trust - Frontsheet'!$C$14:$T$213,Index!B571,Index!A571))","v":0}]
["103704566","Staff_cols:Ward, Staff_row:Staff_row170","TextBox",{"$f":"IF(ISERROR(INDEX('Trust - Frontsheet'!$C$14:$T$213,Index!B572,Index!A572)),0,INDEX('Trust - Frontsheet'!$C$14:$T$213,Index!B572,Index!A572))","v":0}]
["103704567","Staff_cols:Ward, Staff_row:Staff_row171","TextBox",{"$f":"IF(ISERROR(INDEX('Trust - Frontsheet'!$C$14:$T$213,Index!B573,Index!A573)),0,INDEX('Trust - Frontsheet'!$C$14:$T$213,Index!B573,Index!A573))","v":0}]
["103704568","Staff_cols:Ward, Staff_row:Staff_row172","TextBox",{"$f":"IF(ISERROR(INDEX('Trust - Frontsheet'!$C$14:$T$213,Index!B574,Index!A574)),0,INDEX('Trust - Frontsheet'!$C$14:$T$213,Index!B574,Index!A574))","v":0}]
["103704569","Staff_cols:Ward, Staff_row:Staff_row173","TextBox",{"$f":"IF(ISERROR(INDEX('Trust - Frontsheet'!$C$14:$T$213,Index!B575,Index!A575)),0,INDEX('Trust - Frontsheet'!$C$14:$T$213,Index!B575,Index!A575))","v":0}]
["103704570","Staff_cols:Ward, Staff_row:Staff_row174","TextBox",{"$f":"IF(ISERROR(INDEX('Trust - Frontsheet'!$C$14:$T$213,Index!B576,Index!A576)),0,INDEX('Trust - Frontsheet'!$C$14:$T$213,Index!B576,Index!A576))","v":0}]
["103704571","Staff_cols:Ward, Staff_row:Staff_row175","TextBox",{"$f":"IF(ISERROR(INDEX('Trust - Frontsheet'!$C$14:$T$213,Index!B577,Index!A577)),0,INDEX('Trust - Frontsheet'!$C$14:$T$213,Index!B577,Index!A577))","v":0}]
["103704572","Staff_cols:Ward, Staff_row:Staff_row176","TextBox",{"$f":"IF(ISERROR(INDEX('Trust - Frontsheet'!$C$14:$T$213,Index!B578,Index!A578)),0,INDEX('Trust - Frontsheet'!$C$14:$T$213,Index!B578,Index!A578))","v":0}]
["103704573","Staff_cols:Ward, Staff_row:Staff_row177","TextBox",{"$f":"IF(ISERROR(INDEX('Trust - Frontsheet'!$C$14:$T$213,Index!B579,Index!A579)),0,INDEX('Trust - Frontsheet'!$C$14:$T$213,Index!B579,Index!A579))","v":0}]
["103704574","Staff_cols:Ward, Staff_row:Staff_row178","TextBox",{"$f":"IF(ISERROR(INDEX('Trust - Frontsheet'!$C$14:$T$213,Index!B580,Index!A580)),0,INDEX('Trust - Frontsheet'!$C$14:$T$213,Index!B580,Index!A580))","v":0}]
["103704575","Staff_cols:Ward, Staff_row:Staff_row179","TextBox",{"$f":"IF(ISERROR(INDEX('Trust - Frontsheet'!$C$14:$T$213,Index!B581,Index!A581)),0,INDEX('Trust - Frontsheet'!$C$14:$T$213,Index!B581,Index!A581))","v":0}]
["103704577","Staff_cols:Ward, Staff_row:Staff_row180","TextBox",{"$f":"IF(ISERROR(INDEX('Trust - Frontsheet'!$C$14:$T$213,Index!B582,Index!A582)),0,INDEX('Trust - Frontsheet'!$C$14:$T$213,Index!B582,Index!A582))","v":0}]
["103704578","Staff_cols:Ward, Staff_row:Staff_row181","TextBox",{"$f":"IF(ISERROR(INDEX('Trust - Frontsheet'!$C$14:$T$213,Index!B583,Index!A583)),0,INDEX('Trust - Frontsheet'!$C$14:$T$213,Index!B583,Index!A583))","v":0}]
["103704579","Staff_cols:Ward, Staff_row:Staff_row182","TextBox",{"$f":"IF(ISERROR(INDEX('Trust - Frontsheet'!$C$14:$T$213,Index!B584,Index!A584)),0,INDEX('Trust - Frontsheet'!$C$14:$T$213,Index!B584,Index!A584))","v":0}]
["103704580","Staff_cols:Ward, Staff_row:Staff_row183","TextBox",{"$f":"IF(ISERROR(INDEX('Trust - Frontsheet'!$C$14:$T$213,Index!B585,Index!A585)),0,INDEX('Trust - Frontsheet'!$C$14:$T$213,Index!B585,Index!A585))","v":0}]
["103704581","Staff_cols:Ward, Staff_row:Staff_row184","TextBox",{"$f":"IF(ISERROR(INDEX('Trust - Frontsheet'!$C$14:$T$213,Index!B586,Index!A586)),0,INDEX('Trust - Frontsheet'!$C$14:$T$213,Index!B586,Index!A586))","v":0}]
["103704582","Staff_cols:Ward, Staff_row:Staff_row185","TextBox",{"$f":"IF(ISERROR(INDEX('Trust - Frontsheet'!$C$14:$T$213,Index!B587,Index!A587)),0,INDEX('Trust - Frontsheet'!$C$14:$T$213,Index!B587,Index!A587))","v":0}]
["103704583","Staff_cols:Ward, Staff_row:Staff_row186","TextBox",{"$f":"IF(ISERROR(INDEX('Trust - Frontsheet'!$C$14:$T$213,Index!B588,Index!A588)),0,INDEX('Trust - Frontsheet'!$C$14:$T$213,Index!B588,Index!A588))","v":0}]
["103704584","Staff_cols:Ward, Staff_row:Staff_row187","TextBox",{"$f":"IF(ISERROR(INDEX('Trust - Frontsheet'!$C$14:$T$213,Index!B589,Index!A589)),0,INDEX('Trust - Frontsheet'!$C$14:$T$213,Index!B589,Index!A589))","v":0}]
["103704585","Staff_cols:Ward, Staff_row:Staff_row188","TextBox",{"$f":"IF(ISERROR(INDEX('Trust - Frontsheet'!$C$14:$T$213,Index!B590,Index!A590)),0,INDEX('Trust - Frontsheet'!$C$14:$T$213,Index!B590,Index!A590))","v":0}]
["103704586","Staff_cols:Ward, Staff_row:Staff_row189","TextBox",{"$f":"IF(ISERROR(INDEX('Trust - Frontsheet'!$C$14:$T$213,Index!B591,Index!A591)),0,INDEX('Trust - Frontsheet'!$C$14:$T$213,Index!B591,Index!A591))","v":0}]
["103704588","Staff_cols:Ward, Staff_row:Staff_row190","TextBox",{"$f":"IF(ISERROR(INDEX('Trust - Frontsheet'!$C$14:$T$213,Index!B592,Index!A592)),0,INDEX('Trust - Frontsheet'!$C$14:$T$213,Index!B592,Index!A592))","v":0}]
["103704589","Staff_cols:Ward, Staff_row:Staff_row191","TextBox",{"$f":"IF(ISERROR(INDEX('Trust - Frontsheet'!$C$14:$T$213,Index!B593,Index!A593)),0,INDEX('Trust - Frontsheet'!$C$14:$T$213,Index!B593,Index!A593))","v":0}]
["103704590","Staff_cols:Ward, Staff_row:Staff_row192","TextBox",{"$f":"IF(ISERROR(INDEX('Trust - Frontsheet'!$C$14:$T$213,Index!B594,Index!A594)),0,INDEX('Trust - Frontsheet'!$C$14:$T$213,Index!B594,Index!A594))","v":0}]
["103704591","Staff_cols:Ward, Staff_row:Staff_row193","TextBox",{"$f":"IF(ISERROR(INDEX('Trust - Frontsheet'!$C$14:$T$213,Index!B595,Index!A595)),0,INDEX('Trust - Frontsheet'!$C$14:$T$213,Index!B595,Index!A595))","v":0}]
["103704592","Staff_cols:Ward, Staff_row:Staff_row194","TextBox",{"$f":"IF(ISERROR(INDEX('Trust - Frontsheet'!$C$14:$T$213,Index!B596,Index!A596)),0,INDEX('Trust - Frontsheet'!$C$14:$T$213,Index!B596,Index!A596))","v":0}]
["103704593","Staff_cols:Ward, Staff_row:Staff_row195","TextBox",{"$f":"IF(ISERROR(INDEX('Trust - Frontsheet'!$C$14:$T$213,Index!B597,Index!A597)),0,INDEX('Trust - Frontsheet'!$C$14:$T$213,Index!B597,Index!A597))","v":0}]
["103704594","Staff_cols:Ward, Staff_row:Staff_row196","TextBox",{"$f":"IF(ISERROR(INDEX('Trust - Frontsheet'!$C$14:$T$213,Index!B598,Index!A598)),0,INDEX('Trust - Frontsheet'!$C$14:$T$213,Index!B598,Index!A598))","v":0}]
["103704595","Staff_cols:Ward, Staff_row:Staff_row197","TextBox",{"$f":"IF(ISERROR(INDEX('Trust - Frontsheet'!$C$14:$T$213,Index!B599,Index!A599)),0,INDEX('Trust - Frontsheet'!$C$14:$T$213,Index!B599,Index!A599))","v":0}]
["103704596","Staff_cols:Ward, Staff_row:Staff_row198","TextBox",{"$f":"IF(ISERROR(INDEX('Trust - Frontsheet'!$C$14:$T$213,Index!B600,Index!A600)),0,INDEX('Trust - Frontsheet'!$C$14:$T$213,Index!B600,Index!A600))","v":0}]
["103704597","Staff_cols:Ward, Staff_row:Staff_row199","TextBox",{"$f":"IF(ISERROR(INDEX('Trust - Frontsheet'!$C$14:$T$213,Index!B601,Index!A601)),0,INDEX('Trust - Frontsheet'!$C$14:$T$213,Index!B601,Index!A601))","v":0}]
["103704600","Staff_cols:Ward, Staff_row:Staff_row200","TextBox",{"$f":"IF(ISERROR(INDEX('Trust - Frontsheet'!$C$14:$T$213,Index!B602,Index!A602)),0,INDEX('Trust - Frontsheet'!$C$14:$T$213,Index!B602,Index!A602))","v":0}]
["103704087","Staff_cols:Spec1, Staff_row:Staff_row1","TextBox",{"$f":"IF(ISERROR(INDEX('Trust - Frontsheet'!$C$14:$T$213,Index!B603,Index!A603)),0,INDEX('Trust - Frontsheet'!$C$14:$T$213,Index!B603,Index!A603))","v":"300 - GENERAL MEDICINE"}]
["103704198","Staff_cols:Spec1, Staff_row:Staff_row2","TextBox",{"$f":"IF(ISERROR(INDEX('Trust - Frontsheet'!$C$14:$T$213,Index!B604,Index!A604)),0,INDEX('Trust - Frontsheet'!$C$14:$T$213,Index!B604,Index!A604))","v":"100 - GENERAL SURGERY"}]
["103704210","Staff_cols:Spec1, Staff_row:Staff_row3","TextBox",{"$f":"IF(ISERROR(INDEX('Trust - Frontsheet'!$C$14:$T$213,Index!B605,Index!A605)),0,INDEX('Trust - Frontsheet'!$C$14:$T$213,Index!B605,Index!A605))","v":"300 - GENERAL MEDICINE"}]
["103704221","Staff_cols:Spec1, Staff_row:Staff_row4","TextBox",{"$f":"IF(ISERROR(INDEX('Trust - Frontsheet'!$C$14:$T$213,Index!B606,Index!A606)),0,INDEX('Trust - Frontsheet'!$C$14:$T$213,Index!B606,Index!A606))","v":"300 - GENERAL MEDICINE"}]
["103704232","Staff_cols:Spec1, Staff_row:Staff_row5","TextBox",{"$f":"IF(ISERROR(INDEX('Trust - Frontsheet'!$C$14:$T$213,Index!B607,Index!A607)),0,INDEX('Trust - Frontsheet'!$C$14:$T$213,Index!B607,Index!A607))","v":"192 - CRITICAL CARE MEDICINE"}]
["103704243","Staff_cols:Spec1, Staff_row:Staff_row6","TextBox",{"$f":"IF(ISERROR(INDEX('Trust - Frontsheet'!$C$14:$T$213,Index!B608,Index!A608)),0,INDEX('Trust - Frontsheet'!$C$14:$T$213,Index!B608,Index!A608))","v":"314 - REHABILITATION"}]
["103704254","Staff_cols:Spec1, Staff_row:Staff_row7","TextBox",{"$f":"IF(ISERROR(INDEX('Trust - Frontsheet'!$C$14:$T$213,Index!B609,Index!A609)),0,INDEX('Trust - Frontsheet'!$C$14:$T$213,Index!B609,Index!A609))","v":"502 - GYNAECOLOGY"}]
["103704265","Staff_cols:Spec1, Staff_row:Staff_row8","TextBox",{"$f":"IF(ISERROR(INDEX('Trust - Frontsheet'!$C$14:$T$213,Index!B610,Index!A610)),0,INDEX('Trust - Frontsheet'!$C$14:$T$213,Index!B610,Index!A610))","v":"502 - GYNAECOLOGY"}]
["103704276","Staff_cols:Spec1, Staff_row:Staff_row9","TextBox",{"$f":"IF(ISERROR(INDEX('Trust - Frontsheet'!$C$14:$T$213,Index!B611,Index!A611)),0,INDEX('Trust - Frontsheet'!$C$14:$T$213,Index!B611,Index!A611))","v":"430 - GERIATRIC MEDICINE"}]
["103704088","Staff_cols:Spec1, Staff_row:Staff_row10","TextBox",{"$f":"IF(ISERROR(INDEX('Trust - Frontsheet'!$C$14:$T$213,Index!B612,Index!A612)),0,INDEX('Trust - Frontsheet'!$C$14:$T$213,Index!B612,Index!A612))","v":"340 - RESPIRATORY MEDICINE"}]
["103704099","Staff_cols:Spec1, Staff_row:Staff_row11","TextBox",{"$f":"IF(ISERROR(INDEX('Trust - Frontsheet'!$C$14:$T$213,Index!B613,Index!A613)),0,INDEX('Trust - Frontsheet'!$C$14:$T$213,Index!B613,Index!A613))","v":"430 - GERIATRIC MEDICINE"}]
["103704110","Staff_cols:Spec1, Staff_row:Staff_row12","TextBox",{"$f":"IF(ISERROR(INDEX('Trust - Frontsheet'!$C$14:$T$213,Index!B614,Index!A614)),0,INDEX('Trust - Frontsheet'!$C$14:$T$213,Index!B614,Index!A614))","v":"301 - GASTROENTEROLOGY"}]
["103704121","Staff_cols:Spec1, Staff_row:Staff_row13","TextBox",{"$f":"IF(ISERROR(INDEX('Trust - Frontsheet'!$C$14:$T$213,Index!B615,Index!A615)),0,INDEX('Trust - Frontsheet'!$C$14:$T$213,Index!B615,Index!A615))","v":"100 - GENERAL SURGERY"}]
["103704132","Staff_cols:Spec1, Staff_row:Staff_row14","TextBox",{"$f":"IF(ISERROR(INDEX('Trust - Frontsheet'!$C$14:$T$213,Index!B616,Index!A616)),0,INDEX('Trust - Frontsheet'!$C$14:$T$213,Index!B616,Index!A616))","v":"100 - GENERAL SURGERY"}]
["103704143","Staff_cols:Spec1, Staff_row:Staff_row15","TextBox",{"$f":"IF(ISERROR(INDEX('Trust - Frontsheet'!$C$14:$T$213,Index!B617,Index!A617)),0,INDEX('Trust - Frontsheet'!$C$14:$T$213,Index!B617,Index!A617))","v":"100 - GENERAL SURGERY"}]
["103704154","Staff_cols:Spec1, Staff_row:Staff_row16","TextBox",{"$f":"IF(ISERROR(INDEX('Trust - Frontsheet'!$C$14:$T$213,Index!B618,Index!A618)),0,INDEX('Trust - Frontsheet'!$C$14:$T$213,Index!B618,Index!A618))","v":"192 - CRITICAL CARE MEDICINE"}]
["103704165","Staff_cols:Spec1, Staff_row:Staff_row17","TextBox",{"$f":"IF(ISERROR(INDEX('Trust - Frontsheet'!$C$14:$T$213,Index!B619,Index!A619)),0,INDEX('Trust - Frontsheet'!$C$14:$T$213,Index!B619,Index!A619))","v":"320 - CARDIOLOGY"}]
["103704176","Staff_cols:Spec1, Staff_row:Staff_row18","TextBox",{"$f":"IF(ISERROR(INDEX('Trust - Frontsheet'!$C$14:$T$213,Index!B620,Index!A620)),0,INDEX('Trust - Frontsheet'!$C$14:$T$213,Index!B620,Index!A620))","v":"430 - GERIATRIC MEDICINE"}]
["103704187","Staff_cols:Spec1, Staff_row:Staff_row19","TextBox",{"$f":"IF(ISERROR(INDEX('Trust - Frontsheet'!$C$14:$T$213,Index!B621,Index!A621)),0,INDEX('Trust - Frontsheet'!$C$14:$T$213,Index!B621,Index!A621))","v":"340 - RESPIRATORY MEDICINE"}]
["103704199","Staff_cols:Spec1, Staff_row:Staff_row20","TextBox",{"$f":"IF(ISERROR(INDEX('Trust - Frontsheet'!$C$14:$T$213,Index!B622,Index!A622)),0,INDEX('Trust - Frontsheet'!$C$14:$T$213,Index!B622,Index!A622))","v":"502 - GYNAECOLOGY"}]
["103704201","Staff_cols:Spec1, Staff_row:Staff_row21","TextBox",{"$f":"IF(ISERROR(INDEX('Trust - Frontsheet'!$C$14:$T$213,Index!B623,Index!A623)),0,INDEX('Trust - Frontsheet'!$C$14:$T$213,Index!B623,Index!A623))","v":"110 - TRAUMA & ORTHOPAEDICS"}]
["103704202","Staff_cols:Spec1, Staff_row:Staff_row22","TextBox",{"$f":"IF(ISERROR(INDEX('Trust - Frontsheet'!$C$14:$T$213,Index!B624,Index!A624)),0,INDEX('Trust - Frontsheet'!$C$14:$T$213,Index!B624,Index!A624))","v":"422- NEONATOLOGY"}]
["103704203","Staff_cols:Spec1, Staff_row:Staff_row23","TextBox",{"$f":"IF(ISERROR(INDEX('Trust - Frontsheet'!$C$14:$T$213,Index!B625,Index!A625)),0,INDEX('Trust - Frontsheet'!$C$14:$T$213,Index!B625,Index!A625))","v":"420 - PAEDIATRICS"}]
["103704204","Staff_cols:Spec1, Staff_row:Staff_row24","TextBox",{"$f":"IF(ISERROR(INDEX('Trust - Frontsheet'!$C$14:$T$213,Index!B626,Index!A626)),0,INDEX('Trust - Frontsheet'!$C$14:$T$213,Index!B626,Index!A626))","v":"430 - GERIATRIC MEDICINE"}]
["103704205","Staff_cols:Spec1, Staff_row:Staff_row25","TextBox",{"$f":"IF(ISERROR(INDEX('Trust - Frontsheet'!$C$14:$T$213,Index!B627,Index!A627)),0,INDEX('Trust - Frontsheet'!$C$14:$T$213,Index!B627,Index!A627))","v":"110 - TRAUMA & ORTHOPAEDICS"}]
["103704206","Staff_cols:Spec1, Staff_row:Staff_row26","TextBox",{"$f":"IF(ISERROR(INDEX('Trust - Frontsheet'!$C$14:$T$213,Index!B628,Index!A628)),0,INDEX('Trust - Frontsheet'!$C$14:$T$213,Index!B628,Index!A628))","v":"300 - GENERAL MEDICINE"}]
["103704207","Staff_cols:Spec1, Staff_row:Staff_row27","TextBox",{"$f":"IF(ISERROR(INDEX('Trust - Frontsheet'!$C$14:$T$213,Index!B629,Index!A629)),0,INDEX('Trust - Frontsheet'!$C$14:$T$213,Index!B629,Index!A629))","v":"303 - CLINICAL HAEMATOLOGY"}]
["103704208","Staff_cols:Spec1, Staff_row:Staff_row28","TextBox",{"$f":"IF(ISERROR(INDEX('Trust - Frontsheet'!$C$14:$T$213,Index!B630,Index!A630)),0,INDEX('Trust - Frontsheet'!$C$14:$T$213,Index!B630,Index!A630))","v":"300 - GENERAL MEDICINE"}]
["103704209","Staff_cols:Spec1, Staff_row:Staff_row29","TextBox",{"$f":"IF(ISERROR(INDEX('Trust - Frontsheet'!$C$14:$T$213,Index!B631,Index!A631)),0,INDEX('Trust - Frontsheet'!$C$14:$T$213,Index!B631,Index!A631))","v":"300 - GENERAL MEDICINE"}]
["103704211","Staff_cols:Spec1, Staff_row:Staff_row30","TextBox",{"$f":"IF(ISERROR(INDEX('Trust - Frontsheet'!$C$14:$T$213,Index!B632,Index!A632)),0,INDEX('Trust - Frontsheet'!$C$14:$T$213,Index!B632,Index!A632))","v":"320 - CARDIOLOGY"}]
["103704212","Staff_cols:Spec1, Staff_row:Staff_row31","TextBox",{"$f":"IF(ISERROR(INDEX('Trust - Frontsheet'!$C$14:$T$213,Index!B633,Index!A633)),0,INDEX('Trust - Frontsheet'!$C$14:$T$213,Index!B633,Index!A633))","v":"502 - GYNAECOLOGY"}]
["103704213","Staff_cols:Spec1, Staff_row:Staff_row32","TextBox",{"$f":"IF(ISERROR(INDEX('Trust - Frontsheet'!$C$14:$T$213,Index!B634,Index!A634)),0,INDEX('Trust - Frontsheet'!$C$14:$T$213,Index!B634,Index!A634))","v":"422- NEONATOLOGY"}]
["103704214","Staff_cols:Spec1, Staff_row:Staff_row33","TextBox",{"$f":"IF(ISERROR(INDEX('Trust - Frontsheet'!$C$14:$T$213,Index!B635,Index!A635)),0,INDEX('Trust - Frontsheet'!$C$14:$T$213,Index!B635,Index!A635))","v":"300 - GENERAL MEDICINE"}]
["103704215","Staff_cols:Spec1, Staff_row:Staff_row34","TextBox",{"$f":"IF(ISERROR(INDEX('Trust - Frontsheet'!$C$14:$T$213,Index!B636,Index!A636)),0,INDEX('Trust - Frontsheet'!$C$14:$T$213,Index!B636,Index!A636))","v":"110 - TRAUMA & ORTHOPAEDICS"}]
["103704216","Staff_cols:Spec1, Staff_row:Staff_row35","TextBox",{"$f":"IF(ISERROR(INDEX('Trust - Frontsheet'!$C$14:$T$213,Index!B637,Index!A637)),0,INDEX('Trust - Frontsheet'!$C$14:$T$213,Index!B637,Index!A637))","v":"110 - TRAUMA & ORTHOPAEDICS"}]
["103704217","Staff_cols:Spec1, Staff_row:Staff_row36","TextBox",{"$f":"IF(ISERROR(INDEX('Trust - Frontsheet'!$C$14:$T$213,Index!B638,Index!A638)),0,INDEX('Trust - Frontsheet'!$C$14:$T$213,Index!B638,Index!A638))","v":"420 - PAEDIATRICS"}]
["103704218","Staff_cols:Spec1, Staff_row:Staff_row37","TextBox",{"$f":"IF(ISERROR(INDEX('Trust - Frontsheet'!$C$14:$T$213,Index!B639,Index!A639)),0,INDEX('Trust - Frontsheet'!$C$14:$T$213,Index!B639,Index!A639))","v":"100 - GENERAL SURGERY"}]
["103704219","Staff_cols:Spec1, Staff_row:Staff_row38","TextBox",{"$f":"IF(ISERROR(INDEX('Trust - Frontsheet'!$C$14:$T$213,Index!B640,Index!A640)),0,INDEX('Trust - Frontsheet'!$C$14:$T$213,Index!B640,Index!A640))","v":"100 - GENERAL SURGERY"}]
["103704220","Staff_cols:Spec1, Staff_row:Staff_row39","TextBox",{"$f":"IF(ISERROR(INDEX('Trust - Frontsheet'!$C$14:$T$213,Index!B641,Index!A641)),0,INDEX('Trust - Frontsheet'!$C$14:$T$213,Index!B641,Index!A641))","v":"430 - GERIATRIC MEDICINE"}]
["103704222","Staff_cols:Spec1, Staff_row:Staff_row40","TextBox",{"$f":"IF(ISERROR(INDEX('Trust - Frontsheet'!$C$14:$T$213,Index!B642,Index!A642)),0,INDEX('Trust - Frontsheet'!$C$14:$T$213,Index!B642,Index!A642))","v":"430 - GERIATRIC MEDICINE"}]
["103704223","Staff_cols:Spec1, Staff_row:Staff_row41","TextBox",{"$f":"IF(ISERROR(INDEX('Trust - Frontsheet'!$C$14:$T$213,Index!B643,Index!A643)),0,INDEX('Trust - Frontsheet'!$C$14:$T$213,Index!B643,Index!A643))","v":"800 - CLINICAL ONCOLOGY"}]
["103704224","Staff_cols:Spec1, Staff_row:Staff_row42","TextBox",{"$f":"IF(ISERROR(INDEX('Trust - Frontsheet'!$C$14:$T$213,Index!B644,Index!A644)),0,INDEX('Trust - Frontsheet'!$C$14:$T$213,Index!B644,Index!A644))","v":"340 - RESPIRATORY MEDICINE"}]
["103704225","Staff_cols:Spec1, Staff_row:Staff_row43","TextBox",{"$f":"IF(ISERROR(INDEX('Trust - Frontsheet'!$C$14:$T$213,Index!B645,Index!A645)),0,INDEX('Trust - Frontsheet'!$C$14:$T$213,Index!B645,Index!A645))","v":"301 - GASTROENTEROLOGY"}]
["103704226","Staff_cols:Spec1, Staff_row:Staff_row44","TextBox",{"$f":"IF(ISERROR(INDEX('Trust - Frontsheet'!$C$14:$T$213,Index!B646,Index!A646)),0,INDEX('Trust - Frontsheet'!$C$14:$T$213,Index!B646,Index!A646))","v":"502 - GYNAECOLOGY"}]
["103704227","Staff_cols:Spec1, Staff_row:Staff_row45","TextBox",{"$f":"IF(ISERROR(INDEX('Trust - Frontsheet'!$C$14:$T$213,Index!B647,Index!A647)),0,INDEX('Trust - Frontsheet'!$C$14:$T$213,Index!B647,Index!A647))","v":"300 - GENERAL MEDICINE"}]
["103704228","Staff_cols:Spec1, Staff_row:Staff_row46","TextBox",{"$f":"IF(ISERROR(INDEX('Trust - Frontsheet'!$C$14:$T$213,Index!B648,Index!A648)),0,INDEX('Trust - Frontsheet'!$C$14:$T$213,Index!B648,Index!A648))","v":"100 - GENERAL SURGERY"}]
["103704229","Staff_cols:Spec1, Staff_row:Staff_row47","TextBox",{"$f":"IF(ISERROR(INDEX('Trust - Frontsheet'!$C$14:$T$213,Index!B649,Index!A649)),0,INDEX('Trust - Frontsheet'!$C$14:$T$213,Index!B649,Index!A649))","v":"192 - CRITICAL CARE MEDICINE"}]
["103704230","Staff_cols:Spec1, Staff_row:Staff_row48","TextBox",{"$f":"IF(ISERROR(INDEX('Trust - Frontsheet'!$C$14:$T$213,Index!B650,Index!A650)),0,INDEX('Trust - Frontsheet'!$C$14:$T$213,Index!B650,Index!A650))","v":0}]
["103704231","Staff_cols:Spec1, Staff_row:Staff_row49","TextBox",{"$f":"IF(ISERROR(INDEX('Trust - Frontsheet'!$C$14:$T$213,Index!B651,Index!A651)),0,INDEX('Trust - Frontsheet'!$C$14:$T$213,Index!B651,Index!A651))","v":0}]
["103704233","Staff_cols:Spec1, Staff_row:Staff_row50","TextBox",{"$f":"IF(ISERROR(INDEX('Trust - Frontsheet'!$C$14:$T$213,Index!B652,Index!A652)),0,INDEX('Trust - Frontsheet'!$C$14:$T$213,Index!B652,Index!A652))","v":0}]
["103704234","Staff_cols:Spec1, Staff_row:Staff_row51","TextBox",{"$f":"IF(ISERROR(INDEX('Trust - Frontsheet'!$C$14:$T$213,Index!B653,Index!A653)),0,INDEX('Trust - Frontsheet'!$C$14:$T$213,Index!B653,Index!A653))","v":0}]
["103704235","Staff_cols:Spec1, Staff_row:Staff_row52","TextBox",{"$f":"IF(ISERROR(INDEX('Trust - Frontsheet'!$C$14:$T$213,Index!B654,Index!A654)),0,INDEX('Trust - Frontsheet'!$C$14:$T$213,Index!B654,Index!A654))","v":0}]
["103704236","Staff_cols:Spec1, Staff_row:Staff_row53","TextBox",{"$f":"IF(ISERROR(INDEX('Trust - Frontsheet'!$C$14:$T$213,Index!B655,Index!A655)),0,INDEX('Trust - Frontsheet'!$C$14:$T$213,Index!B655,Index!A655))","v":0}]
["103704237","Staff_cols:Spec1, Staff_row:Staff_row54","TextBox",{"$f":"IF(ISERROR(INDEX('Trust - Frontsheet'!$C$14:$T$213,Index!B656,Index!A656)),0,INDEX('Trust - Frontsheet'!$C$14:$T$213,Index!B656,Index!A656))","v":0}]
["103704238","Staff_cols:Spec1, Staff_row:Staff_row55","TextBox",{"$f":"IF(ISERROR(INDEX('Trust - Frontsheet'!$C$14:$T$213,Index!B657,Index!A657)),0,INDEX('Trust - Frontsheet'!$C$14:$T$213,Index!B657,Index!A657))","v":0}]
["103704239","Staff_cols:Spec1, Staff_row:Staff_row56","TextBox",{"$f":"IF(ISERROR(INDEX('Trust - Frontsheet'!$C$14:$T$213,Index!B658,Index!A658)),0,INDEX('Trust - Frontsheet'!$C$14:$T$213,Index!B658,Index!A658))","v":0}]
["103704240","Staff_cols:Spec1, Staff_row:Staff_row57","TextBox",{"$f":"IF(ISERROR(INDEX('Trust - Frontsheet'!$C$14:$T$213,Index!B659,Index!A659)),0,INDEX('Trust - Frontsheet'!$C$14:$T$213,Index!B659,Index!A659))","v":0}]
["103704241","Staff_cols:Spec1, Staff_row:Staff_row58","TextBox",{"$f":"IF(ISERROR(INDEX('Trust - Frontsheet'!$C$14:$T$213,Index!B660,Index!A660)),0,INDEX('Trust - Frontsheet'!$C$14:$T$213,Index!B660,Index!A660))","v":0}]
["103704242","Staff_cols:Spec1, Staff_row:Staff_row59","TextBox",{"$f":"IF(ISERROR(INDEX('Trust - Frontsheet'!$C$14:$T$213,Index!B661,Index!A661)),0,INDEX('Trust - Frontsheet'!$C$14:$T$213,Index!B661,Index!A661))","v":0}]
["103704244","Staff_cols:Spec1, Staff_row:Staff_row60","TextBox",{"$f":"IF(ISERROR(INDEX('Trust - Frontsheet'!$C$14:$T$213,Index!B662,Index!A662)),0,INDEX('Trust - Frontsheet'!$C$14:$T$213,Index!B662,Index!A662))","v":0}]
["103704245","Staff_cols:Spec1, Staff_row:Staff_row61","TextBox",{"$f":"IF(ISERROR(INDEX('Trust - Frontsheet'!$C$14:$T$213,Index!B663,Index!A663)),0,INDEX('Trust - Frontsheet'!$C$14:$T$213,Index!B663,Index!A663))","v":0}]
["103704246","Staff_cols:Spec1, Staff_row:Staff_row62","TextBox",{"$f":"IF(ISERROR(INDEX('Trust - Frontsheet'!$C$14:$T$213,Index!B664,Index!A664)),0,INDEX('Trust - Frontsheet'!$C$14:$T$213,Index!B664,Index!A664))","v":0}]
["103704247","Staff_cols:Spec1, Staff_row:Staff_row63","TextBox",{"$f":"IF(ISERROR(INDEX('Trust - Frontsheet'!$C$14:$T$213,Index!B665,Index!A665)),0,INDEX('Trust - Frontsheet'!$C$14:$T$213,Index!B665,Index!A665))","v":0}]
["103704248","Staff_cols:Spec1, Staff_row:Staff_row64","TextBox",{"$f":"IF(ISERROR(INDEX('Trust - Frontsheet'!$C$14:$T$213,Index!B666,Index!A666)),0,INDEX('Trust - Frontsheet'!$C$14:$T$213,Index!B666,Index!A666))","v":0}]
["103704249","Staff_cols:Spec1, Staff_row:Staff_row65","TextBox",{"$f":"IF(ISERROR(INDEX('Trust - Frontsheet'!$C$14:$T$213,Index!B667,Index!A667)),0,INDEX('Trust - Frontsheet'!$C$14:$T$213,Index!B667,Index!A667))","v":0}]
["103704250","Staff_cols:Spec1, Staff_row:Staff_row66","TextBox",{"$f":"IF(ISERROR(INDEX('Trust - Frontsheet'!$C$14:$T$213,Index!B668,Index!A668)),0,INDEX('Trust - Frontsheet'!$C$14:$T$213,Index!B668,Index!A668))","v":0}]
["103704251","Staff_cols:Spec1, Staff_row:Staff_row67","TextBox",{"$f":"IF(ISERROR(INDEX('Trust - Frontsheet'!$C$14:$T$213,Index!B669,Index!A669)),0,INDEX('Trust - Frontsheet'!$C$14:$T$213,Index!B669,Index!A669))","v":0}]
["103704252","Staff_cols:Spec1, Staff_row:Staff_row68","TextBox",{"$f":"IF(ISERROR(INDEX('Trust - Frontsheet'!$C$14:$T$213,Index!B670,Index!A670)),0,INDEX('Trust - Frontsheet'!$C$14:$T$213,Index!B670,Index!A670))","v":0}]
["103704253","Staff_cols:Spec1, Staff_row:Staff_row69","TextBox",{"$f":"IF(ISERROR(INDEX('Trust - Frontsheet'!$C$14:$T$213,Index!B671,Index!A671)),0,INDEX('Trust - Frontsheet'!$C$14:$T$213,Index!B671,Index!A671))","v":0}]
["103704255","Staff_cols:Spec1, Staff_row:Staff_row70","TextBox",{"$f":"IF(ISERROR(INDEX('Trust - Frontsheet'!$C$14:$T$213,Index!B672,Index!A672)),0,INDEX('Trust - Frontsheet'!$C$14:$T$213,Index!B672,Index!A672))","v":0}]
["103704256","Staff_cols:Spec1, Staff_row:Staff_row71","TextBox",{"$f":"IF(ISERROR(INDEX('Trust - Frontsheet'!$C$14:$T$213,Index!B673,Index!A673)),0,INDEX('Trust - Frontsheet'!$C$14:$T$213,Index!B673,Index!A673))","v":0}]
["103704257","Staff_cols:Spec1, Staff_row:Staff_row72","TextBox",{"$f":"IF(ISERROR(INDEX('Trust - Frontsheet'!$C$14:$T$213,Index!B674,Index!A674)),0,INDEX('Trust - Frontsheet'!$C$14:$T$213,Index!B674,Index!A674))","v":0}]
["103704258","Staff_cols:Spec1, Staff_row:Staff_row73","TextBox",{"$f":"IF(ISERROR(INDEX('Trust - Frontsheet'!$C$14:$T$213,Index!B675,Index!A675)),0,INDEX('Trust - Frontsheet'!$C$14:$T$213,Index!B675,Index!A675))","v":0}]
["103704259","Staff_cols:Spec1, Staff_row:Staff_row74","TextBox",{"$f":"IF(ISERROR(INDEX('Trust - Frontsheet'!$C$14:$T$213,Index!B676,Index!A676)),0,INDEX('Trust - Frontsheet'!$C$14:$T$213,Index!B676,Index!A676))","v":0}]
["103704260","Staff_cols:Spec1, Staff_row:Staff_row75","TextBox",{"$f":"IF(ISERROR(INDEX('Trust - Frontsheet'!$C$14:$T$213,Index!B677,Index!A677)),0,INDEX('Trust - Frontsheet'!$C$14:$T$213,Index!B677,Index!A677))","v":0}]
["103704261","Staff_cols:Spec1, Staff_row:Staff_row76","TextBox",{"$f":"IF(ISERROR(INDEX('Trust - Frontsheet'!$C$14:$T$213,Index!B678,Index!A678)),0,INDEX('Trust - Frontsheet'!$C$14:$T$213,Index!B678,Index!A678))","v":0}]
["103704262","Staff_cols:Spec1, Staff_row:Staff_row77","TextBox",{"$f":"IF(ISERROR(INDEX('Trust - Frontsheet'!$C$14:$T$213,Index!B679,Index!A679)),0,INDEX('Trust - Frontsheet'!$C$14:$T$213,Index!B679,Index!A679))","v":0}]
["103704263","Staff_cols:Spec1, Staff_row:Staff_row78","TextBox",{"$f":"IF(ISERROR(INDEX('Trust - Frontsheet'!$C$14:$T$213,Index!B680,Index!A680)),0,INDEX('Trust - Frontsheet'!$C$14:$T$213,Index!B680,Index!A680))","v":0}]
["103704264","Staff_cols:Spec1, Staff_row:Staff_row79","TextBox",{"$f":"IF(ISERROR(INDEX('Trust - Frontsheet'!$C$14:$T$213,Index!B681,Index!A681)),0,INDEX('Trust - Frontsheet'!$C$14:$T$213,Index!B681,Index!A681))","v":0}]
["103704266","Staff_cols:Spec1, Staff_row:Staff_row80","TextBox",{"$f":"IF(ISERROR(INDEX('Trust - Frontsheet'!$C$14:$T$213,Index!B682,Index!A682)),0,INDEX('Trust - Frontsheet'!$C$14:$T$213,Index!B682,Index!A682))","v":0}]
["103704267","Staff_cols:Spec1, Staff_row:Staff_row81","TextBox",{"$f":"IF(ISERROR(INDEX('Trust - Frontsheet'!$C$14:$T$213,Index!B683,Index!A683)),0,INDEX('Trust - Frontsheet'!$C$14:$T$213,Index!B683,Index!A683))","v":0}]
["103704268","Staff_cols:Spec1, Staff_row:Staff_row82","TextBox",{"$f":"IF(ISERROR(INDEX('Trust - Frontsheet'!$C$14:$T$213,Index!B684,Index!A684)),0,INDEX('Trust - Frontsheet'!$C$14:$T$213,Index!B684,Index!A684))","v":0}]
["103704269","Staff_cols:Spec1, Staff_row:Staff_row83","TextBox",{"$f":"IF(ISERROR(INDEX('Trust - Frontsheet'!$C$14:$T$213,Index!B685,Index!A685)),0,INDEX('Trust - Frontsheet'!$C$14:$T$213,Index!B685,Index!A685))","v":0}]
["103704270","Staff_cols:Spec1, Staff_row:Staff_row84","TextBox",{"$f":"IF(ISERROR(INDEX('Trust - Frontsheet'!$C$14:$T$213,Index!B686,Index!A686)),0,INDEX('Trust - Frontsheet'!$C$14:$T$213,Index!B686,Index!A686))","v":0}]
["103704271","Staff_cols:Spec1, Staff_row:Staff_row85","TextBox",{"$f":"IF(ISERROR(INDEX('Trust - Frontsheet'!$C$14:$T$213,Index!B687,Index!A687)),0,INDEX('Trust - Frontsheet'!$C$14:$T$213,Index!B687,Index!A687))","v":0}]
["103704272","Staff_cols:Spec1, Staff_row:Staff_row86","TextBox",{"$f":"IF(ISERROR(INDEX('Trust - Frontsheet'!$C$14:$T$213,Index!B688,Index!A688)),0,INDEX('Trust - Frontsheet'!$C$14:$T$213,Index!B688,Index!A688))","v":0}]
["103704273","Staff_cols:Spec1, Staff_row:Staff_row87","TextBox",{"$f":"IF(ISERROR(INDEX('Trust - Frontsheet'!$C$14:$T$213,Index!B689,Index!A689)),0,INDEX('Trust - Frontsheet'!$C$14:$T$213,Index!B689,Index!A689))","v":0}]
["103704274","Staff_cols:Spec1, Staff_row:Staff_row88","TextBox",{"$f":"IF(ISERROR(INDEX('Trust - Frontsheet'!$C$14:$T$213,Index!B690,Index!A690)),0,INDEX('Trust - Frontsheet'!$C$14:$T$213,Index!B690,Index!A690))","v":0}]
["103704275","Staff_cols:Spec1, Staff_row:Staff_row89","TextBox",{"$f":"IF(ISERROR(INDEX('Trust - Frontsheet'!$C$14:$T$213,Index!B691,Index!A691)),0,INDEX('Trust - Frontsheet'!$C$14:$T$213,Index!B691,Index!A691))","v":0}]
["103704277","Staff_cols:Spec1, Staff_row:Staff_row90","TextBox",{"$f":"IF(ISERROR(INDEX('Trust - Frontsheet'!$C$14:$T$213,Index!B692,Index!A692)),0,INDEX('Trust - Frontsheet'!$C$14:$T$213,Index!B692,Index!A692))","v":0}]
["103704278","Staff_cols:Spec1, Staff_row:Staff_row91","TextBox",{"$f":"IF(ISERROR(INDEX('Trust - Frontsheet'!$C$14:$T$213,Index!B693,Index!A693)),0,INDEX('Trust - Frontsheet'!$C$14:$T$213,Index!B693,Index!A693))","v":0}]
["103704279","Staff_cols:Spec1, Staff_row:Staff_row92","TextBox",{"$f":"IF(ISERROR(INDEX('Trust - Frontsheet'!$C$14:$T$213,Index!B694,Index!A694)),0,INDEX('Trust - Frontsheet'!$C$14:$T$213,Index!B694,Index!A694))","v":0}]
["103704280","Staff_cols:Spec1, Staff_row:Staff_row93","TextBox",{"$f":"IF(ISERROR(INDEX('Trust - Frontsheet'!$C$14:$T$213,Index!B695,Index!A695)),0,INDEX('Trust - Frontsheet'!$C$14:$T$213,Index!B695,Index!A695))","v":0}]
["103704281","Staff_cols:Spec1, Staff_row:Staff_row94","TextBox",{"$f":"IF(ISERROR(INDEX('Trust - Frontsheet'!$C$14:$T$213,Index!B696,Index!A696)),0,INDEX('Trust - Frontsheet'!$C$14:$T$213,Index!B696,Index!A696))","v":0}]
["103704282","Staff_cols:Spec1, Staff_row:Staff_row95","TextBox",{"$f":"IF(ISERROR(INDEX('Trust - Frontsheet'!$C$14:$T$213,Index!B697,Index!A697)),0,INDEX('Trust - Frontsheet'!$C$14:$T$213,Index!B697,Index!A697))","v":0}]
["103704283","Staff_cols:Spec1, Staff_row:Staff_row96","TextBox",{"$f":"IF(ISERROR(INDEX('Trust - Frontsheet'!$C$14:$T$213,Index!B698,Index!A698)),0,INDEX('Trust - Frontsheet'!$C$14:$T$213,Index!B698,Index!A698))","v":0}]
["103704284","Staff_cols:Spec1, Staff_row:Staff_row97","TextBox",{"$f":"IF(ISERROR(INDEX('Trust - Frontsheet'!$C$14:$T$213,Index!B699,Index!A699)),0,INDEX('Trust - Frontsheet'!$C$14:$T$213,Index!B699,Index!A699))","v":0}]
["103704285","Staff_cols:Spec1, Staff_row:Staff_row98","TextBox",{"$f":"IF(ISERROR(INDEX('Trust - Frontsheet'!$C$14:$T$213,Index!B700,Index!A700)),0,INDEX('Trust - Frontsheet'!$C$14:$T$213,Index!B700,Index!A700))","v":0}]
["103704286","Staff_cols:Spec1, Staff_row:Staff_row99","TextBox",{"$f":"IF(ISERROR(INDEX('Trust - Frontsheet'!$C$14:$T$213,Index!B701,Index!A701)),0,INDEX('Trust - Frontsheet'!$C$14:$T$213,Index!B701,Index!A701))","v":0}]
["103704089","Staff_cols:Spec1, Staff_row:Staff_row100","TextBox",{"$f":"IF(ISERROR(INDEX('Trust - Frontsheet'!$C$14:$T$213,Index!B702,Index!A702)),0,INDEX('Trust - Frontsheet'!$C$14:$T$213,Index!B702,Index!A702))","v":0}]
["103704090","Staff_cols:Spec1, Staff_row:Staff_row101","TextBox",{"$f":"IF(ISERROR(INDEX('Trust - Frontsheet'!$C$14:$T$213,Index!B703,Index!A703)),0,INDEX('Trust - Frontsheet'!$C$14:$T$213,Index!B703,Index!A703))","v":0}]
["103704091","Staff_cols:Spec1, Staff_row:Staff_row102","TextBox",{"$f":"IF(ISERROR(INDEX('Trust - Frontsheet'!$C$14:$T$213,Index!B704,Index!A704)),0,INDEX('Trust - Frontsheet'!$C$14:$T$213,Index!B704,Index!A704))","v":0}]
["103704092","Staff_cols:Spec1, Staff_row:Staff_row103","TextBox",{"$f":"IF(ISERROR(INDEX('Trust - Frontsheet'!$C$14:$T$213,Index!B705,Index!A705)),0,INDEX('Trust - Frontsheet'!$C$14:$T$213,Index!B705,Index!A705))","v":0}]
["103704093","Staff_cols:Spec1, Staff_row:Staff_row104","TextBox",{"$f":"IF(ISERROR(INDEX('Trust - Frontsheet'!$C$14:$T$213,Index!B706,Index!A706)),0,INDEX('Trust - Frontsheet'!$C$14:$T$213,Index!B706,Index!A706))","v":0}]
["103704094","Staff_cols:Spec1, Staff_row:Staff_row105","TextBox",{"$f":"IF(ISERROR(INDEX('Trust - Frontsheet'!$C$14:$T$213,Index!B707,Index!A707)),0,INDEX('Trust - Frontsheet'!$C$14:$T$213,Index!B707,Index!A707))","v":0}]
["103704095","Staff_cols:Spec1, Staff_row:Staff_row106","TextBox",{"$f":"IF(ISERROR(INDEX('Trust - Frontsheet'!$C$14:$T$213,Index!B708,Index!A708)),0,INDEX('Trust - Frontsheet'!$C$14:$T$213,Index!B708,Index!A708))","v":0}]
["103704096","Staff_cols:Spec1, Staff_row:Staff_row107","TextBox",{"$f":"IF(ISERROR(INDEX('Trust - Frontsheet'!$C$14:$T$213,Index!B709,Index!A709)),0,INDEX('Trust - Frontsheet'!$C$14:$T$213,Index!B709,Index!A709))","v":0}]
["103704097","Staff_cols:Spec1, Staff_row:Staff_row108","TextBox",{"$f":"IF(ISERROR(INDEX('Trust - Frontsheet'!$C$14:$T$213,Index!B710,Index!A710)),0,INDEX('Trust - Frontsheet'!$C$14:$T$213,Index!B710,Index!A710))","v":0}]
["103704098","Staff_cols:Spec1, Staff_row:Staff_row109","TextBox",{"$f":"IF(ISERROR(INDEX('Trust - Frontsheet'!$C$14:$T$213,Index!B711,Index!A711)),0,INDEX('Trust - Frontsheet'!$C$14:$T$213,Index!B711,Index!A711))","v":0}]
["103704100","Staff_cols:Spec1, Staff_row:Staff_row110","TextBox",{"$f":"IF(ISERROR(INDEX('Trust - Frontsheet'!$C$14:$T$213,Index!B712,Index!A712)),0,INDEX('Trust - Frontsheet'!$C$14:$T$213,Index!B712,Index!A712))","v":0}]
["103704101","Staff_cols:Spec1, Staff_row:Staff_row111","TextBox",{"$f":"IF(ISERROR(INDEX('Trust - Frontsheet'!$C$14:$T$213,Index!B713,Index!A713)),0,INDEX('Trust - Frontsheet'!$C$14:$T$213,Index!B713,Index!A713))","v":0}]
["103704102","Staff_cols:Spec1, Staff_row:Staff_row112","TextBox",{"$f":"IF(ISERROR(INDEX('Trust - Frontsheet'!$C$14:$T$213,Index!B714,Index!A714)),0,INDEX('Trust - Frontsheet'!$C$14:$T$213,Index!B714,Index!A714))","v":0}]
["103704103","Staff_cols:Spec1, Staff_row:Staff_row113","TextBox",{"$f":"IF(ISERROR(INDEX('Trust - Frontsheet'!$C$14:$T$213,Index!B715,Index!A715)),0,INDEX('Trust - Frontsheet'!$C$14:$T$213,Index!B715,Index!A715))","v":0}]
["103704104","Staff_cols:Spec1, Staff_row:Staff_row114","TextBox",{"$f":"IF(ISERROR(INDEX('Trust - Frontsheet'!$C$14:$T$213,Index!B716,Index!A716)),0,INDEX('Trust - Frontsheet'!$C$14:$T$213,Index!B716,Index!A716))","v":0}]
["103704105","Staff_cols:Spec1, Staff_row:Staff_row115","TextBox",{"$f":"IF(ISERROR(INDEX('Trust - Frontsheet'!$C$14:$T$213,Index!B717,Index!A717)),0,INDEX('Trust - Frontsheet'!$C$14:$T$213,Index!B717,Index!A717))","v":0}]
["103704106","Staff_cols:Spec1, Staff_row:Staff_row116","TextBox",{"$f":"IF(ISERROR(INDEX('Trust - Frontsheet'!$C$14:$T$213,Index!B718,Index!A718)),0,INDEX('Trust - Frontsheet'!$C$14:$T$213,Index!B718,Index!A718))","v":0}]
["103704107","Staff_cols:Spec1, Staff_row:Staff_row117","TextBox",{"$f":"IF(ISERROR(INDEX('Trust - Frontsheet'!$C$14:$T$213,Index!B719,Index!A719)),0,INDEX('Trust - Frontsheet'!$C$14:$T$213,Index!B719,Index!A719))","v":0}]
["103704108","Staff_cols:Spec1, Staff_row:Staff_row118","TextBox",{"$f":"IF(ISERROR(INDEX('Trust - Frontsheet'!$C$14:$T$213,Index!B720,Index!A720)),0,INDEX('Trust - Frontsheet'!$C$14:$T$213,Index!B720,Index!A720))","v":0}]
["103704109","Staff_cols:Spec1, Staff_row:Staff_row119","TextBox",{"$f":"IF(ISERROR(INDEX('Trust - Frontsheet'!$C$14:$T$213,Index!B721,Index!A721)),0,INDEX('Trust - Frontsheet'!$C$14:$T$213,Index!B721,Index!A721))","v":0}]
["103704111","Staff_cols:Spec1, Staff_row:Staff_row120","TextBox",{"$f":"IF(ISERROR(INDEX('Trust - Frontsheet'!$C$14:$T$213,Index!B722,Index!A722)),0,INDEX('Trust - Frontsheet'!$C$14:$T$213,Index!B722,Index!A722))","v":0}]
["103704112","Staff_cols:Spec1, Staff_row:Staff_row121","TextBox",{"$f":"IF(ISERROR(INDEX('Trust - Frontsheet'!$C$14:$T$213,Index!B723,Index!A723)),0,INDEX('Trust - Frontsheet'!$C$14:$T$213,Index!B723,Index!A723))","v":0}]
["103704113","Staff_cols:Spec1, Staff_row:Staff_row122","TextBox",{"$f":"IF(ISERROR(INDEX('Trust - Frontsheet'!$C$14:$T$213,Index!B724,Index!A724)),0,INDEX('Trust - Frontsheet'!$C$14:$T$213,Index!B724,Index!A724))","v":0}]
["103704114","Staff_cols:Spec1, Staff_row:Staff_row123","TextBox",{"$f":"IF(ISERROR(INDEX('Trust - Frontsheet'!$C$14:$T$213,Index!B725,Index!A725)),0,INDEX('Trust - Frontsheet'!$C$14:$T$213,Index!B725,Index!A725))","v":0}]
["103704115","Staff_cols:Spec1, Staff_row:Staff_row124","TextBox",{"$f":"IF(ISERROR(INDEX('Trust - Frontsheet'!$C$14:$T$213,Index!B726,Index!A726)),0,INDEX('Trust - Frontsheet'!$C$14:$T$213,Index!B726,Index!A726))","v":0}]
["103704116","Staff_cols:Spec1, Staff_row:Staff_row125","TextBox",{"$f":"IF(ISERROR(INDEX('Trust - Frontsheet'!$C$14:$T$213,Index!B727,Index!A727)),0,INDEX('Trust - Frontsheet'!$C$14:$T$213,Index!B727,Index!A727))","v":0}]
["103704117","Staff_cols:Spec1, Staff_row:Staff_row126","TextBox",{"$f":"IF(ISERROR(INDEX('Trust - Frontsheet'!$C$14:$T$213,Index!B728,Index!A728)),0,INDEX('Trust - Frontsheet'!$C$14:$T$213,Index!B728,Index!A728))","v":0}]
["103704118","Staff_cols:Spec1, Staff_row:Staff_row127","TextBox",{"$f":"IF(ISERROR(INDEX('Trust - Frontsheet'!$C$14:$T$213,Index!B729,Index!A729)),0,INDEX('Trust - Frontsheet'!$C$14:$T$213,Index!B729,Index!A729))","v":0}]
["103704119","Staff_cols:Spec1, Staff_row:Staff_row128","TextBox",{"$f":"IF(ISERROR(INDEX('Trust - Frontsheet'!$C$14:$T$213,Index!B730,Index!A730)),0,INDEX('Trust - Frontsheet'!$C$14:$T$213,Index!B730,Index!A730))","v":0}]
["103704120","Staff_cols:Spec1, Staff_row:Staff_row129","TextBox",{"$f":"IF(ISERROR(INDEX('Trust - Frontsheet'!$C$14:$T$213,Index!B731,Index!A731)),0,INDEX('Trust - Frontsheet'!$C$14:$T$213,Index!B731,Index!A731))","v":0}]
["103704122","Staff_cols:Spec1, Staff_row:Staff_row130","TextBox",{"$f":"IF(ISERROR(INDEX('Trust - Frontsheet'!$C$14:$T$213,Index!B732,Index!A732)),0,INDEX('Trust - Frontsheet'!$C$14:$T$213,Index!B732,Index!A732))","v":0}]
["103704123","Staff_cols:Spec1, Staff_row:Staff_row131","TextBox",{"$f":"IF(ISERROR(INDEX('Trust - Frontsheet'!$C$14:$T$213,Index!B733,Index!A733)),0,INDEX('Trust - Frontsheet'!$C$14:$T$213,Index!B733,Index!A733))","v":0}]
["103704124","Staff_cols:Spec1, Staff_row:Staff_row132","TextBox",{"$f":"IF(ISERROR(INDEX('Trust - Frontsheet'!$C$14:$T$213,Index!B734,Index!A734)),0,INDEX('Trust - Frontsheet'!$C$14:$T$213,Index!B734,Index!A734))","v":0}]
["103704125","Staff_cols:Spec1, Staff_row:Staff_row133","TextBox",{"$f":"IF(ISERROR(INDEX('Trust - Frontsheet'!$C$14:$T$213,Index!B735,Index!A735)),0,INDEX('Trust - Frontsheet'!$C$14:$T$213,Index!B735,Index!A735))","v":0}]
["103704126","Staff_cols:Spec1, Staff_row:Staff_row134","TextBox",{"$f":"IF(ISERROR(INDEX('Trust - Frontsheet'!$C$14:$T$213,Index!B736,Index!A736)),0,INDEX('Trust - Frontsheet'!$C$14:$T$213,Index!B736,Index!A736))","v":0}]
["103704127","Staff_cols:Spec1, Staff_row:Staff_row135","TextBox",{"$f":"IF(ISERROR(INDEX('Trust - Frontsheet'!$C$14:$T$213,Index!B737,Index!A737)),0,INDEX('Trust - Frontsheet'!$C$14:$T$213,Index!B737,Index!A737))","v":0}]
["103704128","Staff_cols:Spec1, Staff_row:Staff_row136","TextBox",{"$f":"IF(ISERROR(INDEX('Trust - Frontsheet'!$C$14:$T$213,Index!B738,Index!A738)),0,INDEX('Trust - Frontsheet'!$C$14:$T$213,Index!B738,Index!A738))","v":0}]
["103704129","Staff_cols:Spec1, Staff_row:Staff_row137","TextBox",{"$f":"IF(ISERROR(INDEX('Trust - Frontsheet'!$C$14:$T$213,Index!B739,Index!A739)),0,INDEX('Trust - Frontsheet'!$C$14:$T$213,Index!B739,Index!A739))","v":0}]
["103704130","Staff_cols:Spec1, Staff_row:Staff_row138","TextBox",{"$f":"IF(ISERROR(INDEX('Trust - Frontsheet'!$C$14:$T$213,Index!B740,Index!A740)),0,INDEX('Trust - Frontsheet'!$C$14:$T$213,Index!B740,Index!A740))","v":0}]
["103704131","Staff_cols:Spec1, Staff_row:Staff_row139","TextBox",{"$f":"IF(ISERROR(INDEX('Trust - Frontsheet'!$C$14:$T$213,Index!B741,Index!A741)),0,INDEX('Trust - Frontsheet'!$C$14:$T$213,Index!B741,Index!A741))","v":0}]
["103704133","Staff_cols:Spec1, Staff_row:Staff_row140","TextBox",{"$f":"IF(ISERROR(INDEX('Trust - Frontsheet'!$C$14:$T$213,Index!B742,Index!A742)),0,INDEX('Trust - Frontsheet'!$C$14:$T$213,Index!B742,Index!A742))","v":0}]
["103704134","Staff_cols:Spec1, Staff_row:Staff_row141","TextBox",{"$f":"IF(ISERROR(INDEX('Trust - Frontsheet'!$C$14:$T$213,Index!B743,Index!A743)),0,INDEX('Trust - Frontsheet'!$C$14:$T$213,Index!B743,Index!A743))","v":0}]
["103704135","Staff_cols:Spec1, Staff_row:Staff_row142","TextBox",{"$f":"IF(ISERROR(INDEX('Trust - Frontsheet'!$C$14:$T$213,Index!B744,Index!A744)),0,INDEX('Trust - Frontsheet'!$C$14:$T$213,Index!B744,Index!A744))","v":0}]
["103704136","Staff_cols:Spec1, Staff_row:Staff_row143","TextBox",{"$f":"IF(ISERROR(INDEX('Trust - Frontsheet'!$C$14:$T$213,Index!B745,Index!A745)),0,INDEX('Trust - Frontsheet'!$C$14:$T$213,Index!B745,Index!A745))","v":0}]
["103704137","Staff_cols:Spec1, Staff_row:Staff_row144","TextBox",{"$f":"IF(ISERROR(INDEX('Trust - Frontsheet'!$C$14:$T$213,Index!B746,Index!A746)),0,INDEX('Trust - Frontsheet'!$C$14:$T$213,Index!B746,Index!A746))","v":0}]
["103704138","Staff_cols:Spec1, Staff_row:Staff_row145","TextBox",{"$f":"IF(ISERROR(INDEX('Trust - Frontsheet'!$C$14:$T$213,Index!B747,Index!A747)),0,INDEX('Trust - Frontsheet'!$C$14:$T$213,Index!B747,Index!A747))","v":0}]
["103704139","Staff_cols:Spec1, Staff_row:Staff_row146","TextBox",{"$f":"IF(ISERROR(INDEX('Trust - Frontsheet'!$C$14:$T$213,Index!B748,Index!A748)),0,INDEX('Trust - Frontsheet'!$C$14:$T$213,Index!B748,Index!A748))","v":0}]
["103704140","Staff_cols:Spec1, Staff_row:Staff_row147","TextBox",{"$f":"IF(ISERROR(INDEX('Trust - Frontsheet'!$C$14:$T$213,Index!B749,Index!A749)),0,INDEX('Trust - Frontsheet'!$C$14:$T$213,Index!B749,Index!A749))","v":0}]
["103704141","Staff_cols:Spec1, Staff_row:Staff_row148","TextBox",{"$f":"IF(ISERROR(INDEX('Trust - Frontsheet'!$C$14:$T$213,Index!B750,Index!A750)),0,INDEX('Trust - Frontsheet'!$C$14:$T$213,Index!B750,Index!A750))","v":0}]
["103704142","Staff_cols:Spec1, Staff_row:Staff_row149","TextBox",{"$f":"IF(ISERROR(INDEX('Trust - Frontsheet'!$C$14:$T$213,Index!B751,Index!A751)),0,INDEX('Trust - Frontsheet'!$C$14:$T$213,Index!B751,Index!A751))","v":0}]
["103704144","Staff_cols:Spec1, Staff_row:Staff_row150","TextBox",{"$f":"IF(ISERROR(INDEX('Trust - Frontsheet'!$C$14:$T$213,Index!B752,Index!A752)),0,INDEX('Trust - Frontsheet'!$C$14:$T$213,Index!B752,Index!A752))","v":0}]
["103704145","Staff_cols:Spec1, Staff_row:Staff_row151","TextBox",{"$f":"IF(ISERROR(INDEX('Trust - Frontsheet'!$C$14:$T$213,Index!B753,Index!A753)),0,INDEX('Trust - Frontsheet'!$C$14:$T$213,Index!B753,Index!A753))","v":0}]
["103704146","Staff_cols:Spec1, Staff_row:Staff_row152","TextBox",{"$f":"IF(ISERROR(INDEX('Trust - Frontsheet'!$C$14:$T$213,Index!B754,Index!A754)),0,INDEX('Trust - Frontsheet'!$C$14:$T$213,Index!B754,Index!A754))","v":0}]
["103704147","Staff_cols:Spec1, Staff_row:Staff_row153","TextBox",{"$f":"IF(ISERROR(INDEX('Trust - Frontsheet'!$C$14:$T$213,Index!B755,Index!A755)),0,INDEX('Trust - Frontsheet'!$C$14:$T$213,Index!B755,Index!A755))","v":0}]
["103704148","Staff_cols:Spec1, Staff_row:Staff_row154","TextBox",{"$f":"IF(ISERROR(INDEX('Trust - Frontsheet'!$C$14:$T$213,Index!B756,Index!A756)),0,INDEX('Trust - Frontsheet'!$C$14:$T$213,Index!B756,Index!A756))","v":0}]
["103704149","Staff_cols:Spec1, Staff_row:Staff_row155","TextBox",{"$f":"IF(ISERROR(INDEX('Trust - Frontsheet'!$C$14:$T$213,Index!B757,Index!A757)),0,INDEX('Trust - Frontsheet'!$C$14:$T$213,Index!B757,Index!A757))","v":0}]
["103704150","Staff_cols:Spec1, Staff_row:Staff_row156","TextBox",{"$f":"IF(ISERROR(INDEX('Trust - Frontsheet'!$C$14:$T$213,Index!B758,Index!A758)),0,INDEX('Trust - Frontsheet'!$C$14:$T$213,Index!B758,Index!A758))","v":0}]
["103704151","Staff_cols:Spec1, Staff_row:Staff_row157","TextBox",{"$f":"IF(ISERROR(INDEX('Trust - Frontsheet'!$C$14:$T$213,Index!B759,Index!A759)),0,INDEX('Trust - Frontsheet'!$C$14:$T$213,Index!B759,Index!A759))","v":0}]
["103704152","Staff_cols:Spec1, Staff_row:Staff_row158","TextBox",{"$f":"IF(ISERROR(INDEX('Trust - Frontsheet'!$C$14:$T$213,Index!B760,Index!A760)),0,INDEX('Trust - Frontsheet'!$C$14:$T$213,Index!B760,Index!A760))","v":0}]
["103704153","Staff_cols:Spec1, Staff_row:Staff_row159","TextBox",{"$f":"IF(ISERROR(INDEX('Trust - Frontsheet'!$C$14:$T$213,Index!B761,Index!A761)),0,INDEX('Trust - Frontsheet'!$C$14:$T$213,Index!B761,Index!A761))","v":0}]
["103704155","Staff_cols:Spec1, Staff_row:Staff_row160","TextBox",{"$f":"IF(ISERROR(INDEX('Trust - Frontsheet'!$C$14:$T$213,Index!B762,Index!A762)),0,INDEX('Trust - Frontsheet'!$C$14:$T$213,Index!B762,Index!A762))","v":0}]
["103704156","Staff_cols:Spec1, Staff_row:Staff_row161","TextBox",{"$f":"IF(ISERROR(INDEX('Trust - Frontsheet'!$C$14:$T$213,Index!B763,Index!A763)),0,INDEX('Trust - Frontsheet'!$C$14:$T$213,Index!B763,Index!A763))","v":0}]
["103704157","Staff_cols:Spec1, Staff_row:Staff_row162","TextBox",{"$f":"IF(ISERROR(INDEX('Trust - Frontsheet'!$C$14:$T$213,Index!B764,Index!A764)),0,INDEX('Trust - Frontsheet'!$C$14:$T$213,Index!B764,Index!A764))","v":0}]
["103704158","Staff_cols:Spec1, Staff_row:Staff_row163","TextBox",{"$f":"IF(ISERROR(INDEX('Trust - Frontsheet'!$C$14:$T$213,Index!B765,Index!A765)),0,INDEX('Trust - Frontsheet'!$C$14:$T$213,Index!B765,Index!A765))","v":0}]
["103704159","Staff_cols:Spec1, Staff_row:Staff_row164","TextBox",{"$f":"IF(ISERROR(INDEX('Trust - Frontsheet'!$C$14:$T$213,Index!B766,Index!A766)),0,INDEX('Trust - Frontsheet'!$C$14:$T$213,Index!B766,Index!A766))","v":0}]
["103704160","Staff_cols:Spec1, Staff_row:Staff_row165","TextBox",{"$f":"IF(ISERROR(INDEX('Trust - Frontsheet'!$C$14:$T$213,Index!B767,Index!A767)),0,INDEX('Trust - Frontsheet'!$C$14:$T$213,Index!B767,Index!A767))","v":0}]
["103704161","Staff_cols:Spec1, Staff_row:Staff_row166","TextBox",{"$f":"IF(ISERROR(INDEX('Trust - Frontsheet'!$C$14:$T$213,Index!B768,Index!A768)),0,INDEX('Trust - Frontsheet'!$C$14:$T$213,Index!B768,Index!A768))","v":0}]
["103704162","Staff_cols:Spec1, Staff_row:Staff_row167","TextBox",{"$f":"IF(ISERROR(INDEX('Trust - Frontsheet'!$C$14:$T$213,Index!B769,Index!A769)),0,INDEX('Trust - Frontsheet'!$C$14:$T$213,Index!B769,Index!A769))","v":0}]
["103704163","Staff_cols:Spec1, Staff_row:Staff_row168","TextBox",{"$f":"IF(ISERROR(INDEX('Trust - Frontsheet'!$C$14:$T$213,Index!B770,Index!A770)),0,INDEX('Trust - Frontsheet'!$C$14:$T$213,Index!B770,Index!A770))","v":0}]
["103704164","Staff_cols:Spec1, Staff_row:Staff_row169","TextBox",{"$f":"IF(ISERROR(INDEX('Trust - Frontsheet'!$C$14:$T$213,Index!B771,Index!A771)),0,INDEX('Trust - Frontsheet'!$C$14:$T$213,Index!B771,Index!A771))","v":0}]
["103704166","Staff_cols:Spec1, Staff_row:Staff_row170","TextBox",{"$f":"IF(ISERROR(INDEX('Trust - Frontsheet'!$C$14:$T$213,Index!B772,Index!A772)),0,INDEX('Trust - Frontsheet'!$C$14:$T$213,Index!B772,Index!A772))","v":0}]
["103704167","Staff_cols:Spec1, Staff_row:Staff_row171","TextBox",{"$f":"IF(ISERROR(INDEX('Trust - Frontsheet'!$C$14:$T$213,Index!B773,Index!A773)),0,INDEX('Trust - Frontsheet'!$C$14:$T$213,Index!B773,Index!A773))","v":0}]
["103704168","Staff_cols:Spec1, Staff_row:Staff_row172","TextBox",{"$f":"IF(ISERROR(INDEX('Trust - Frontsheet'!$C$14:$T$213,Index!B774,Index!A774)),0,INDEX('Trust - Frontsheet'!$C$14:$T$213,Index!B774,Index!A774))","v":0}]
["103704169","Staff_cols:Spec1, Staff_row:Staff_row173","TextBox",{"$f":"IF(ISERROR(INDEX('Trust - Frontsheet'!$C$14:$T$213,Index!B775,Index!A775)),0,INDEX('Trust - Frontsheet'!$C$14:$T$213,Index!B775,Index!A775))","v":0}]
["103704170","Staff_cols:Spec1, Staff_row:Staff_row174","TextBox",{"$f":"IF(ISERROR(INDEX('Trust - Frontsheet'!$C$14:$T$213,Index!B776,Index!A776)),0,INDEX('Trust - Frontsheet'!$C$14:$T$213,Index!B776,Index!A776))","v":0}]
["103704171","Staff_cols:Spec1, Staff_row:Staff_row175","TextBox",{"$f":"IF(ISERROR(INDEX('Trust - Frontsheet'!$C$14:$T$213,Index!B777,Index!A777)),0,INDEX('Trust - Frontsheet'!$C$14:$T$213,Index!B777,Index!A777))","v":0}]
["103704172","Staff_cols:Spec1, Staff_row:Staff_row176","TextBox",{"$f":"IF(ISERROR(INDEX('Trust - Frontsheet'!$C$14:$T$213,Index!B778,Index!A778)),0,INDEX('Trust - Frontsheet'!$C$14:$T$213,Index!B778,Index!A778))","v":0}]
["103704173","Staff_cols:Spec1, Staff_row:Staff_row177","TextBox",{"$f":"IF(ISERROR(INDEX('Trust - Frontsheet'!$C$14:$T$213,Index!B779,Index!A779)),0,INDEX('Trust - Frontsheet'!$C$14:$T$213,Index!B779,Index!A779))","v":0}]
["103704174","Staff_cols:Spec1, Staff_row:Staff_row178","TextBox",{"$f":"IF(ISERROR(INDEX('Trust - Frontsheet'!$C$14:$T$213,Index!B780,Index!A780)),0,INDEX('Trust - Frontsheet'!$C$14:$T$213,Index!B780,Index!A780))","v":0}]
["103704175","Staff_cols:Spec1, Staff_row:Staff_row179","TextBox",{"$f":"IF(ISERROR(INDEX('Trust - Frontsheet'!$C$14:$T$213,Index!B781,Index!A781)),0,INDEX('Trust - Frontsheet'!$C$14:$T$213,Index!B781,Index!A781))","v":0}]
["103704177","Staff_cols:Spec1, Staff_row:Staff_row180","TextBox",{"$f":"IF(ISERROR(INDEX('Trust - Frontsheet'!$C$14:$T$213,Index!B782,Index!A782)),0,INDEX('Trust - Frontsheet'!$C$14:$T$213,Index!B782,Index!A782))","v":0}]
["103704178","Staff_cols:Spec1, Staff_row:Staff_row181","TextBox",{"$f":"IF(ISERROR(INDEX('Trust - Frontsheet'!$C$14:$T$213,Index!B783,Index!A783)),0,INDEX('Trust - Frontsheet'!$C$14:$T$213,Index!B783,Index!A783))","v":0}]
["103704179","Staff_cols:Spec1, Staff_row:Staff_row182","TextBox",{"$f":"IF(ISERROR(INDEX('Trust - Frontsheet'!$C$14:$T$213,Index!B784,Index!A784)),0,INDEX('Trust - Frontsheet'!$C$14:$T$213,Index!B784,Index!A784))","v":0}]
["103704180","Staff_cols:Spec1, Staff_row:Staff_row183","TextBox",{"$f":"IF(ISERROR(INDEX('Trust - Frontsheet'!$C$14:$T$213,Index!B785,Index!A785)),0,INDEX('Trust - Frontsheet'!$C$14:$T$213,Index!B785,Index!A785))","v":0}]
["103704181","Staff_cols:Spec1, Staff_row:Staff_row184","TextBox",{"$f":"IF(ISERROR(INDEX('Trust - Frontsheet'!$C$14:$T$213,Index!B786,Index!A786)),0,INDEX('Trust - Frontsheet'!$C$14:$T$213,Index!B786,Index!A786))","v":0}]
["103704182","Staff_cols:Spec1, Staff_row:Staff_row185","TextBox",{"$f":"IF(ISERROR(INDEX('Trust - Frontsheet'!$C$14:$T$213,Index!B787,Index!A787)),0,INDEX('Trust - Frontsheet'!$C$14:$T$213,Index!B787,Index!A787))","v":0}]
["103704183","Staff_cols:Spec1, Staff_row:Staff_row186","TextBox",{"$f":"IF(ISERROR(INDEX('Trust - Frontsheet'!$C$14:$T$213,Index!B788,Index!A788)),0,INDEX('Trust - Frontsheet'!$C$14:$T$213,Index!B788,Index!A788))","v":0}]
["103704184","Staff_cols:Spec1, Staff_row:Staff_row187","TextBox",{"$f":"IF(ISERROR(INDEX('Trust - Frontsheet'!$C$14:$T$213,Index!B789,Index!A789)),0,INDEX('Trust - Frontsheet'!$C$14:$T$213,Index!B789,Index!A789))","v":0}]
["103704185","Staff_cols:Spec1, Staff_row:Staff_row188","TextBox",{"$f":"IF(ISERROR(INDEX('Trust - Frontsheet'!$C$14:$T$213,Index!B790,Index!A790)),0,INDEX('Trust - Frontsheet'!$C$14:$T$213,Index!B790,Index!A790))","v":0}]
["103704186","Staff_cols:Spec1, Staff_row:Staff_row189","TextBox",{"$f":"IF(ISERROR(INDEX('Trust - Frontsheet'!$C$14:$T$213,Index!B791,Index!A791)),0,INDEX('Trust - Frontsheet'!$C$14:$T$213,Index!B791,Index!A791))","v":0}]
["103704188","Staff_cols:Spec1, Staff_row:Staff_row190","TextBox",{"$f":"IF(ISERROR(INDEX('Trust - Frontsheet'!$C$14:$T$213,Index!B792,Index!A792)),0,INDEX('Trust - Frontsheet'!$C$14:$T$213,Index!B792,Index!A792))","v":0}]
["103704189","Staff_cols:Spec1, Staff_row:Staff_row191","TextBox",{"$f":"IF(ISERROR(INDEX('Trust - Frontsheet'!$C$14:$T$213,Index!B793,Index!A793)),0,INDEX('Trust - Frontsheet'!$C$14:$T$213,Index!B793,Index!A793))","v":0}]
["103704190","Staff_cols:Spec1, Staff_row:Staff_row192","TextBox",{"$f":"IF(ISERROR(INDEX('Trust - Frontsheet'!$C$14:$T$213,Index!B794,Index!A794)),0,INDEX('Trust - Frontsheet'!$C$14:$T$213,Index!B794,Index!A794))","v":0}]
["103704191","Staff_cols:Spec1, Staff_row:Staff_row193","TextBox",{"$f":"IF(ISERROR(INDEX('Trust - Frontsheet'!$C$14:$T$213,Index!B795,Index!A795)),0,INDEX('Trust - Frontsheet'!$C$14:$T$213,Index!B795,Index!A795))","v":0}]
["103704192","Staff_cols:Spec1, Staff_row:Staff_row194","TextBox",{"$f":"IF(ISERROR(INDEX('Trust - Frontsheet'!$C$14:$T$213,Index!B796,Index!A796)),0,INDEX('Trust - Frontsheet'!$C$14:$T$213,Index!B796,Index!A796))","v":0}]
["103704193","Staff_cols:Spec1, Staff_row:Staff_row195","TextBox",{"$f":"IF(ISERROR(INDEX('Trust - Frontsheet'!$C$14:$T$213,Index!B797,Index!A797)),0,INDEX('Trust - Frontsheet'!$C$14:$T$213,Index!B797,Index!A797))","v":0}]
["103704194","Staff_cols:Spec1, Staff_row:Staff_row196","TextBox",{"$f":"IF(ISERROR(INDEX('Trust - Frontsheet'!$C$14:$T$213,Index!B798,Index!A798)),0,INDEX('Trust - Frontsheet'!$C$14:$T$213,Index!B798,Index!A798))","v":0}]
["103704195","Staff_cols:Spec1, Staff_row:Staff_row197","TextBox",{"$f":"IF(ISERROR(INDEX('Trust - Frontsheet'!$C$14:$T$213,Index!B799,Index!A799)),0,INDEX('Trust - Frontsheet'!$C$14:$T$213,Index!B799,Index!A799))","v":0}]
["103704196","Staff_cols:Spec1, Staff_row:Staff_row198","TextBox",{"$f":"IF(ISERROR(INDEX('Trust - Frontsheet'!$C$14:$T$213,Index!B800,Index!A800)),0,INDEX('Trust - Frontsheet'!$C$14:$T$213,Index!B800,Index!A800))","v":0}]
["103704197","Staff_cols:Spec1, Staff_row:Staff_row199","TextBox",{"$f":"IF(ISERROR(INDEX('Trust - Frontsheet'!$C$14:$T$213,Index!B801,Index!A801)),0,INDEX('Trust - Frontsheet'!$C$14:$T$213,Index!B801,Index!A801))","v":0}]
["103704200","Staff_cols:Spec1, Staff_row:Staff_row200","TextBox",{"$f":"IF(ISERROR(INDEX('Trust - Frontsheet'!$C$14:$T$213,Index!B802,Index!A802)),0,INDEX('Trust - Frontsheet'!$C$14:$T$213,Index!B802,Index!A802))","v":0}]
["103704287","Staff_cols:Spec2, Staff_row:Staff_row1","TextBox",{"$f":"IF(ISERROR(INDEX('Trust - Frontsheet'!$C$14:$T$213,Index!B803,Index!A803)),0,INDEX('Trust - Frontsheet'!$C$14:$T$213,Index!B803,Index!A803))","v":"320 - CARDIOLOGY"}]
["103704398","Staff_cols:Spec2, Staff_row:Staff_row2","TextBox",{"$f":"IF(ISERROR(INDEX('Trust - Frontsheet'!$C$14:$T$213,Index!B804,Index!A804)),0,INDEX('Trust - Frontsheet'!$C$14:$T$213,Index!B804,Index!A804))","v":"110 - TRAUMA & ORTHOPAEDICS"}]
["103704410","Staff_cols:Spec2, Staff_row:Staff_row3","TextBox",{"$f":"IF(ISERROR(INDEX('Trust - Frontsheet'!$C$14:$T$213,Index!B805,Index!A805)),0,INDEX('Trust - Frontsheet'!$C$14:$T$213,Index!B805,Index!A805))","v":"301 - GASTROENTEROLOGY"}]
["103704421","Staff_cols:Spec2, Staff_row:Staff_row4","TextBox",{"$f":"IF(ISERROR(INDEX('Trust - Frontsheet'!$C$14:$T$213,Index!B806,Index!A806)),0,INDEX('Trust - Frontsheet'!$C$14:$T$213,Index!B806,Index!A806))","v":""}]
["103704432","Staff_cols:Spec2, Staff_row:Staff_row5","TextBox",{"$f":"IF(ISERROR(INDEX('Trust - Frontsheet'!$C$14:$T$213,Index!B807,Index!A807)),0,INDEX('Trust - Frontsheet'!$C$14:$T$213,Index!B807,Index!A807))","v":""}]
["103704443","Staff_cols:Spec2, Staff_row:Staff_row6","TextBox",{"$f":"IF(ISERROR(INDEX('Trust - Frontsheet'!$C$14:$T$213,Index!B808,Index!A808)),0,INDEX('Trust - Frontsheet'!$C$14:$T$213,Index!B808,Index!A808))","v":""}]
["103704454","Staff_cols:Spec2, Staff_row:Staff_row7","TextBox",{"$f":"IF(ISERROR(INDEX('Trust - Frontsheet'!$C$14:$T$213,Index!B809,Index!A809)),0,INDEX('Trust - Frontsheet'!$C$14:$T$213,Index!B809,Index!A809))","v":""}]
["103704465","Staff_cols:Spec2, Staff_row:Staff_row8","TextBox",{"$f":"IF(ISERROR(INDEX('Trust - Frontsheet'!$C$14:$T$213,Index!B810,Index!A810)),0,INDEX('Trust - Frontsheet'!$C$14:$T$213,Index!B810,Index!A810))","v":""}]
["103704476","Staff_cols:Spec2, Staff_row:Staff_row9","TextBox",{"$f":"IF(ISERROR(INDEX('Trust - Frontsheet'!$C$14:$T$213,Index!B811,Index!A811)),0,INDEX('Trust - Frontsheet'!$C$14:$T$213,Index!B811,Index!A811))","v":"361 - NEPHROLOGY"}]
["103704288","Staff_cols:Spec2, Staff_row:Staff_row10","TextBox",{"$f":"IF(ISERROR(INDEX('Trust - Frontsheet'!$C$14:$T$213,Index!B812,Index!A812)),0,INDEX('Trust - Frontsheet'!$C$14:$T$213,Index!B812,Index!A812))","v":""}]
["103704299","Staff_cols:Spec2, Staff_row:Staff_row11","TextBox",{"$f":"IF(ISERROR(INDEX('Trust - Frontsheet'!$C$14:$T$213,Index!B813,Index!A813)),0,INDEX('Trust - Frontsheet'!$C$14:$T$213,Index!B813,Index!A813))","v":""}]
["103704310","Staff_cols:Spec2, Staff_row:Staff_row12","TextBox",{"$f":"IF(ISERROR(INDEX('Trust - Frontsheet'!$C$14:$T$213,Index!B814,Index!A814)),0,INDEX('Trust - Frontsheet'!$C$14:$T$213,Index!B814,Index!A814))","v":""}]
["103704321","Staff_cols:Spec2, Staff_row:Staff_row13","TextBox",{"$f":"IF(ISERROR(INDEX('Trust - Frontsheet'!$C$14:$T$213,Index!B815,Index!A815)),0,INDEX('Trust - Frontsheet'!$C$14:$T$213,Index!B815,Index!A815))","v":""}]
["103704332","Staff_cols:Spec2, Staff_row:Staff_row14","TextBox",{"$f":"IF(ISERROR(INDEX('Trust - Frontsheet'!$C$14:$T$213,Index!B816,Index!A816)),0,INDEX('Trust - Frontsheet'!$C$14:$T$213,Index!B816,Index!A816))","v":""}]
["103704343","Staff_cols:Spec2, Staff_row:Staff_row15","TextBox",{"$f":"IF(ISERROR(INDEX('Trust - Frontsheet'!$C$14:$T$213,Index!B817,Index!A817)),0,INDEX('Trust - Frontsheet'!$C$14:$T$213,Index!B817,Index!A817))","v":""}]
["103704354","Staff_cols:Spec2, Staff_row:Staff_row16","TextBox",{"$f":"IF(ISERROR(INDEX('Trust - Frontsheet'!$C$14:$T$213,Index!B818,Index!A818)),0,INDEX('Trust - Frontsheet'!$C$14:$T$213,Index!B818,Index!A818))","v":""}]
["103704365","Staff_cols:Spec2, Staff_row:Staff_row17","TextBox",{"$f":"IF(ISERROR(INDEX('Trust - Frontsheet'!$C$14:$T$213,Index!B819,Index!A819)),0,INDEX('Trust - Frontsheet'!$C$14:$T$213,Index!B819,Index!A819))","v":""}]
["103704376","Staff_cols:Spec2, Staff_row:Staff_row18","TextBox",{"$f":"IF(ISERROR(INDEX('Trust - Frontsheet'!$C$14:$T$213,Index!B820,Index!A820)),0,INDEX('Trust - Frontsheet'!$C$14:$T$213,Index!B820,Index!A820))","v":""}]
["103704387","Staff_cols:Spec2, Staff_row:Staff_row19","TextBox",{"$f":"IF(ISERROR(INDEX('Trust - Frontsheet'!$C$14:$T$213,Index!B821,Index!A821)),0,INDEX('Trust - Frontsheet'!$C$14:$T$213,Index!B821,Index!A821))","v":"302 - ENDOCRINOLOGY"}]
["103704399","Staff_cols:Spec2, Staff_row:Staff_row20","TextBox",{"$f":"IF(ISERROR(INDEX('Trust - Frontsheet'!$C$14:$T$213,Index!B822,Index!A822)),0,INDEX('Trust - Frontsheet'!$C$14:$T$213,Index!B822,Index!A822))","v":""}]
["103704401","Staff_cols:Spec2, Staff_row:Staff_row21","TextBox",{"$f":"IF(ISERROR(INDEX('Trust - Frontsheet'!$C$14:$T$213,Index!B823,Index!A823)),0,INDEX('Trust - Frontsheet'!$C$14:$T$213,Index!B823,Index!A823))","v":""}]
["103704402","Staff_cols:Spec2, Staff_row:Staff_row22","TextBox",{"$f":"IF(ISERROR(INDEX('Trust - Frontsheet'!$C$14:$T$213,Index!B824,Index!A824)),0,INDEX('Trust - Frontsheet'!$C$14:$T$213,Index!B824,Index!A824))","v":""}]
["103704403","Staff_cols:Spec2, Staff_row:Staff_row23","TextBox",{"$f":"IF(ISERROR(INDEX('Trust - Frontsheet'!$C$14:$T$213,Index!B825,Index!A825)),0,INDEX('Trust - Frontsheet'!$C$14:$T$213,Index!B825,Index!A825))","v":""}]
["103704404","Staff_cols:Spec2, Staff_row:Staff_row24","TextBox",{"$f":"IF(ISERROR(INDEX('Trust - Frontsheet'!$C$14:$T$213,Index!B826,Index!A826)),0,INDEX('Trust - Frontsheet'!$C$14:$T$213,Index!B826,Index!A826))","v":""}]
["103704405","Staff_cols:Spec2, Staff_row:Staff_row25","TextBox",{"$f":"IF(ISERROR(INDEX('Trust - Frontsheet'!$C$14:$T$213,Index!B827,Index!A827)),0,INDEX('Trust - Frontsheet'!$C$14:$T$213,Index!B827,Index!A827))","v":""}]
["103704406","Staff_cols:Spec2, Staff_row:Staff_row26","TextBox",{"$f":"IF(ISERROR(INDEX('Trust - Frontsheet'!$C$14:$T$213,Index!B828,Index!A828)),0,INDEX('Trust - Frontsheet'!$C$14:$T$213,Index!B828,Index!A828))","v":""}]
["103704407","Staff_cols:Spec2, Staff_row:Staff_row27","TextBox",{"$f":"IF(ISERROR(INDEX('Trust - Frontsheet'!$C$14:$T$213,Index!B829,Index!A829)),0,INDEX('Trust - Frontsheet'!$C$14:$T$213,Index!B829,Index!A829))","v":"800 - CLINICAL ONCOLOGY"}]
["103704408","Staff_cols:Spec2, Staff_row:Staff_row28","TextBox",{"$f":"IF(ISERROR(INDEX('Trust - Frontsheet'!$C$14:$T$213,Index!B830,Index!A830)),0,INDEX('Trust - Frontsheet'!$C$14:$T$213,Index!B830,Index!A830))","v":""}]
["103704409","Staff_cols:Spec2, Staff_row:Staff_row29","TextBox",{"$f":"IF(ISERROR(INDEX('Trust - Frontsheet'!$C$14:$T$213,Index!B831,Index!A831)),0,INDEX('Trust - Frontsheet'!$C$14:$T$213,Index!B831,Index!A831))","v":""}]
["103704411","Staff_cols:Spec2, Staff_row:Staff_row30","TextBox",{"$f":"IF(ISERROR(INDEX('Trust - Frontsheet'!$C$14:$T$213,Index!B832,Index!A832)),0,INDEX('Trust - Frontsheet'!$C$14:$T$213,Index!B832,Index!A832))","v":""}]
["103704412","Staff_cols:Spec2, Staff_row:Staff_row31","TextBox",{"$f":"IF(ISERROR(INDEX('Trust - Frontsheet'!$C$14:$T$213,Index!B833,Index!A833)),0,INDEX('Trust - Frontsheet'!$C$14:$T$213,Index!B833,Index!A833))","v":""}]
["103704413","Staff_cols:Spec2, Staff_row:Staff_row32","TextBox",{"$f":"IF(ISERROR(INDEX('Trust - Frontsheet'!$C$14:$T$213,Index!B834,Index!A834)),0,INDEX('Trust - Frontsheet'!$C$14:$T$213,Index!B834,Index!A834))","v":""}]
["103704414","Staff_cols:Spec2, Staff_row:Staff_row33","TextBox",{"$f":"IF(ISERROR(INDEX('Trust - Frontsheet'!$C$14:$T$213,Index!B835,Index!A835)),0,INDEX('Trust - Frontsheet'!$C$14:$T$213,Index!B835,Index!A835))","v":""}]
["103704415","Staff_cols:Spec2, Staff_row:Staff_row34","TextBox",{"$f":"IF(ISERROR(INDEX('Trust - Frontsheet'!$C$14:$T$213,Index!B836,Index!A836)),0,INDEX('Trust - Frontsheet'!$C$14:$T$213,Index!B836,Index!A836))","v":""}]
["103704416","Staff_cols:Spec2, Staff_row:Staff_row35","TextBox",{"$f":"IF(ISERROR(INDEX('Trust - Frontsheet'!$C$14:$T$213,Index!B837,Index!A837)),0,INDEX('Trust - Frontsheet'!$C$14:$T$213,Index!B837,Index!A837))","v":""}]
["103704417","Staff_cols:Spec2, Staff_row:Staff_row36","TextBox",{"$f":"IF(ISERROR(INDEX('Trust - Frontsheet'!$C$14:$T$213,Index!B838,Index!A838)),0,INDEX('Trust - Frontsheet'!$C$14:$T$213,Index!B838,Index!A838))","v":""}]
["103704418","Staff_cols:Spec2, Staff_row:Staff_row37","TextBox",{"$f":"IF(ISERROR(INDEX('Trust - Frontsheet'!$C$14:$T$213,Index!B839,Index!A839)),0,INDEX('Trust - Frontsheet'!$C$14:$T$213,Index!B839,Index!A839))","v":""}]
["103704419","Staff_cols:Spec2, Staff_row:Staff_row38","TextBox",{"$f":"IF(ISERROR(INDEX('Trust - Frontsheet'!$C$14:$T$213,Index!B840,Index!A840)),0,INDEX('Trust - Frontsheet'!$C$14:$T$213,Index!B840,Index!A840))","v":""}]
["103704420","Staff_cols:Spec2, Staff_row:Staff_row39","TextBox",{"$f":"IF(ISERROR(INDEX('Trust - Frontsheet'!$C$14:$T$213,Index!B841,Index!A841)),0,INDEX('Trust - Frontsheet'!$C$14:$T$213,Index!B841,Index!A841))","v":""}]
["103704422","Staff_cols:Spec2, Staff_row:Staff_row40","TextBox",{"$f":"IF(ISERROR(INDEX('Trust - Frontsheet'!$C$14:$T$213,Index!B842,Index!A842)),0,INDEX('Trust - Frontsheet'!$C$14:$T$213,Index!B842,Index!A842))","v":""}]
["103704423","Staff_cols:Spec2, Staff_row:Staff_row41","TextBox",{"$f":"IF(ISERROR(INDEX('Trust - Frontsheet'!$C$14:$T$213,Index!B843,Index!A843)),0,INDEX('Trust - Frontsheet'!$C$14:$T$213,Index!B843,Index!A843))","v":"303 - CLINICAL HAEMATOLOGY"}]
["103704424","Staff_cols:Spec2, Staff_row:Staff_row42","TextBox",{"$f":"IF(ISERROR(INDEX('Trust - Frontsheet'!$C$14:$T$213,Index!B844,Index!A844)),0,INDEX('Trust - Frontsheet'!$C$14:$T$213,Index!B844,Index!A844))","v":"320 - CARDIOLOGY"}]
["103704425","Staff_cols:Spec2, Staff_row:Staff_row43","TextBox",{"$f":"IF(ISERROR(INDEX('Trust - Frontsheet'!$C$14:$T$213,Index!B845,Index!A845)),0,INDEX('Trust - Frontsheet'!$C$14:$T$213,Index!B845,Index!A845))","v":"320 - CARDIOLOGY"}]
["103704426","Staff_cols:Spec2, Staff_row:Staff_row44","TextBox",{"$f":"IF(ISERROR(INDEX('Trust - Frontsheet'!$C$14:$T$213,Index!B846,Index!A846)),0,INDEX('Trust - Frontsheet'!$C$14:$T$213,Index!B846,Index!A846))","v":""}]
["103704427","Staff_cols:Spec2, Staff_row:Staff_row45","TextBox",{"$f":"IF(ISERROR(INDEX('Trust - Frontsheet'!$C$14:$T$213,Index!B847,Index!A847)),0,INDEX('Trust - Frontsheet'!$C$14:$T$213,Index!B847,Index!A847))","v":""}]
["103704428","Staff_cols:Spec2, Staff_row:Staff_row46","TextBox",{"$f":"IF(ISERROR(INDEX('Trust - Frontsheet'!$C$14:$T$213,Index!B848,Index!A848)),0,INDEX('Trust - Frontsheet'!$C$14:$T$213,Index!B848,Index!A848))","v":""}]
["103704429","Staff_cols:Spec2, Staff_row:Staff_row47","TextBox",{"$f":"IF(ISERROR(INDEX('Trust - Frontsheet'!$C$14:$T$213,Index!B849,Index!A849)),0,INDEX('Trust - Frontsheet'!$C$14:$T$213,Index!B849,Index!A849))","v":""}]
["103704430","Staff_cols:Spec2, Staff_row:Staff_row48","TextBox",{"$f":"IF(ISERROR(INDEX('Trust - Frontsheet'!$C$14:$T$213,Index!B850,Index!A850)),0,INDEX('Trust - Frontsheet'!$C$14:$T$213,Index!B850,Index!A850))","v":0}]
["103704431","Staff_cols:Spec2, Staff_row:Staff_row49","TextBox",{"$f":"IF(ISERROR(INDEX('Trust - Frontsheet'!$C$14:$T$213,Index!B851,Index!A851)),0,INDEX('Trust - Frontsheet'!$C$14:$T$213,Index!B851,Index!A851))","v":0}]
["103704433","Staff_cols:Spec2, Staff_row:Staff_row50","TextBox",{"$f":"IF(ISERROR(INDEX('Trust - Frontsheet'!$C$14:$T$213,Index!B852,Index!A852)),0,INDEX('Trust - Frontsheet'!$C$14:$T$213,Index!B852,Index!A852))","v":0}]
["103704434","Staff_cols:Spec2, Staff_row:Staff_row51","TextBox",{"$f":"IF(ISERROR(INDEX('Trust - Frontsheet'!$C$14:$T$213,Index!B853,Index!A853)),0,INDEX('Trust - Frontsheet'!$C$14:$T$213,Index!B853,Index!A853))","v":0}]
["103704435","Staff_cols:Spec2, Staff_row:Staff_row52","TextBox",{"$f":"IF(ISERROR(INDEX('Trust - Frontsheet'!$C$14:$T$213,Index!B854,Index!A854)),0,INDEX('Trust - Frontsheet'!$C$14:$T$213,Index!B854,Index!A854))","v":0}]
["103704436","Staff_cols:Spec2, Staff_row:Staff_row53","TextBox",{"$f":"IF(ISERROR(INDEX('Trust - Frontsheet'!$C$14:$T$213,Index!B855,Index!A855)),0,INDEX('Trust - Frontsheet'!$C$14:$T$213,Index!B855,Index!A855))","v":0}]
["103704437","Staff_cols:Spec2, Staff_row:Staff_row54","TextBox",{"$f":"IF(ISERROR(INDEX('Trust - Frontsheet'!$C$14:$T$213,Index!B856,Index!A856)),0,INDEX('Trust - Frontsheet'!$C$14:$T$213,Index!B856,Index!A856))","v":0}]
["103704438","Staff_cols:Spec2, Staff_row:Staff_row55","TextBox",{"$f":"IF(ISERROR(INDEX('Trust - Frontsheet'!$C$14:$T$213,Index!B857,Index!A857)),0,INDEX('Trust - Frontsheet'!$C$14:$T$213,Index!B857,Index!A857))","v":0}]
["103704439","Staff_cols:Spec2, Staff_row:Staff_row56","TextBox",{"$f":"IF(ISERROR(INDEX('Trust - Frontsheet'!$C$14:$T$213,Index!B858,Index!A858)),0,INDEX('Trust - Frontsheet'!$C$14:$T$213,Index!B858,Index!A858))","v":0}]
["103704440","Staff_cols:Spec2, Staff_row:Staff_row57","TextBox",{"$f":"IF(ISERROR(INDEX('Trust - Frontsheet'!$C$14:$T$213,Index!B859,Index!A859)),0,INDEX('Trust - Frontsheet'!$C$14:$T$213,Index!B859,Index!A859))","v":0}]
["103704441","Staff_cols:Spec2, Staff_row:Staff_row58","TextBox",{"$f":"IF(ISERROR(INDEX('Trust - Frontsheet'!$C$14:$T$213,Index!B860,Index!A860)),0,INDEX('Trust - Frontsheet'!$C$14:$T$213,Index!B860,Index!A860))","v":0}]
["103704442","Staff_cols:Spec2, Staff_row:Staff_row59","TextBox",{"$f":"IF(ISERROR(INDEX('Trust - Frontsheet'!$C$14:$T$213,Index!B861,Index!A861)),0,INDEX('Trust - Frontsheet'!$C$14:$T$213,Index!B861,Index!A861))","v":0}]
["103704444","Staff_cols:Spec2, Staff_row:Staff_row60","TextBox",{"$f":"IF(ISERROR(INDEX('Trust - Frontsheet'!$C$14:$T$213,Index!B862,Index!A862)),0,INDEX('Trust - Frontsheet'!$C$14:$T$213,Index!B862,Index!A862))","v":0}]
["103704445","Staff_cols:Spec2, Staff_row:Staff_row61","TextBox",{"$f":"IF(ISERROR(INDEX('Trust - Frontsheet'!$C$14:$T$213,Index!B863,Index!A863)),0,INDEX('Trust - Frontsheet'!$C$14:$T$213,Index!B863,Index!A863))","v":0}]
["103704446","Staff_cols:Spec2, Staff_row:Staff_row62","TextBox",{"$f":"IF(ISERROR(INDEX('Trust - Frontsheet'!$C$14:$T$213,Index!B864,Index!A864)),0,INDEX('Trust - Frontsheet'!$C$14:$T$213,Index!B864,Index!A864))","v":0}]
["103704447","Staff_cols:Spec2, Staff_row:Staff_row63","TextBox",{"$f":"IF(ISERROR(INDEX('Trust - Frontsheet'!$C$14:$T$213,Index!B865,Index!A865)),0,INDEX('Trust - Frontsheet'!$C$14:$T$213,Index!B865,Index!A865))","v":0}]
["103704448","Staff_cols:Spec2, Staff_row:Staff_row64","TextBox",{"$f":"IF(ISERROR(INDEX('Trust - Frontsheet'!$C$14:$T$213,Index!B866,Index!A866)),0,INDEX('Trust - Frontsheet'!$C$14:$T$213,Index!B866,Index!A866))","v":0}]
["103704449","Staff_cols:Spec2, Staff_row:Staff_row65","TextBox",{"$f":"IF(ISERROR(INDEX('Trust - Frontsheet'!$C$14:$T$213,Index!B867,Index!A867)),0,INDEX('Trust - Frontsheet'!$C$14:$T$213,Index!B867,Index!A867))","v":0}]
["103704450","Staff_cols:Spec2, Staff_row:Staff_row66","TextBox",{"$f":"IF(ISERROR(INDEX('Trust - Frontsheet'!$C$14:$T$213,Index!B868,Index!A868)),0,INDEX('Trust - Frontsheet'!$C$14:$T$213,Index!B868,Index!A868))","v":0}]
["103704451","Staff_cols:Spec2, Staff_row:Staff_row67","TextBox",{"$f":"IF(ISERROR(INDEX('Trust - Frontsheet'!$C$14:$T$213,Index!B869,Index!A869)),0,INDEX('Trust - Frontsheet'!$C$14:$T$213,Index!B869,Index!A869))","v":0}]
["103704452","Staff_cols:Spec2, Staff_row:Staff_row68","TextBox",{"$f":"IF(ISERROR(INDEX('Trust - Frontsheet'!$C$14:$T$213,Index!B870,Index!A870)),0,INDEX('Trust - Frontsheet'!$C$14:$T$213,Index!B870,Index!A870))","v":0}]
["103704453","Staff_cols:Spec2, Staff_row:Staff_row69","TextBox",{"$f":"IF(ISERROR(INDEX('Trust - Frontsheet'!$C$14:$T$213,Index!B871,Index!A871)),0,INDEX('Trust - Frontsheet'!$C$14:$T$213,Index!B871,Index!A871))","v":0}]
["103704455","Staff_cols:Spec2, Staff_row:Staff_row70","TextBox",{"$f":"IF(ISERROR(INDEX('Trust - Frontsheet'!$C$14:$T$213,Index!B872,Index!A872)),0,INDEX('Trust - Frontsheet'!$C$14:$T$213,Index!B872,Index!A872))","v":0}]
["103704456","Staff_cols:Spec2, Staff_row:Staff_row71","TextBox",{"$f":"IF(ISERROR(INDEX('Trust - Frontsheet'!$C$14:$T$213,Index!B873,Index!A873)),0,INDEX('Trust - Frontsheet'!$C$14:$T$213,Index!B873,Index!A873))","v":0}]
["103704457","Staff_cols:Spec2, Staff_row:Staff_row72","TextBox",{"$f":"IF(ISERROR(INDEX('Trust - Frontsheet'!$C$14:$T$213,Index!B874,Index!A874)),0,INDEX('Trust - Frontsheet'!$C$14:$T$213,Index!B874,Index!A874))","v":0}]
["103704458","Staff_cols:Spec2, Staff_row:Staff_row73","TextBox",{"$f":"IF(ISERROR(INDEX('Trust - Frontsheet'!$C$14:$T$213,Index!B875,Index!A875)),0,INDEX('Trust - Frontsheet'!$C$14:$T$213,Index!B875,Index!A875))","v":0}]
["103704459","Staff_cols:Spec2, Staff_row:Staff_row74","TextBox",{"$f":"IF(ISERROR(INDEX('Trust - Frontsheet'!$C$14:$T$213,Index!B876,Index!A876)),0,INDEX('Trust - Frontsheet'!$C$14:$T$213,Index!B876,Index!A876))","v":0}]
["103704460","Staff_cols:Spec2, Staff_row:Staff_row75","TextBox",{"$f":"IF(ISERROR(INDEX('Trust - Frontsheet'!$C$14:$T$213,Index!B877,Index!A877)),0,INDEX('Trust - Frontsheet'!$C$14:$T$213,Index!B877,Index!A877))","v":0}]
["103704461","Staff_cols:Spec2, Staff_row:Staff_row76","TextBox",{"$f":"IF(ISERROR(INDEX('Trust - Frontsheet'!$C$14:$T$213,Index!B878,Index!A878)),0,INDEX('Trust - Frontsheet'!$C$14:$T$213,Index!B878,Index!A878))","v":0}]
["103704462","Staff_cols:Spec2, Staff_row:Staff_row77","TextBox",{"$f":"IF(ISERROR(INDEX('Trust - Frontsheet'!$C$14:$T$213,Index!B879,Index!A879)),0,INDEX('Trust - Frontsheet'!$C$14:$T$213,Index!B879,Index!A879))","v":0}]
["103704463","Staff_cols:Spec2, Staff_row:Staff_row78","TextBox",{"$f":"IF(ISERROR(INDEX('Trust - Frontsheet'!$C$14:$T$213,Index!B880,Index!A880)),0,INDEX('Trust - Frontsheet'!$C$14:$T$213,Index!B880,Index!A880))","v":0}]
["103704464","Staff_cols:Spec2, Staff_row:Staff_row79","TextBox",{"$f":"IF(ISERROR(INDEX('Trust - Frontsheet'!$C$14:$T$213,Index!B881,Index!A881)),0,INDEX('Trust - Frontsheet'!$C$14:$T$213,Index!B881,Index!A881))","v":0}]
["103704466","Staff_cols:Spec2, Staff_row:Staff_row80","TextBox",{"$f":"IF(ISERROR(INDEX('Trust - Frontsheet'!$C$14:$T$213,Index!B882,Index!A882)),0,INDEX('Trust - Frontsheet'!$C$14:$T$213,Index!B882,Index!A882))","v":0}]
["103704467","Staff_cols:Spec2, Staff_row:Staff_row81","TextBox",{"$f":"IF(ISERROR(INDEX('Trust - Frontsheet'!$C$14:$T$213,Index!B883,Index!A883)),0,INDEX('Trust - Frontsheet'!$C$14:$T$213,Index!B883,Index!A883))","v":0}]
["103704468","Staff_cols:Spec2, Staff_row:Staff_row82","TextBox",{"$f":"IF(ISERROR(INDEX('Trust - Frontsheet'!$C$14:$T$213,Index!B884,Index!A884)),0,INDEX('Trust - Frontsheet'!$C$14:$T$213,Index!B884,Index!A884))","v":0}]
["103704469","Staff_cols:Spec2, Staff_row:Staff_row83","TextBox",{"$f":"IF(ISERROR(INDEX('Trust - Frontsheet'!$C$14:$T$213,Index!B885,Index!A885)),0,INDEX('Trust - Frontsheet'!$C$14:$T$213,Index!B885,Index!A885))","v":0}]
["103704470","Staff_cols:Spec2, Staff_row:Staff_row84","TextBox",{"$f":"IF(ISERROR(INDEX('Trust - Frontsheet'!$C$14:$T$213,Index!B886,Index!A886)),0,INDEX('Trust - Frontsheet'!$C$14:$T$213,Index!B886,Index!A886))","v":0}]
["103704471","Staff_cols:Spec2, Staff_row:Staff_row85","TextBox",{"$f":"IF(ISERROR(INDEX('Trust - Frontsheet'!$C$14:$T$213,Index!B887,Index!A887)),0,INDEX('Trust - Frontsheet'!$C$14:$T$213,Index!B887,Index!A887))","v":0}]
["103704472","Staff_cols:Spec2, Staff_row:Staff_row86","TextBox",{"$f":"IF(ISERROR(INDEX('Trust - Frontsheet'!$C$14:$T$213,Index!B888,Index!A888)),0,INDEX('Trust - Frontsheet'!$C$14:$T$213,Index!B888,Index!A888))","v":0}]
["103704473","Staff_cols:Spec2, Staff_row:Staff_row87","TextBox",{"$f":"IF(ISERROR(INDEX('Trust - Frontsheet'!$C$14:$T$213,Index!B889,Index!A889)),0,INDEX('Trust - Frontsheet'!$C$14:$T$213,Index!B889,Index!A889))","v":0}]
["103704474","Staff_cols:Spec2, Staff_row:Staff_row88","TextBox",{"$f":"IF(ISERROR(INDEX('Trust - Frontsheet'!$C$14:$T$213,Index!B890,Index!A890)),0,INDEX('Trust - Frontsheet'!$C$14:$T$213,Index!B890,Index!A890))","v":0}]
["103704475","Staff_cols:Spec2, Staff_row:Staff_row89","TextBox",{"$f":"IF(ISERROR(INDEX('Trust - Frontsheet'!$C$14:$T$213,Index!B891,Index!A891)),0,INDEX('Trust - Frontsheet'!$C$14:$T$213,Index!B891,Index!A891))","v":0}]
["103704477","Staff_cols:Spec2, Staff_row:Staff_row90","TextBox",{"$f":"IF(ISERROR(INDEX('Trust - Frontsheet'!$C$14:$T$213,Index!B892,Index!A892)),0,INDEX('Trust - Frontsheet'!$C$14:$T$213,Index!B892,Index!A892))","v":0}]
["103704478","Staff_cols:Spec2, Staff_row:Staff_row91","TextBox",{"$f":"IF(ISERROR(INDEX('Trust - Frontsheet'!$C$14:$T$213,Index!B893,Index!A893)),0,INDEX('Trust - Frontsheet'!$C$14:$T$213,Index!B893,Index!A893))","v":0}]
["103704479","Staff_cols:Spec2, Staff_row:Staff_row92","TextBox",{"$f":"IF(ISERROR(INDEX('Trust - Frontsheet'!$C$14:$T$213,Index!B894,Index!A894)),0,INDEX('Trust - Frontsheet'!$C$14:$T$213,Index!B894,Index!A894))","v":0}]
["103704480","Staff_cols:Spec2, Staff_row:Staff_row93","TextBox",{"$f":"IF(ISERROR(INDEX('Trust - Frontsheet'!$C$14:$T$213,Index!B895,Index!A895)),0,INDEX('Trust - Frontsheet'!$C$14:$T$213,Index!B895,Index!A895))","v":0}]
["103704481","Staff_cols:Spec2, Staff_row:Staff_row94","TextBox",{"$f":"IF(ISERROR(INDEX('Trust - Frontsheet'!$C$14:$T$213,Index!B896,Index!A896)),0,INDEX('Trust - Frontsheet'!$C$14:$T$213,Index!B896,Index!A896))","v":0}]
["103704482","Staff_cols:Spec2, Staff_row:Staff_row95","TextBox",{"$f":"IF(ISERROR(INDEX('Trust - Frontsheet'!$C$14:$T$213,Index!B897,Index!A897)),0,INDEX('Trust - Frontsheet'!$C$14:$T$213,Index!B897,Index!A897))","v":0}]
["103704483","Staff_cols:Spec2, Staff_row:Staff_row96","TextBox",{"$f":"IF(ISERROR(INDEX('Trust - Frontsheet'!$C$14:$T$213,Index!B898,Index!A898)),0,INDEX('Trust - Frontsheet'!$C$14:$T$213,Index!B898,Index!A898))","v":0}]
["103704484","Staff_cols:Spec2, Staff_row:Staff_row97","TextBox",{"$f":"IF(ISERROR(INDEX('Trust - Frontsheet'!$C$14:$T$213,Index!B899,Index!A899)),0,INDEX('Trust - Frontsheet'!$C$14:$T$213,Index!B899,Index!A899))","v":0}]
["103704485","Staff_cols:Spec2, Staff_row:Staff_row98","TextBox",{"$f":"IF(ISERROR(INDEX('Trust - Frontsheet'!$C$14:$T$213,Index!B900,Index!A900)),0,INDEX('Trust - Frontsheet'!$C$14:$T$213,Index!B900,Index!A900))","v":0}]
["103704486","Staff_cols:Spec2, Staff_row:Staff_row99","TextBox",{"$f":"IF(ISERROR(INDEX('Trust - Frontsheet'!$C$14:$T$213,Index!B901,Index!A901)),0,INDEX('Trust - Frontsheet'!$C$14:$T$213,Index!B901,Index!A901))","v":0}]
["103704289","Staff_cols:Spec2, Staff_row:Staff_row100","TextBox",{"$f":"IF(ISERROR(INDEX('Trust - Frontsheet'!$C$14:$T$213,Index!B902,Index!A902)),0,INDEX('Trust - Frontsheet'!$C$14:$T$213,Index!B902,Index!A902))","v":0}]
["103704290","Staff_cols:Spec2, Staff_row:Staff_row101","TextBox",{"$f":"IF(ISERROR(INDEX('Trust - Frontsheet'!$C$14:$T$213,Index!B903,Index!A903)),0,INDEX('Trust - Frontsheet'!$C$14:$T$213,Index!B903,Index!A903))","v":0}]
["103704291","Staff_cols:Spec2, Staff_row:Staff_row102","TextBox",{"$f":"IF(ISERROR(INDEX('Trust - Frontsheet'!$C$14:$T$213,Index!B904,Index!A904)),0,INDEX('Trust - Frontsheet'!$C$14:$T$213,Index!B904,Index!A904))","v":0}]
["103704292","Staff_cols:Spec2, Staff_row:Staff_row103","TextBox",{"$f":"IF(ISERROR(INDEX('Trust - Frontsheet'!$C$14:$T$213,Index!B905,Index!A905)),0,INDEX('Trust - Frontsheet'!$C$14:$T$213,Index!B905,Index!A905))","v":0}]
["103704293","Staff_cols:Spec2, Staff_row:Staff_row104","TextBox",{"$f":"IF(ISERROR(INDEX('Trust - Frontsheet'!$C$14:$T$213,Index!B906,Index!A906)),0,INDEX('Trust - Frontsheet'!$C$14:$T$213,Index!B906,Index!A906))","v":0}]
["103704294","Staff_cols:Spec2, Staff_row:Staff_row105","TextBox",{"$f":"IF(ISERROR(INDEX('Trust - Frontsheet'!$C$14:$T$213,Index!B907,Index!A907)),0,INDEX('Trust - Frontsheet'!$C$14:$T$213,Index!B907,Index!A907))","v":0}]
["103704295","Staff_cols:Spec2, Staff_row:Staff_row106","TextBox",{"$f":"IF(ISERROR(INDEX('Trust - Frontsheet'!$C$14:$T$213,Index!B908,Index!A908)),0,INDEX('Trust - Frontsheet'!$C$14:$T$213,Index!B908,Index!A908))","v":0}]
["103704296","Staff_cols:Spec2, Staff_row:Staff_row107","TextBox",{"$f":"IF(ISERROR(INDEX('Trust - Frontsheet'!$C$14:$T$213,Index!B909,Index!A909)),0,INDEX('Trust - Frontsheet'!$C$14:$T$213,Index!B909,Index!A909))","v":0}]
["103704297","Staff_cols:Spec2, Staff_row:Staff_row108","TextBox",{"$f":"IF(ISERROR(INDEX('Trust - Frontsheet'!$C$14:$T$213,Index!B910,Index!A910)),0,INDEX('Trust - Frontsheet'!$C$14:$T$213,Index!B910,Index!A910))","v":0}]
["103704298","Staff_cols:Spec2, Staff_row:Staff_row109","TextBox",{"$f":"IF(ISERROR(INDEX('Trust - Frontsheet'!$C$14:$T$213,Index!B911,Index!A911)),0,INDEX('Trust - Frontsheet'!$C$14:$T$213,Index!B911,Index!A911))","v":0}]
["103704300","Staff_cols:Spec2, Staff_row:Staff_row110","TextBox",{"$f":"IF(ISERROR(INDEX('Trust - Frontsheet'!$C$14:$T$213,Index!B912,Index!A912)),0,INDEX('Trust - Frontsheet'!$C$14:$T$213,Index!B912,Index!A912))","v":0}]
["103704301","Staff_cols:Spec2, Staff_row:Staff_row111","TextBox",{"$f":"IF(ISERROR(INDEX('Trust - Frontsheet'!$C$14:$T$213,Index!B913,Index!A913)),0,INDEX('Trust - Frontsheet'!$C$14:$T$213,Index!B913,Index!A913))","v":0}]
["103704302","Staff_cols:Spec2, Staff_row:Staff_row112","TextBox",{"$f":"IF(ISERROR(INDEX('Trust - Frontsheet'!$C$14:$T$213,Index!B914,Index!A914)),0,INDEX('Trust - Frontsheet'!$C$14:$T$213,Index!B914,Index!A914))","v":0}]
["103704303","Staff_cols:Spec2, Staff_row:Staff_row113","TextBox",{"$f":"IF(ISERROR(INDEX('Trust - Frontsheet'!$C$14:$T$213,Index!B915,Index!A915)),0,INDEX('Trust - Frontsheet'!$C$14:$T$213,Index!B915,Index!A915))","v":0}]
["103704304","Staff_cols:Spec2, Staff_row:Staff_row114","TextBox",{"$f":"IF(ISERROR(INDEX('Trust - Frontsheet'!$C$14:$T$213,Index!B916,Index!A916)),0,INDEX('Trust - Frontsheet'!$C$14:$T$213,Index!B916,Index!A916))","v":0}]
["103704305","Staff_cols:Spec2, Staff_row:Staff_row115","TextBox",{"$f":"IF(ISERROR(INDEX('Trust - Frontsheet'!$C$14:$T$213,Index!B917,Index!A917)),0,INDEX('Trust - Frontsheet'!$C$14:$T$213,Index!B917,Index!A917))","v":0}]
["103704306","Staff_cols:Spec2, Staff_row:Staff_row116","TextBox",{"$f":"IF(ISERROR(INDEX('Trust - Frontsheet'!$C$14:$T$213,Index!B918,Index!A918)),0,INDEX('Trust - Frontsheet'!$C$14:$T$213,Index!B918,Index!A918))","v":0}]
["103704307","Staff_cols:Spec2, Staff_row:Staff_row117","TextBox",{"$f":"IF(ISERROR(INDEX('Trust - Frontsheet'!$C$14:$T$213,Index!B919,Index!A919)),0,INDEX('Trust - Frontsheet'!$C$14:$T$213,Index!B919,Index!A919))","v":0}]
["103704308","Staff_cols:Spec2, Staff_row:Staff_row118","TextBox",{"$f":"IF(ISERROR(INDEX('Trust - Frontsheet'!$C$14:$T$213,Index!B920,Index!A920)),0,INDEX('Trust - Frontsheet'!$C$14:$T$213,Index!B920,Index!A920))","v":0}]
["103704309","Staff_cols:Spec2, Staff_row:Staff_row119","TextBox",{"$f":"IF(ISERROR(INDEX('Trust - Frontsheet'!$C$14:$T$213,Index!B921,Index!A921)),0,INDEX('Trust - Frontsheet'!$C$14:$T$213,Index!B921,Index!A921))","v":0}]
["103704311","Staff_cols:Spec2, Staff_row:Staff_row120","TextBox",{"$f":"IF(ISERROR(INDEX('Trust - Frontsheet'!$C$14:$T$213,Index!B922,Index!A922)),0,INDEX('Trust - Frontsheet'!$C$14:$T$213,Index!B922,Index!A922))","v":0}]
["103704312","Staff_cols:Spec2, Staff_row:Staff_row121","TextBox",{"$f":"IF(ISERROR(INDEX('Trust - Frontsheet'!$C$14:$T$213,Index!B923,Index!A923)),0,INDEX('Trust - Frontsheet'!$C$14:$T$213,Index!B923,Index!A923))","v":0}]
["103704313","Staff_cols:Spec2, Staff_row:Staff_row122","TextBox",{"$f":"IF(ISERROR(INDEX('Trust - Frontsheet'!$C$14:$T$213,Index!B924,Index!A924)),0,INDEX('Trust - Frontsheet'!$C$14:$T$213,Index!B924,Index!A924))","v":0}]
["103704314","Staff_cols:Spec2, Staff_row:Staff_row123","TextBox",{"$f":"IF(ISERROR(INDEX('Trust - Frontsheet'!$C$14:$T$213,Index!B925,Index!A925)),0,INDEX('Trust - Frontsheet'!$C$14:$T$213,Index!B925,Index!A925))","v":0}]
["103704315","Staff_cols:Spec2, Staff_row:Staff_row124","TextBox",{"$f":"IF(ISERROR(INDEX('Trust - Frontsheet'!$C$14:$T$213,Index!B926,Index!A926)),0,INDEX('Trust - Frontsheet'!$C$14:$T$213,Index!B926,Index!A926))","v":0}]
["103704316","Staff_cols:Spec2, Staff_row:Staff_row125","TextBox",{"$f":"IF(ISERROR(INDEX('Trust - Frontsheet'!$C$14:$T$213,Index!B927,Index!A927)),0,INDEX('Trust - Frontsheet'!$C$14:$T$213,Index!B927,Index!A927))","v":0}]
["103704317","Staff_cols:Spec2, Staff_row:Staff_row126","TextBox",{"$f":"IF(ISERROR(INDEX('Trust - Frontsheet'!$C$14:$T$213,Index!B928,Index!A928)),0,INDEX('Trust - Frontsheet'!$C$14:$T$213,Index!B928,Index!A928))","v":0}]
["103704318","Staff_cols:Spec2, Staff_row:Staff_row127","TextBox",{"$f":"IF(ISERROR(INDEX('Trust - Frontsheet'!$C$14:$T$213,Index!B929,Index!A929)),0,INDEX('Trust - Frontsheet'!$C$14:$T$213,Index!B929,Index!A929))","v":0}]
["103704319","Staff_cols:Spec2, Staff_row:Staff_row128","TextBox",{"$f":"IF(ISERROR(INDEX('Trust - Frontsheet'!$C$14:$T$213,Index!B930,Index!A930)),0,INDEX('Trust - Frontsheet'!$C$14:$T$213,Index!B930,Index!A930))","v":0}]
["103704320","Staff_cols:Spec2, Staff_row:Staff_row129","TextBox",{"$f":"IF(ISERROR(INDEX('Trust - Frontsheet'!$C$14:$T$213,Index!B931,Index!A931)),0,INDEX('Trust - Frontsheet'!$C$14:$T$213,Index!B931,Index!A931))","v":0}]
["103704322","Staff_cols:Spec2, Staff_row:Staff_row130","TextBox",{"$f":"IF(ISERROR(INDEX('Trust - Frontsheet'!$C$14:$T$213,Index!B932,Index!A932)),0,INDEX('Trust - Frontsheet'!$C$14:$T$213,Index!B932,Index!A932))","v":0}]
["103704323","Staff_cols:Spec2, Staff_row:Staff_row131","TextBox",{"$f":"IF(ISERROR(INDEX('Trust - Frontsheet'!$C$14:$T$213,Index!B933,Index!A933)),0,INDEX('Trust - Frontsheet'!$C$14:$T$213,Index!B933,Index!A933))","v":0}]
["103704324","Staff_cols:Spec2, Staff_row:Staff_row132","TextBox",{"$f":"IF(ISERROR(INDEX('Trust - Frontsheet'!$C$14:$T$213,Index!B934,Index!A934)),0,INDEX('Trust - Frontsheet'!$C$14:$T$213,Index!B934,Index!A934))","v":0}]
["103704325","Staff_cols:Spec2, Staff_row:Staff_row133","TextBox",{"$f":"IF(ISERROR(INDEX('Trust - Frontsheet'!$C$14:$T$213,Index!B935,Index!A935)),0,INDEX('Trust - Frontsheet'!$C$14:$T$213,Index!B935,Index!A935))","v":0}]
["103704326","Staff_cols:Spec2, Staff_row:Staff_row134","TextBox",{"$f":"IF(ISERROR(INDEX('Trust - Frontsheet'!$C$14:$T$213,Index!B936,Index!A936)),0,INDEX('Trust - Frontsheet'!$C$14:$T$213,Index!B936,Index!A936))","v":0}]
["103704327","Staff_cols:Spec2, Staff_row:Staff_row135","TextBox",{"$f":"IF(ISERROR(INDEX('Trust - Frontsheet'!$C$14:$T$213,Index!B937,Index!A937)),0,INDEX('Trust - Frontsheet'!$C$14:$T$213,Index!B937,Index!A937))","v":0}]
["103704328","Staff_cols:Spec2, Staff_row:Staff_row136","TextBox",{"$f":"IF(ISERROR(INDEX('Trust - Frontsheet'!$C$14:$T$213,Index!B938,Index!A938)),0,INDEX('Trust - Frontsheet'!$C$14:$T$213,Index!B938,Index!A938))","v":0}]
["103704329","Staff_cols:Spec2, Staff_row:Staff_row137","TextBox",{"$f":"IF(ISERROR(INDEX('Trust - Frontsheet'!$C$14:$T$213,Index!B939,Index!A939)),0,INDEX('Trust - Frontsheet'!$C$14:$T$213,Index!B939,Index!A939))","v":0}]
["103704330","Staff_cols:Spec2, Staff_row:Staff_row138","TextBox",{"$f":"IF(ISERROR(INDEX('Trust - Frontsheet'!$C$14:$T$213,Index!B940,Index!A940)),0,INDEX('Trust - Frontsheet'!$C$14:$T$213,Index!B940,Index!A940))","v":0}]
["103704331","Staff_cols:Spec2, Staff_row:Staff_row139","TextBox",{"$f":"IF(ISERROR(INDEX('Trust - Frontsheet'!$C$14:$T$213,Index!B941,Index!A941)),0,INDEX('Trust - Frontsheet'!$C$14:$T$213,Index!B941,Index!A941))","v":0}]
["103704333","Staff_cols:Spec2, Staff_row:Staff_row140","TextBox",{"$f":"IF(ISERROR(INDEX('Trust - Frontsheet'!$C$14:$T$213,Index!B942,Index!A942)),0,INDEX('Trust - Frontsheet'!$C$14:$T$213,Index!B942,Index!A942))","v":0}]
["103704334","Staff_cols:Spec2, Staff_row:Staff_row141","TextBox",{"$f":"IF(ISERROR(INDEX('Trust - Frontsheet'!$C$14:$T$213,Index!B943,Index!A943)),0,INDEX('Trust - Frontsheet'!$C$14:$T$213,Index!B943,Index!A943))","v":0}]
["103704335","Staff_cols:Spec2, Staff_row:Staff_row142","TextBox",{"$f":"IF(ISERROR(INDEX('Trust - Frontsheet'!$C$14:$T$213,Index!B944,Index!A944)),0,INDEX('Trust - Frontsheet'!$C$14:$T$213,Index!B944,Index!A944))","v":0}]
["103704336","Staff_cols:Spec2, Staff_row:Staff_row143","TextBox",{"$f":"IF(ISERROR(INDEX('Trust - Frontsheet'!$C$14:$T$213,Index!B945,Index!A945)),0,INDEX('Trust - Frontsheet'!$C$14:$T$213,Index!B945,Index!A945))","v":0}]
["103704337","Staff_cols:Spec2, Staff_row:Staff_row144","TextBox",{"$f":"IF(ISERROR(INDEX('Trust - Frontsheet'!$C$14:$T$213,Index!B946,Index!A946)),0,INDEX('Trust - Frontsheet'!$C$14:$T$213,Index!B946,Index!A946))","v":0}]
["103704338","Staff_cols:Spec2, Staff_row:Staff_row145","TextBox",{"$f":"IF(ISERROR(INDEX('Trust - Frontsheet'!$C$14:$T$213,Index!B947,Index!A947)),0,INDEX('Trust - Frontsheet'!$C$14:$T$213,Index!B947,Index!A947))","v":0}]
["103704339","Staff_cols:Spec2, Staff_row:Staff_row146","TextBox",{"$f":"IF(ISERROR(INDEX('Trust - Frontsheet'!$C$14:$T$213,Index!B948,Index!A948)),0,INDEX('Trust - Frontsheet'!$C$14:$T$213,Index!B948,Index!A948))","v":0}]
["103704340","Staff_cols:Spec2, Staff_row:Staff_row147","TextBox",{"$f":"IF(ISERROR(INDEX('Trust - Frontsheet'!$C$14:$T$213,Index!B949,Index!A949)),0,INDEX('Trust - Frontsheet'!$C$14:$T$213,Index!B949,Index!A949))","v":0}]
["103704341","Staff_cols:Spec2, Staff_row:Staff_row148","TextBox",{"$f":"IF(ISERROR(INDEX('Trust - Frontsheet'!$C$14:$T$213,Index!B950,Index!A950)),0,INDEX('Trust - Frontsheet'!$C$14:$T$213,Index!B950,Index!A950))","v":0}]
["103704342","Staff_cols:Spec2, Staff_row:Staff_row149","TextBox",{"$f":"IF(ISERROR(INDEX('Trust - Frontsheet'!$C$14:$T$213,Index!B951,Index!A951)),0,INDEX('Trust - Frontsheet'!$C$14:$T$213,Index!B951,Index!A951))","v":0}]
["103704344","Staff_cols:Spec2, Staff_row:Staff_row150","TextBox",{"$f":"IF(ISERROR(INDEX('Trust - Frontsheet'!$C$14:$T$213,Index!B952,Index!A952)),0,INDEX('Trust - Frontsheet'!$C$14:$T$213,Index!B952,Index!A952))","v":0}]
["103704345","Staff_cols:Spec2, Staff_row:Staff_row151","TextBox",{"$f":"IF(ISERROR(INDEX('Trust - Frontsheet'!$C$14:$T$213,Index!B953,Index!A953)),0,INDEX('Trust - Frontsheet'!$C$14:$T$213,Index!B953,Index!A953))","v":0}]
["103704346","Staff_cols:Spec2, Staff_row:Staff_row152","TextBox",{"$f":"IF(ISERROR(INDEX('Trust - Frontsheet'!$C$14:$T$213,Index!B954,Index!A954)),0,INDEX('Trust - Frontsheet'!$C$14:$T$213,Index!B954,Index!A954))","v":0}]
["103704347","Staff_cols:Spec2, Staff_row:Staff_row153","TextBox",{"$f":"IF(ISERROR(INDEX('Trust - Frontsheet'!$C$14:$T$213,Index!B955,Index!A955)),0,INDEX('Trust - Frontsheet'!$C$14:$T$213,Index!B955,Index!A955))","v":0}]
["103704348","Staff_cols:Spec2, Staff_row:Staff_row154","TextBox",{"$f":"IF(ISERROR(INDEX('Trust - Frontsheet'!$C$14:$T$213,Index!B956,Index!A956)),0,INDEX('Trust - Frontsheet'!$C$14:$T$213,Index!B956,Index!A956))","v":0}]
["103704349","Staff_cols:Spec2, Staff_row:Staff_row155","TextBox",{"$f":"IF(ISERROR(INDEX('Trust - Frontsheet'!$C$14:$T$213,Index!B957,Index!A957)),0,INDEX('Trust - Frontsheet'!$C$14:$T$213,Index!B957,Index!A957))","v":0}]
["103704350","Staff_cols:Spec2, Staff_row:Staff_row156","TextBox",{"$f":"IF(ISERROR(INDEX('Trust - Frontsheet'!$C$14:$T$213,Index!B958,Index!A958)),0,INDEX('Trust - Frontsheet'!$C$14:$T$213,Index!B958,Index!A958))","v":0}]
["103704351","Staff_cols:Spec2, Staff_row:Staff_row157","TextBox",{"$f":"IF(ISERROR(INDEX('Trust - Frontsheet'!$C$14:$T$213,Index!B959,Index!A959)),0,INDEX('Trust - Frontsheet'!$C$14:$T$213,Index!B959,Index!A959))","v":0}]
["103704352","Staff_cols:Spec2, Staff_row:Staff_row158","TextBox",{"$f":"IF(ISERROR(INDEX('Trust - Frontsheet'!$C$14:$T$213,Index!B960,Index!A960)),0,INDEX('Trust - Frontsheet'!$C$14:$T$213,Index!B960,Index!A960))","v":0}]
["103704353","Staff_cols:Spec2, Staff_row:Staff_row159","TextBox",{"$f":"IF(ISERROR(INDEX('Trust - Frontsheet'!$C$14:$T$213,Index!B961,Index!A961)),0,INDEX('Trust - Frontsheet'!$C$14:$T$213,Index!B961,Index!A961))","v":0}]
["103704355","Staff_cols:Spec2, Staff_row:Staff_row160","TextBox",{"$f":"IF(ISERROR(INDEX('Trust - Frontsheet'!$C$14:$T$213,Index!B962,Index!A962)),0,INDEX('Trust - Frontsheet'!$C$14:$T$213,Index!B962,Index!A962))","v":0}]
["103704356","Staff_cols:Spec2, Staff_row:Staff_row161","TextBox",{"$f":"IF(ISERROR(INDEX('Trust - Frontsheet'!$C$14:$T$213,Index!B963,Index!A963)),0,INDEX('Trust - Frontsheet'!$C$14:$T$213,Index!B963,Index!A963))","v":0}]
["103704357","Staff_cols:Spec2, Staff_row:Staff_row162","TextBox",{"$f":"IF(ISERROR(INDEX('Trust - Frontsheet'!$C$14:$T$213,Index!B964,Index!A964)),0,INDEX('Trust - Frontsheet'!$C$14:$T$213,Index!B964,Index!A964))","v":0}]
["103704358","Staff_cols:Spec2, Staff_row:Staff_row163","TextBox",{"$f":"IF(ISERROR(INDEX('Trust - Frontsheet'!$C$14:$T$213,Index!B965,Index!A965)),0,INDEX('Trust - Frontsheet'!$C$14:$T$213,Index!B965,Index!A965))","v":0}]
["103704359","Staff_cols:Spec2, Staff_row:Staff_row164","TextBox",{"$f":"IF(ISERROR(INDEX('Trust - Frontsheet'!$C$14:$T$213,Index!B966,Index!A966)),0,INDEX('Trust - Frontsheet'!$C$14:$T$213,Index!B966,Index!A966))","v":0}]
["103704360","Staff_cols:Spec2, Staff_row:Staff_row165","TextBox",{"$f":"IF(ISERROR(INDEX('Trust - Frontsheet'!$C$14:$T$213,Index!B967,Index!A967)),0,INDEX('Trust - Frontsheet'!$C$14:$T$213,Index!B967,Index!A967))","v":0}]
["103704361","Staff_cols:Spec2, Staff_row:Staff_row166","TextBox",{"$f":"IF(ISERROR(INDEX('Trust - Frontsheet'!$C$14:$T$213,Index!B968,Index!A968)),0,INDEX('Trust - Frontsheet'!$C$14:$T$213,Index!B968,Index!A968))","v":0}]
["103704362","Staff_cols:Spec2, Staff_row:Staff_row167","TextBox",{"$f":"IF(ISERROR(INDEX('Trust - Frontsheet'!$C$14:$T$213,Index!B969,Index!A969)),0,INDEX('Trust - Frontsheet'!$C$14:$T$213,Index!B969,Index!A969))","v":0}]
["103704363","Staff_cols:Spec2, Staff_row:Staff_row168","TextBox",{"$f":"IF(ISERROR(INDEX('Trust - Frontsheet'!$C$14:$T$213,Index!B970,Index!A970)),0,INDEX('Trust - Frontsheet'!$C$14:$T$213,Index!B970,Index!A970))","v":0}]
["103704364","Staff_cols:Spec2, Staff_row:Staff_row169","TextBox",{"$f":"IF(ISERROR(INDEX('Trust - Frontsheet'!$C$14:$T$213,Index!B971,Index!A971)),0,INDEX('Trust - Frontsheet'!$C$14:$T$213,Index!B971,Index!A971))","v":0}]
["103704366","Staff_cols:Spec2, Staff_row:Staff_row170","TextBox",{"$f":"IF(ISERROR(INDEX('Trust - Frontsheet'!$C$14:$T$213,Index!B972,Index!A972)),0,INDEX('Trust - Frontsheet'!$C$14:$T$213,Index!B972,Index!A972))","v":0}]
["103704367","Staff_cols:Spec2, Staff_row:Staff_row171","TextBox",{"$f":"IF(ISERROR(INDEX('Trust - Frontsheet'!$C$14:$T$213,Index!B973,Index!A973)),0,INDEX('Trust - Frontsheet'!$C$14:$T$213,Index!B973,Index!A973))","v":0}]
["103704368","Staff_cols:Spec2, Staff_row:Staff_row172","TextBox",{"$f":"IF(ISERROR(INDEX('Trust - Frontsheet'!$C$14:$T$213,Index!B974,Index!A974)),0,INDEX('Trust - Frontsheet'!$C$14:$T$213,Index!B974,Index!A974))","v":0}]
["103704369","Staff_cols:Spec2, Staff_row:Staff_row173","TextBox",{"$f":"IF(ISERROR(INDEX('Trust - Frontsheet'!$C$14:$T$213,Index!B975,Index!A975)),0,INDEX('Trust - Frontsheet'!$C$14:$T$213,Index!B975,Index!A975))","v":0}]
["103704370","Staff_cols:Spec2, Staff_row:Staff_row174","TextBox",{"$f":"IF(ISERROR(INDEX('Trust - Frontsheet'!$C$14:$T$213,Index!B976,Index!A976)),0,INDEX('Trust - Frontsheet'!$C$14:$T$213,Index!B976,Index!A976))","v":0}]
["103704371","Staff_cols:Spec2, Staff_row:Staff_row175","TextBox",{"$f":"IF(ISERROR(INDEX('Trust - Frontsheet'!$C$14:$T$213,Index!B977,Index!A977)),0,INDEX('Trust - Frontsheet'!$C$14:$T$213,Index!B977,Index!A977))","v":0}]
["103704372","Staff_cols:Spec2, Staff_row:Staff_row176","TextBox",{"$f":"IF(ISERROR(INDEX('Trust - Frontsheet'!$C$14:$T$213,Index!B978,Index!A978)),0,INDEX('Trust - Frontsheet'!$C$14:$T$213,Index!B978,Index!A978))","v":0}]
["103704373","Staff_cols:Spec2, Staff_row:Staff_row177","TextBox",{"$f":"IF(ISERROR(INDEX('Trust - Frontsheet'!$C$14:$T$213,Index!B979,Index!A979)),0,INDEX('Trust - Frontsheet'!$C$14:$T$213,Index!B979,Index!A979))","v":0}]
["103704374","Staff_cols:Spec2, Staff_row:Staff_row178","TextBox",{"$f":"IF(ISERROR(INDEX('Trust - Frontsheet'!$C$14:$T$213,Index!B980,Index!A980)),0,INDEX('Trust - Frontsheet'!$C$14:$T$213,Index!B980,Index!A980))","v":0}]
["103704375","Staff_cols:Spec2, Staff_row:Staff_row179","TextBox",{"$f":"IF(ISERROR(INDEX('Trust - Frontsheet'!$C$14:$T$213,Index!B981,Index!A981)),0,INDEX('Trust - Frontsheet'!$C$14:$T$213,Index!B981,Index!A981))","v":0}]
["103704377","Staff_cols:Spec2, Staff_row:Staff_row180","TextBox",{"$f":"IF(ISERROR(INDEX('Trust - Frontsheet'!$C$14:$T$213,Index!B982,Index!A982)),0,INDEX('Trust - Frontsheet'!$C$14:$T$213,Index!B982,Index!A982))","v":0}]
["103704378","Staff_cols:Spec2, Staff_row:Staff_row181","TextBox",{"$f":"IF(ISERROR(INDEX('Trust - Frontsheet'!$C$14:$T$213,Index!B983,Index!A983)),0,INDEX('Trust - Frontsheet'!$C$14:$T$213,Index!B983,Index!A983))","v":0}]
["103704379","Staff_cols:Spec2, Staff_row:Staff_row182","TextBox",{"$f":"IF(ISERROR(INDEX('Trust - Frontsheet'!$C$14:$T$213,Index!B984,Index!A984)),0,INDEX('Trust - Frontsheet'!$C$14:$T$213,Index!B984,Index!A984))","v":0}]
["103704380","Staff_cols:Spec2, Staff_row:Staff_row183","TextBox",{"$f":"IF(ISERROR(INDEX('Trust - Frontsheet'!$C$14:$T$213,Index!B985,Index!A985)),0,INDEX('Trust - Frontsheet'!$C$14:$T$213,Index!B985,Index!A985))","v":0}]
["103704381","Staff_cols:Spec2, Staff_row:Staff_row184","TextBox",{"$f":"IF(ISERROR(INDEX('Trust - Frontsheet'!$C$14:$T$213,Index!B986,Index!A986)),0,INDEX('Trust - Frontsheet'!$C$14:$T$213,Index!B986,Index!A986))","v":0}]
["103704382","Staff_cols:Spec2, Staff_row:Staff_row185","TextBox",{"$f":"IF(ISERROR(INDEX('Trust - Frontsheet'!$C$14:$T$213,Index!B987,Index!A987)),0,INDEX('Trust - Frontsheet'!$C$14:$T$213,Index!B987,Index!A987))","v":0}]
["103704383","Staff_cols:Spec2, Staff_row:Staff_row186","TextBox",{"$f":"IF(ISERROR(INDEX('Trust - Frontsheet'!$C$14:$T$213,Index!B988,Index!A988)),0,INDEX('Trust - Frontsheet'!$C$14:$T$213,Index!B988,Index!A988))","v":0}]
["103704384","Staff_cols:Spec2, Staff_row:Staff_row187","TextBox",{"$f":"IF(ISERROR(INDEX('Trust - Frontsheet'!$C$14:$T$213,Index!B989,Index!A989)),0,INDEX('Trust - Frontsheet'!$C$14:$T$213,Index!B989,Index!A989))","v":0}]
["103704385","Staff_cols:Spec2, Staff_row:Staff_row188","TextBox",{"$f":"IF(ISERROR(INDEX('Trust - Frontsheet'!$C$14:$T$213,Index!B990,Index!A990)),0,INDEX('Trust - Frontsheet'!$C$14:$T$213,Index!B990,Index!A990))","v":0}]
["103704386","Staff_cols:Spec2, Staff_row:Staff_row189","TextBox",{"$f":"IF(ISERROR(INDEX('Trust - Frontsheet'!$C$14:$T$213,Index!B991,Index!A991)),0,INDEX('Trust - Frontsheet'!$C$14:$T$213,Index!B991,Index!A991))","v":0}]
["103704388","Staff_cols:Spec2, Staff_row:Staff_row190","TextBox",{"$f":"IF(ISERROR(INDEX('Trust - Frontsheet'!$C$14:$T$213,Index!B992,Index!A992)),0,INDEX('Trust - Frontsheet'!$C$14:$T$213,Index!B992,Index!A992))","v":0}]
["103704389","Staff_cols:Spec2, Staff_row:Staff_row191","TextBox",{"$f":"IF(ISERROR(INDEX('Trust - Frontsheet'!$C$14:$T$213,Index!B993,Index!A993)),0,INDEX('Trust - Frontsheet'!$C$14:$T$213,Index!B993,Index!A993))","v":0}]
["103704390","Staff_cols:Spec2, Staff_row:Staff_row192","TextBox",{"$f":"IF(ISERROR(INDEX('Trust - Frontsheet'!$C$14:$T$213,Index!B994,Index!A994)),0,INDEX('Trust - Frontsheet'!$C$14:$T$213,Index!B994,Index!A994))","v":0}]
["103704391","Staff_cols:Spec2, Staff_row:Staff_row193","TextBox",{"$f":"IF(ISERROR(INDEX('Trust - Frontsheet'!$C$14:$T$213,Index!B995,Index!A995)),0,INDEX('Trust - Frontsheet'!$C$14:$T$213,Index!B995,Index!A995))","v":0}]
["103704392","Staff_cols:Spec2, Staff_row:Staff_row194","TextBox",{"$f":"IF(ISERROR(INDEX('Trust - Frontsheet'!$C$14:$T$213,Index!B996,Index!A996)),0,INDEX('Trust - Frontsheet'!$C$14:$T$213,Index!B996,Index!A996))","v":0}]
["103704393","Staff_cols:Spec2, Staff_row:Staff_row195","TextBox",{"$f":"IF(ISERROR(INDEX('Trust - Frontsheet'!$C$14:$T$213,Index!B997,Index!A997)),0,INDEX('Trust - Frontsheet'!$C$14:$T$213,Index!B997,Index!A997))","v":0}]
["103704394","Staff_cols:Spec2, Staff_row:Staff_row196","TextBox",{"$f":"IF(ISERROR(INDEX('Trust - Frontsheet'!$C$14:$T$213,Index!B998,Index!A998)),0,INDEX('Trust - Frontsheet'!$C$14:$T$213,Index!B998,Index!A998))","v":0}]
["103704395","Staff_cols:Spec2, Staff_row:Staff_row197","TextBox",{"$f":"IF(ISERROR(INDEX('Trust - Frontsheet'!$C$14:$T$213,Index!B999,Index!A999)),0,INDEX('Trust - Frontsheet'!$C$14:$T$213,Index!B999,Index!A999))","v":0}]
["103704396","Staff_cols:Spec2, Staff_row:Staff_row198","TextBox",{"$f":"IF(ISERROR(INDEX('Trust - Frontsheet'!$C$14:$T$213,Index!B1000,Index!A1000)),0,INDEX('Trust - Frontsheet'!$C$14:$T$213,Index!B1000,Index!A1000))","v":0}]
["103704397","Staff_cols:Spec2, Staff_row:Staff_row199","TextBox",{"$f":"IF(ISERROR(INDEX('Trust - Frontsheet'!$C$14:$T$213,Index!B1001,Index!A1001)),0,INDEX('Trust - Frontsheet'!$C$14:$T$213,Index!B1001,Index!A1001))","v":0}]
["103704400","Staff_cols:Spec2, Staff_row:Staff_row200","TextBox",{"$f":"IF(ISERROR(INDEX('Trust - Frontsheet'!$C$14:$T$213,Index!B1002,Index!A1002)),0,INDEX('Trust - Frontsheet'!$C$14:$T$213,Index!B1002,Index!A1002))","v":0}]
["103705288","Staff_cols:Day_nurse_plan, Staff_row:Staff_row1","Number",{"$f":"IF(ISERROR(INDEX('Trust - Frontsheet'!$C$14:$T$213,Index!B1003,Index!A1003)),0,INDEX('Trust - Frontsheet'!$C$14:$T$213,Index!B1003,Index!A1003))","v":1385}]
["103705399","Staff_cols:Day_nurse_plan, Staff_row:Staff_row2","Number",{"$f":"IF(ISERROR(INDEX('Trust - Frontsheet'!$C$14:$T$213,Index!B1004,Index!A1004)),0,INDEX('Trust - Frontsheet'!$C$14:$T$213,Index!B1004,Index!A1004))","v":1399}]
["103705411","Staff_cols:Day_nurse_plan, Staff_row:Staff_row3","Number",{"$f":"IF(ISERROR(INDEX('Trust - Frontsheet'!$C$14:$T$213,Index!B1005,Index!A1005)),0,INDEX('Trust - Frontsheet'!$C$14:$T$213,Index!B1005,Index!A1005))","v":1178.8}]
["103705422","Staff_cols:Day_nurse_plan, Staff_row:Staff_row4","Number",{"$f":"IF(ISERROR(INDEX('Trust - Frontsheet'!$C$14:$T$213,Index!B1006,Index!A1006)),0,INDEX('Trust - Frontsheet'!$C$14:$T$213,Index!B1006,Index!A1006))","v":1955.8333333333335}]
["103705433","Staff_cols:Day_nurse_plan, Staff_row:Staff_row5","Number",{"$f":"IF(ISERROR(INDEX('Trust - Frontsheet'!$C$14:$T$213,Index!B1007,Index!A1007)),0,INDEX('Trust - Frontsheet'!$C$14:$T$213,Index!B1007,Index!A1007))","v":1195.25}]
["103705444","Staff_cols:Day_nurse_plan, Staff_row:Staff_row6","Number",{"$f":"IF(ISERROR(INDEX('Trust - Frontsheet'!$C$14:$T$213,Index!B1008,Index!A1008)),0,INDEX('Trust - Frontsheet'!$C$14:$T$213,Index!B1008,Index!A1008))","v":799.5}]
["103705455","Staff_cols:Day_nurse_plan, Staff_row:Staff_row7","Number",{"$f":"IF(ISERROR(INDEX('Trust - Frontsheet'!$C$14:$T$213,Index!B1009,Index!A1009)),0,INDEX('Trust - Frontsheet'!$C$14:$T$213,Index!B1009,Index!A1009))","v":1156}]
["103705466","Staff_cols:Day_nurse_plan, Staff_row:Staff_row8","Number",{"$f":"IF(ISERROR(INDEX('Trust - Frontsheet'!$C$14:$T$213,Index!B1010,Index!A1010)),0,INDEX('Trust - Frontsheet'!$C$14:$T$213,Index!B1010,Index!A1010))","v":1325.5}]
["103705477","Staff_cols:Day_nurse_plan, Staff_row:Staff_row9","Number",{"$f":"IF(ISERROR(INDEX('Trust - Frontsheet'!$C$14:$T$213,Index!B1011,Index!A1011)),0,INDEX('Trust - Frontsheet'!$C$14:$T$213,Index!B1011,Index!A1011))","v":1305}]
["103705289","Staff_cols:Day_nurse_plan, Staff_row:Staff_row10","Number",{"$f":"IF(ISERROR(INDEX('Trust - Frontsheet'!$C$14:$T$213,Index!B1012,Index!A1012)),0,INDEX('Trust - Frontsheet'!$C$14:$T$213,Index!B1012,Index!A1012))","v":1910.5}]
["103705300","Staff_cols:Day_nurse_plan, Staff_row:Staff_row11","Number",{"$f":"IF(ISERROR(INDEX('Trust - Frontsheet'!$C$14:$T$213,Index!B1013,Index!A1013)),0,INDEX('Trust - Frontsheet'!$C$14:$T$213,Index!B1013,Index!A1013))","v":1709.5}]
["103705311","Staff_cols:Day_nurse_plan, Staff_row:Staff_row12","Number",{"$f":"IF(ISERROR(INDEX('Trust - Frontsheet'!$C$14:$T$213,Index!B1014,Index!A1014)),0,INDEX('Trust - Frontsheet'!$C$14:$T$213,Index!B1014,Index!A1014))","v":1183.5}]
["103705322","Staff_cols:Day_nurse_plan, Staff_row:Staff_row13","Number",{"$f":"IF(ISERROR(INDEX('Trust - Frontsheet'!$C$14:$T$213,Index!B1015,Index!A1015)),0,INDEX('Trust - Frontsheet'!$C$14:$T$213,Index!B1015,Index!A1015))","v":211}]
["103705333","Staff_cols:Day_nurse_plan, Staff_row:Staff_row14","Number",{"$f":"IF(ISERROR(INDEX('Trust - Frontsheet'!$C$14:$T$213,Index!B1016,Index!A1016)),0,INDEX('Trust - Frontsheet'!$C$14:$T$213,Index!B1016,Index!A1016))","v":1689.5}]
["103705344","Staff_cols:Day_nurse_plan, Staff_row:Staff_row15","Number",{"$f":"IF(ISERROR(INDEX('Trust - Frontsheet'!$C$14:$T$213,Index!B1017,Index!A1017)),0,INDEX('Trust - Frontsheet'!$C$14:$T$213,Index!B1017,Index!A1017))","v":1701.3}]
["103705355","Staff_cols:Day_nurse_plan, Staff_row:Staff_row16","Number",{"$f":"IF(ISERROR(INDEX('Trust - Frontsheet'!$C$14:$T$213,Index!B1018,Index!A1018)),0,INDEX('Trust - Frontsheet'!$C$14:$T$213,Index!B1018,Index!A1018))","v":4623}]
["103705366","Staff_cols:Day_nurse_plan, Staff_row:Staff_row17","Number",{"$f":"IF(ISERROR(INDEX('Trust - Frontsheet'!$C$14:$T$213,Index!B1019,Index!A1019)),0,INDEX('Trust - Frontsheet'!$C$14:$T$213,Index!B1019,Index!A1019))","v":3649}]
["103705377","Staff_cols:Day_nurse_plan, Staff_row:Staff_row18","Number",{"$f":"IF(ISERROR(INDEX('Trust - Frontsheet'!$C$14:$T$213,Index!B1020,Index!A1020)),0,INDEX('Trust - Frontsheet'!$C$14:$T$213,Index!B1020,Index!A1020))","v":1150}]
["103705388","Staff_cols:Day_nurse_plan, Staff_row:Staff_row19","Number",{"$f":"IF(ISERROR(INDEX('Trust - Frontsheet'!$C$14:$T$213,Index!B1021,Index!A1021)),0,INDEX('Trust - Frontsheet'!$C$14:$T$213,Index!B1021,Index!A1021))","v":1143.5}]
["103705400","Staff_cols:Day_nurse_plan, Staff_row:Staff_row20","Number",{"$f":"IF(ISERROR(INDEX('Trust - Frontsheet'!$C$14:$T$213,Index!B1022,Index!A1022)),0,INDEX('Trust - Frontsheet'!$C$14:$T$213,Index!B1022,Index!A1022))","v":372}]
["103705402","Staff_cols:Day_nurse_plan, Staff_row:Staff_row21","Number",{"$f":"IF(ISERROR(INDEX('Trust - Frontsheet'!$C$14:$T$213,Index!B1023,Index!A1023)),0,INDEX('Trust - Frontsheet'!$C$14:$T$213,Index!B1023,Index!A1023))","v":1622}]
["103705403","Staff_cols:Day_nurse_plan, Staff_row:Staff_row22","Number",{"$f":"IF(ISERROR(INDEX('Trust - Frontsheet'!$C$14:$T$213,Index!B1024,Index!A1024)),0,INDEX('Trust - Frontsheet'!$C$14:$T$213,Index!B1024,Index!A1024))","v":1490}]
["103705404","Staff_cols:Day_nurse_plan, Staff_row:Staff_row23","Number",{"$f":"IF(ISERROR(INDEX('Trust - Frontsheet'!$C$14:$T$213,Index!B1025,Index!A1025)),0,INDEX('Trust - Frontsheet'!$C$14:$T$213,Index!B1025,Index!A1025))","v":1699}]
["103705405","Staff_cols:Day_nurse_plan, Staff_row:Staff_row24","Number",{"$f":"IF(ISERROR(INDEX('Trust - Frontsheet'!$C$14:$T$213,Index!B1026,Index!A1026)),0,INDEX('Trust - Frontsheet'!$C$14:$T$213,Index!B1026,Index!A1026))","v":1489.5}]
["103705406","Staff_cols:Day_nurse_plan, Staff_row:Staff_row25","Number",{"$f":"IF(ISERROR(INDEX('Trust - Frontsheet'!$C$14:$T$213,Index!B1027,Index!A1027)),0,INDEX('Trust - Frontsheet'!$C$14:$T$213,Index!B1027,Index!A1027))","v":2055.1333333333332}]
["103705407","Staff_cols:Day_nurse_plan, Staff_row:Staff_row26","Number",{"$f":"IF(ISERROR(INDEX('Trust - Frontsheet'!$C$14:$T$213,Index!B1028,Index!A1028)),0,INDEX('Trust - Frontsheet'!$C$14:$T$213,Index!B1028,Index!A1028))","v":2425.583333333333}]
["103705408","Staff_cols:Day_nurse_plan, Staff_row:Staff_row27","Number",{"$f":"IF(ISERROR(INDEX('Trust - Frontsheet'!$C$14:$T$213,Index!B1029,Index!A1029)),0,INDEX('Trust - Frontsheet'!$C$14:$T$213,Index!B1029,Index!A1029))","v":2034.6}]
["103705409","Staff_cols:Day_nurse_plan, Staff_row:Staff_row28","Number",{"$f":"IF(ISERROR(INDEX('Trust - Frontsheet'!$C$14:$T$213,Index!B1030,Index!A1030)),0,INDEX('Trust - Frontsheet'!$C$14:$T$213,Index!B1030,Index!A1030))","v":2785}]
["103705410","Staff_cols:Day_nurse_plan, Staff_row:Staff_row29","Number",{"$f":"IF(ISERROR(INDEX('Trust - Frontsheet'!$C$14:$T$213,Index!B1031,Index!A1031)),0,INDEX('Trust - Frontsheet'!$C$14:$T$213,Index!B1031,Index!A1031))","v":2456}]
["103705412","Staff_cols:Day_nurse_plan, Staff_row:Staff_row30","Number",{"$f":"IF(ISERROR(INDEX('Trust - Frontsheet'!$C$14:$T$213,Index!B1032,Index!A1032)),0,INDEX('Trust - Frontsheet'!$C$14:$T$213,Index!B1032,Index!A1032))","v":1476}]
["103705413","Staff_cols:Day_nurse_plan, Staff_row:Staff_row31","Number",{"$f":"IF(ISERROR(INDEX('Trust - Frontsheet'!$C$14:$T$213,Index!B1033,Index!A1033)),0,INDEX('Trust - Frontsheet'!$C$14:$T$213,Index!B1033,Index!A1033))","v":372}]
["103705414","Staff_cols:Day_nurse_plan, Staff_row:Staff_row32","Number",{"$f":"IF(ISERROR(INDEX('Trust - Frontsheet'!$C$14:$T$213,Index!B1034,Index!A1034)),0,INDEX('Trust - Frontsheet'!$C$14:$T$213,Index!B1034,Index!A1034))","v":1489}]
["103705415","Staff_cols:Day_nurse_plan, Staff_row:Staff_row33","Number",{"$f":"IF(ISERROR(INDEX('Trust - Frontsheet'!$C$14:$T$213,Index!B1035,Index!A1035)),0,INDEX('Trust - Frontsheet'!$C$14:$T$213,Index!B1035,Index!A1035))","v":1918}]
["103705416","Staff_cols:Day_nurse_plan, Staff_row:Staff_row34","Number",{"$f":"IF(ISERROR(INDEX('Trust - Frontsheet'!$C$14:$T$213,Index!B1036,Index!A1036)),0,INDEX('Trust - Frontsheet'!$C$14:$T$213,Index!B1036,Index!A1036))","v":1309}]
["103705417","Staff_cols:Day_nurse_plan, Staff_row:Staff_row35","Number",{"$f":"IF(ISERROR(INDEX('Trust - Frontsheet'!$C$14:$T$213,Index!B1037,Index!A1037)),0,INDEX('Trust - Frontsheet'!$C$14:$T$213,Index!B1037,Index!A1037))","v":1867.5}]
["103705418","Staff_cols:Day_nurse_plan, Staff_row:Staff_row36","Number",{"$f":"IF(ISERROR(INDEX('Trust - Frontsheet'!$C$14:$T$213,Index!B1038,Index!A1038)),0,INDEX('Trust - Frontsheet'!$C$14:$T$213,Index!B1038,Index!A1038))","v":2580.5}]
["103705419","Staff_cols:Day_nurse_plan, Staff_row:Staff_row37","Number",{"$f":"IF(ISERROR(INDEX('Trust - Frontsheet'!$C$14:$T$213,Index!B1039,Index!A1039)),0,INDEX('Trust - Frontsheet'!$C$14:$T$213,Index!B1039,Index!A1039))","v":1926.5}]
["103705420","Staff_cols:Day_nurse_plan, Staff_row:Staff_row38","Number",{"$f":"IF(ISERROR(INDEX('Trust - Frontsheet'!$C$14:$T$213,Index!B1040,Index!A1040)),0,INDEX('Trust - Frontsheet'!$C$14:$T$213,Index!B1040,Index!A1040))","v":1951.2}]
["103705421","Staff_cols:Day_nurse_plan, Staff_row:Staff_row39","Number",{"$f":"IF(ISERROR(INDEX('Trust - Frontsheet'!$C$14:$T$213,Index!B1041,Index!A1041)),0,INDEX('Trust - Frontsheet'!$C$14:$T$213,Index!B1041,Index!A1041))","v":1964.4333333333334}]
["103705423","Staff_cols:Day_nurse_plan, Staff_row:Staff_row40","Number",{"$f":"IF(ISERROR(INDEX('Trust - Frontsheet'!$C$14:$T$213,Index!B1042,Index!A1042)),0,INDEX('Trust - Frontsheet'!$C$14:$T$213,Index!B1042,Index!A1042))","v":2105}]
["103705424","Staff_cols:Day_nurse_plan, Staff_row:Staff_row41","Number",{"$f":"IF(ISERROR(INDEX('Trust - Frontsheet'!$C$14:$T$213,Index!B1043,Index!A1043)),0,INDEX('Trust - Frontsheet'!$C$14:$T$213,Index!B1043,Index!A1043))","v":1570.8}]
["103705425","Staff_cols:Day_nurse_plan, Staff_row:Staff_row42","Number",{"$f":"IF(ISERROR(INDEX('Trust - Frontsheet'!$C$14:$T$213,Index!B1044,Index!A1044)),0,INDEX('Trust - Frontsheet'!$C$14:$T$213,Index!B1044,Index!A1044))","v":2063}]
["103705426","Staff_cols:Day_nurse_plan, Staff_row:Staff_row43","Number",{"$f":"IF(ISERROR(INDEX('Trust - Frontsheet'!$C$14:$T$213,Index!B1045,Index!A1045)),0,INDEX('Trust - Frontsheet'!$C$14:$T$213,Index!B1045,Index!A1045))","v":2019.5}]
["103705427","Staff_cols:Day_nurse_plan, Staff_row:Staff_row44","Number",{"$f":"IF(ISERROR(INDEX('Trust - Frontsheet'!$C$14:$T$213,Index!B1046,Index!A1046)),0,INDEX('Trust - Frontsheet'!$C$14:$T$213,Index!B1046,Index!A1046))","v":1339.25}]
["103705428","Staff_cols:Day_nurse_plan, Staff_row:Staff_row45","Number",{"$f":"IF(ISERROR(INDEX('Trust - Frontsheet'!$C$14:$T$213,Index!B1047,Index!A1047)),0,INDEX('Trust - Frontsheet'!$C$14:$T$213,Index!B1047,Index!A1047))","v":2540.75}]
["103705429","Staff_cols:Day_nurse_plan, Staff_row:Staff_row46","Number",{"$f":"IF(ISERROR(INDEX('Trust - Frontsheet'!$C$14:$T$213,Index!B1048,Index!A1048)),0,INDEX('Trust - Frontsheet'!$C$14:$T$213,Index!B1048,Index!A1048))","v":1527.5}]
["103705430","Staff_cols:Day_nurse_plan, Staff_row:Staff_row47","Number",{"$f":"IF(ISERROR(INDEX('Trust - Frontsheet'!$C$14:$T$213,Index!B1049,Index!A1049)),0,INDEX('Trust - Frontsheet'!$C$14:$T$213,Index!B1049,Index!A1049))","v":3905}]
["103705431","Staff_cols:Day_nurse_plan, Staff_row:Staff_row48","Number",{"$f":"IF(ISERROR(INDEX('Trust - Frontsheet'!$C$14:$T$213,Index!B1050,Index!A1050)),0,INDEX('Trust - Frontsheet'!$C$14:$T$213,Index!B1050,Index!A1050))","v":0}]
["103705432","Staff_cols:Day_nurse_plan, Staff_row:Staff_row49","Number",{"$f":"IF(ISERROR(INDEX('Trust - Frontsheet'!$C$14:$T$213,Index!B1051,Index!A1051)),0,INDEX('Trust - Frontsheet'!$C$14:$T$213,Index!B1051,Index!A1051))","v":0}]
["103705434","Staff_cols:Day_nurse_plan, Staff_row:Staff_row50","Number",{"$f":"IF(ISERROR(INDEX('Trust - Frontsheet'!$C$14:$T$213,Index!B1052,Index!A1052)),0,INDEX('Trust - Frontsheet'!$C$14:$T$213,Index!B1052,Index!A1052))","v":0}]
["103705435","Staff_cols:Day_nurse_plan, Staff_row:Staff_row51","Number",{"$f":"IF(ISERROR(INDEX('Trust - Frontsheet'!$C$14:$T$213,Index!B1053,Index!A1053)),0,INDEX('Trust - Frontsheet'!$C$14:$T$213,Index!B1053,Index!A1053))","v":0}]
["103705436","Staff_cols:Day_nurse_plan, Staff_row:Staff_row52","Number",{"$f":"IF(ISERROR(INDEX('Trust - Frontsheet'!$C$14:$T$213,Index!B1054,Index!A1054)),0,INDEX('Trust - Frontsheet'!$C$14:$T$213,Index!B1054,Index!A1054))","v":0}]
["103705437","Staff_cols:Day_nurse_plan, Staff_row:Staff_row53","Number",{"$f":"IF(ISERROR(INDEX('Trust - Frontsheet'!$C$14:$T$213,Index!B1055,Index!A1055)),0,INDEX('Trust - Frontsheet'!$C$14:$T$213,Index!B1055,Index!A1055))","v":0}]
["103705438","Staff_cols:Day_nurse_plan, Staff_row:Staff_row54","Number",{"$f":"IF(ISERROR(INDEX('Trust - Frontsheet'!$C$14:$T$213,Index!B1056,Index!A1056)),0,INDEX('Trust - Frontsheet'!$C$14:$T$213,Index!B1056,Index!A1056))","v":0}]
["103705439","Staff_cols:Day_nurse_plan, Staff_row:Staff_row55","Number",{"$f":"IF(ISERROR(INDEX('Trust - Frontsheet'!$C$14:$T$213,Index!B1057,Index!A1057)),0,INDEX('Trust - Frontsheet'!$C$14:$T$213,Index!B1057,Index!A1057))","v":0}]
["103705440","Staff_cols:Day_nurse_plan, Staff_row:Staff_row56","Number",{"$f":"IF(ISERROR(INDEX('Trust - Frontsheet'!$C$14:$T$213,Index!B1058,Index!A1058)),0,INDEX('Trust - Frontsheet'!$C$14:$T$213,Index!B1058,Index!A1058))","v":0}]
["103705441","Staff_cols:Day_nurse_plan, Staff_row:Staff_row57","Number",{"$f":"IF(ISERROR(INDEX('Trust - Frontsheet'!$C$14:$T$213,Index!B1059,Index!A1059)),0,INDEX('Trust - Frontsheet'!$C$14:$T$213,Index!B1059,Index!A1059))","v":0}]
["103705442","Staff_cols:Day_nurse_plan, Staff_row:Staff_row58","Number",{"$f":"IF(ISERROR(INDEX('Trust - Frontsheet'!$C$14:$T$213,Index!B1060,Index!A1060)),0,INDEX('Trust - Frontsheet'!$C$14:$T$213,Index!B1060,Index!A1060))","v":0}]
["103705443","Staff_cols:Day_nurse_plan, Staff_row:Staff_row59","Number",{"$f":"IF(ISERROR(INDEX('Trust - Frontsheet'!$C$14:$T$213,Index!B1061,Index!A1061)),0,INDEX('Trust - Frontsheet'!$C$14:$T$213,Index!B1061,Index!A1061))","v":0}]
["103705445","Staff_cols:Day_nurse_plan, Staff_row:Staff_row60","Number",{"$f":"IF(ISERROR(INDEX('Trust - Frontsheet'!$C$14:$T$213,Index!B1062,Index!A1062)),0,INDEX('Trust - Frontsheet'!$C$14:$T$213,Index!B1062,Index!A1062))","v":0}]
["103705446","Staff_cols:Day_nurse_plan, Staff_row:Staff_row61","Number",{"$f":"IF(ISERROR(INDEX('Trust - Frontsheet'!$C$14:$T$213,Index!B1063,Index!A1063)),0,INDEX('Trust - Frontsheet'!$C$14:$T$213,Index!B1063,Index!A1063))","v":0}]
["103705447","Staff_cols:Day_nurse_plan, Staff_row:Staff_row62","Number",{"$f":"IF(ISERROR(INDEX('Trust - Frontsheet'!$C$14:$T$213,Index!B1064,Index!A1064)),0,INDEX('Trust - Frontsheet'!$C$14:$T$213,Index!B1064,Index!A1064))","v":0}]
["103705448","Staff_cols:Day_nurse_plan, Staff_row:Staff_row63","Number",{"$f":"IF(ISERROR(INDEX('Trust - Frontsheet'!$C$14:$T$213,Index!B1065,Index!A1065)),0,INDEX('Trust - Frontsheet'!$C$14:$T$213,Index!B1065,Index!A1065))","v":0}]
["103705449","Staff_cols:Day_nurse_plan, Staff_row:Staff_row64","Number",{"$f":"IF(ISERROR(INDEX('Trust - Frontsheet'!$C$14:$T$213,Index!B1066,Index!A1066)),0,INDEX('Trust - Frontsheet'!$C$14:$T$213,Index!B1066,Index!A1066))","v":0}]
["103705450","Staff_cols:Day_nurse_plan, Staff_row:Staff_row65","Number",{"$f":"IF(ISERROR(INDEX('Trust - Frontsheet'!$C$14:$T$213,Index!B1067,Index!A1067)),0,INDEX('Trust - Frontsheet'!$C$14:$T$213,Index!B1067,Index!A1067))","v":0}]
["103705451","Staff_cols:Day_nurse_plan, Staff_row:Staff_row66","Number",{"$f":"IF(ISERROR(INDEX('Trust - Frontsheet'!$C$14:$T$213,Index!B1068,Index!A1068)),0,INDEX('Trust - Frontsheet'!$C$14:$T$213,Index!B1068,Index!A1068))","v":0}]
["103705452","Staff_cols:Day_nurse_plan, Staff_row:Staff_row67","Number",{"$f":"IF(ISERROR(INDEX('Trust - Frontsheet'!$C$14:$T$213,Index!B1069,Index!A1069)),0,INDEX('Trust - Frontsheet'!$C$14:$T$213,Index!B1069,Index!A1069))","v":0}]
["103705453","Staff_cols:Day_nurse_plan, Staff_row:Staff_row68","Number",{"$f":"IF(ISERROR(INDEX('Trust - Frontsheet'!$C$14:$T$213,Index!B1070,Index!A1070)),0,INDEX('Trust - Frontsheet'!$C$14:$T$213,Index!B1070,Index!A1070))","v":0}]
["103705454","Staff_cols:Day_nurse_plan, Staff_row:Staff_row69","Number",{"$f":"IF(ISERROR(INDEX('Trust - Frontsheet'!$C$14:$T$213,Index!B1071,Index!A1071)),0,INDEX('Trust - Frontsheet'!$C$14:$T$213,Index!B1071,Index!A1071))","v":0}]
["103705456","Staff_cols:Day_nurse_plan, Staff_row:Staff_row70","Number",{"$f":"IF(ISERROR(INDEX('Trust - Frontsheet'!$C$14:$T$213,Index!B1072,Index!A1072)),0,INDEX('Trust - Frontsheet'!$C$14:$T$213,Index!B1072,Index!A1072))","v":0}]
["103705457","Staff_cols:Day_nurse_plan, Staff_row:Staff_row71","Number",{"$f":"IF(ISERROR(INDEX('Trust - Frontsheet'!$C$14:$T$213,Index!B1073,Index!A1073)),0,INDEX('Trust - Frontsheet'!$C$14:$T$213,Index!B1073,Index!A1073))","v":0}]
["103705458","Staff_cols:Day_nurse_plan, Staff_row:Staff_row72","Number",{"$f":"IF(ISERROR(INDEX('Trust - Frontsheet'!$C$14:$T$213,Index!B1074,Index!A1074)),0,INDEX('Trust - Frontsheet'!$C$14:$T$213,Index!B1074,Index!A1074))","v":0}]
["103705459","Staff_cols:Day_nurse_plan, Staff_row:Staff_row73","Number",{"$f":"IF(ISERROR(INDEX('Trust - Frontsheet'!$C$14:$T$213,Index!B1075,Index!A1075)),0,INDEX('Trust - Frontsheet'!$C$14:$T$213,Index!B1075,Index!A1075))","v":0}]
["103705460","Staff_cols:Day_nurse_plan, Staff_row:Staff_row74","Number",{"$f":"IF(ISERROR(INDEX('Trust - Frontsheet'!$C$14:$T$213,Index!B1076,Index!A1076)),0,INDEX('Trust - Frontsheet'!$C$14:$T$213,Index!B1076,Index!A1076))","v":0}]
["103705461","Staff_cols:Day_nurse_plan, Staff_row:Staff_row75","Number",{"$f":"IF(ISERROR(INDEX('Trust - Frontsheet'!$C$14:$T$213,Index!B1077,Index!A1077)),0,INDEX('Trust - Frontsheet'!$C$14:$T$213,Index!B1077,Index!A1077))","v":0}]
["103705462","Staff_cols:Day_nurse_plan, Staff_row:Staff_row76","Number",{"$f":"IF(ISERROR(INDEX('Trust - Frontsheet'!$C$14:$T$213,Index!B1078,Index!A1078)),0,INDEX('Trust - Frontsheet'!$C$14:$T$213,Index!B1078,Index!A1078))","v":0}]
["103705463","Staff_cols:Day_nurse_plan, Staff_row:Staff_row77","Number",{"$f":"IF(ISERROR(INDEX('Trust - Frontsheet'!$C$14:$T$213,Index!B1079,Index!A1079)),0,INDEX('Trust - Frontsheet'!$C$14:$T$213,Index!B1079,Index!A1079))","v":0}]
["103705464","Staff_cols:Day_nurse_plan, Staff_row:Staff_row78","Number",{"$f":"IF(ISERROR(INDEX('Trust - Frontsheet'!$C$14:$T$213,Index!B1080,Index!A1080)),0,INDEX('Trust - Frontsheet'!$C$14:$T$213,Index!B1080,Index!A1080))","v":0}]
["103705465","Staff_cols:Day_nurse_plan, Staff_row:Staff_row79","Number",{"$f":"IF(ISERROR(INDEX('Trust - Frontsheet'!$C$14:$T$213,Index!B1081,Index!A1081)),0,INDEX('Trust - Frontsheet'!$C$14:$T$213,Index!B1081,Index!A1081))","v":0}]
["103705467","Staff_cols:Day_nurse_plan, Staff_row:Staff_row80","Number",{"$f":"IF(ISERROR(INDEX('Trust - Frontsheet'!$C$14:$T$213,Index!B1082,Index!A1082)),0,INDEX('Trust - Frontsheet'!$C$14:$T$213,Index!B1082,Index!A1082))","v":0}]
["103705468","Staff_cols:Day_nurse_plan, Staff_row:Staff_row81","Number",{"$f":"IF(ISERROR(INDEX('Trust - Frontsheet'!$C$14:$T$213,Index!B1083,Index!A1083)),0,INDEX('Trust - Frontsheet'!$C$14:$T$213,Index!B1083,Index!A1083))","v":0}]
["103705469","Staff_cols:Day_nurse_plan, Staff_row:Staff_row82","Number",{"$f":"IF(ISERROR(INDEX('Trust - Frontsheet'!$C$14:$T$213,Index!B1084,Index!A1084)),0,INDEX('Trust - Frontsheet'!$C$14:$T$213,Index!B1084,Index!A1084))","v":0}]
["103705470","Staff_cols:Day_nurse_plan, Staff_row:Staff_row83","Number",{"$f":"IF(ISERROR(INDEX('Trust - Frontsheet'!$C$14:$T$213,Index!B1085,Index!A1085)),0,INDEX('Trust - Frontsheet'!$C$14:$T$213,Index!B1085,Index!A1085))","v":0}]
["103705471","Staff_cols:Day_nurse_plan, Staff_row:Staff_row84","Number",{"$f":"IF(ISERROR(INDEX('Trust - Frontsheet'!$C$14:$T$213,Index!B1086,Index!A1086)),0,INDEX('Trust - Frontsheet'!$C$14:$T$213,Index!B1086,Index!A1086))","v":0}]
["103705472","Staff_cols:Day_nurse_plan, Staff_row:Staff_row85","Number",{"$f":"IF(ISERROR(INDEX('Trust - Frontsheet'!$C$14:$T$213,Index!B1087,Index!A1087)),0,INDEX('Trust - Frontsheet'!$C$14:$T$213,Index!B1087,Index!A1087))","v":0}]
["103705473","Staff_cols:Day_nurse_plan, Staff_row:Staff_row86","Number",{"$f":"IF(ISERROR(INDEX('Trust - Frontsheet'!$C$14:$T$213,Index!B1088,Index!A1088)),0,INDEX('Trust - Frontsheet'!$C$14:$T$213,Index!B1088,Index!A1088))","v":0}]
["103705474","Staff_cols:Day_nurse_plan, Staff_row:Staff_row87","Number",{"$f":"IF(ISERROR(INDEX('Trust - Frontsheet'!$C$14:$T$213,Index!B1089,Index!A1089)),0,INDEX('Trust - Frontsheet'!$C$14:$T$213,Index!B1089,Index!A1089))","v":0}]
["103705475","Staff_cols:Day_nurse_plan, Staff_row:Staff_row88","Number",{"$f":"IF(ISERROR(INDEX('Trust - Frontsheet'!$C$14:$T$213,Index!B1090,Index!A1090)),0,INDEX('Trust - Frontsheet'!$C$14:$T$213,Index!B1090,Index!A1090))","v":0}]
["103705476","Staff_cols:Day_nurse_plan, Staff_row:Staff_row89","Number",{"$f":"IF(ISERROR(INDEX('Trust - Frontsheet'!$C$14:$T$213,Index!B1091,Index!A1091)),0,INDEX('Trust - Frontsheet'!$C$14:$T$213,Index!B1091,Index!A1091))","v":0}]
["103705478","Staff_cols:Day_nurse_plan, Staff_row:Staff_row90","Number",{"$f":"IF(ISERROR(INDEX('Trust - Frontsheet'!$C$14:$T$213,Index!B1092,Index!A1092)),0,INDEX('Trust - Frontsheet'!$C$14:$T$213,Index!B1092,Index!A1092))","v":0}]
["103705479","Staff_cols:Day_nurse_plan, Staff_row:Staff_row91","Number",{"$f":"IF(ISERROR(INDEX('Trust - Frontsheet'!$C$14:$T$213,Index!B1093,Index!A1093)),0,INDEX('Trust - Frontsheet'!$C$14:$T$213,Index!B1093,Index!A1093))","v":0}]
["103705480","Staff_cols:Day_nurse_plan, Staff_row:Staff_row92","Number",{"$f":"IF(ISERROR(INDEX('Trust - Frontsheet'!$C$14:$T$213,Index!B1094,Index!A1094)),0,INDEX('Trust - Frontsheet'!$C$14:$T$213,Index!B1094,Index!A1094))","v":0}]
["103705481","Staff_cols:Day_nurse_plan, Staff_row:Staff_row93","Number",{"$f":"IF(ISERROR(INDEX('Trust - Frontsheet'!$C$14:$T$213,Index!B1095,Index!A1095)),0,INDEX('Trust - Frontsheet'!$C$14:$T$213,Index!B1095,Index!A1095))","v":0}]
["103705482","Staff_cols:Day_nurse_plan, Staff_row:Staff_row94","Number",{"$f":"IF(ISERROR(INDEX('Trust - Frontsheet'!$C$14:$T$213,Index!B1096,Index!A1096)),0,INDEX('Trust - Frontsheet'!$C$14:$T$213,Index!B1096,Index!A1096))","v":0}]
["103705483","Staff_cols:Day_nurse_plan, Staff_row:Staff_row95","Number",{"$f":"IF(ISERROR(INDEX('Trust - Frontsheet'!$C$14:$T$213,Index!B1097,Index!A1097)),0,INDEX('Trust - Frontsheet'!$C$14:$T$213,Index!B1097,Index!A1097))","v":0}]
["103705484","Staff_cols:Day_nurse_plan, Staff_row:Staff_row96","Number",{"$f":"IF(ISERROR(INDEX('Trust - Frontsheet'!$C$14:$T$213,Index!B1098,Index!A1098)),0,INDEX('Trust - Frontsheet'!$C$14:$T$213,Index!B1098,Index!A1098))","v":0}]
["103705485","Staff_cols:Day_nurse_plan, Staff_row:Staff_row97","Number",{"$f":"IF(ISERROR(INDEX('Trust - Frontsheet'!$C$14:$T$213,Index!B1099,Index!A1099)),0,INDEX('Trust - Frontsheet'!$C$14:$T$213,Index!B1099,Index!A1099))","v":0}]
["103705486","Staff_cols:Day_nurse_plan, Staff_row:Staff_row98","Number",{"$f":"IF(ISERROR(INDEX('Trust - Frontsheet'!$C$14:$T$213,Index!B1100,Index!A1100)),0,INDEX('Trust - Frontsheet'!$C$14:$T$213,Index!B1100,Index!A1100))","v":0}]
["103705487","Staff_cols:Day_nurse_plan, Staff_row:Staff_row99","Number",{"$f":"IF(ISERROR(INDEX('Trust - Frontsheet'!$C$14:$T$213,Index!B1101,Index!A1101)),0,INDEX('Trust - Frontsheet'!$C$14:$T$213,Index!B1101,Index!A1101))","v":0}]
["103705290","Staff_cols:Day_nurse_plan, Staff_row:Staff_row100","Number",{"$f":"IF(ISERROR(INDEX('Trust - Frontsheet'!$C$14:$T$213,Index!B1102,Index!A1102)),0,INDEX('Trust - Frontsheet'!$C$14:$T$213,Index!B1102,Index!A1102))","v":0}]
["103705291","Staff_cols:Day_nurse_plan, Staff_row:Staff_row101","Number",{"$f":"IF(ISERROR(INDEX('Trust - Frontsheet'!$C$14:$T$213,Index!B1103,Index!A1103)),0,INDEX('Trust - Frontsheet'!$C$14:$T$213,Index!B1103,Index!A1103))","v":0}]
["103705292","Staff_cols:Day_nurse_plan, Staff_row:Staff_row102","Number",{"$f":"IF(ISERROR(INDEX('Trust - Frontsheet'!$C$14:$T$213,Index!B1104,Index!A1104)),0,INDEX('Trust - Frontsheet'!$C$14:$T$213,Index!B1104,Index!A1104))","v":0}]
["103705293","Staff_cols:Day_nurse_plan, Staff_row:Staff_row103","Number",{"$f":"IF(ISERROR(INDEX('Trust - Frontsheet'!$C$14:$T$213,Index!B1105,Index!A1105)),0,INDEX('Trust - Frontsheet'!$C$14:$T$213,Index!B1105,Index!A1105))","v":0}]
["103705294","Staff_cols:Day_nurse_plan, Staff_row:Staff_row104","Number",{"$f":"IF(ISERROR(INDEX('Trust - Frontsheet'!$C$14:$T$213,Index!B1106,Index!A1106)),0,INDEX('Trust - Frontsheet'!$C$14:$T$213,Index!B1106,Index!A1106))","v":0}]
["103705295","Staff_cols:Day_nurse_plan, Staff_row:Staff_row105","Number",{"$f":"IF(ISERROR(INDEX('Trust - Frontsheet'!$C$14:$T$213,Index!B1107,Index!A1107)),0,INDEX('Trust - Frontsheet'!$C$14:$T$213,Index!B1107,Index!A1107))","v":0}]
["103705296","Staff_cols:Day_nurse_plan, Staff_row:Staff_row106","Number",{"$f":"IF(ISERROR(INDEX('Trust - Frontsheet'!$C$14:$T$213,Index!B1108,Index!A1108)),0,INDEX('Trust - Frontsheet'!$C$14:$T$213,Index!B1108,Index!A1108))","v":0}]
["103705297","Staff_cols:Day_nurse_plan, Staff_row:Staff_row107","Number",{"$f":"IF(ISERROR(INDEX('Trust - Frontsheet'!$C$14:$T$213,Index!B1109,Index!A1109)),0,INDEX('Trust - Frontsheet'!$C$14:$T$213,Index!B1109,Index!A1109))","v":0}]
["103705298","Staff_cols:Day_nurse_plan, Staff_row:Staff_row108","Number",{"$f":"IF(ISERROR(INDEX('Trust - Frontsheet'!$C$14:$T$213,Index!B1110,Index!A1110)),0,INDEX('Trust - Frontsheet'!$C$14:$T$213,Index!B1110,Index!A1110))","v":0}]
["103705299","Staff_cols:Day_nurse_plan, Staff_row:Staff_row109","Number",{"$f":"IF(ISERROR(INDEX('Trust - Frontsheet'!$C$14:$T$213,Index!B1111,Index!A1111)),0,INDEX('Trust - Frontsheet'!$C$14:$T$213,Index!B1111,Index!A1111))","v":0}]
["103705301","Staff_cols:Day_nurse_plan, Staff_row:Staff_row110","Number",{"$f":"IF(ISERROR(INDEX('Trust - Frontsheet'!$C$14:$T$213,Index!B1112,Index!A1112)),0,INDEX('Trust - Frontsheet'!$C$14:$T$213,Index!B1112,Index!A1112))","v":0}]
["103705302","Staff_cols:Day_nurse_plan, Staff_row:Staff_row111","Number",{"$f":"IF(ISERROR(INDEX('Trust - Frontsheet'!$C$14:$T$213,Index!B1113,Index!A1113)),0,INDEX('Trust - Frontsheet'!$C$14:$T$213,Index!B1113,Index!A1113))","v":0}]
["103705303","Staff_cols:Day_nurse_plan, Staff_row:Staff_row112","Number",{"$f":"IF(ISERROR(INDEX('Trust - Frontsheet'!$C$14:$T$213,Index!B1114,Index!A1114)),0,INDEX('Trust - Frontsheet'!$C$14:$T$213,Index!B1114,Index!A1114))","v":0}]
["103705304","Staff_cols:Day_nurse_plan, Staff_row:Staff_row113","Number",{"$f":"IF(ISERROR(INDEX('Trust - Frontsheet'!$C$14:$T$213,Index!B1115,Index!A1115)),0,INDEX('Trust - Frontsheet'!$C$14:$T$213,Index!B1115,Index!A1115))","v":0}]
["103705305","Staff_cols:Day_nurse_plan, Staff_row:Staff_row114","Number",{"$f":"IF(ISERROR(INDEX('Trust - Frontsheet'!$C$14:$T$213,Index!B1116,Index!A1116)),0,INDEX('Trust - Frontsheet'!$C$14:$T$213,Index!B1116,Index!A1116))","v":0}]
["103705306","Staff_cols:Day_nurse_plan, Staff_row:Staff_row115","Number",{"$f":"IF(ISERROR(INDEX('Trust - Frontsheet'!$C$14:$T$213,Index!B1117,Index!A1117)),0,INDEX('Trust - Frontsheet'!$C$14:$T$213,Index!B1117,Index!A1117))","v":0}]
["103705307","Staff_cols:Day_nurse_plan, Staff_row:Staff_row116","Number",{"$f":"IF(ISERROR(INDEX('Trust - Frontsheet'!$C$14:$T$213,Index!B1118,Index!A1118)),0,INDEX('Trust - Frontsheet'!$C$14:$T$213,Index!B1118,Index!A1118))","v":0}]
["103705308","Staff_cols:Day_nurse_plan, Staff_row:Staff_row117","Number",{"$f":"IF(ISERROR(INDEX('Trust - Frontsheet'!$C$14:$T$213,Index!B1119,Index!A1119)),0,INDEX('Trust - Frontsheet'!$C$14:$T$213,Index!B1119,Index!A1119))","v":0}]
["103705309","Staff_cols:Day_nurse_plan, Staff_row:Staff_row118","Number",{"$f":"IF(ISERROR(INDEX('Trust - Frontsheet'!$C$14:$T$213,Index!B1120,Index!A1120)),0,INDEX('Trust - Frontsheet'!$C$14:$T$213,Index!B1120,Index!A1120))","v":0}]
["103705310","Staff_cols:Day_nurse_plan, Staff_row:Staff_row119","Number",{"$f":"IF(ISERROR(INDEX('Trust - Frontsheet'!$C$14:$T$213,Index!B1121,Index!A1121)),0,INDEX('Trust - Frontsheet'!$C$14:$T$213,Index!B1121,Index!A1121))","v":0}]
["103705312","Staff_cols:Day_nurse_plan, Staff_row:Staff_row120","Number",{"$f":"IF(ISERROR(INDEX('Trust - Frontsheet'!$C$14:$T$213,Index!B1122,Index!A1122)),0,INDEX('Trust - Frontsheet'!$C$14:$T$213,Index!B1122,Index!A1122))","v":0}]
["103705313","Staff_cols:Day_nurse_plan, Staff_row:Staff_row121","Number",{"$f":"IF(ISERROR(INDEX('Trust - Frontsheet'!$C$14:$T$213,Index!B1123,Index!A1123)),0,INDEX('Trust - Frontsheet'!$C$14:$T$213,Index!B1123,Index!A1123))","v":0}]
["103705314","Staff_cols:Day_nurse_plan, Staff_row:Staff_row122","Number",{"$f":"IF(ISERROR(INDEX('Trust - Frontsheet'!$C$14:$T$213,Index!B1124,Index!A1124)),0,INDEX('Trust - Frontsheet'!$C$14:$T$213,Index!B1124,Index!A1124))","v":0}]
["103705315","Staff_cols:Day_nurse_plan, Staff_row:Staff_row123","Number",{"$f":"IF(ISERROR(INDEX('Trust - Frontsheet'!$C$14:$T$213,Index!B1125,Index!A1125)),0,INDEX('Trust - Frontsheet'!$C$14:$T$213,Index!B1125,Index!A1125))","v":0}]
["103705316","Staff_cols:Day_nurse_plan, Staff_row:Staff_row124","Number",{"$f":"IF(ISERROR(INDEX('Trust - Frontsheet'!$C$14:$T$213,Index!B1126,Index!A1126)),0,INDEX('Trust - Frontsheet'!$C$14:$T$213,Index!B1126,Index!A1126))","v":0}]
["103705317","Staff_cols:Day_nurse_plan, Staff_row:Staff_row125","Number",{"$f":"IF(ISERROR(INDEX('Trust - Frontsheet'!$C$14:$T$213,Index!B1127,Index!A1127)),0,INDEX('Trust - Frontsheet'!$C$14:$T$213,Index!B1127,Index!A1127))","v":0}]
["103705318","Staff_cols:Day_nurse_plan, Staff_row:Staff_row126","Number",{"$f":"IF(ISERROR(INDEX('Trust - Frontsheet'!$C$14:$T$213,Index!B1128,Index!A1128)),0,INDEX('Trust - Frontsheet'!$C$14:$T$213,Index!B1128,Index!A1128))","v":0}]
["103705319","Staff_cols:Day_nurse_plan, Staff_row:Staff_row127","Number",{"$f":"IF(ISERROR(INDEX('Trust - Frontsheet'!$C$14:$T$213,Index!B1129,Index!A1129)),0,INDEX('Trust - Frontsheet'!$C$14:$T$213,Index!B1129,Index!A1129))","v":0}]
["103705320","Staff_cols:Day_nurse_plan, Staff_row:Staff_row128","Number",{"$f":"IF(ISERROR(INDEX('Trust - Frontsheet'!$C$14:$T$213,Index!B1130,Index!A1130)),0,INDEX('Trust - Frontsheet'!$C$14:$T$213,Index!B1130,Index!A1130))","v":0}]
["103705321","Staff_cols:Day_nurse_plan, Staff_row:Staff_row129","Number",{"$f":"IF(ISERROR(INDEX('Trust - Frontsheet'!$C$14:$T$213,Index!B1131,Index!A1131)),0,INDEX('Trust - Frontsheet'!$C$14:$T$213,Index!B1131,Index!A1131))","v":0}]
["103705323","Staff_cols:Day_nurse_plan, Staff_row:Staff_row130","Number",{"$f":"IF(ISERROR(INDEX('Trust - Frontsheet'!$C$14:$T$213,Index!B1132,Index!A1132)),0,INDEX('Trust - Frontsheet'!$C$14:$T$213,Index!B1132,Index!A1132))","v":0}]
["103705324","Staff_cols:Day_nurse_plan, Staff_row:Staff_row131","Number",{"$f":"IF(ISERROR(INDEX('Trust - Frontsheet'!$C$14:$T$213,Index!B1133,Index!A1133)),0,INDEX('Trust - Frontsheet'!$C$14:$T$213,Index!B1133,Index!A1133))","v":0}]
["103705325","Staff_cols:Day_nurse_plan, Staff_row:Staff_row132","Number",{"$f":"IF(ISERROR(INDEX('Trust - Frontsheet'!$C$14:$T$213,Index!B1134,Index!A1134)),0,INDEX('Trust - Frontsheet'!$C$14:$T$213,Index!B1134,Index!A1134))","v":0}]
["103705326","Staff_cols:Day_nurse_plan, Staff_row:Staff_row133","Number",{"$f":"IF(ISERROR(INDEX('Trust - Frontsheet'!$C$14:$T$213,Index!B1135,Index!A1135)),0,INDEX('Trust - Frontsheet'!$C$14:$T$213,Index!B1135,Index!A1135))","v":0}]
["103705327","Staff_cols:Day_nurse_plan, Staff_row:Staff_row134","Number",{"$f":"IF(ISERROR(INDEX('Trust - Frontsheet'!$C$14:$T$213,Index!B1136,Index!A1136)),0,INDEX('Trust - Frontsheet'!$C$14:$T$213,Index!B1136,Index!A1136))","v":0}]
["103705328","Staff_cols:Day_nurse_plan, Staff_row:Staff_row135","Number",{"$f":"IF(ISERROR(INDEX('Trust - Frontsheet'!$C$14:$T$213,Index!B1137,Index!A1137)),0,INDEX('Trust - Frontsheet'!$C$14:$T$213,Index!B1137,Index!A1137))","v":0}]
["103705329","Staff_cols:Day_nurse_plan, Staff_row:Staff_row136","Number",{"$f":"IF(ISERROR(INDEX('Trust - Frontsheet'!$C$14:$T$213,Index!B1138,Index!A1138)),0,INDEX('Trust - Frontsheet'!$C$14:$T$213,Index!B1138,Index!A1138))","v":0}]
["103705330","Staff_cols:Day_nurse_plan, Staff_row:Staff_row137","Number",{"$f":"IF(ISERROR(INDEX('Trust - Frontsheet'!$C$14:$T$213,Index!B1139,Index!A1139)),0,INDEX('Trust - Frontsheet'!$C$14:$T$213,Index!B1139,Index!A1139))","v":0}]
["103705331","Staff_cols:Day_nurse_plan, Staff_row:Staff_row138","Number",{"$f":"IF(ISERROR(INDEX('Trust - Frontsheet'!$C$14:$T$213,Index!B1140,Index!A1140)),0,INDEX('Trust - Frontsheet'!$C$14:$T$213,Index!B1140,Index!A1140))","v":0}]
["103705332","Staff_cols:Day_nurse_plan, Staff_row:Staff_row139","Number",{"$f":"IF(ISERROR(INDEX('Trust - Frontsheet'!$C$14:$T$213,Index!B1141,Index!A1141)),0,INDEX('Trust - Frontsheet'!$C$14:$T$213,Index!B1141,Index!A1141))","v":0}]
["103705334","Staff_cols:Day_nurse_plan, Staff_row:Staff_row140","Number",{"$f":"IF(ISERROR(INDEX('Trust - Frontsheet'!$C$14:$T$213,Index!B1142,Index!A1142)),0,INDEX('Trust - Frontsheet'!$C$14:$T$213,Index!B1142,Index!A1142))","v":0}]
["103705335","Staff_cols:Day_nurse_plan, Staff_row:Staff_row141","Number",{"$f":"IF(ISERROR(INDEX('Trust - Frontsheet'!$C$14:$T$213,Index!B1143,Index!A1143)),0,INDEX('Trust - Frontsheet'!$C$14:$T$213,Index!B1143,Index!A1143))","v":0}]
["103705336","Staff_cols:Day_nurse_plan, Staff_row:Staff_row142","Number",{"$f":"IF(ISERROR(INDEX('Trust - Frontsheet'!$C$14:$T$213,Index!B1144,Index!A1144)),0,INDEX('Trust - Frontsheet'!$C$14:$T$213,Index!B1144,Index!A1144))","v":0}]
["103705337","Staff_cols:Day_nurse_plan, Staff_row:Staff_row143","Number",{"$f":"IF(ISERROR(INDEX('Trust - Frontsheet'!$C$14:$T$213,Index!B1145,Index!A1145)),0,INDEX('Trust - Frontsheet'!$C$14:$T$213,Index!B1145,Index!A1145))","v":0}]
["103705338","Staff_cols:Day_nurse_plan, Staff_row:Staff_row144","Number",{"$f":"IF(ISERROR(INDEX('Trust - Frontsheet'!$C$14:$T$213,Index!B1146,Index!A1146)),0,INDEX('Trust - Frontsheet'!$C$14:$T$213,Index!B1146,Index!A1146))","v":0}]
["103705339","Staff_cols:Day_nurse_plan, Staff_row:Staff_row145","Number",{"$f":"IF(ISERROR(INDEX('Trust - Frontsheet'!$C$14:$T$213,Index!B1147,Index!A1147)),0,INDEX('Trust - Frontsheet'!$C$14:$T$213,Index!B1147,Index!A1147))","v":0}]
["103705340","Staff_cols:Day_nurse_plan, Staff_row:Staff_row146","Number",{"$f":"IF(ISERROR(INDEX('Trust - Frontsheet'!$C$14:$T$213,Index!B1148,Index!A1148)),0,INDEX('Trust - Frontsheet'!$C$14:$T$213,Index!B1148,Index!A1148))","v":0}]
["103705341","Staff_cols:Day_nurse_plan, Staff_row:Staff_row147","Number",{"$f":"IF(ISERROR(INDEX('Trust - Frontsheet'!$C$14:$T$213,Index!B1149,Index!A1149)),0,INDEX('Trust - Frontsheet'!$C$14:$T$213,Index!B1149,Index!A1149))","v":0}]
["103705342","Staff_cols:Day_nurse_plan, Staff_row:Staff_row148","Number",{"$f":"IF(ISERROR(INDEX('Trust - Frontsheet'!$C$14:$T$213,Index!B1150,Index!A1150)),0,INDEX('Trust - Frontsheet'!$C$14:$T$213,Index!B1150,Index!A1150))","v":0}]
["103705343","Staff_cols:Day_nurse_plan, Staff_row:Staff_row149","Number",{"$f":"IF(ISERROR(INDEX('Trust - Frontsheet'!$C$14:$T$213,Index!B1151,Index!A1151)),0,INDEX('Trust - Frontsheet'!$C$14:$T$213,Index!B1151,Index!A1151))","v":0}]
["103705345","Staff_cols:Day_nurse_plan, Staff_row:Staff_row150","Number",{"$f":"IF(ISERROR(INDEX('Trust - Frontsheet'!$C$14:$T$213,Index!B1152,Index!A1152)),0,INDEX('Trust - Frontsheet'!$C$14:$T$213,Index!B1152,Index!A1152))","v":0}]
["103705346","Staff_cols:Day_nurse_plan, Staff_row:Staff_row151","Number",{"$f":"IF(ISERROR(INDEX('Trust - Frontsheet'!$C$14:$T$213,Index!B1153,Index!A1153)),0,INDEX('Trust - Frontsheet'!$C$14:$T$213,Index!B1153,Index!A1153))","v":0}]
["103705347","Staff_cols:Day_nurse_plan, Staff_row:Staff_row152","Number",{"$f":"IF(ISERROR(INDEX('Trust - Frontsheet'!$C$14:$T$213,Index!B1154,Index!A1154)),0,INDEX('Trust - Frontsheet'!$C$14:$T$213,Index!B1154,Index!A1154))","v":0}]
["103705348","Staff_cols:Day_nurse_plan, Staff_row:Staff_row153","Number",{"$f":"IF(ISERROR(INDEX('Trust - Frontsheet'!$C$14:$T$213,Index!B1155,Index!A1155)),0,INDEX('Trust - Frontsheet'!$C$14:$T$213,Index!B1155,Index!A1155))","v":0}]
["103705349","Staff_cols:Day_nurse_plan, Staff_row:Staff_row154","Number",{"$f":"IF(ISERROR(INDEX('Trust - Frontsheet'!$C$14:$T$213,Index!B1156,Index!A1156)),0,INDEX('Trust - Frontsheet'!$C$14:$T$213,Index!B1156,Index!A1156))","v":0}]
["103705350","Staff_cols:Day_nurse_plan, Staff_row:Staff_row155","Number",{"$f":"IF(ISERROR(INDEX('Trust - Frontsheet'!$C$14:$T$213,Index!B1157,Index!A1157)),0,INDEX('Trust - Frontsheet'!$C$14:$T$213,Index!B1157,Index!A1157))","v":0}]
["103705351","Staff_cols:Day_nurse_plan, Staff_row:Staff_row156","Number",{"$f":"IF(ISERROR(INDEX('Trust - Frontsheet'!$C$14:$T$213,Index!B1158,Index!A1158)),0,INDEX('Trust - Frontsheet'!$C$14:$T$213,Index!B1158,Index!A1158))","v":0}]
["103705352","Staff_cols:Day_nurse_plan, Staff_row:Staff_row157","Number",{"$f":"IF(ISERROR(INDEX('Trust - Frontsheet'!$C$14:$T$213,Index!B1159,Index!A1159)),0,INDEX('Trust - Frontsheet'!$C$14:$T$213,Index!B1159,Index!A1159))","v":0}]
["103705353","Staff_cols:Day_nurse_plan, Staff_row:Staff_row158","Number",{"$f":"IF(ISERROR(INDEX('Trust - Frontsheet'!$C$14:$T$213,Index!B1160,Index!A1160)),0,INDEX('Trust - Frontsheet'!$C$14:$T$213,Index!B1160,Index!A1160))","v":0}]
["103705354","Staff_cols:Day_nurse_plan, Staff_row:Staff_row159","Number",{"$f":"IF(ISERROR(INDEX('Trust - Frontsheet'!$C$14:$T$213,Index!B1161,Index!A1161)),0,INDEX('Trust - Frontsheet'!$C$14:$T$213,Index!B1161,Index!A1161))","v":0}]
["103705356","Staff_cols:Day_nurse_plan, Staff_row:Staff_row160","Number",{"$f":"IF(ISERROR(INDEX('Trust - Frontsheet'!$C$14:$T$213,Index!B1162,Index!A1162)),0,INDEX('Trust - Frontsheet'!$C$14:$T$213,Index!B1162,Index!A1162))","v":0}]
["103705357","Staff_cols:Day_nurse_plan, Staff_row:Staff_row161","Number",{"$f":"IF(ISERROR(INDEX('Trust - Frontsheet'!$C$14:$T$213,Index!B1163,Index!A1163)),0,INDEX('Trust - Frontsheet'!$C$14:$T$213,Index!B1163,Index!A1163))","v":0}]
["103705358","Staff_cols:Day_nurse_plan, Staff_row:Staff_row162","Number",{"$f":"IF(ISERROR(INDEX('Trust - Frontsheet'!$C$14:$T$213,Index!B1164,Index!A1164)),0,INDEX('Trust - Frontsheet'!$C$14:$T$213,Index!B1164,Index!A1164))","v":0}]
["103705359","Staff_cols:Day_nurse_plan, Staff_row:Staff_row163","Number",{"$f":"IF(ISERROR(INDEX('Trust - Frontsheet'!$C$14:$T$213,Index!B1165,Index!A1165)),0,INDEX('Trust - Frontsheet'!$C$14:$T$213,Index!B1165,Index!A1165))","v":0}]
["103705360","Staff_cols:Day_nurse_plan, Staff_row:Staff_row164","Number",{"$f":"IF(ISERROR(INDEX('Trust - Frontsheet'!$C$14:$T$213,Index!B1166,Index!A1166)),0,INDEX('Trust - Frontsheet'!$C$14:$T$213,Index!B1166,Index!A1166))","v":0}]
["103705361","Staff_cols:Day_nurse_plan, Staff_row:Staff_row165","Number",{"$f":"IF(ISERROR(INDEX('Trust - Frontsheet'!$C$14:$T$213,Index!B1167,Index!A1167)),0,INDEX('Trust - Frontsheet'!$C$14:$T$213,Index!B1167,Index!A1167))","v":0}]
["103705362","Staff_cols:Day_nurse_plan, Staff_row:Staff_row166","Number",{"$f":"IF(ISERROR(INDEX('Trust - Frontsheet'!$C$14:$T$213,Index!B1168,Index!A1168)),0,INDEX('Trust - Frontsheet'!$C$14:$T$213,Index!B1168,Index!A1168))","v":0}]
["103705363","Staff_cols:Day_nurse_plan, Staff_row:Staff_row167","Number",{"$f":"IF(ISERROR(INDEX('Trust - Frontsheet'!$C$14:$T$213,Index!B1169,Index!A1169)),0,INDEX('Trust - Frontsheet'!$C$14:$T$213,Index!B1169,Index!A1169))","v":0}]
["103705364","Staff_cols:Day_nurse_plan, Staff_row:Staff_row168","Number",{"$f":"IF(ISERROR(INDEX('Trust - Frontsheet'!$C$14:$T$213,Index!B1170,Index!A1170)),0,INDEX('Trust - Frontsheet'!$C$14:$T$213,Index!B1170,Index!A1170))","v":0}]
["103705365","Staff_cols:Day_nurse_plan, Staff_row:Staff_row169","Number",{"$f":"IF(ISERROR(INDEX('Trust - Frontsheet'!$C$14:$T$213,Index!B1171,Index!A1171)),0,INDEX('Trust - Frontsheet'!$C$14:$T$213,Index!B1171,Index!A1171))","v":0}]
["103705367","Staff_cols:Day_nurse_plan, Staff_row:Staff_row170","Number",{"$f":"IF(ISERROR(INDEX('Trust - Frontsheet'!$C$14:$T$213,Index!B1172,Index!A1172)),0,INDEX('Trust - Frontsheet'!$C$14:$T$213,Index!B1172,Index!A1172))","v":0}]
["103705368","Staff_cols:Day_nurse_plan, Staff_row:Staff_row171","Number",{"$f":"IF(ISERROR(INDEX('Trust - Frontsheet'!$C$14:$T$213,Index!B1173,Index!A1173)),0,INDEX('Trust - Frontsheet'!$C$14:$T$213,Index!B1173,Index!A1173))","v":0}]
["103705369","Staff_cols:Day_nurse_plan, Staff_row:Staff_row172","Number",{"$f":"IF(ISERROR(INDEX('Trust - Frontsheet'!$C$14:$T$213,Index!B1174,Index!A1174)),0,INDEX('Trust - Frontsheet'!$C$14:$T$213,Index!B1174,Index!A1174))","v":0}]
["103705370","Staff_cols:Day_nurse_plan, Staff_row:Staff_row173","Number",{"$f":"IF(ISERROR(INDEX('Trust - Frontsheet'!$C$14:$T$213,Index!B1175,Index!A1175)),0,INDEX('Trust - Frontsheet'!$C$14:$T$213,Index!B1175,Index!A1175))","v":0}]
["103705371","Staff_cols:Day_nurse_plan, Staff_row:Staff_row174","Number",{"$f":"IF(ISERROR(INDEX('Trust - Frontsheet'!$C$14:$T$213,Index!B1176,Index!A1176)),0,INDEX('Trust - Frontsheet'!$C$14:$T$213,Index!B1176,Index!A1176))","v":0}]
["103705372","Staff_cols:Day_nurse_plan, Staff_row:Staff_row175","Number",{"$f":"IF(ISERROR(INDEX('Trust - Frontsheet'!$C$14:$T$213,Index!B1177,Index!A1177)),0,INDEX('Trust - Frontsheet'!$C$14:$T$213,Index!B1177,Index!A1177))","v":0}]
["103705373","Staff_cols:Day_nurse_plan, Staff_row:Staff_row176","Number",{"$f":"IF(ISERROR(INDEX('Trust - Frontsheet'!$C$14:$T$213,Index!B1178,Index!A1178)),0,INDEX('Trust - Frontsheet'!$C$14:$T$213,Index!B1178,Index!A1178))","v":0}]
["103705374","Staff_cols:Day_nurse_plan, Staff_row:Staff_row177","Number",{"$f":"IF(ISERROR(INDEX('Trust - Frontsheet'!$C$14:$T$213,Index!B1179,Index!A1179)),0,INDEX('Trust - Frontsheet'!$C$14:$T$213,Index!B1179,Index!A1179))","v":0}]
["103705375","Staff_cols:Day_nurse_plan, Staff_row:Staff_row178","Number",{"$f":"IF(ISERROR(INDEX('Trust - Frontsheet'!$C$14:$T$213,Index!B1180,Index!A1180)),0,INDEX('Trust - Frontsheet'!$C$14:$T$213,Index!B1180,Index!A1180))","v":0}]
["103705376","Staff_cols:Day_nurse_plan, Staff_row:Staff_row179","Number",{"$f":"IF(ISERROR(INDEX('Trust - Frontsheet'!$C$14:$T$213,Index!B1181,Index!A1181)),0,INDEX('Trust - Frontsheet'!$C$14:$T$213,Index!B1181,Index!A1181))","v":0}]
["103705378","Staff_cols:Day_nurse_plan, Staff_row:Staff_row180","Number",{"$f":"IF(ISERROR(INDEX('Trust - Frontsheet'!$C$14:$T$213,Index!B1182,Index!A1182)),0,INDEX('Trust - Frontsheet'!$C$14:$T$213,Index!B1182,Index!A1182))","v":0}]
["103705379","Staff_cols:Day_nurse_plan, Staff_row:Staff_row181","Number",{"$f":"IF(ISERROR(INDEX('Trust - Frontsheet'!$C$14:$T$213,Index!B1183,Index!A1183)),0,INDEX('Trust - Frontsheet'!$C$14:$T$213,Index!B1183,Index!A1183))","v":0}]
["103705380","Staff_cols:Day_nurse_plan, Staff_row:Staff_row182","Number",{"$f":"IF(ISERROR(INDEX('Trust - Frontsheet'!$C$14:$T$213,Index!B1184,Index!A1184)),0,INDEX('Trust - Frontsheet'!$C$14:$T$213,Index!B1184,Index!A1184))","v":0}]
["103705381","Staff_cols:Day_nurse_plan, Staff_row:Staff_row183","Number",{"$f":"IF(ISERROR(INDEX('Trust - Frontsheet'!$C$14:$T$213,Index!B1185,Index!A1185)),0,INDEX('Trust - Frontsheet'!$C$14:$T$213,Index!B1185,Index!A1185))","v":0}]
["103705382","Staff_cols:Day_nurse_plan, Staff_row:Staff_row184","Number",{"$f":"IF(ISERROR(INDEX('Trust - Frontsheet'!$C$14:$T$213,Index!B1186,Index!A1186)),0,INDEX('Trust - Frontsheet'!$C$14:$T$213,Index!B1186,Index!A1186))","v":0}]
["103705383","Staff_cols:Day_nurse_plan, Staff_row:Staff_row185","Number",{"$f":"IF(ISERROR(INDEX('Trust - Frontsheet'!$C$14:$T$213,Index!B1187,Index!A1187)),0,INDEX('Trust - Frontsheet'!$C$14:$T$213,Index!B1187,Index!A1187))","v":0}]
["103705384","Staff_cols:Day_nurse_plan, Staff_row:Staff_row186","Number",{"$f":"IF(ISERROR(INDEX('Trust - Frontsheet'!$C$14:$T$213,Index!B1188,Index!A1188)),0,INDEX('Trust - Frontsheet'!$C$14:$T$213,Index!B1188,Index!A1188))","v":0}]
["103705385","Staff_cols:Day_nurse_plan, Staff_row:Staff_row187","Number",{"$f":"IF(ISERROR(INDEX('Trust - Frontsheet'!$C$14:$T$213,Index!B1189,Index!A1189)),0,INDEX('Trust - Frontsheet'!$C$14:$T$213,Index!B1189,Index!A1189))","v":0}]
["103705386","Staff_cols:Day_nurse_plan, Staff_row:Staff_row188","Number",{"$f":"IF(ISERROR(INDEX('Trust - Frontsheet'!$C$14:$T$213,Index!B1190,Index!A1190)),0,INDEX('Trust - Frontsheet'!$C$14:$T$213,Index!B1190,Index!A1190))","v":0}]
["103705387","Staff_cols:Day_nurse_plan, Staff_row:Staff_row189","Number",{"$f":"IF(ISERROR(INDEX('Trust - Frontsheet'!$C$14:$T$213,Index!B1191,Index!A1191)),0,INDEX('Trust - Frontsheet'!$C$14:$T$213,Index!B1191,Index!A1191))","v":0}]
["103705389","Staff_cols:Day_nurse_plan, Staff_row:Staff_row190","Number",{"$f":"IF(ISERROR(INDEX('Trust - Frontsheet'!$C$14:$T$213,Index!B1192,Index!A1192)),0,INDEX('Trust - Frontsheet'!$C$14:$T$213,Index!B1192,Index!A1192))","v":0}]
["103705390","Staff_cols:Day_nurse_plan, Staff_row:Staff_row191","Number",{"$f":"IF(ISERROR(INDEX('Trust - Frontsheet'!$C$14:$T$213,Index!B1193,Index!A1193)),0,INDEX('Trust - Frontsheet'!$C$14:$T$213,Index!B1193,Index!A1193))","v":0}]
["103705391","Staff_cols:Day_nurse_plan, Staff_row:Staff_row192","Number",{"$f":"IF(ISERROR(INDEX('Trust - Frontsheet'!$C$14:$T$213,Index!B1194,Index!A1194)),0,INDEX('Trust - Frontsheet'!$C$14:$T$213,Index!B1194,Index!A1194))","v":0}]
["103705392","Staff_cols:Day_nurse_plan, Staff_row:Staff_row193","Number",{"$f":"IF(ISERROR(INDEX('Trust - Frontsheet'!$C$14:$T$213,Index!B1195,Index!A1195)),0,INDEX('Trust - Frontsheet'!$C$14:$T$213,Index!B1195,Index!A1195))","v":0}]
["103705393","Staff_cols:Day_nurse_plan, Staff_row:Staff_row194","Number",{"$f":"IF(ISERROR(INDEX('Trust - Frontsheet'!$C$14:$T$213,Index!B1196,Index!A1196)),0,INDEX('Trust - Frontsheet'!$C$14:$T$213,Index!B1196,Index!A1196))","v":0}]
["103705394","Staff_cols:Day_nurse_plan, Staff_row:Staff_row195","Number",{"$f":"IF(ISERROR(INDEX('Trust - Frontsheet'!$C$14:$T$213,Index!B1197,Index!A1197)),0,INDEX('Trust - Frontsheet'!$C$14:$T$213,Index!B1197,Index!A1197))","v":0}]
["103705395","Staff_cols:Day_nurse_plan, Staff_row:Staff_row196","Number",{"$f":"IF(ISERROR(INDEX('Trust - Frontsheet'!$C$14:$T$213,Index!B1198,Index!A1198)),0,INDEX('Trust - Frontsheet'!$C$14:$T$213,Index!B1198,Index!A1198))","v":0}]
["103705396","Staff_cols:Day_nurse_plan, Staff_row:Staff_row197","Number",{"$f":"IF(ISERROR(INDEX('Trust - Frontsheet'!$C$14:$T$213,Index!B1199,Index!A1199)),0,INDEX('Trust - Frontsheet'!$C$14:$T$213,Index!B1199,Index!A1199))","v":0}]
["103705397","Staff_cols:Day_nurse_plan, Staff_row:Staff_row198","Number",{"$f":"IF(ISERROR(INDEX('Trust - Frontsheet'!$C$14:$T$213,Index!B1200,Index!A1200)),0,INDEX('Trust - Frontsheet'!$C$14:$T$213,Index!B1200,Index!A1200))","v":0}]
["103705398","Staff_cols:Day_nurse_plan, Staff_row:Staff_row199","Number",{"$f":"IF(ISERROR(INDEX('Trust - Frontsheet'!$C$14:$T$213,Index!B1201,Index!A1201)),0,INDEX('Trust - Frontsheet'!$C$14:$T$213,Index!B1201,Index!A1201))","v":0}]
["103705401","Staff_cols:Day_nurse_plan, Staff_row:Staff_row200","Number",{"$f":"IF(ISERROR(INDEX('Trust - Frontsheet'!$C$14:$T$213,Index!B1202,Index!A1202)),0,INDEX('Trust - Frontsheet'!$C$14:$T$213,Index!B1202,Index!A1202))","v":0}]
["103705088","Staff_cols:Day_nurse_act, Staff_row:Staff_row1","Number",{"$f":"IF(ISERROR(INDEX('Trust - Frontsheet'!$C$14:$T$213,Index!B1203,Index!A1203)),0,INDEX('Trust - Frontsheet'!$C$14:$T$213,Index!B1203,Index!A1203))","v":1479.7500000000002}]
["103705199","Staff_cols:Day_nurse_act, Staff_row:Staff_row2","Number",{"$f":"IF(ISERROR(INDEX('Trust - Frontsheet'!$C$14:$T$213,Index!B1204,Index!A1204)),0,INDEX('Trust - Frontsheet'!$C$14:$T$213,Index!B1204,Index!A1204))","v":1349.5}]
["103705211","Staff_cols:Day_nurse_act, Staff_row:Staff_row3","Number",{"$f":"IF(ISERROR(INDEX('Trust - Frontsheet'!$C$14:$T$213,Index!B1205,Index!A1205)),0,INDEX('Trust - Frontsheet'!$C$14:$T$213,Index!B1205,Index!A1205))","v":1140.9166666666667}]
["103705222","Staff_cols:Day_nurse_act, Staff_row:Staff_row4","Number",{"$f":"IF(ISERROR(INDEX('Trust - Frontsheet'!$C$14:$T$213,Index!B1206,Index!A1206)),0,INDEX('Trust - Frontsheet'!$C$14:$T$213,Index!B1206,Index!A1206))","v":1926.45}]
["103705233","Staff_cols:Day_nurse_act, Staff_row:Staff_row5","Number",{"$f":"IF(ISERROR(INDEX('Trust - Frontsheet'!$C$14:$T$213,Index!B1207,Index!A1207)),0,INDEX('Trust - Frontsheet'!$C$14:$T$213,Index!B1207,Index!A1207))","v":1188}]
["103705244","Staff_cols:Day_nurse_act, Staff_row:Staff_row6","Number",{"$f":"IF(ISERROR(INDEX('Trust - Frontsheet'!$C$14:$T$213,Index!B1208,Index!A1208)),0,INDEX('Trust - Frontsheet'!$C$14:$T$213,Index!B1208,Index!A1208))","v":752.5}]
["103705255","Staff_cols:Day_nurse_act, Staff_row:Staff_row7","Number",{"$f":"IF(ISERROR(INDEX('Trust - Frontsheet'!$C$14:$T$213,Index!B1209,Index!A1209)),0,INDEX('Trust - Frontsheet'!$C$14:$T$213,Index!B1209,Index!A1209))","v":1076.25}]
["103705266","Staff_cols:Day_nurse_act, Staff_row:Staff_row8","Number",{"$f":"IF(ISERROR(INDEX('Trust - Frontsheet'!$C$14:$T$213,Index!B1210,Index!A1210)),0,INDEX('Trust - Frontsheet'!$C$14:$T$213,Index!B1210,Index!A1210))","v":1177.5}]
["103705277","Staff_cols:Day_nurse_act, Staff_row:Staff_row9","Number",{"$f":"IF(ISERROR(INDEX('Trust - Frontsheet'!$C$14:$T$213,Index!B1211,Index!A1211)),0,INDEX('Trust - Frontsheet'!$C$14:$T$213,Index!B1211,Index!A1211))","v":1310}]
["103705089","Staff_cols:Day_nurse_act, Staff_row:Staff_row10","Number",{"$f":"IF(ISERROR(INDEX('Trust - Frontsheet'!$C$14:$T$213,Index!B1212,Index!A1212)),0,INDEX('Trust - Frontsheet'!$C$14:$T$213,Index!B1212,Index!A1212))","v":1891.5833333333333}]
["103705100","Staff_cols:Day_nurse_act, Staff_row:Staff_row11","Number",{"$f":"IF(ISERROR(INDEX('Trust - Frontsheet'!$C$14:$T$213,Index!B1213,Index!A1213)),0,INDEX('Trust - Frontsheet'!$C$14:$T$213,Index!B1213,Index!A1213))","v":1619.25}]
["103705111","Staff_cols:Day_nurse_act, Staff_row:Staff_row12","Number",{"$f":"IF(ISERROR(INDEX('Trust - Frontsheet'!$C$14:$T$213,Index!B1214,Index!A1214)),0,INDEX('Trust - Frontsheet'!$C$14:$T$213,Index!B1214,Index!A1214))","v":1410.0833333333335}]
["103705122","Staff_cols:Day_nurse_act, Staff_row:Staff_row13","Number",{"$f":"IF(ISERROR(INDEX('Trust - Frontsheet'!$C$14:$T$213,Index!B1215,Index!A1215)),0,INDEX('Trust - Frontsheet'!$C$14:$T$213,Index!B1215,Index!A1215))","v":202.66666666666666}]
["103705133","Staff_cols:Day_nurse_act, Staff_row:Staff_row14","Number",{"$f":"IF(ISERROR(INDEX('Trust - Frontsheet'!$C$14:$T$213,Index!B1216,Index!A1216)),0,INDEX('Trust - Frontsheet'!$C$14:$T$213,Index!B1216,Index!A1216))","v":1549}]
["103705144","Staff_cols:Day_nurse_act, Staff_row:Staff_row15","Number",{"$f":"IF(ISERROR(INDEX('Trust - Frontsheet'!$C$14:$T$213,Index!B1217,Index!A1217)),0,INDEX('Trust - Frontsheet'!$C$14:$T$213,Index!B1217,Index!A1217))","v":1571}]
["103705155","Staff_cols:Day_nurse_act, Staff_row:Staff_row16","Number",{"$f":"IF(ISERROR(INDEX('Trust - Frontsheet'!$C$14:$T$213,Index!B1218,Index!A1218)),0,INDEX('Trust - Frontsheet'!$C$14:$T$213,Index!B1218,Index!A1218))","v":4261.166666666667}]
["103705166","Staff_cols:Day_nurse_act, Staff_row:Staff_row17","Number",{"$f":"IF(ISERROR(INDEX('Trust - Frontsheet'!$C$14:$T$213,Index!B1219,Index!A1219)),0,INDEX('Trust - Frontsheet'!$C$14:$T$213,Index!B1219,Index!A1219))","v":3472.583333333333}]
["103705177","Staff_cols:Day_nurse_act, Staff_row:Staff_row18","Number",{"$f":"IF(ISERROR(INDEX('Trust - Frontsheet'!$C$14:$T$213,Index!B1220,Index!A1220)),0,INDEX('Trust - Frontsheet'!$C$14:$T$213,Index!B1220,Index!A1220))","v":1056.6666666666667}]
["103705188","Staff_cols:Day_nurse_act, Staff_row:Staff_row19","Number",{"$f":"IF(ISERROR(INDEX('Trust - Frontsheet'!$C$14:$T$213,Index!B1221,Index!A1221)),0,INDEX('Trust - Frontsheet'!$C$14:$T$213,Index!B1221,Index!A1221))","v":1123.6666666666667}]
["103705200","Staff_cols:Day_nurse_act, Staff_row:Staff_row20","Number",{"$f":"IF(ISERROR(INDEX('Trust - Frontsheet'!$C$14:$T$213,Index!B1222,Index!A1222)),0,INDEX('Trust - Frontsheet'!$C$14:$T$213,Index!B1222,Index!A1222))","v":357.75}]
["103705202","Staff_cols:Day_nurse_act, Staff_row:Staff_row21","Number",{"$f":"IF(ISERROR(INDEX('Trust - Frontsheet'!$C$14:$T$213,Index!B1223,Index!A1223)),0,INDEX('Trust - Frontsheet'!$C$14:$T$213,Index!B1223,Index!A1223))","v":1543.4166666666665}]
["103705203","Staff_cols:Day_nurse_act, Staff_row:Staff_row22","Number",{"$f":"IF(ISERROR(INDEX('Trust - Frontsheet'!$C$14:$T$213,Index!B1224,Index!A1224)),0,INDEX('Trust - Frontsheet'!$C$14:$T$213,Index!B1224,Index!A1224))","v":1479.5833333333333}]
["103705204","Staff_cols:Day_nurse_act, Staff_row:Staff_row23","Number",{"$f":"IF(ISERROR(INDEX('Trust - Frontsheet'!$C$14:$T$213,Index!B1225,Index!A1225)),0,INDEX('Trust - Frontsheet'!$C$14:$T$213,Index!B1225,Index!A1225))","v":1707.75}]
["103705205","Staff_cols:Day_nurse_act, Staff_row:Staff_row24","Number",{"$f":"IF(ISERROR(INDEX('Trust - Frontsheet'!$C$14:$T$213,Index!B1226,Index!A1226)),0,INDEX('Trust - Frontsheet'!$C$14:$T$213,Index!B1226,Index!A1226))","v":1079.25}]
["103705206","Staff_cols:Day_nurse_act, Staff_row:Staff_row25","Number",{"$f":"IF(ISERROR(INDEX('Trust - Frontsheet'!$C$14:$T$213,Index!B1227,Index!A1227)),0,INDEX('Trust - Frontsheet'!$C$14:$T$213,Index!B1227,Index!A1227))","v":1966.3833333333334}]
["103705207","Staff_cols:Day_nurse_act, Staff_row:Staff_row26","Number",{"$f":"IF(ISERROR(INDEX('Trust - Frontsheet'!$C$14:$T$213,Index!B1228,Index!A1228)),0,INDEX('Trust - Frontsheet'!$C$14:$T$213,Index!B1228,Index!A1228))","v":2180}]
["103705208","Staff_cols:Day_nurse_act, Staff_row:Staff_row27","Number",{"$f":"IF(ISERROR(INDEX('Trust - Frontsheet'!$C$14:$T$213,Index!B1229,Index!A1229)),0,INDEX('Trust - Frontsheet'!$C$14:$T$213,Index!B1229,Index!A1229))","v":1981.3833333333332}]
["103705209","Staff_cols:Day_nurse_act, Staff_row:Staff_row28","Number",{"$f":"IF(ISERROR(INDEX('Trust - Frontsheet'!$C$14:$T$213,Index!B1230,Index!A1230)),0,INDEX('Trust - Frontsheet'!$C$14:$T$213,Index!B1230,Index!A1230))","v":2475}]
["103705210","Staff_cols:Day_nurse_act, Staff_row:Staff_row29","Number",{"$f":"IF(ISERROR(INDEX('Trust - Frontsheet'!$C$14:$T$213,Index!B1231,Index!A1231)),0,INDEX('Trust - Frontsheet'!$C$14:$T$213,Index!B1231,Index!A1231))","v":2277.25}]
["103705212","Staff_cols:Day_nurse_act, Staff_row:Staff_row30","Number",{"$f":"IF(ISERROR(INDEX('Trust - Frontsheet'!$C$14:$T$213,Index!B1232,Index!A1232)),0,INDEX('Trust - Frontsheet'!$C$14:$T$213,Index!B1232,Index!A1232))","v":1419}]
["103705213","Staff_cols:Day_nurse_act, Staff_row:Staff_row31","Number",{"$f":"IF(ISERROR(INDEX('Trust - Frontsheet'!$C$14:$T$213,Index!B1233,Index!A1233)),0,INDEX('Trust - Frontsheet'!$C$14:$T$213,Index!B1233,Index!A1233))","v":396}]
["103705214","Staff_cols:Day_nurse_act, Staff_row:Staff_row32","Number",{"$f":"IF(ISERROR(INDEX('Trust - Frontsheet'!$C$14:$T$213,Index!B1234,Index!A1234)),0,INDEX('Trust - Frontsheet'!$C$14:$T$213,Index!B1234,Index!A1234))","v":1211}]
["103705215","Staff_cols:Day_nurse_act, Staff_row:Staff_row33","Number",{"$f":"IF(ISERROR(INDEX('Trust - Frontsheet'!$C$14:$T$213,Index!B1235,Index!A1235)),0,INDEX('Trust - Frontsheet'!$C$14:$T$213,Index!B1235,Index!A1235))","v":1983.75}]
["103705216","Staff_cols:Day_nurse_act, Staff_row:Staff_row34","Number",{"$f":"IF(ISERROR(INDEX('Trust - Frontsheet'!$C$14:$T$213,Index!B1236,Index!A1236)),0,INDEX('Trust - Frontsheet'!$C$14:$T$213,Index!B1236,Index!A1236))","v":1285.9999999999998}]
["103705217","Staff_cols:Day_nurse_act, Staff_row:Staff_row35","Number",{"$f":"IF(ISERROR(INDEX('Trust - Frontsheet'!$C$14:$T$213,Index!B1237,Index!A1237)),0,INDEX('Trust - Frontsheet'!$C$14:$T$213,Index!B1237,Index!A1237))","v":1791.1666666666665}]
["103705218","Staff_cols:Day_nurse_act, Staff_row:Staff_row36","Number",{"$f":"IF(ISERROR(INDEX('Trust - Frontsheet'!$C$14:$T$213,Index!B1238,Index!A1238)),0,INDEX('Trust - Frontsheet'!$C$14:$T$213,Index!B1238,Index!A1238))","v":1791.7499999999998}]
["103705219","Staff_cols:Day_nurse_act, Staff_row:Staff_row37","Number",{"$f":"IF(ISERROR(INDEX('Trust - Frontsheet'!$C$14:$T$213,Index!B1239,Index!A1239)),0,INDEX('Trust - Frontsheet'!$C$14:$T$213,Index!B1239,Index!A1239))","v":1754.25}]
["103705220","Staff_cols:Day_nurse_act, Staff_row:Staff_row38","Number",{"$f":"IF(ISERROR(INDEX('Trust - Frontsheet'!$C$14:$T$213,Index!B1240,Index!A1240)),0,INDEX('Trust - Frontsheet'!$C$14:$T$213,Index!B1240,Index!A1240))","v":1492.9166666666667}]
["103705221","Staff_cols:Day_nurse_act, Staff_row:Staff_row39","Number",{"$f":"IF(ISERROR(INDEX('Trust - Frontsheet'!$C$14:$T$213,Index!B1241,Index!A1241)),0,INDEX('Trust - Frontsheet'!$C$14:$T$213,Index!B1241,Index!A1241))","v":1879.1833333333334}]
["103705223","Staff_cols:Day_nurse_act, Staff_row:Staff_row40","Number",{"$f":"IF(ISERROR(INDEX('Trust - Frontsheet'!$C$14:$T$213,Index!B1242,Index!A1242)),0,INDEX('Trust - Frontsheet'!$C$14:$T$213,Index!B1242,Index!A1242))","v":1990}]
["103705224","Staff_cols:Day_nurse_act, Staff_row:Staff_row41","Number",{"$f":"IF(ISERROR(INDEX('Trust - Frontsheet'!$C$14:$T$213,Index!B1243,Index!A1243)),0,INDEX('Trust - Frontsheet'!$C$14:$T$213,Index!B1243,Index!A1243))","v":1397.55}]
["103705225","Staff_cols:Day_nurse_act, Staff_row:Staff_row42","Number",{"$f":"IF(ISERROR(INDEX('Trust - Frontsheet'!$C$14:$T$213,Index!B1244,Index!A1244)),0,INDEX('Trust - Frontsheet'!$C$14:$T$213,Index!B1244,Index!A1244))","v":1863.5}]
["103705226","Staff_cols:Day_nurse_act, Staff_row:Staff_row43","Number",{"$f":"IF(ISERROR(INDEX('Trust - Frontsheet'!$C$14:$T$213,Index!B1245,Index!A1245)),0,INDEX('Trust - Frontsheet'!$C$14:$T$213,Index!B1245,Index!A1245))","v":1885.3166666666666}]
["103705227","Staff_cols:Day_nurse_act, Staff_row:Staff_row44","Number",{"$f":"IF(ISERROR(INDEX('Trust - Frontsheet'!$C$14:$T$213,Index!B1246,Index!A1246)),0,INDEX('Trust - Frontsheet'!$C$14:$T$213,Index!B1246,Index!A1246))","v":1259.4166666666665}]
["103705228","Staff_cols:Day_nurse_act, Staff_row:Staff_row45","Number",{"$f":"IF(ISERROR(INDEX('Trust - Frontsheet'!$C$14:$T$213,Index!B1247,Index!A1247)),0,INDEX('Trust - Frontsheet'!$C$14:$T$213,Index!B1247,Index!A1247))","v":2099.416666666667}]
["103705229","Staff_cols:Day_nurse_act, Staff_row:Staff_row46","Number",{"$f":"IF(ISERROR(INDEX('Trust - Frontsheet'!$C$14:$T$213,Index!B1248,Index!A1248)),0,INDEX('Trust - Frontsheet'!$C$14:$T$213,Index!B1248,Index!A1248))","v":1393}]
["103705230","Staff_cols:Day_nurse_act, Staff_row:Staff_row47","Number",{"$f":"IF(ISERROR(INDEX('Trust - Frontsheet'!$C$14:$T$213,Index!B1249,Index!A1249)),0,INDEX('Trust - Frontsheet'!$C$14:$T$213,Index!B1249,Index!A1249))","v":3312.5}]
["103705231","Staff_cols:Day_nurse_act, Staff_row:Staff_row48","Number",{"$f":"IF(ISERROR(INDEX('Trust - Frontsheet'!$C$14:$T$213,Index!B1250,Index!A1250)),0,INDEX('Trust - Frontsheet'!$C$14:$T$213,Index!B1250,Index!A1250))","v":0}]
["103705232","Staff_cols:Day_nurse_act, Staff_row:Staff_row49","Number",{"$f":"IF(ISERROR(INDEX('Trust - Frontsheet'!$C$14:$T$213,Index!B1251,Index!A1251)),0,INDEX('Trust - Frontsheet'!$C$14:$T$213,Index!B1251,Index!A1251))","v":0}]
["103705234","Staff_cols:Day_nurse_act, Staff_row:Staff_row50","Number",{"$f":"IF(ISERROR(INDEX('Trust - Frontsheet'!$C$14:$T$213,Index!B1252,Index!A1252)),0,INDEX('Trust - Frontsheet'!$C$14:$T$213,Index!B1252,Index!A1252))","v":0}]
["103705235","Staff_cols:Day_nurse_act, Staff_row:Staff_row51","Number",{"$f":"IF(ISERROR(INDEX('Trust - Frontsheet'!$C$14:$T$213,Index!B1253,Index!A1253)),0,INDEX('Trust - Frontsheet'!$C$14:$T$213,Index!B1253,Index!A1253))","v":0}]
["103705236","Staff_cols:Day_nurse_act, Staff_row:Staff_row52","Number",{"$f":"IF(ISERROR(INDEX('Trust - Frontsheet'!$C$14:$T$213,Index!B1254,Index!A1254)),0,INDEX('Trust - Frontsheet'!$C$14:$T$213,Index!B1254,Index!A1254))","v":0}]
["103705237","Staff_cols:Day_nurse_act, Staff_row:Staff_row53","Number",{"$f":"IF(ISERROR(INDEX('Trust - Frontsheet'!$C$14:$T$213,Index!B1255,Index!A1255)),0,INDEX('Trust - Frontsheet'!$C$14:$T$213,Index!B1255,Index!A1255))","v":0}]
["103705238","Staff_cols:Day_nurse_act, Staff_row:Staff_row54","Number",{"$f":"IF(ISERROR(INDEX('Trust - Frontsheet'!$C$14:$T$213,Index!B1256,Index!A1256)),0,INDEX('Trust - Frontsheet'!$C$14:$T$213,Index!B1256,Index!A1256))","v":0}]
["103705239","Staff_cols:Day_nurse_act, Staff_row:Staff_row55","Number",{"$f":"IF(ISERROR(INDEX('Trust - Frontsheet'!$C$14:$T$213,Index!B1257,Index!A1257)),0,INDEX('Trust - Frontsheet'!$C$14:$T$213,Index!B1257,Index!A1257))","v":0}]
["103705240","Staff_cols:Day_nurse_act, Staff_row:Staff_row56","Number",{"$f":"IF(ISERROR(INDEX('Trust - Frontsheet'!$C$14:$T$213,Index!B1258,Index!A1258)),0,INDEX('Trust - Frontsheet'!$C$14:$T$213,Index!B1258,Index!A1258))","v":0}]
["103705241","Staff_cols:Day_nurse_act, Staff_row:Staff_row57","Number",{"$f":"IF(ISERROR(INDEX('Trust - Frontsheet'!$C$14:$T$213,Index!B1259,Index!A1259)),0,INDEX('Trust - Frontsheet'!$C$14:$T$213,Index!B1259,Index!A1259))","v":0}]
["103705242","Staff_cols:Day_nurse_act, Staff_row:Staff_row58","Number",{"$f":"IF(ISERROR(INDEX('Trust - Frontsheet'!$C$14:$T$213,Index!B1260,Index!A1260)),0,INDEX('Trust - Frontsheet'!$C$14:$T$213,Index!B1260,Index!A1260))","v":0}]
["103705243","Staff_cols:Day_nurse_act, Staff_row:Staff_row59","Number",{"$f":"IF(ISERROR(INDEX('Trust - Frontsheet'!$C$14:$T$213,Index!B1261,Index!A1261)),0,INDEX('Trust - Frontsheet'!$C$14:$T$213,Index!B1261,Index!A1261))","v":0}]
["103705245","Staff_cols:Day_nurse_act, Staff_row:Staff_row60","Number",{"$f":"IF(ISERROR(INDEX('Trust - Frontsheet'!$C$14:$T$213,Index!B1262,Index!A1262)),0,INDEX('Trust - Frontsheet'!$C$14:$T$213,Index!B1262,Index!A1262))","v":0}]
["103705246","Staff_cols:Day_nurse_act, Staff_row:Staff_row61","Number",{"$f":"IF(ISERROR(INDEX('Trust - Frontsheet'!$C$14:$T$213,Index!B1263,Index!A1263)),0,INDEX('Trust - Frontsheet'!$C$14:$T$213,Index!B1263,Index!A1263))","v":0}]
["103705247","Staff_cols:Day_nurse_act, Staff_row:Staff_row62","Number",{"$f":"IF(ISERROR(INDEX('Trust - Frontsheet'!$C$14:$T$213,Index!B1264,Index!A1264)),0,INDEX('Trust - Frontsheet'!$C$14:$T$213,Index!B1264,Index!A1264))","v":0}]
["103705248","Staff_cols:Day_nurse_act, Staff_row:Staff_row63","Number",{"$f":"IF(ISERROR(INDEX('Trust - Frontsheet'!$C$14:$T$213,Index!B1265,Index!A1265)),0,INDEX('Trust - Frontsheet'!$C$14:$T$213,Index!B1265,Index!A1265))","v":0}]
["103705249","Staff_cols:Day_nurse_act, Staff_row:Staff_row64","Number",{"$f":"IF(ISERROR(INDEX('Trust - Frontsheet'!$C$14:$T$213,Index!B1266,Index!A1266)),0,INDEX('Trust - Frontsheet'!$C$14:$T$213,Index!B1266,Index!A1266))","v":0}]
["103705250","Staff_cols:Day_nurse_act, Staff_row:Staff_row65","Number",{"$f":"IF(ISERROR(INDEX('Trust - Frontsheet'!$C$14:$T$213,Index!B1267,Index!A1267)),0,INDEX('Trust - Frontsheet'!$C$14:$T$213,Index!B1267,Index!A1267))","v":0}]
["103705251","Staff_cols:Day_nurse_act, Staff_row:Staff_row66","Number",{"$f":"IF(ISERROR(INDEX('Trust - Frontsheet'!$C$14:$T$213,Index!B1268,Index!A1268)),0,INDEX('Trust - Frontsheet'!$C$14:$T$213,Index!B1268,Index!A1268))","v":0}]
["103705252","Staff_cols:Day_nurse_act, Staff_row:Staff_row67","Number",{"$f":"IF(ISERROR(INDEX('Trust - Frontsheet'!$C$14:$T$213,Index!B1269,Index!A1269)),0,INDEX('Trust - Frontsheet'!$C$14:$T$213,Index!B1269,Index!A1269))","v":0}]
["103705253","Staff_cols:Day_nurse_act, Staff_row:Staff_row68","Number",{"$f":"IF(ISERROR(INDEX('Trust - Frontsheet'!$C$14:$T$213,Index!B1270,Index!A1270)),0,INDEX('Trust - Frontsheet'!$C$14:$T$213,Index!B1270,Index!A1270))","v":0}]
["103705254","Staff_cols:Day_nurse_act, Staff_row:Staff_row69","Number",{"$f":"IF(ISERROR(INDEX('Trust - Frontsheet'!$C$14:$T$213,Index!B1271,Index!A1271)),0,INDEX('Trust - Frontsheet'!$C$14:$T$213,Index!B1271,Index!A1271))","v":0}]
["103705256","Staff_cols:Day_nurse_act, Staff_row:Staff_row70","Number",{"$f":"IF(ISERROR(INDEX('Trust - Frontsheet'!$C$14:$T$213,Index!B1272,Index!A1272)),0,INDEX('Trust - Frontsheet'!$C$14:$T$213,Index!B1272,Index!A1272))","v":0}]
["103705257","Staff_cols:Day_nurse_act, Staff_row:Staff_row71","Number",{"$f":"IF(ISERROR(INDEX('Trust - Frontsheet'!$C$14:$T$213,Index!B1273,Index!A1273)),0,INDEX('Trust - Frontsheet'!$C$14:$T$213,Index!B1273,Index!A1273))","v":0}]
["103705258","Staff_cols:Day_nurse_act, Staff_row:Staff_row72","Number",{"$f":"IF(ISERROR(INDEX('Trust - Frontsheet'!$C$14:$T$213,Index!B1274,Index!A1274)),0,INDEX('Trust - Frontsheet'!$C$14:$T$213,Index!B1274,Index!A1274))","v":0}]
["103705259","Staff_cols:Day_nurse_act, Staff_row:Staff_row73","Number",{"$f":"IF(ISERROR(INDEX('Trust - Frontsheet'!$C$14:$T$213,Index!B1275,Index!A1275)),0,INDEX('Trust - Frontsheet'!$C$14:$T$213,Index!B1275,Index!A1275))","v":0}]
["103705260","Staff_cols:Day_nurse_act, Staff_row:Staff_row74","Number",{"$f":"IF(ISERROR(INDEX('Trust - Frontsheet'!$C$14:$T$213,Index!B1276,Index!A1276)),0,INDEX('Trust - Frontsheet'!$C$14:$T$213,Index!B1276,Index!A1276))","v":0}]
["103705261","Staff_cols:Day_nurse_act, Staff_row:Staff_row75","Number",{"$f":"IF(ISERROR(INDEX('Trust - Frontsheet'!$C$14:$T$213,Index!B1277,Index!A1277)),0,INDEX('Trust - Frontsheet'!$C$14:$T$213,Index!B1277,Index!A1277))","v":0}]
["103705262","Staff_cols:Day_nurse_act, Staff_row:Staff_row76","Number",{"$f":"IF(ISERROR(INDEX('Trust - Frontsheet'!$C$14:$T$213,Index!B1278,Index!A1278)),0,INDEX('Trust - Frontsheet'!$C$14:$T$213,Index!B1278,Index!A1278))","v":0}]
["103705263","Staff_cols:Day_nurse_act, Staff_row:Staff_row77","Number",{"$f":"IF(ISERROR(INDEX('Trust - Frontsheet'!$C$14:$T$213,Index!B1279,Index!A1279)),0,INDEX('Trust - Frontsheet'!$C$14:$T$213,Index!B1279,Index!A1279))","v":0}]
["103705264","Staff_cols:Day_nurse_act, Staff_row:Staff_row78","Number",{"$f":"IF(ISERROR(INDEX('Trust - Frontsheet'!$C$14:$T$213,Index!B1280,Index!A1280)),0,INDEX('Trust - Frontsheet'!$C$14:$T$213,Index!B1280,Index!A1280))","v":0}]
["103705265","Staff_cols:Day_nurse_act, Staff_row:Staff_row79","Number",{"$f":"IF(ISERROR(INDEX('Trust - Frontsheet'!$C$14:$T$213,Index!B1281,Index!A1281)),0,INDEX('Trust - Frontsheet'!$C$14:$T$213,Index!B1281,Index!A1281))","v":0}]
["103705267","Staff_cols:Day_nurse_act, Staff_row:Staff_row80","Number",{"$f":"IF(ISERROR(INDEX('Trust - Frontsheet'!$C$14:$T$213,Index!B1282,Index!A1282)),0,INDEX('Trust - Frontsheet'!$C$14:$T$213,Index!B1282,Index!A1282))","v":0}]
["103705268","Staff_cols:Day_nurse_act, Staff_row:Staff_row81","Number",{"$f":"IF(ISERROR(INDEX('Trust - Frontsheet'!$C$14:$T$213,Index!B1283,Index!A1283)),0,INDEX('Trust - Frontsheet'!$C$14:$T$213,Index!B1283,Index!A1283))","v":0}]
["103705269","Staff_cols:Day_nurse_act, Staff_row:Staff_row82","Number",{"$f":"IF(ISERROR(INDEX('Trust - Frontsheet'!$C$14:$T$213,Index!B1284,Index!A1284)),0,INDEX('Trust - Frontsheet'!$C$14:$T$213,Index!B1284,Index!A1284))","v":0}]
["103705270","Staff_cols:Day_nurse_act, Staff_row:Staff_row83","Number",{"$f":"IF(ISERROR(INDEX('Trust - Frontsheet'!$C$14:$T$213,Index!B1285,Index!A1285)),0,INDEX('Trust - Frontsheet'!$C$14:$T$213,Index!B1285,Index!A1285))","v":0}]
["103705271","Staff_cols:Day_nurse_act, Staff_row:Staff_row84","Number",{"$f":"IF(ISERROR(INDEX('Trust - Frontsheet'!$C$14:$T$213,Index!B1286,Index!A1286)),0,INDEX('Trust - Frontsheet'!$C$14:$T$213,Index!B1286,Index!A1286))","v":0}]
["103705272","Staff_cols:Day_nurse_act, Staff_row:Staff_row85","Number",{"$f":"IF(ISERROR(INDEX('Trust - Frontsheet'!$C$14:$T$213,Index!B1287,Index!A1287)),0,INDEX('Trust - Frontsheet'!$C$14:$T$213,Index!B1287,Index!A1287))","v":0}]
["103705273","Staff_cols:Day_nurse_act, Staff_row:Staff_row86","Number",{"$f":"IF(ISERROR(INDEX('Trust - Frontsheet'!$C$14:$T$213,Index!B1288,Index!A1288)),0,INDEX('Trust - Frontsheet'!$C$14:$T$213,Index!B1288,Index!A1288))","v":0}]
["103705274","Staff_cols:Day_nurse_act, Staff_row:Staff_row87","Number",{"$f":"IF(ISERROR(INDEX('Trust - Frontsheet'!$C$14:$T$213,Index!B1289,Index!A1289)),0,INDEX('Trust - Frontsheet'!$C$14:$T$213,Index!B1289,Index!A1289))","v":0}]
["103705275","Staff_cols:Day_nurse_act, Staff_row:Staff_row88","Number",{"$f":"IF(ISERROR(INDEX('Trust - Frontsheet'!$C$14:$T$213,Index!B1290,Index!A1290)),0,INDEX('Trust - Frontsheet'!$C$14:$T$213,Index!B1290,Index!A1290))","v":0}]
["103705276","Staff_cols:Day_nurse_act, Staff_row:Staff_row89","Number",{"$f":"IF(ISERROR(INDEX('Trust - Frontsheet'!$C$14:$T$213,Index!B1291,Index!A1291)),0,INDEX('Trust - Frontsheet'!$C$14:$T$213,Index!B1291,Index!A1291))","v":0}]
["103705278","Staff_cols:Day_nurse_act, Staff_row:Staff_row90","Number",{"$f":"IF(ISERROR(INDEX('Trust - Frontsheet'!$C$14:$T$213,Index!B1292,Index!A1292)),0,INDEX('Trust - Frontsheet'!$C$14:$T$213,Index!B1292,Index!A1292))","v":0}]
["103705279","Staff_cols:Day_nurse_act, Staff_row:Staff_row91","Number",{"$f":"IF(ISERROR(INDEX('Trust - Frontsheet'!$C$14:$T$213,Index!B1293,Index!A1293)),0,INDEX('Trust - Frontsheet'!$C$14:$T$213,Index!B1293,Index!A1293))","v":0}]
["103705280","Staff_cols:Day_nurse_act, Staff_row:Staff_row92","Number",{"$f":"IF(ISERROR(INDEX('Trust - Frontsheet'!$C$14:$T$213,Index!B1294,Index!A1294)),0,INDEX('Trust - Frontsheet'!$C$14:$T$213,Index!B1294,Index!A1294))","v":0}]
["103705281","Staff_cols:Day_nurse_act, Staff_row:Staff_row93","Number",{"$f":"IF(ISERROR(INDEX('Trust - Frontsheet'!$C$14:$T$213,Index!B1295,Index!A1295)),0,INDEX('Trust - Frontsheet'!$C$14:$T$213,Index!B1295,Index!A1295))","v":0}]
["103705282","Staff_cols:Day_nurse_act, Staff_row:Staff_row94","Number",{"$f":"IF(ISERROR(INDEX('Trust - Frontsheet'!$C$14:$T$213,Index!B1296,Index!A1296)),0,INDEX('Trust - Frontsheet'!$C$14:$T$213,Index!B1296,Index!A1296))","v":0}]
["103705283","Staff_cols:Day_nurse_act, Staff_row:Staff_row95","Number",{"$f":"IF(ISERROR(INDEX('Trust - Frontsheet'!$C$14:$T$213,Index!B1297,Index!A1297)),0,INDEX('Trust - Frontsheet'!$C$14:$T$213,Index!B1297,Index!A1297))","v":0}]
["103705284","Staff_cols:Day_nurse_act, Staff_row:Staff_row96","Number",{"$f":"IF(ISERROR(INDEX('Trust - Frontsheet'!$C$14:$T$213,Index!B1298,Index!A1298)),0,INDEX('Trust - Frontsheet'!$C$14:$T$213,Index!B1298,Index!A1298))","v":0}]
["103705285","Staff_cols:Day_nurse_act, Staff_row:Staff_row97","Number",{"$f":"IF(ISERROR(INDEX('Trust - Frontsheet'!$C$14:$T$213,Index!B1299,Index!A1299)),0,INDEX('Trust - Frontsheet'!$C$14:$T$213,Index!B1299,Index!A1299))","v":0}]
["103705286","Staff_cols:Day_nurse_act, Staff_row:Staff_row98","Number",{"$f":"IF(ISERROR(INDEX('Trust - Frontsheet'!$C$14:$T$213,Index!B1300,Index!A1300)),0,INDEX('Trust - Frontsheet'!$C$14:$T$213,Index!B1300,Index!A1300))","v":0}]
["103705287","Staff_cols:Day_nurse_act, Staff_row:Staff_row99","Number",{"$f":"IF(ISERROR(INDEX('Trust - Frontsheet'!$C$14:$T$213,Index!B1301,Index!A1301)),0,INDEX('Trust - Frontsheet'!$C$14:$T$213,Index!B1301,Index!A1301))","v":0}]
["103705090","Staff_cols:Day_nurse_act, Staff_row:Staff_row100","Number",{"$f":"IF(ISERROR(INDEX('Trust - Frontsheet'!$C$14:$T$213,Index!B1302,Index!A1302)),0,INDEX('Trust - Frontsheet'!$C$14:$T$213,Index!B1302,Index!A1302))","v":0}]
["103705091","Staff_cols:Day_nurse_act, Staff_row:Staff_row101","Number",{"$f":"IF(ISERROR(INDEX('Trust - Frontsheet'!$C$14:$T$213,Index!B1303,Index!A1303)),0,INDEX('Trust - Frontsheet'!$C$14:$T$213,Index!B1303,Index!A1303))","v":0}]
["103705092","Staff_cols:Day_nurse_act, Staff_row:Staff_row102","Number",{"$f":"IF(ISERROR(INDEX('Trust - Frontsheet'!$C$14:$T$213,Index!B1304,Index!A1304)),0,INDEX('Trust - Frontsheet'!$C$14:$T$213,Index!B1304,Index!A1304))","v":0}]
["103705093","Staff_cols:Day_nurse_act, Staff_row:Staff_row103","Number",{"$f":"IF(ISERROR(INDEX('Trust - Frontsheet'!$C$14:$T$213,Index!B1305,Index!A1305)),0,INDEX('Trust - Frontsheet'!$C$14:$T$213,Index!B1305,Index!A1305))","v":0}]
["103705094","Staff_cols:Day_nurse_act, Staff_row:Staff_row104","Number",{"$f":"IF(ISERROR(INDEX('Trust - Frontsheet'!$C$14:$T$213,Index!B1306,Index!A1306)),0,INDEX('Trust - Frontsheet'!$C$14:$T$213,Index!B1306,Index!A1306))","v":0}]
["103705095","Staff_cols:Day_nurse_act, Staff_row:Staff_row105","Number",{"$f":"IF(ISERROR(INDEX('Trust - Frontsheet'!$C$14:$T$213,Index!B1307,Index!A1307)),0,INDEX('Trust - Frontsheet'!$C$14:$T$213,Index!B1307,Index!A1307))","v":0}]
["103705096","Staff_cols:Day_nurse_act, Staff_row:Staff_row106","Number",{"$f":"IF(ISERROR(INDEX('Trust - Frontsheet'!$C$14:$T$213,Index!B1308,Index!A1308)),0,INDEX('Trust - Frontsheet'!$C$14:$T$213,Index!B1308,Index!A1308))","v":0}]
["103705097","Staff_cols:Day_nurse_act, Staff_row:Staff_row107","Number",{"$f":"IF(ISERROR(INDEX('Trust - Frontsheet'!$C$14:$T$213,Index!B1309,Index!A1309)),0,INDEX('Trust - Frontsheet'!$C$14:$T$213,Index!B1309,Index!A1309))","v":0}]
["103705098","Staff_cols:Day_nurse_act, Staff_row:Staff_row108","Number",{"$f":"IF(ISERROR(INDEX('Trust - Frontsheet'!$C$14:$T$213,Index!B1310,Index!A1310)),0,INDEX('Trust - Frontsheet'!$C$14:$T$213,Index!B1310,Index!A1310))","v":0}]
["103705099","Staff_cols:Day_nurse_act, Staff_row:Staff_row109","Number",{"$f":"IF(ISERROR(INDEX('Trust - Frontsheet'!$C$14:$T$213,Index!B1311,Index!A1311)),0,INDEX('Trust - Frontsheet'!$C$14:$T$213,Index!B1311,Index!A1311))","v":0}]
["103705101","Staff_cols:Day_nurse_act, Staff_row:Staff_row110","Number",{"$f":"IF(ISERROR(INDEX('Trust - Frontsheet'!$C$14:$T$213,Index!B1312,Index!A1312)),0,INDEX('Trust - Frontsheet'!$C$14:$T$213,Index!B1312,Index!A1312))","v":0}]
["103705102","Staff_cols:Day_nurse_act, Staff_row:Staff_row111","Number",{"$f":"IF(ISERROR(INDEX('Trust - Frontsheet'!$C$14:$T$213,Index!B1313,Index!A1313)),0,INDEX('Trust - Frontsheet'!$C$14:$T$213,Index!B1313,Index!A1313))","v":0}]
["103705103","Staff_cols:Day_nurse_act, Staff_row:Staff_row112","Number",{"$f":"IF(ISERROR(INDEX('Trust - Frontsheet'!$C$14:$T$213,Index!B1314,Index!A1314)),0,INDEX('Trust - Frontsheet'!$C$14:$T$213,Index!B1314,Index!A1314))","v":0}]
["103705104","Staff_cols:Day_nurse_act, Staff_row:Staff_row113","Number",{"$f":"IF(ISERROR(INDEX('Trust - Frontsheet'!$C$14:$T$213,Index!B1315,Index!A1315)),0,INDEX('Trust - Frontsheet'!$C$14:$T$213,Index!B1315,Index!A1315))","v":0}]
["103705105","Staff_cols:Day_nurse_act, Staff_row:Staff_row114","Number",{"$f":"IF(ISERROR(INDEX('Trust - Frontsheet'!$C$14:$T$213,Index!B1316,Index!A1316)),0,INDEX('Trust - Frontsheet'!$C$14:$T$213,Index!B1316,Index!A1316))","v":0}]
["103705106","Staff_cols:Day_nurse_act, Staff_row:Staff_row115","Number",{"$f":"IF(ISERROR(INDEX('Trust - Frontsheet'!$C$14:$T$213,Index!B1317,Index!A1317)),0,INDEX('Trust - Frontsheet'!$C$14:$T$213,Index!B1317,Index!A1317))","v":0}]
["103705107","Staff_cols:Day_nurse_act, Staff_row:Staff_row116","Number",{"$f":"IF(ISERROR(INDEX('Trust - Frontsheet'!$C$14:$T$213,Index!B1318,Index!A1318)),0,INDEX('Trust - Frontsheet'!$C$14:$T$213,Index!B1318,Index!A1318))","v":0}]
["103705108","Staff_cols:Day_nurse_act, Staff_row:Staff_row117","Number",{"$f":"IF(ISERROR(INDEX('Trust - Frontsheet'!$C$14:$T$213,Index!B1319,Index!A1319)),0,INDEX('Trust - Frontsheet'!$C$14:$T$213,Index!B1319,Index!A1319))","v":0}]
["103705109","Staff_cols:Day_nurse_act, Staff_row:Staff_row118","Number",{"$f":"IF(ISERROR(INDEX('Trust - Frontsheet'!$C$14:$T$213,Index!B1320,Index!A1320)),0,INDEX('Trust - Frontsheet'!$C$14:$T$213,Index!B1320,Index!A1320))","v":0}]
["103705110","Staff_cols:Day_nurse_act, Staff_row:Staff_row119","Number",{"$f":"IF(ISERROR(INDEX('Trust - Frontsheet'!$C$14:$T$213,Index!B1321,Index!A1321)),0,INDEX('Trust - Frontsheet'!$C$14:$T$213,Index!B1321,Index!A1321))","v":0}]
["103705112","Staff_cols:Day_nurse_act, Staff_row:Staff_row120","Number",{"$f":"IF(ISERROR(INDEX('Trust - Frontsheet'!$C$14:$T$213,Index!B1322,Index!A1322)),0,INDEX('Trust - Frontsheet'!$C$14:$T$213,Index!B1322,Index!A1322))","v":0}]
["103705113","Staff_cols:Day_nurse_act, Staff_row:Staff_row121","Number",{"$f":"IF(ISERROR(INDEX('Trust - Frontsheet'!$C$14:$T$213,Index!B1323,Index!A1323)),0,INDEX('Trust - Frontsheet'!$C$14:$T$213,Index!B1323,Index!A1323))","v":0}]
["103705114","Staff_cols:Day_nurse_act, Staff_row:Staff_row122","Number",{"$f":"IF(ISERROR(INDEX('Trust - Frontsheet'!$C$14:$T$213,Index!B1324,Index!A1324)),0,INDEX('Trust - Frontsheet'!$C$14:$T$213,Index!B1324,Index!A1324))","v":0}]
["103705115","Staff_cols:Day_nurse_act, Staff_row:Staff_row123","Number",{"$f":"IF(ISERROR(INDEX('Trust - Frontsheet'!$C$14:$T$213,Index!B1325,Index!A1325)),0,INDEX('Trust - Frontsheet'!$C$14:$T$213,Index!B1325,Index!A1325))","v":0}]
["103705116","Staff_cols:Day_nurse_act, Staff_row:Staff_row124","Number",{"$f":"IF(ISERROR(INDEX('Trust - Frontsheet'!$C$14:$T$213,Index!B1326,Index!A1326)),0,INDEX('Trust - Frontsheet'!$C$14:$T$213,Index!B1326,Index!A1326))","v":0}]
["103705117","Staff_cols:Day_nurse_act, Staff_row:Staff_row125","Number",{"$f":"IF(ISERROR(INDEX('Trust - Frontsheet'!$C$14:$T$213,Index!B1327,Index!A1327)),0,INDEX('Trust - Frontsheet'!$C$14:$T$213,Index!B1327,Index!A1327))","v":0}]
["103705118","Staff_cols:Day_nurse_act, Staff_row:Staff_row126","Number",{"$f":"IF(ISERROR(INDEX('Trust - Frontsheet'!$C$14:$T$213,Index!B1328,Index!A1328)),0,INDEX('Trust - Frontsheet'!$C$14:$T$213,Index!B1328,Index!A1328))","v":0}]
["103705119","Staff_cols:Day_nurse_act, Staff_row:Staff_row127","Number",{"$f":"IF(ISERROR(INDEX('Trust - Frontsheet'!$C$14:$T$213,Index!B1329,Index!A1329)),0,INDEX('Trust - Frontsheet'!$C$14:$T$213,Index!B1329,Index!A1329))","v":0}]
["103705120","Staff_cols:Day_nurse_act, Staff_row:Staff_row128","Number",{"$f":"IF(ISERROR(INDEX('Trust - Frontsheet'!$C$14:$T$213,Index!B1330,Index!A1330)),0,INDEX('Trust - Frontsheet'!$C$14:$T$213,Index!B1330,Index!A1330))","v":0}]
["103705121","Staff_cols:Day_nurse_act, Staff_row:Staff_row129","Number",{"$f":"IF(ISERROR(INDEX('Trust - Frontsheet'!$C$14:$T$213,Index!B1331,Index!A1331)),0,INDEX('Trust - Frontsheet'!$C$14:$T$213,Index!B1331,Index!A1331))","v":0}]
["103705123","Staff_cols:Day_nurse_act, Staff_row:Staff_row130","Number",{"$f":"IF(ISERROR(INDEX('Trust - Frontsheet'!$C$14:$T$213,Index!B1332,Index!A1332)),0,INDEX('Trust - Frontsheet'!$C$14:$T$213,Index!B1332,Index!A1332))","v":0}]
["103705124","Staff_cols:Day_nurse_act, Staff_row:Staff_row131","Number",{"$f":"IF(ISERROR(INDEX('Trust - Frontsheet'!$C$14:$T$213,Index!B1333,Index!A1333)),0,INDEX('Trust - Frontsheet'!$C$14:$T$213,Index!B1333,Index!A1333))","v":0}]
["103705125","Staff_cols:Day_nurse_act, Staff_row:Staff_row132","Number",{"$f":"IF(ISERROR(INDEX('Trust - Frontsheet'!$C$14:$T$213,Index!B1334,Index!A1334)),0,INDEX('Trust - Frontsheet'!$C$14:$T$213,Index!B1334,Index!A1334))","v":0}]
["103705126","Staff_cols:Day_nurse_act, Staff_row:Staff_row133","Number",{"$f":"IF(ISERROR(INDEX('Trust - Frontsheet'!$C$14:$T$213,Index!B1335,Index!A1335)),0,INDEX('Trust - Frontsheet'!$C$14:$T$213,Index!B1335,Index!A1335))","v":0}]
["103705127","Staff_cols:Day_nurse_act, Staff_row:Staff_row134","Number",{"$f":"IF(ISERROR(INDEX('Trust - Frontsheet'!$C$14:$T$213,Index!B1336,Index!A1336)),0,INDEX('Trust - Frontsheet'!$C$14:$T$213,Index!B1336,Index!A1336))","v":0}]
["103705128","Staff_cols:Day_nurse_act, Staff_row:Staff_row135","Number",{"$f":"IF(ISERROR(INDEX('Trust - Frontsheet'!$C$14:$T$213,Index!B1337,Index!A1337)),0,INDEX('Trust - Frontsheet'!$C$14:$T$213,Index!B1337,Index!A1337))","v":0}]
["103705129","Staff_cols:Day_nurse_act, Staff_row:Staff_row136","Number",{"$f":"IF(ISERROR(INDEX('Trust - Frontsheet'!$C$14:$T$213,Index!B1338,Index!A1338)),0,INDEX('Trust - Frontsheet'!$C$14:$T$213,Index!B1338,Index!A1338))","v":0}]
["103705130","Staff_cols:Day_nurse_act, Staff_row:Staff_row137","Number",{"$f":"IF(ISERROR(INDEX('Trust - Frontsheet'!$C$14:$T$213,Index!B1339,Index!A1339)),0,INDEX('Trust - Frontsheet'!$C$14:$T$213,Index!B1339,Index!A1339))","v":0}]
["103705131","Staff_cols:Day_nurse_act, Staff_row:Staff_row138","Number",{"$f":"IF(ISERROR(INDEX('Trust - Frontsheet'!$C$14:$T$213,Index!B1340,Index!A1340)),0,INDEX('Trust - Frontsheet'!$C$14:$T$213,Index!B1340,Index!A1340))","v":0}]
["103705132","Staff_cols:Day_nurse_act, Staff_row:Staff_row139","Number",{"$f":"IF(ISERROR(INDEX('Trust - Frontsheet'!$C$14:$T$213,Index!B1341,Index!A1341)),0,INDEX('Trust - Frontsheet'!$C$14:$T$213,Index!B1341,Index!A1341))","v":0}]
["103705134","Staff_cols:Day_nurse_act, Staff_row:Staff_row140","Number",{"$f":"IF(ISERROR(INDEX('Trust - Frontsheet'!$C$14:$T$213,Index!B1342,Index!A1342)),0,INDEX('Trust - Frontsheet'!$C$14:$T$213,Index!B1342,Index!A1342))","v":0}]
["103705135","Staff_cols:Day_nurse_act, Staff_row:Staff_row141","Number",{"$f":"IF(ISERROR(INDEX('Trust - Frontsheet'!$C$14:$T$213,Index!B1343,Index!A1343)),0,INDEX('Trust - Frontsheet'!$C$14:$T$213,Index!B1343,Index!A1343))","v":0}]
["103705136","Staff_cols:Day_nurse_act, Staff_row:Staff_row142","Number",{"$f":"IF(ISERROR(INDEX('Trust - Frontsheet'!$C$14:$T$213,Index!B1344,Index!A1344)),0,INDEX('Trust - Frontsheet'!$C$14:$T$213,Index!B1344,Index!A1344))","v":0}]
["103705137","Staff_cols:Day_nurse_act, Staff_row:Staff_row143","Number",{"$f":"IF(ISERROR(INDEX('Trust - Frontsheet'!$C$14:$T$213,Index!B1345,Index!A1345)),0,INDEX('Trust - Frontsheet'!$C$14:$T$213,Index!B1345,Index!A1345))","v":0}]
["103705138","Staff_cols:Day_nurse_act, Staff_row:Staff_row144","Number",{"$f":"IF(ISERROR(INDEX('Trust - Frontsheet'!$C$14:$T$213,Index!B1346,Index!A1346)),0,INDEX('Trust - Frontsheet'!$C$14:$T$213,Index!B1346,Index!A1346))","v":0}]
["103705139","Staff_cols:Day_nurse_act, Staff_row:Staff_row145","Number",{"$f":"IF(ISERROR(INDEX('Trust - Frontsheet'!$C$14:$T$213,Index!B1347,Index!A1347)),0,INDEX('Trust - Frontsheet'!$C$14:$T$213,Index!B1347,Index!A1347))","v":0}]
["103705140","Staff_cols:Day_nurse_act, Staff_row:Staff_row146","Number",{"$f":"IF(ISERROR(INDEX('Trust - Frontsheet'!$C$14:$T$213,Index!B1348,Index!A1348)),0,INDEX('Trust - Frontsheet'!$C$14:$T$213,Index!B1348,Index!A1348))","v":0}]
["103705141","Staff_cols:Day_nurse_act, Staff_row:Staff_row147","Number",{"$f":"IF(ISERROR(INDEX('Trust - Frontsheet'!$C$14:$T$213,Index!B1349,Index!A1349)),0,INDEX('Trust - Frontsheet'!$C$14:$T$213,Index!B1349,Index!A1349))","v":0}]
["103705142","Staff_cols:Day_nurse_act, Staff_row:Staff_row148","Number",{"$f":"IF(ISERROR(INDEX('Trust - Frontsheet'!$C$14:$T$213,Index!B1350,Index!A1350)),0,INDEX('Trust - Frontsheet'!$C$14:$T$213,Index!B1350,Index!A1350))","v":0}]
["103705143","Staff_cols:Day_nurse_act, Staff_row:Staff_row149","Number",{"$f":"IF(ISERROR(INDEX('Trust - Frontsheet'!$C$14:$T$213,Index!B1351,Index!A1351)),0,INDEX('Trust - Frontsheet'!$C$14:$T$213,Index!B1351,Index!A1351))","v":0}]
["103705145","Staff_cols:Day_nurse_act, Staff_row:Staff_row150","Number",{"$f":"IF(ISERROR(INDEX('Trust - Frontsheet'!$C$14:$T$213,Index!B1352,Index!A1352)),0,INDEX('Trust - Frontsheet'!$C$14:$T$213,Index!B1352,Index!A1352))","v":0}]
["103705146","Staff_cols:Day_nurse_act, Staff_row:Staff_row151","Number",{"$f":"IF(ISERROR(INDEX('Trust - Frontsheet'!$C$14:$T$213,Index!B1353,Index!A1353)),0,INDEX('Trust - Frontsheet'!$C$14:$T$213,Index!B1353,Index!A1353))","v":0}]
["103705147","Staff_cols:Day_nurse_act, Staff_row:Staff_row152","Number",{"$f":"IF(ISERROR(INDEX('Trust - Frontsheet'!$C$14:$T$213,Index!B1354,Index!A1354)),0,INDEX('Trust - Frontsheet'!$C$14:$T$213,Index!B1354,Index!A1354))","v":0}]
["103705148","Staff_cols:Day_nurse_act, Staff_row:Staff_row153","Number",{"$f":"IF(ISERROR(INDEX('Trust - Frontsheet'!$C$14:$T$213,Index!B1355,Index!A1355)),0,INDEX('Trust - Frontsheet'!$C$14:$T$213,Index!B1355,Index!A1355))","v":0}]
["103705149","Staff_cols:Day_nurse_act, Staff_row:Staff_row154","Number",{"$f":"IF(ISERROR(INDEX('Trust - Frontsheet'!$C$14:$T$213,Index!B1356,Index!A1356)),0,INDEX('Trust - Frontsheet'!$C$14:$T$213,Index!B1356,Index!A1356))","v":0}]
["103705150","Staff_cols:Day_nurse_act, Staff_row:Staff_row155","Number",{"$f":"IF(ISERROR(INDEX('Trust - Frontsheet'!$C$14:$T$213,Index!B1357,Index!A1357)),0,INDEX('Trust - Frontsheet'!$C$14:$T$213,Index!B1357,Index!A1357))","v":0}]
["103705151","Staff_cols:Day_nurse_act, Staff_row:Staff_row156","Number",{"$f":"IF(ISERROR(INDEX('Trust - Frontsheet'!$C$14:$T$213,Index!B1358,Index!A1358)),0,INDEX('Trust - Frontsheet'!$C$14:$T$213,Index!B1358,Index!A1358))","v":0}]
["103705152","Staff_cols:Day_nurse_act, Staff_row:Staff_row157","Number",{"$f":"IF(ISERROR(INDEX('Trust - Frontsheet'!$C$14:$T$213,Index!B1359,Index!A1359)),0,INDEX('Trust - Frontsheet'!$C$14:$T$213,Index!B1359,Index!A1359))","v":0}]
["103705153","Staff_cols:Day_nurse_act, Staff_row:Staff_row158","Number",{"$f":"IF(ISERROR(INDEX('Trust - Frontsheet'!$C$14:$T$213,Index!B1360,Index!A1360)),0,INDEX('Trust - Frontsheet'!$C$14:$T$213,Index!B1360,Index!A1360))","v":0}]
["103705154","Staff_cols:Day_nurse_act, Staff_row:Staff_row159","Number",{"$f":"IF(ISERROR(INDEX('Trust - Frontsheet'!$C$14:$T$213,Index!B1361,Index!A1361)),0,INDEX('Trust - Frontsheet'!$C$14:$T$213,Index!B1361,Index!A1361))","v":0}]
["103705156","Staff_cols:Day_nurse_act, Staff_row:Staff_row160","Number",{"$f":"IF(ISERROR(INDEX('Trust - Frontsheet'!$C$14:$T$213,Index!B1362,Index!A1362)),0,INDEX('Trust - Frontsheet'!$C$14:$T$213,Index!B1362,Index!A1362))","v":0}]
["103705157","Staff_cols:Day_nurse_act, Staff_row:Staff_row161","Number",{"$f":"IF(ISERROR(INDEX('Trust - Frontsheet'!$C$14:$T$213,Index!B1363,Index!A1363)),0,INDEX('Trust - Frontsheet'!$C$14:$T$213,Index!B1363,Index!A1363))","v":0}]
["103705158","Staff_cols:Day_nurse_act, Staff_row:Staff_row162","Number",{"$f":"IF(ISERROR(INDEX('Trust - Frontsheet'!$C$14:$T$213,Index!B1364,Index!A1364)),0,INDEX('Trust - Frontsheet'!$C$14:$T$213,Index!B1364,Index!A1364))","v":0}]
["103705159","Staff_cols:Day_nurse_act, Staff_row:Staff_row163","Number",{"$f":"IF(ISERROR(INDEX('Trust - Frontsheet'!$C$14:$T$213,Index!B1365,Index!A1365)),0,INDEX('Trust - Frontsheet'!$C$14:$T$213,Index!B1365,Index!A1365))","v":0}]
["103705160","Staff_cols:Day_nurse_act, Staff_row:Staff_row164","Number",{"$f":"IF(ISERROR(INDEX('Trust - Frontsheet'!$C$14:$T$213,Index!B1366,Index!A1366)),0,INDEX('Trust - Frontsheet'!$C$14:$T$213,Index!B1366,Index!A1366))","v":0}]
["103705161","Staff_cols:Day_nurse_act, Staff_row:Staff_row165","Number",{"$f":"IF(ISERROR(INDEX('Trust - Frontsheet'!$C$14:$T$213,Index!B1367,Index!A1367)),0,INDEX('Trust - Frontsheet'!$C$14:$T$213,Index!B1367,Index!A1367))","v":0}]
["103705162","Staff_cols:Day_nurse_act, Staff_row:Staff_row166","Number",{"$f":"IF(ISERROR(INDEX('Trust - Frontsheet'!$C$14:$T$213,Index!B1368,Index!A1368)),0,INDEX('Trust - Frontsheet'!$C$14:$T$213,Index!B1368,Index!A1368))","v":0}]
["103705163","Staff_cols:Day_nurse_act, Staff_row:Staff_row167","Number",{"$f":"IF(ISERROR(INDEX('Trust - Frontsheet'!$C$14:$T$213,Index!B1369,Index!A1369)),0,INDEX('Trust - Frontsheet'!$C$14:$T$213,Index!B1369,Index!A1369))","v":0}]
["103705164","Staff_cols:Day_nurse_act, Staff_row:Staff_row168","Number",{"$f":"IF(ISERROR(INDEX('Trust - Frontsheet'!$C$14:$T$213,Index!B1370,Index!A1370)),0,INDEX('Trust - Frontsheet'!$C$14:$T$213,Index!B1370,Index!A1370))","v":0}]
["103705165","Staff_cols:Day_nurse_act, Staff_row:Staff_row169","Number",{"$f":"IF(ISERROR(INDEX('Trust - Frontsheet'!$C$14:$T$213,Index!B1371,Index!A1371)),0,INDEX('Trust - Frontsheet'!$C$14:$T$213,Index!B1371,Index!A1371))","v":0}]
["103705167","Staff_cols:Day_nurse_act, Staff_row:Staff_row170","Number",{"$f":"IF(ISERROR(INDEX('Trust - Frontsheet'!$C$14:$T$213,Index!B1372,Index!A1372)),0,INDEX('Trust - Frontsheet'!$C$14:$T$213,Index!B1372,Index!A1372))","v":0}]
["103705168","Staff_cols:Day_nurse_act, Staff_row:Staff_row171","Number",{"$f":"IF(ISERROR(INDEX('Trust - Frontsheet'!$C$14:$T$213,Index!B1373,Index!A1373)),0,INDEX('Trust - Frontsheet'!$C$14:$T$213,Index!B1373,Index!A1373))","v":0}]
["103705169","Staff_cols:Day_nurse_act, Staff_row:Staff_row172","Number",{"$f":"IF(ISERROR(INDEX('Trust - Frontsheet'!$C$14:$T$213,Index!B1374,Index!A1374)),0,INDEX('Trust - Frontsheet'!$C$14:$T$213,Index!B1374,Index!A1374))","v":0}]
["103705170","Staff_cols:Day_nurse_act, Staff_row:Staff_row173","Number",{"$f":"IF(ISERROR(INDEX('Trust - Frontsheet'!$C$14:$T$213,Index!B1375,Index!A1375)),0,INDEX('Trust - Frontsheet'!$C$14:$T$213,Index!B1375,Index!A1375))","v":0}]
["103705171","Staff_cols:Day_nurse_act, Staff_row:Staff_row174","Number",{"$f":"IF(ISERROR(INDEX('Trust - Frontsheet'!$C$14:$T$213,Index!B1376,Index!A1376)),0,INDEX('Trust - Frontsheet'!$C$14:$T$213,Index!B1376,Index!A1376))","v":0}]
["103705172","Staff_cols:Day_nurse_act, Staff_row:Staff_row175","Number",{"$f":"IF(ISERROR(INDEX('Trust - Frontsheet'!$C$14:$T$213,Index!B1377,Index!A1377)),0,INDEX('Trust - Frontsheet'!$C$14:$T$213,Index!B1377,Index!A1377))","v":0}]
["103705173","Staff_cols:Day_nurse_act, Staff_row:Staff_row176","Number",{"$f":"IF(ISERROR(INDEX('Trust - Frontsheet'!$C$14:$T$213,Index!B1378,Index!A1378)),0,INDEX('Trust - Frontsheet'!$C$14:$T$213,Index!B1378,Index!A1378))","v":0}]
["103705174","Staff_cols:Day_nurse_act, Staff_row:Staff_row177","Number",{"$f":"IF(ISERROR(INDEX('Trust - Frontsheet'!$C$14:$T$213,Index!B1379,Index!A1379)),0,INDEX('Trust - Frontsheet'!$C$14:$T$213,Index!B1379,Index!A1379))","v":0}]
["103705175","Staff_cols:Day_nurse_act, Staff_row:Staff_row178","Number",{"$f":"IF(ISERROR(INDEX('Trust - Frontsheet'!$C$14:$T$213,Index!B1380,Index!A1380)),0,INDEX('Trust - Frontsheet'!$C$14:$T$213,Index!B1380,Index!A1380))","v":0}]
["103705176","Staff_cols:Day_nurse_act, Staff_row:Staff_row179","Number",{"$f":"IF(ISERROR(INDEX('Trust - Frontsheet'!$C$14:$T$213,Index!B1381,Index!A1381)),0,INDEX('Trust - Frontsheet'!$C$14:$T$213,Index!B1381,Index!A1381))","v":0}]
["103705178","Staff_cols:Day_nurse_act, Staff_row:Staff_row180","Number",{"$f":"IF(ISERROR(INDEX('Trust - Frontsheet'!$C$14:$T$213,Index!B1382,Index!A1382)),0,INDEX('Trust - Frontsheet'!$C$14:$T$213,Index!B1382,Index!A1382))","v":0}]
["103705179","Staff_cols:Day_nurse_act, Staff_row:Staff_row181","Number",{"$f":"IF(ISERROR(INDEX('Trust - Frontsheet'!$C$14:$T$213,Index!B1383,Index!A1383)),0,INDEX('Trust - Frontsheet'!$C$14:$T$213,Index!B1383,Index!A1383))","v":0}]
["103705180","Staff_cols:Day_nurse_act, Staff_row:Staff_row182","Number",{"$f":"IF(ISERROR(INDEX('Trust - Frontsheet'!$C$14:$T$213,Index!B1384,Index!A1384)),0,INDEX('Trust - Frontsheet'!$C$14:$T$213,Index!B1384,Index!A1384))","v":0}]
["103705181","Staff_cols:Day_nurse_act, Staff_row:Staff_row183","Number",{"$f":"IF(ISERROR(INDEX('Trust - Frontsheet'!$C$14:$T$213,Index!B1385,Index!A1385)),0,INDEX('Trust - Frontsheet'!$C$14:$T$213,Index!B1385,Index!A1385))","v":0}]
["103705182","Staff_cols:Day_nurse_act, Staff_row:Staff_row184","Number",{"$f":"IF(ISERROR(INDEX('Trust - Frontsheet'!$C$14:$T$213,Index!B1386,Index!A1386)),0,INDEX('Trust - Frontsheet'!$C$14:$T$213,Index!B1386,Index!A1386))","v":0}]
["103705183","Staff_cols:Day_nurse_act, Staff_row:Staff_row185","Number",{"$f":"IF(ISERROR(INDEX('Trust - Frontsheet'!$C$14:$T$213,Index!B1387,Index!A1387)),0,INDEX('Trust - Frontsheet'!$C$14:$T$213,Index!B1387,Index!A1387))","v":0}]
["103705184","Staff_cols:Day_nurse_act, Staff_row:Staff_row186","Number",{"$f":"IF(ISERROR(INDEX('Trust - Frontsheet'!$C$14:$T$213,Index!B1388,Index!A1388)),0,INDEX('Trust - Frontsheet'!$C$14:$T$213,Index!B1388,Index!A1388))","v":0}]
["103705185","Staff_cols:Day_nurse_act, Staff_row:Staff_row187","Number",{"$f":"IF(ISERROR(INDEX('Trust - Frontsheet'!$C$14:$T$213,Index!B1389,Index!A1389)),0,INDEX('Trust - Frontsheet'!$C$14:$T$213,Index!B1389,Index!A1389))","v":0}]
["103705186","Staff_cols:Day_nurse_act, Staff_row:Staff_row188","Number",{"$f":"IF(ISERROR(INDEX('Trust - Frontsheet'!$C$14:$T$213,Index!B1390,Index!A1390)),0,INDEX('Trust - Frontsheet'!$C$14:$T$213,Index!B1390,Index!A1390))","v":0}]
["103705187","Staff_cols:Day_nurse_act, Staff_row:Staff_row189","Number",{"$f":"IF(ISERROR(INDEX('Trust - Frontsheet'!$C$14:$T$213,Index!B1391,Index!A1391)),0,INDEX('Trust - Frontsheet'!$C$14:$T$213,Index!B1391,Index!A1391))","v":0}]
["103705189","Staff_cols:Day_nurse_act, Staff_row:Staff_row190","Number",{"$f":"IF(ISERROR(INDEX('Trust - Frontsheet'!$C$14:$T$213,Index!B1392,Index!A1392)),0,INDEX('Trust - Frontsheet'!$C$14:$T$213,Index!B1392,Index!A1392))","v":0}]
["103705190","Staff_cols:Day_nurse_act, Staff_row:Staff_row191","Number",{"$f":"IF(ISERROR(INDEX('Trust - Frontsheet'!$C$14:$T$213,Index!B1393,Index!A1393)),0,INDEX('Trust - Frontsheet'!$C$14:$T$213,Index!B1393,Index!A1393))","v":0}]
["103705191","Staff_cols:Day_nurse_act, Staff_row:Staff_row192","Number",{"$f":"IF(ISERROR(INDEX('Trust - Frontsheet'!$C$14:$T$213,Index!B1394,Index!A1394)),0,INDEX('Trust - Frontsheet'!$C$14:$T$213,Index!B1394,Index!A1394))","v":0}]
["103705192","Staff_cols:Day_nurse_act, Staff_row:Staff_row193","Number",{"$f":"IF(ISERROR(INDEX('Trust - Frontsheet'!$C$14:$T$213,Index!B1395,Index!A1395)),0,INDEX('Trust - Frontsheet'!$C$14:$T$213,Index!B1395,Index!A1395))","v":0}]
["103705193","Staff_cols:Day_nurse_act, Staff_row:Staff_row194","Number",{"$f":"IF(ISERROR(INDEX('Trust - Frontsheet'!$C$14:$T$213,Index!B1396,Index!A1396)),0,INDEX('Trust - Frontsheet'!$C$14:$T$213,Index!B1396,Index!A1396))","v":0}]
["103705194","Staff_cols:Day_nurse_act, Staff_row:Staff_row195","Number",{"$f":"IF(ISERROR(INDEX('Trust - Frontsheet'!$C$14:$T$213,Index!B1397,Index!A1397)),0,INDEX('Trust - Frontsheet'!$C$14:$T$213,Index!B1397,Index!A1397))","v":0}]
["103705195","Staff_cols:Day_nurse_act, Staff_row:Staff_row196","Number",{"$f":"IF(ISERROR(INDEX('Trust - Frontsheet'!$C$14:$T$213,Index!B1398,Index!A1398)),0,INDEX('Trust - Frontsheet'!$C$14:$T$213,Index!B1398,Index!A1398))","v":0}]
["103705196","Staff_cols:Day_nurse_act, Staff_row:Staff_row197","Number",{"$f":"IF(ISERROR(INDEX('Trust - Frontsheet'!$C$14:$T$213,Index!B1399,Index!A1399)),0,INDEX('Trust - Frontsheet'!$C$14:$T$213,Index!B1399,Index!A1399))","v":0}]
["103705197","Staff_cols:Day_nurse_act, Staff_row:Staff_row198","Number",{"$f":"IF(ISERROR(INDEX('Trust - Frontsheet'!$C$14:$T$213,Index!B1400,Index!A1400)),0,INDEX('Trust - Frontsheet'!$C$14:$T$213,Index!B1400,Index!A1400))","v":0}]
["103705198","Staff_cols:Day_nurse_act, Staff_row:Staff_row199","Number",{"$f":"IF(ISERROR(INDEX('Trust - Frontsheet'!$C$14:$T$213,Index!B1401,Index!A1401)),0,INDEX('Trust - Frontsheet'!$C$14:$T$213,Index!B1401,Index!A1401))","v":0}]
["103705201","Staff_cols:Day_nurse_act, Staff_row:Staff_row200","Number",{"$f":"IF(ISERROR(INDEX('Trust - Frontsheet'!$C$14:$T$213,Index!B1402,Index!A1402)),0,INDEX('Trust - Frontsheet'!$C$14:$T$213,Index!B1402,Index!A1402))","v":0}]
["103704888","Staff_cols:Day_care_plan, Staff_row:Staff_row1","Number",{"$f":"IF(ISERROR(INDEX('Trust - Frontsheet'!$C$14:$T$213,Index!B1403,Index!A1403)),0,INDEX('Trust - Frontsheet'!$C$14:$T$213,Index!B1403,Index!A1403))","v":1392.25}]
["103704999","Staff_cols:Day_care_plan, Staff_row:Staff_row2","Number",{"$f":"IF(ISERROR(INDEX('Trust - Frontsheet'!$C$14:$T$213,Index!B1404,Index!A1404)),0,INDEX('Trust - Frontsheet'!$C$14:$T$213,Index!B1404,Index!A1404))","v":1173}]
["103705011","Staff_cols:Day_care_plan, Staff_row:Staff_row3","Number",{"$f":"IF(ISERROR(INDEX('Trust - Frontsheet'!$C$14:$T$213,Index!B1405,Index!A1405)),0,INDEX('Trust - Frontsheet'!$C$14:$T$213,Index!B1405,Index!A1405))","v":966}]
["103705022","Staff_cols:Day_care_plan, Staff_row:Staff_row4","Number",{"$f":"IF(ISERROR(INDEX('Trust - Frontsheet'!$C$14:$T$213,Index!B1406,Index!A1406)),0,INDEX('Trust - Frontsheet'!$C$14:$T$213,Index!B1406,Index!A1406))","v":804.4666666666667}]
["103705033","Staff_cols:Day_care_plan, Staff_row:Staff_row5","Number",{"$f":"IF(ISERROR(INDEX('Trust - Frontsheet'!$C$14:$T$213,Index!B1407,Index!A1407)),0,INDEX('Trust - Frontsheet'!$C$14:$T$213,Index!B1407,Index!A1407))","v":217}]
["103705044","Staff_cols:Day_care_plan, Staff_row:Staff_row6","Number",{"$f":"IF(ISERROR(INDEX('Trust - Frontsheet'!$C$14:$T$213,Index!B1408,Index!A1408)),0,INDEX('Trust - Frontsheet'!$C$14:$T$213,Index!B1408,Index!A1408))","v":589.29999999999995}]
["103705055","Staff_cols:Day_care_plan, Staff_row:Staff_row7","Number",{"$f":"IF(ISERROR(INDEX('Trust - Frontsheet'!$C$14:$T$213,Index!B1409,Index!A1409)),0,INDEX('Trust - Frontsheet'!$C$14:$T$213,Index!B1409,Index!A1409))","v":774.5}]
["103705066","Staff_cols:Day_care_plan, Staff_row:Staff_row8","Number",{"$f":"IF(ISERROR(INDEX('Trust - Frontsheet'!$C$14:$T$213,Index!B1410,Index!A1410)),0,INDEX('Trust - Frontsheet'!$C$14:$T$213,Index!B1410,Index!A1410))","v":506}]
["103705077","Staff_cols:Day_care_plan, Staff_row:Staff_row9","Number",{"$f":"IF(ISERROR(INDEX('Trust - Frontsheet'!$C$14:$T$213,Index!B1411,Index!A1411)),0,INDEX('Trust - Frontsheet'!$C$14:$T$213,Index!B1411,Index!A1411))","v":1174}]
["103704889","Staff_cols:Day_care_plan, Staff_row:Staff_row10","Number",{"$f":"IF(ISERROR(INDEX('Trust - Frontsheet'!$C$14:$T$213,Index!B1412,Index!A1412)),0,INDEX('Trust - Frontsheet'!$C$14:$T$213,Index!B1412,Index!A1412))","v":1158}]
["103704900","Staff_cols:Day_care_plan, Staff_row:Staff_row11","Number",{"$f":"IF(ISERROR(INDEX('Trust - Frontsheet'!$C$14:$T$213,Index!B1413,Index!A1413)),0,INDEX('Trust - Frontsheet'!$C$14:$T$213,Index!B1413,Index!A1413))","v":957.5}]
["103704911","Staff_cols:Day_care_plan, Staff_row:Staff_row12","Number",{"$f":"IF(ISERROR(INDEX('Trust - Frontsheet'!$C$14:$T$213,Index!B1414,Index!A1414)),0,INDEX('Trust - Frontsheet'!$C$14:$T$213,Index!B1414,Index!A1414))","v":1381.5}]
["103704922","Staff_cols:Day_care_plan, Staff_row:Staff_row13","Number",{"$f":"IF(ISERROR(INDEX('Trust - Frontsheet'!$C$14:$T$213,Index!B1415,Index!A1415)),0,INDEX('Trust - Frontsheet'!$C$14:$T$213,Index!B1415,Index!A1415))","v":124}]
["103704933","Staff_cols:Day_care_plan, Staff_row:Staff_row14","Number",{"$f":"IF(ISERROR(INDEX('Trust - Frontsheet'!$C$14:$T$213,Index!B1416,Index!A1416)),0,INDEX('Trust - Frontsheet'!$C$14:$T$213,Index!B1416,Index!A1416))","v":960.5}]
["103704944","Staff_cols:Day_care_plan, Staff_row:Staff_row15","Number",{"$f":"IF(ISERROR(INDEX('Trust - Frontsheet'!$C$14:$T$213,Index!B1417,Index!A1417)),0,INDEX('Trust - Frontsheet'!$C$14:$T$213,Index!B1417,Index!A1417))","v":1031.5}]
["103704955","Staff_cols:Day_care_plan, Staff_row:Staff_row16","Number",{"$f":"IF(ISERROR(INDEX('Trust - Frontsheet'!$C$14:$T$213,Index!B1418,Index!A1418)),0,INDEX('Trust - Frontsheet'!$C$14:$T$213,Index!B1418,Index!A1418))","v":770.5}]
["103704966","Staff_cols:Day_care_plan, Staff_row:Staff_row17","Number",{"$f":"IF(ISERROR(INDEX('Trust - Frontsheet'!$C$14:$T$213,Index!B1419,Index!A1419)),0,INDEX('Trust - Frontsheet'!$C$14:$T$213,Index!B1419,Index!A1419))","v":1527.5}]
["103704977","Staff_cols:Day_care_plan, Staff_row:Staff_row18","Number",{"$f":"IF(ISERROR(INDEX('Trust - Frontsheet'!$C$14:$T$213,Index!B1420,Index!A1420)),0,INDEX('Trust - Frontsheet'!$C$14:$T$213,Index!B1420,Index!A1420))","v":1162.5}]
["103704988","Staff_cols:Day_care_plan, Staff_row:Staff_row19","Number",{"$f":"IF(ISERROR(INDEX('Trust - Frontsheet'!$C$14:$T$213,Index!B1421,Index!A1421)),0,INDEX('Trust - Frontsheet'!$C$14:$T$213,Index!B1421,Index!A1421))","v":942}]
["103705000","Staff_cols:Day_care_plan, Staff_row:Staff_row20","Number",{"$f":"IF(ISERROR(INDEX('Trust - Frontsheet'!$C$14:$T$213,Index!B1422,Index!A1422)),0,INDEX('Trust - Frontsheet'!$C$14:$T$213,Index!B1422,Index!A1422))","v":801.5}]
["103705002","Staff_cols:Day_care_plan, Staff_row:Staff_row21","Number",{"$f":"IF(ISERROR(INDEX('Trust - Frontsheet'!$C$14:$T$213,Index!B1423,Index!A1423)),0,INDEX('Trust - Frontsheet'!$C$14:$T$213,Index!B1423,Index!A1423))","v":960.5}]
["103705003","Staff_cols:Day_care_plan, Staff_row:Staff_row22","Number",{"$f":"IF(ISERROR(INDEX('Trust - Frontsheet'!$C$14:$T$213,Index!B1424,Index!A1424)),0,INDEX('Trust - Frontsheet'!$C$14:$T$213,Index!B1424,Index!A1424))","v":1117}]
["103705004","Staff_cols:Day_care_plan, Staff_row:Staff_row23","Number",{"$f":"IF(ISERROR(INDEX('Trust - Frontsheet'!$C$14:$T$213,Index!B1425,Index!A1425)),0,INDEX('Trust - Frontsheet'!$C$14:$T$213,Index!B1425,Index!A1425))","v":790}]
["103705005","Staff_cols:Day_care_plan, Staff_row:Staff_row24","Number",{"$f":"IF(ISERROR(INDEX('Trust - Frontsheet'!$C$14:$T$213,Index!B1426,Index!A1426)),0,INDEX('Trust - Frontsheet'!$C$14:$T$213,Index!B1426,Index!A1426))","v":1333.5}]
["103705006","Staff_cols:Day_care_plan, Staff_row:Staff_row25","Number",{"$f":"IF(ISERROR(INDEX('Trust - Frontsheet'!$C$14:$T$213,Index!B1427,Index!A1427)),0,INDEX('Trust - Frontsheet'!$C$14:$T$213,Index!B1427,Index!A1427))","v":1362.9}]
["103705007","Staff_cols:Day_care_plan, Staff_row:Staff_row26","Number",{"$f":"IF(ISERROR(INDEX('Trust - Frontsheet'!$C$14:$T$213,Index!B1428,Index!A1428)),0,INDEX('Trust - Frontsheet'!$C$14:$T$213,Index!B1428,Index!A1428))","v":1375}]
["103705008","Staff_cols:Day_care_plan, Staff_row:Staff_row27","Number",{"$f":"IF(ISERROR(INDEX('Trust - Frontsheet'!$C$14:$T$213,Index!B1429,Index!A1429)),0,INDEX('Trust - Frontsheet'!$C$14:$T$213,Index!B1429,Index!A1429))","v":1115.5}]
["103705009","Staff_cols:Day_care_plan, Staff_row:Staff_row28","Number",{"$f":"IF(ISERROR(INDEX('Trust - Frontsheet'!$C$14:$T$213,Index!B1430,Index!A1430)),0,INDEX('Trust - Frontsheet'!$C$14:$T$213,Index!B1430,Index!A1430))","v":1459}]
["103705010","Staff_cols:Day_care_plan, Staff_row:Staff_row29","Number",{"$f":"IF(ISERROR(INDEX('Trust - Frontsheet'!$C$14:$T$213,Index!B1431,Index!A1431)),0,INDEX('Trust - Frontsheet'!$C$14:$T$213,Index!B1431,Index!A1431))","v":1145.5}]
["103705012","Staff_cols:Day_care_plan, Staff_row:Staff_row30","Number",{"$f":"IF(ISERROR(INDEX('Trust - Frontsheet'!$C$14:$T$213,Index!B1432,Index!A1432)),0,INDEX('Trust - Frontsheet'!$C$14:$T$213,Index!B1432,Index!A1432))","v":718.5}]
["103705013","Staff_cols:Day_care_plan, Staff_row:Staff_row31","Number",{"$f":"IF(ISERROR(INDEX('Trust - Frontsheet'!$C$14:$T$213,Index!B1433,Index!A1433)),0,INDEX('Trust - Frontsheet'!$C$14:$T$213,Index!B1433,Index!A1433))","v":373}]
["103705014","Staff_cols:Day_care_plan, Staff_row:Staff_row32","Number",{"$f":"IF(ISERROR(INDEX('Trust - Frontsheet'!$C$14:$T$213,Index!B1434,Index!A1434)),0,INDEX('Trust - Frontsheet'!$C$14:$T$213,Index!B1434,Index!A1434))","v":374}]
["103705015","Staff_cols:Day_care_plan, Staff_row:Staff_row33","Number",{"$f":"IF(ISERROR(INDEX('Trust - Frontsheet'!$C$14:$T$213,Index!B1435,Index!A1435)),0,INDEX('Trust - Frontsheet'!$C$14:$T$213,Index!B1435,Index!A1435))","v":1529.5}]
["103705016","Staff_cols:Day_care_plan, Staff_row:Staff_row34","Number",{"$f":"IF(ISERROR(INDEX('Trust - Frontsheet'!$C$14:$T$213,Index!B1436,Index!A1436)),0,INDEX('Trust - Frontsheet'!$C$14:$T$213,Index!B1436,Index!A1436))","v":958}]
["103705017","Staff_cols:Day_care_plan, Staff_row:Staff_row35","Number",{"$f":"IF(ISERROR(INDEX('Trust - Frontsheet'!$C$14:$T$213,Index!B1437,Index!A1437)),0,INDEX('Trust - Frontsheet'!$C$14:$T$213,Index!B1437,Index!A1437))","v":1330.5}]
["103705018","Staff_cols:Day_care_plan, Staff_row:Staff_row36","Number",{"$f":"IF(ISERROR(INDEX('Trust - Frontsheet'!$C$14:$T$213,Index!B1438,Index!A1438)),0,INDEX('Trust - Frontsheet'!$C$14:$T$213,Index!B1438,Index!A1438))","v":1980}]
["103705019","Staff_cols:Day_care_plan, Staff_row:Staff_row37","Number",{"$f":"IF(ISERROR(INDEX('Trust - Frontsheet'!$C$14:$T$213,Index!B1439,Index!A1439)),0,INDEX('Trust - Frontsheet'!$C$14:$T$213,Index!B1439,Index!A1439))","v":1178}]
["103705020","Staff_cols:Day_care_plan, Staff_row:Staff_row38","Number",{"$f":"IF(ISERROR(INDEX('Trust - Frontsheet'!$C$14:$T$213,Index!B1440,Index!A1440)),0,INDEX('Trust - Frontsheet'!$C$14:$T$213,Index!B1440,Index!A1440))","v":1172.4000000000001}]
["103705021","Staff_cols:Day_care_plan, Staff_row:Staff_row39","Number",{"$f":"IF(ISERROR(INDEX('Trust - Frontsheet'!$C$14:$T$213,Index!B1441,Index!A1441)),0,INDEX('Trust - Frontsheet'!$C$14:$T$213,Index!B1441,Index!A1441))","v":1732.5666666666668}]
["103705023","Staff_cols:Day_care_plan, Staff_row:Staff_row40","Number",{"$f":"IF(ISERROR(INDEX('Trust - Frontsheet'!$C$14:$T$213,Index!B1442,Index!A1442)),0,INDEX('Trust - Frontsheet'!$C$14:$T$213,Index!B1442,Index!A1442))","v":1580.5}]
["103705024","Staff_cols:Day_care_plan, Staff_row:Staff_row41","Number",{"$f":"IF(ISERROR(INDEX('Trust - Frontsheet'!$C$14:$T$213,Index!B1443,Index!A1443)),0,INDEX('Trust - Frontsheet'!$C$14:$T$213,Index!B1443,Index!A1443))","v":1012}]
["103705025","Staff_cols:Day_care_plan, Staff_row:Staff_row42","Number",{"$f":"IF(ISERROR(INDEX('Trust - Frontsheet'!$C$14:$T$213,Index!B1444,Index!A1444)),0,INDEX('Trust - Frontsheet'!$C$14:$T$213,Index!B1444,Index!A1444))","v":1591.95}]
["103705026","Staff_cols:Day_care_plan, Staff_row:Staff_row43","Number",{"$f":"IF(ISERROR(INDEX('Trust - Frontsheet'!$C$14:$T$213,Index!B1445,Index!A1445)),0,INDEX('Trust - Frontsheet'!$C$14:$T$213,Index!B1445,Index!A1445))","v":1521}]
["103705027","Staff_cols:Day_care_plan, Staff_row:Staff_row44","Number",{"$f":"IF(ISERROR(INDEX('Trust - Frontsheet'!$C$14:$T$213,Index!B1446,Index!A1446)),0,INDEX('Trust - Frontsheet'!$C$14:$T$213,Index!B1446,Index!A1446))","v":1344}]
["103705028","Staff_cols:Day_care_plan, Staff_row:Staff_row45","Number",{"$f":"IF(ISERROR(INDEX('Trust - Frontsheet'!$C$14:$T$213,Index!B1447,Index!A1447)),0,INDEX('Trust - Frontsheet'!$C$14:$T$213,Index!B1447,Index!A1447))","v":1505}]
["103705029","Staff_cols:Day_care_plan, Staff_row:Staff_row46","Number",{"$f":"IF(ISERROR(INDEX('Trust - Frontsheet'!$C$14:$T$213,Index!B1448,Index!A1448)),0,INDEX('Trust - Frontsheet'!$C$14:$T$213,Index!B1448,Index!A1448))","v":818.5}]
["103705030","Staff_cols:Day_care_plan, Staff_row:Staff_row47","Number",{"$f":"IF(ISERROR(INDEX('Trust - Frontsheet'!$C$14:$T$213,Index!B1449,Index!A1449)),0,INDEX('Trust - Frontsheet'!$C$14:$T$213,Index!B1449,Index!A1449))","v":868}]
["103705031","Staff_cols:Day_care_plan, Staff_row:Staff_row48","Number",{"$f":"IF(ISERROR(INDEX('Trust - Frontsheet'!$C$14:$T$213,Index!B1450,Index!A1450)),0,INDEX('Trust - Frontsheet'!$C$14:$T$213,Index!B1450,Index!A1450))","v":0}]
["103705032","Staff_cols:Day_care_plan, Staff_row:Staff_row49","Number",{"$f":"IF(ISERROR(INDEX('Trust - Frontsheet'!$C$14:$T$213,Index!B1451,Index!A1451)),0,INDEX('Trust - Frontsheet'!$C$14:$T$213,Index!B1451,Index!A1451))","v":0}]
["103705034","Staff_cols:Day_care_plan, Staff_row:Staff_row50","Number",{"$f":"IF(ISERROR(INDEX('Trust - Frontsheet'!$C$14:$T$213,Index!B1452,Index!A1452)),0,INDEX('Trust - Frontsheet'!$C$14:$T$213,Index!B1452,Index!A1452))","v":0}]
["103705035","Staff_cols:Day_care_plan, Staff_row:Staff_row51","Number",{"$f":"IF(ISERROR(INDEX('Trust - Frontsheet'!$C$14:$T$213,Index!B1453,Index!A1453)),0,INDEX('Trust - Frontsheet'!$C$14:$T$213,Index!B1453,Index!A1453))","v":0}]
["103705036","Staff_cols:Day_care_plan, Staff_row:Staff_row52","Number",{"$f":"IF(ISERROR(INDEX('Trust - Frontsheet'!$C$14:$T$213,Index!B1454,Index!A1454)),0,INDEX('Trust - Frontsheet'!$C$14:$T$213,Index!B1454,Index!A1454))","v":0}]
["103705037","Staff_cols:Day_care_plan, Staff_row:Staff_row53","Number",{"$f":"IF(ISERROR(INDEX('Trust - Frontsheet'!$C$14:$T$213,Index!B1455,Index!A1455)),0,INDEX('Trust - Frontsheet'!$C$14:$T$213,Index!B1455,Index!A1455))","v":0}]
["103705038","Staff_cols:Day_care_plan, Staff_row:Staff_row54","Number",{"$f":"IF(ISERROR(INDEX('Trust - Frontsheet'!$C$14:$T$213,Index!B1456,Index!A1456)),0,INDEX('Trust - Frontsheet'!$C$14:$T$213,Index!B1456,Index!A1456))","v":0}]
["103705039","Staff_cols:Day_care_plan, Staff_row:Staff_row55","Number",{"$f":"IF(ISERROR(INDEX('Trust - Frontsheet'!$C$14:$T$213,Index!B1457,Index!A1457)),0,INDEX('Trust - Frontsheet'!$C$14:$T$213,Index!B1457,Index!A1457))","v":0}]
["103705040","Staff_cols:Day_care_plan, Staff_row:Staff_row56","Number",{"$f":"IF(ISERROR(INDEX('Trust - Frontsheet'!$C$14:$T$213,Index!B1458,Index!A1458)),0,INDEX('Trust - Frontsheet'!$C$14:$T$213,Index!B1458,Index!A1458))","v":0}]
["103705041","Staff_cols:Day_care_plan, Staff_row:Staff_row57","Number",{"$f":"IF(ISERROR(INDEX('Trust - Frontsheet'!$C$14:$T$213,Index!B1459,Index!A1459)),0,INDEX('Trust - Frontsheet'!$C$14:$T$213,Index!B1459,Index!A1459))","v":0}]
["103705042","Staff_cols:Day_care_plan, Staff_row:Staff_row58","Number",{"$f":"IF(ISERROR(INDEX('Trust - Frontsheet'!$C$14:$T$213,Index!B1460,Index!A1460)),0,INDEX('Trust - Frontsheet'!$C$14:$T$213,Index!B1460,Index!A1460))","v":0}]
["103705043","Staff_cols:Day_care_plan, Staff_row:Staff_row59","Number",{"$f":"IF(ISERROR(INDEX('Trust - Frontsheet'!$C$14:$T$213,Index!B1461,Index!A1461)),0,INDEX('Trust - Frontsheet'!$C$14:$T$213,Index!B1461,Index!A1461))","v":0}]
["103705045","Staff_cols:Day_care_plan, Staff_row:Staff_row60","Number",{"$f":"IF(ISERROR(INDEX('Trust - Frontsheet'!$C$14:$T$213,Index!B1462,Index!A1462)),0,INDEX('Trust - Frontsheet'!$C$14:$T$213,Index!B1462,Index!A1462))","v":0}]
["103705046","Staff_cols:Day_care_plan, Staff_row:Staff_row61","Number",{"$f":"IF(ISERROR(INDEX('Trust - Frontsheet'!$C$14:$T$213,Index!B1463,Index!A1463)),0,INDEX('Trust - Frontsheet'!$C$14:$T$213,Index!B1463,Index!A1463))","v":0}]
["103705047","Staff_cols:Day_care_plan, Staff_row:Staff_row62","Number",{"$f":"IF(ISERROR(INDEX('Trust - Frontsheet'!$C$14:$T$213,Index!B1464,Index!A1464)),0,INDEX('Trust - Frontsheet'!$C$14:$T$213,Index!B1464,Index!A1464))","v":0}]
["103705048","Staff_cols:Day_care_plan, Staff_row:Staff_row63","Number",{"$f":"IF(ISERROR(INDEX('Trust - Frontsheet'!$C$14:$T$213,Index!B1465,Index!A1465)),0,INDEX('Trust - Frontsheet'!$C$14:$T$213,Index!B1465,Index!A1465))","v":0}]
["103705049","Staff_cols:Day_care_plan, Staff_row:Staff_row64","Number",{"$f":"IF(ISERROR(INDEX('Trust - Frontsheet'!$C$14:$T$213,Index!B1466,Index!A1466)),0,INDEX('Trust - Frontsheet'!$C$14:$T$213,Index!B1466,Index!A1466))","v":0}]
["103705050","Staff_cols:Day_care_plan, Staff_row:Staff_row65","Number",{"$f":"IF(ISERROR(INDEX('Trust - Frontsheet'!$C$14:$T$213,Index!B1467,Index!A1467)),0,INDEX('Trust - Frontsheet'!$C$14:$T$213,Index!B1467,Index!A1467))","v":0}]
["103705051","Staff_cols:Day_care_plan, Staff_row:Staff_row66","Number",{"$f":"IF(ISERROR(INDEX('Trust - Frontsheet'!$C$14:$T$213,Index!B1468,Index!A1468)),0,INDEX('Trust - Frontsheet'!$C$14:$T$213,Index!B1468,Index!A1468))","v":0}]
["103705052","Staff_cols:Day_care_plan, Staff_row:Staff_row67","Number",{"$f":"IF(ISERROR(INDEX('Trust - Frontsheet'!$C$14:$T$213,Index!B1469,Index!A1469)),0,INDEX('Trust - Frontsheet'!$C$14:$T$213,Index!B1469,Index!A1469))","v":0}]
["103705053","Staff_cols:Day_care_plan, Staff_row:Staff_row68","Number",{"$f":"IF(ISERROR(INDEX('Trust - Frontsheet'!$C$14:$T$213,Index!B1470,Index!A1470)),0,INDEX('Trust - Frontsheet'!$C$14:$T$213,Index!B1470,Index!A1470))","v":0}]
["103705054","Staff_cols:Day_care_plan, Staff_row:Staff_row69","Number",{"$f":"IF(ISERROR(INDEX('Trust - Frontsheet'!$C$14:$T$213,Index!B1471,Index!A1471)),0,INDEX('Trust - Frontsheet'!$C$14:$T$213,Index!B1471,Index!A1471))","v":0}]
["103705056","Staff_cols:Day_care_plan, Staff_row:Staff_row70","Number",{"$f":"IF(ISERROR(INDEX('Trust - Frontsheet'!$C$14:$T$213,Index!B1472,Index!A1472)),0,INDEX('Trust - Frontsheet'!$C$14:$T$213,Index!B1472,Index!A1472))","v":0}]
["103705057","Staff_cols:Day_care_plan, Staff_row:Staff_row71","Number",{"$f":"IF(ISERROR(INDEX('Trust - Frontsheet'!$C$14:$T$213,Index!B1473,Index!A1473)),0,INDEX('Trust - Frontsheet'!$C$14:$T$213,Index!B1473,Index!A1473))","v":0}]
["103705058","Staff_cols:Day_care_plan, Staff_row:Staff_row72","Number",{"$f":"IF(ISERROR(INDEX('Trust - Frontsheet'!$C$14:$T$213,Index!B1474,Index!A1474)),0,INDEX('Trust - Frontsheet'!$C$14:$T$213,Index!B1474,Index!A1474))","v":0}]
["103705059","Staff_cols:Day_care_plan, Staff_row:Staff_row73","Number",{"$f":"IF(ISERROR(INDEX('Trust - Frontsheet'!$C$14:$T$213,Index!B1475,Index!A1475)),0,INDEX('Trust - Frontsheet'!$C$14:$T$213,Index!B1475,Index!A1475))","v":0}]
["103705060","Staff_cols:Day_care_plan, Staff_row:Staff_row74","Number",{"$f":"IF(ISERROR(INDEX('Trust - Frontsheet'!$C$14:$T$213,Index!B1476,Index!A1476)),0,INDEX('Trust - Frontsheet'!$C$14:$T$213,Index!B1476,Index!A1476))","v":0}]
["103705061","Staff_cols:Day_care_plan, Staff_row:Staff_row75","Number",{"$f":"IF(ISERROR(INDEX('Trust - Frontsheet'!$C$14:$T$213,Index!B1477,Index!A1477)),0,INDEX('Trust - Frontsheet'!$C$14:$T$213,Index!B1477,Index!A1477))","v":0}]
["103705062","Staff_cols:Day_care_plan, Staff_row:Staff_row76","Number",{"$f":"IF(ISERROR(INDEX('Trust - Frontsheet'!$C$14:$T$213,Index!B1478,Index!A1478)),0,INDEX('Trust - Frontsheet'!$C$14:$T$213,Index!B1478,Index!A1478))","v":0}]
["103705063","Staff_cols:Day_care_plan, Staff_row:Staff_row77","Number",{"$f":"IF(ISERROR(INDEX('Trust - Frontsheet'!$C$14:$T$213,Index!B1479,Index!A1479)),0,INDEX('Trust - Frontsheet'!$C$14:$T$213,Index!B1479,Index!A1479))","v":0}]
["103705064","Staff_cols:Day_care_plan, Staff_row:Staff_row78","Number",{"$f":"IF(ISERROR(INDEX('Trust - Frontsheet'!$C$14:$T$213,Index!B1480,Index!A1480)),0,INDEX('Trust - Frontsheet'!$C$14:$T$213,Index!B1480,Index!A1480))","v":0}]
["103705065","Staff_cols:Day_care_plan, Staff_row:Staff_row79","Number",{"$f":"IF(ISERROR(INDEX('Trust - Frontsheet'!$C$14:$T$213,Index!B1481,Index!A1481)),0,INDEX('Trust - Frontsheet'!$C$14:$T$213,Index!B1481,Index!A1481))","v":0}]
["103705067","Staff_cols:Day_care_plan, Staff_row:Staff_row80","Number",{"$f":"IF(ISERROR(INDEX('Trust - Frontsheet'!$C$14:$T$213,Index!B1482,Index!A1482)),0,INDEX('Trust - Frontsheet'!$C$14:$T$213,Index!B1482,Index!A1482))","v":0}]
["103705068","Staff_cols:Day_care_plan, Staff_row:Staff_row81","Number",{"$f":"IF(ISERROR(INDEX('Trust - Frontsheet'!$C$14:$T$213,Index!B1483,Index!A1483)),0,INDEX('Trust - Frontsheet'!$C$14:$T$213,Index!B1483,Index!A1483))","v":0}]
["103705069","Staff_cols:Day_care_plan, Staff_row:Staff_row82","Number",{"$f":"IF(ISERROR(INDEX('Trust - Frontsheet'!$C$14:$T$213,Index!B1484,Index!A1484)),0,INDEX('Trust - Frontsheet'!$C$14:$T$213,Index!B1484,Index!A1484))","v":0}]
["103705070","Staff_cols:Day_care_plan, Staff_row:Staff_row83","Number",{"$f":"IF(ISERROR(INDEX('Trust - Frontsheet'!$C$14:$T$213,Index!B1485,Index!A1485)),0,INDEX('Trust - Frontsheet'!$C$14:$T$213,Index!B1485,Index!A1485))","v":0}]
["103705071","Staff_cols:Day_care_plan, Staff_row:Staff_row84","Number",{"$f":"IF(ISERROR(INDEX('Trust - Frontsheet'!$C$14:$T$213,Index!B1486,Index!A1486)),0,INDEX('Trust - Frontsheet'!$C$14:$T$213,Index!B1486,Index!A1486))","v":0}]
["103705072","Staff_cols:Day_care_plan, Staff_row:Staff_row85","Number",{"$f":"IF(ISERROR(INDEX('Trust - Frontsheet'!$C$14:$T$213,Index!B1487,Index!A1487)),0,INDEX('Trust - Frontsheet'!$C$14:$T$213,Index!B1487,Index!A1487))","v":0}]
["103705073","Staff_cols:Day_care_plan, Staff_row:Staff_row86","Number",{"$f":"IF(ISERROR(INDEX('Trust - Frontsheet'!$C$14:$T$213,Index!B1488,Index!A1488)),0,INDEX('Trust - Frontsheet'!$C$14:$T$213,Index!B1488,Index!A1488))","v":0}]
["103705074","Staff_cols:Day_care_plan, Staff_row:Staff_row87","Number",{"$f":"IF(ISERROR(INDEX('Trust - Frontsheet'!$C$14:$T$213,Index!B1489,Index!A1489)),0,INDEX('Trust - Frontsheet'!$C$14:$T$213,Index!B1489,Index!A1489))","v":0}]
["103705075","Staff_cols:Day_care_plan, Staff_row:Staff_row88","Number",{"$f":"IF(ISERROR(INDEX('Trust - Frontsheet'!$C$14:$T$213,Index!B1490,Index!A1490)),0,INDEX('Trust - Frontsheet'!$C$14:$T$213,Index!B1490,Index!A1490))","v":0}]
["103705076","Staff_cols:Day_care_plan, Staff_row:Staff_row89","Number",{"$f":"IF(ISERROR(INDEX('Trust - Frontsheet'!$C$14:$T$213,Index!B1491,Index!A1491)),0,INDEX('Trust - Frontsheet'!$C$14:$T$213,Index!B1491,Index!A1491))","v":0}]
["103705078","Staff_cols:Day_care_plan, Staff_row:Staff_row90","Number",{"$f":"IF(ISERROR(INDEX('Trust - Frontsheet'!$C$14:$T$213,Index!B1492,Index!A1492)),0,INDEX('Trust - Frontsheet'!$C$14:$T$213,Index!B1492,Index!A1492))","v":0}]
["103705079","Staff_cols:Day_care_plan, Staff_row:Staff_row91","Number",{"$f":"IF(ISERROR(INDEX('Trust - Frontsheet'!$C$14:$T$213,Index!B1493,Index!A1493)),0,INDEX('Trust - Frontsheet'!$C$14:$T$213,Index!B1493,Index!A1493))","v":0}]
["103705080","Staff_cols:Day_care_plan, Staff_row:Staff_row92","Number",{"$f":"IF(ISERROR(INDEX('Trust - Frontsheet'!$C$14:$T$213,Index!B1494,Index!A1494)),0,INDEX('Trust - Frontsheet'!$C$14:$T$213,Index!B1494,Index!A1494))","v":0}]
["103705081","Staff_cols:Day_care_plan, Staff_row:Staff_row93","Number",{"$f":"IF(ISERROR(INDEX('Trust - Frontsheet'!$C$14:$T$213,Index!B1495,Index!A1495)),0,INDEX('Trust - Frontsheet'!$C$14:$T$213,Index!B1495,Index!A1495))","v":0}]
["103705082","Staff_cols:Day_care_plan, Staff_row:Staff_row94","Number",{"$f":"IF(ISERROR(INDEX('Trust - Frontsheet'!$C$14:$T$213,Index!B1496,Index!A1496)),0,INDEX('Trust - Frontsheet'!$C$14:$T$213,Index!B1496,Index!A1496))","v":0}]
["103705083","Staff_cols:Day_care_plan, Staff_row:Staff_row95","Number",{"$f":"IF(ISERROR(INDEX('Trust - Frontsheet'!$C$14:$T$213,Index!B1497,Index!A1497)),0,INDEX('Trust - Frontsheet'!$C$14:$T$213,Index!B1497,Index!A1497))","v":0}]
["103705084","Staff_cols:Day_care_plan, Staff_row:Staff_row96","Number",{"$f":"IF(ISERROR(INDEX('Trust - Frontsheet'!$C$14:$T$213,Index!B1498,Index!A1498)),0,INDEX('Trust - Frontsheet'!$C$14:$T$213,Index!B1498,Index!A1498))","v":0}]
["103705085","Staff_cols:Day_care_plan, Staff_row:Staff_row97","Number",{"$f":"IF(ISERROR(INDEX('Trust - Frontsheet'!$C$14:$T$213,Index!B1499,Index!A1499)),0,INDEX('Trust - Frontsheet'!$C$14:$T$213,Index!B1499,Index!A1499))","v":0}]
["103705086","Staff_cols:Day_care_plan, Staff_row:Staff_row98","Number",{"$f":"IF(ISERROR(INDEX('Trust - Frontsheet'!$C$14:$T$213,Index!B1500,Index!A1500)),0,INDEX('Trust - Frontsheet'!$C$14:$T$213,Index!B1500,Index!A1500))","v":0}]
["103705087","Staff_cols:Day_care_plan, Staff_row:Staff_row99","Number",{"$f":"IF(ISERROR(INDEX('Trust - Frontsheet'!$C$14:$T$213,Index!B1501,Index!A1501)),0,INDEX('Trust - Frontsheet'!$C$14:$T$213,Index!B1501,Index!A1501))","v":0}]
["103704890","Staff_cols:Day_care_plan, Staff_row:Staff_row100","Number",{"$f":"IF(ISERROR(INDEX('Trust - Frontsheet'!$C$14:$T$213,Index!B1502,Index!A1502)),0,INDEX('Trust - Frontsheet'!$C$14:$T$213,Index!B1502,Index!A1502))","v":0}]
["103704891","Staff_cols:Day_care_plan, Staff_row:Staff_row101","Number",{"$f":"IF(ISERROR(INDEX('Trust - Frontsheet'!$C$14:$T$213,Index!B1503,Index!A1503)),0,INDEX('Trust - Frontsheet'!$C$14:$T$213,Index!B1503,Index!A1503))","v":0}]
["103704892","Staff_cols:Day_care_plan, Staff_row:Staff_row102","Number",{"$f":"IF(ISERROR(INDEX('Trust - Frontsheet'!$C$14:$T$213,Index!B1504,Index!A1504)),0,INDEX('Trust - Frontsheet'!$C$14:$T$213,Index!B1504,Index!A1504))","v":0}]
["103704893","Staff_cols:Day_care_plan, Staff_row:Staff_row103","Number",{"$f":"IF(ISERROR(INDEX('Trust - Frontsheet'!$C$14:$T$213,Index!B1505,Index!A1505)),0,INDEX('Trust - Frontsheet'!$C$14:$T$213,Index!B1505,Index!A1505))","v":0}]
["103704894","Staff_cols:Day_care_plan, Staff_row:Staff_row104","Number",{"$f":"IF(ISERROR(INDEX('Trust - Frontsheet'!$C$14:$T$213,Index!B1506,Index!A1506)),0,INDEX('Trust - Frontsheet'!$C$14:$T$213,Index!B1506,Index!A1506))","v":0}]
["103704895","Staff_cols:Day_care_plan, Staff_row:Staff_row105","Number",{"$f":"IF(ISERROR(INDEX('Trust - Frontsheet'!$C$14:$T$213,Index!B1507,Index!A1507)),0,INDEX('Trust - Frontsheet'!$C$14:$T$213,Index!B1507,Index!A1507))","v":0}]
["103704896","Staff_cols:Day_care_plan, Staff_row:Staff_row106","Number",{"$f":"IF(ISERROR(INDEX('Trust - Frontsheet'!$C$14:$T$213,Index!B1508,Index!A1508)),0,INDEX('Trust - Frontsheet'!$C$14:$T$213,Index!B1508,Index!A1508))","v":0}]
["103704897","Staff_cols:Day_care_plan, Staff_row:Staff_row107","Number",{"$f":"IF(ISERROR(INDEX('Trust - Frontsheet'!$C$14:$T$213,Index!B1509,Index!A1509)),0,INDEX('Trust - Frontsheet'!$C$14:$T$213,Index!B1509,Index!A1509))","v":0}]
["103704898","Staff_cols:Day_care_plan, Staff_row:Staff_row108","Number",{"$f":"IF(ISERROR(INDEX('Trust - Frontsheet'!$C$14:$T$213,Index!B1510,Index!A1510)),0,INDEX('Trust - Frontsheet'!$C$14:$T$213,Index!B1510,Index!A1510))","v":0}]
["103704899","Staff_cols:Day_care_plan, Staff_row:Staff_row109","Number",{"$f":"IF(ISERROR(INDEX('Trust - Frontsheet'!$C$14:$T$213,Index!B1511,Index!A1511)),0,INDEX('Trust - Frontsheet'!$C$14:$T$213,Index!B1511,Index!A1511))","v":0}]
["103704901","Staff_cols:Day_care_plan, Staff_row:Staff_row110","Number",{"$f":"IF(ISERROR(INDEX('Trust - Frontsheet'!$C$14:$T$213,Index!B1512,Index!A1512)),0,INDEX('Trust - Frontsheet'!$C$14:$T$213,Index!B1512,Index!A1512))","v":0}]
["103704902","Staff_cols:Day_care_plan, Staff_row:Staff_row111","Number",{"$f":"IF(ISERROR(INDEX('Trust - Frontsheet'!$C$14:$T$213,Index!B1513,Index!A1513)),0,INDEX('Trust - Frontsheet'!$C$14:$T$213,Index!B1513,Index!A1513))","v":0}]
["103704903","Staff_cols:Day_care_plan, Staff_row:Staff_row112","Number",{"$f":"IF(ISERROR(INDEX('Trust - Frontsheet'!$C$14:$T$213,Index!B1514,Index!A1514)),0,INDEX('Trust - Frontsheet'!$C$14:$T$213,Index!B1514,Index!A1514))","v":0}]
["103704904","Staff_cols:Day_care_plan, Staff_row:Staff_row113","Number",{"$f":"IF(ISERROR(INDEX('Trust - Frontsheet'!$C$14:$T$213,Index!B1515,Index!A1515)),0,INDEX('Trust - Frontsheet'!$C$14:$T$213,Index!B1515,Index!A1515))","v":0}]
["103704905","Staff_cols:Day_care_plan, Staff_row:Staff_row114","Number",{"$f":"IF(ISERROR(INDEX('Trust - Frontsheet'!$C$14:$T$213,Index!B1516,Index!A1516)),0,INDEX('Trust - Frontsheet'!$C$14:$T$213,Index!B1516,Index!A1516))","v":0}]
["103704906","Staff_cols:Day_care_plan, Staff_row:Staff_row115","Number",{"$f":"IF(ISERROR(INDEX('Trust - Frontsheet'!$C$14:$T$213,Index!B1517,Index!A1517)),0,INDEX('Trust - Frontsheet'!$C$14:$T$213,Index!B1517,Index!A1517))","v":0}]
["103704907","Staff_cols:Day_care_plan, Staff_row:Staff_row116","Number",{"$f":"IF(ISERROR(INDEX('Trust - Frontsheet'!$C$14:$T$213,Index!B1518,Index!A1518)),0,INDEX('Trust - Frontsheet'!$C$14:$T$213,Index!B1518,Index!A1518))","v":0}]
["103704908","Staff_cols:Day_care_plan, Staff_row:Staff_row117","Number",{"$f":"IF(ISERROR(INDEX('Trust - Frontsheet'!$C$14:$T$213,Index!B1519,Index!A1519)),0,INDEX('Trust - Frontsheet'!$C$14:$T$213,Index!B1519,Index!A1519))","v":0}]
["103704909","Staff_cols:Day_care_plan, Staff_row:Staff_row118","Number",{"$f":"IF(ISERROR(INDEX('Trust - Frontsheet'!$C$14:$T$213,Index!B1520,Index!A1520)),0,INDEX('Trust - Frontsheet'!$C$14:$T$213,Index!B1520,Index!A1520))","v":0}]
["103704910","Staff_cols:Day_care_plan, Staff_row:Staff_row119","Number",{"$f":"IF(ISERROR(INDEX('Trust - Frontsheet'!$C$14:$T$213,Index!B1521,Index!A1521)),0,INDEX('Trust - Frontsheet'!$C$14:$T$213,Index!B1521,Index!A1521))","v":0}]
["103704912","Staff_cols:Day_care_plan, Staff_row:Staff_row120","Number",{"$f":"IF(ISERROR(INDEX('Trust - Frontsheet'!$C$14:$T$213,Index!B1522,Index!A1522)),0,INDEX('Trust - Frontsheet'!$C$14:$T$213,Index!B1522,Index!A1522))","v":0}]
["103704913","Staff_cols:Day_care_plan, Staff_row:Staff_row121","Number",{"$f":"IF(ISERROR(INDEX('Trust - Frontsheet'!$C$14:$T$213,Index!B1523,Index!A1523)),0,INDEX('Trust - Frontsheet'!$C$14:$T$213,Index!B1523,Index!A1523))","v":0}]
["103704914","Staff_cols:Day_care_plan, Staff_row:Staff_row122","Number",{"$f":"IF(ISERROR(INDEX('Trust - Frontsheet'!$C$14:$T$213,Index!B1524,Index!A1524)),0,INDEX('Trust - Frontsheet'!$C$14:$T$213,Index!B1524,Index!A1524))","v":0}]
["103704915","Staff_cols:Day_care_plan, Staff_row:Staff_row123","Number",{"$f":"IF(ISERROR(INDEX('Trust - Frontsheet'!$C$14:$T$213,Index!B1525,Index!A1525)),0,INDEX('Trust - Frontsheet'!$C$14:$T$213,Index!B1525,Index!A1525))","v":0}]
["103704916","Staff_cols:Day_care_plan, Staff_row:Staff_row124","Number",{"$f":"IF(ISERROR(INDEX('Trust - Frontsheet'!$C$14:$T$213,Index!B1526,Index!A1526)),0,INDEX('Trust - Frontsheet'!$C$14:$T$213,Index!B1526,Index!A1526))","v":0}]
["103704917","Staff_cols:Day_care_plan, Staff_row:Staff_row125","Number",{"$f":"IF(ISERROR(INDEX('Trust - Frontsheet'!$C$14:$T$213,Index!B1527,Index!A1527)),0,INDEX('Trust - Frontsheet'!$C$14:$T$213,Index!B1527,Index!A1527))","v":0}]
["103704918","Staff_cols:Day_care_plan, Staff_row:Staff_row126","Number",{"$f":"IF(ISERROR(INDEX('Trust - Frontsheet'!$C$14:$T$213,Index!B1528,Index!A1528)),0,INDEX('Trust - Frontsheet'!$C$14:$T$213,Index!B1528,Index!A1528))","v":0}]
["103704919","Staff_cols:Day_care_plan, Staff_row:Staff_row127","Number",{"$f":"IF(ISERROR(INDEX('Trust - Frontsheet'!$C$14:$T$213,Index!B1529,Index!A1529)),0,INDEX('Trust - Frontsheet'!$C$14:$T$213,Index!B1529,Index!A1529))","v":0}]
["103704920","Staff_cols:Day_care_plan, Staff_row:Staff_row128","Number",{"$f":"IF(ISERROR(INDEX('Trust - Frontsheet'!$C$14:$T$213,Index!B1530,Index!A1530)),0,INDEX('Trust - Frontsheet'!$C$14:$T$213,Index!B1530,Index!A1530))","v":0}]
["103704921","Staff_cols:Day_care_plan, Staff_row:Staff_row129","Number",{"$f":"IF(ISERROR(INDEX('Trust - Frontsheet'!$C$14:$T$213,Index!B1531,Index!A1531)),0,INDEX('Trust - Frontsheet'!$C$14:$T$213,Index!B1531,Index!A1531))","v":0}]
["103704923","Staff_cols:Day_care_plan, Staff_row:Staff_row130","Number",{"$f":"IF(ISERROR(INDEX('Trust - Frontsheet'!$C$14:$T$213,Index!B1532,Index!A1532)),0,INDEX('Trust - Frontsheet'!$C$14:$T$213,Index!B1532,Index!A1532))","v":0}]
["103704924","Staff_cols:Day_care_plan, Staff_row:Staff_row131","Number",{"$f":"IF(ISERROR(INDEX('Trust - Frontsheet'!$C$14:$T$213,Index!B1533,Index!A1533)),0,INDEX('Trust - Frontsheet'!$C$14:$T$213,Index!B1533,Index!A1533))","v":0}]
["103704925","Staff_cols:Day_care_plan, Staff_row:Staff_row132","Number",{"$f":"IF(ISERROR(INDEX('Trust - Frontsheet'!$C$14:$T$213,Index!B1534,Index!A1534)),0,INDEX('Trust - Frontsheet'!$C$14:$T$213,Index!B1534,Index!A1534))","v":0}]
["103704926","Staff_cols:Day_care_plan, Staff_row:Staff_row133","Number",{"$f":"IF(ISERROR(INDEX('Trust - Frontsheet'!$C$14:$T$213,Index!B1535,Index!A1535)),0,INDEX('Trust - Frontsheet'!$C$14:$T$213,Index!B1535,Index!A1535))","v":0}]
["103704927","Staff_cols:Day_care_plan, Staff_row:Staff_row134","Number",{"$f":"IF(ISERROR(INDEX('Trust - Frontsheet'!$C$14:$T$213,Index!B1536,Index!A1536)),0,INDEX('Trust - Frontsheet'!$C$14:$T$213,Index!B1536,Index!A1536))","v":0}]
["103704928","Staff_cols:Day_care_plan, Staff_row:Staff_row135","Number",{"$f":"IF(ISERROR(INDEX('Trust - Frontsheet'!$C$14:$T$213,Index!B1537,Index!A1537)),0,INDEX('Trust - Frontsheet'!$C$14:$T$213,Index!B1537,Index!A1537))","v":0}]
["103704929","Staff_cols:Day_care_plan, Staff_row:Staff_row136","Number",{"$f":"IF(ISERROR(INDEX('Trust - Frontsheet'!$C$14:$T$213,Index!B1538,Index!A1538)),0,INDEX('Trust - Frontsheet'!$C$14:$T$213,Index!B1538,Index!A1538))","v":0}]
["103704930","Staff_cols:Day_care_plan, Staff_row:Staff_row137","Number",{"$f":"IF(ISERROR(INDEX('Trust - Frontsheet'!$C$14:$T$213,Index!B1539,Index!A1539)),0,INDEX('Trust - Frontsheet'!$C$14:$T$213,Index!B1539,Index!A1539))","v":0}]
["103704931","Staff_cols:Day_care_plan, Staff_row:Staff_row138","Number",{"$f":"IF(ISERROR(INDEX('Trust - Frontsheet'!$C$14:$T$213,Index!B1540,Index!A1540)),0,INDEX('Trust - Frontsheet'!$C$14:$T$213,Index!B1540,Index!A1540))","v":0}]
["103704932","Staff_cols:Day_care_plan, Staff_row:Staff_row139","Number",{"$f":"IF(ISERROR(INDEX('Trust - Frontsheet'!$C$14:$T$213,Index!B1541,Index!A1541)),0,INDEX('Trust - Frontsheet'!$C$14:$T$213,Index!B1541,Index!A1541))","v":0}]
["103704934","Staff_cols:Day_care_plan, Staff_row:Staff_row140","Number",{"$f":"IF(ISERROR(INDEX('Trust - Frontsheet'!$C$14:$T$213,Index!B1542,Index!A1542)),0,INDEX('Trust - Frontsheet'!$C$14:$T$213,Index!B1542,Index!A1542))","v":0}]
["103704935","Staff_cols:Day_care_plan, Staff_row:Staff_row141","Number",{"$f":"IF(ISERROR(INDEX('Trust - Frontsheet'!$C$14:$T$213,Index!B1543,Index!A1543)),0,INDEX('Trust - Frontsheet'!$C$14:$T$213,Index!B1543,Index!A1543))","v":0}]
["103704936","Staff_cols:Day_care_plan, Staff_row:Staff_row142","Number",{"$f":"IF(ISERROR(INDEX('Trust - Frontsheet'!$C$14:$T$213,Index!B1544,Index!A1544)),0,INDEX('Trust - Frontsheet'!$C$14:$T$213,Index!B1544,Index!A1544))","v":0}]
["103704937","Staff_cols:Day_care_plan, Staff_row:Staff_row143","Number",{"$f":"IF(ISERROR(INDEX('Trust - Frontsheet'!$C$14:$T$213,Index!B1545,Index!A1545)),0,INDEX('Trust - Frontsheet'!$C$14:$T$213,Index!B1545,Index!A1545))","v":0}]
["103704938","Staff_cols:Day_care_plan, Staff_row:Staff_row144","Number",{"$f":"IF(ISERROR(INDEX('Trust - Frontsheet'!$C$14:$T$213,Index!B1546,Index!A1546)),0,INDEX('Trust - Frontsheet'!$C$14:$T$213,Index!B1546,Index!A1546))","v":0}]
["103704939","Staff_cols:Day_care_plan, Staff_row:Staff_row145","Number",{"$f":"IF(ISERROR(INDEX('Trust - Frontsheet'!$C$14:$T$213,Index!B1547,Index!A1547)),0,INDEX('Trust - Frontsheet'!$C$14:$T$213,Index!B1547,Index!A1547))","v":0}]
["103704940","Staff_cols:Day_care_plan, Staff_row:Staff_row146","Number",{"$f":"IF(ISERROR(INDEX('Trust - Frontsheet'!$C$14:$T$213,Index!B1548,Index!A1548)),0,INDEX('Trust - Frontsheet'!$C$14:$T$213,Index!B1548,Index!A1548))","v":0}]
["103704941","Staff_cols:Day_care_plan, Staff_row:Staff_row147","Number",{"$f":"IF(ISERROR(INDEX('Trust - Frontsheet'!$C$14:$T$213,Index!B1549,Index!A1549)),0,INDEX('Trust - Frontsheet'!$C$14:$T$213,Index!B1549,Index!A1549))","v":0}]
["103704942","Staff_cols:Day_care_plan, Staff_row:Staff_row148","Number",{"$f":"IF(ISERROR(INDEX('Trust - Frontsheet'!$C$14:$T$213,Index!B1550,Index!A1550)),0,INDEX('Trust - Frontsheet'!$C$14:$T$213,Index!B1550,Index!A1550))","v":0}]
["103704943","Staff_cols:Day_care_plan, Staff_row:Staff_row149","Number",{"$f":"IF(ISERROR(INDEX('Trust - Frontsheet'!$C$14:$T$213,Index!B1551,Index!A1551)),0,INDEX('Trust - Frontsheet'!$C$14:$T$213,Index!B1551,Index!A1551))","v":0}]
["103704945","Staff_cols:Day_care_plan, Staff_row:Staff_row150","Number",{"$f":"IF(ISERROR(INDEX('Trust - Frontsheet'!$C$14:$T$213,Index!B1552,Index!A1552)),0,INDEX('Trust - Frontsheet'!$C$14:$T$213,Index!B1552,Index!A1552))","v":0}]
["103704946","Staff_cols:Day_care_plan, Staff_row:Staff_row151","Number",{"$f":"IF(ISERROR(INDEX('Trust - Frontsheet'!$C$14:$T$213,Index!B1553,Index!A1553)),0,INDEX('Trust - Frontsheet'!$C$14:$T$213,Index!B1553,Index!A1553))","v":0}]
["103704947","Staff_cols:Day_care_plan, Staff_row:Staff_row152","Number",{"$f":"IF(ISERROR(INDEX('Trust - Frontsheet'!$C$14:$T$213,Index!B1554,Index!A1554)),0,INDEX('Trust - Frontsheet'!$C$14:$T$213,Index!B1554,Index!A1554))","v":0}]
["103704948","Staff_cols:Day_care_plan, Staff_row:Staff_row153","Number",{"$f":"IF(ISERROR(INDEX('Trust - Frontsheet'!$C$14:$T$213,Index!B1555,Index!A1555)),0,INDEX('Trust - Frontsheet'!$C$14:$T$213,Index!B1555,Index!A1555))","v":0}]
["103704949","Staff_cols:Day_care_plan, Staff_row:Staff_row154","Number",{"$f":"IF(ISERROR(INDEX('Trust - Frontsheet'!$C$14:$T$213,Index!B1556,Index!A1556)),0,INDEX('Trust - Frontsheet'!$C$14:$T$213,Index!B1556,Index!A1556))","v":0}]
["103704950","Staff_cols:Day_care_plan, Staff_row:Staff_row155","Number",{"$f":"IF(ISERROR(INDEX('Trust - Frontsheet'!$C$14:$T$213,Index!B1557,Index!A1557)),0,INDEX('Trust - Frontsheet'!$C$14:$T$213,Index!B1557,Index!A1557))","v":0}]
["103704951","Staff_cols:Day_care_plan, Staff_row:Staff_row156","Number",{"$f":"IF(ISERROR(INDEX('Trust - Frontsheet'!$C$14:$T$213,Index!B1558,Index!A1558)),0,INDEX('Trust - Frontsheet'!$C$14:$T$213,Index!B1558,Index!A1558))","v":0}]
["103704952","Staff_cols:Day_care_plan, Staff_row:Staff_row157","Number",{"$f":"IF(ISERROR(INDEX('Trust - Frontsheet'!$C$14:$T$213,Index!B1559,Index!A1559)),0,INDEX('Trust - Frontsheet'!$C$14:$T$213,Index!B1559,Index!A1559))","v":0}]
["103704953","Staff_cols:Day_care_plan, Staff_row:Staff_row158","Number",{"$f":"IF(ISERROR(INDEX('Trust - Frontsheet'!$C$14:$T$213,Index!B1560,Index!A1560)),0,INDEX('Trust - Frontsheet'!$C$14:$T$213,Index!B1560,Index!A1560))","v":0}]
["103704954","Staff_cols:Day_care_plan, Staff_row:Staff_row159","Number",{"$f":"IF(ISERROR(INDEX('Trust - Frontsheet'!$C$14:$T$213,Index!B1561,Index!A1561)),0,INDEX('Trust - Frontsheet'!$C$14:$T$213,Index!B1561,Index!A1561))","v":0}]
["103704956","Staff_cols:Day_care_plan, Staff_row:Staff_row160","Number",{"$f":"IF(ISERROR(INDEX('Trust - Frontsheet'!$C$14:$T$213,Index!B1562,Index!A1562)),0,INDEX('Trust - Frontsheet'!$C$14:$T$213,Index!B1562,Index!A1562))","v":0}]
["103704957","Staff_cols:Day_care_plan, Staff_row:Staff_row161","Number",{"$f":"IF(ISERROR(INDEX('Trust - Frontsheet'!$C$14:$T$213,Index!B1563,Index!A1563)),0,INDEX('Trust - Frontsheet'!$C$14:$T$213,Index!B1563,Index!A1563))","v":0}]
["103704958","Staff_cols:Day_care_plan, Staff_row:Staff_row162","Number",{"$f":"IF(ISERROR(INDEX('Trust - Frontsheet'!$C$14:$T$213,Index!B1564,Index!A1564)),0,INDEX('Trust - Frontsheet'!$C$14:$T$213,Index!B1564,Index!A1564))","v":0}]
["103704959","Staff_cols:Day_care_plan, Staff_row:Staff_row163","Number",{"$f":"IF(ISERROR(INDEX('Trust - Frontsheet'!$C$14:$T$213,Index!B1565,Index!A1565)),0,INDEX('Trust - Frontsheet'!$C$14:$T$213,Index!B1565,Index!A1565))","v":0}]
["103704960","Staff_cols:Day_care_plan, Staff_row:Staff_row164","Number",{"$f":"IF(ISERROR(INDEX('Trust - Frontsheet'!$C$14:$T$213,Index!B1566,Index!A1566)),0,INDEX('Trust - Frontsheet'!$C$14:$T$213,Index!B1566,Index!A1566))","v":0}]
["103704961","Staff_cols:Day_care_plan, Staff_row:Staff_row165","Number",{"$f":"IF(ISERROR(INDEX('Trust - Frontsheet'!$C$14:$T$213,Index!B1567,Index!A1567)),0,INDEX('Trust - Frontsheet'!$C$14:$T$213,Index!B1567,Index!A1567))","v":0}]
["103704962","Staff_cols:Day_care_plan, Staff_row:Staff_row166","Number",{"$f":"IF(ISERROR(INDEX('Trust - Frontsheet'!$C$14:$T$213,Index!B1568,Index!A1568)),0,INDEX('Trust - Frontsheet'!$C$14:$T$213,Index!B1568,Index!A1568))","v":0}]
["103704963","Staff_cols:Day_care_plan, Staff_row:Staff_row167","Number",{"$f":"IF(ISERROR(INDEX('Trust - Frontsheet'!$C$14:$T$213,Index!B1569,Index!A1569)),0,INDEX('Trust - Frontsheet'!$C$14:$T$213,Index!B1569,Index!A1569))","v":0}]
["103704964","Staff_cols:Day_care_plan, Staff_row:Staff_row168","Number",{"$f":"IF(ISERROR(INDEX('Trust - Frontsheet'!$C$14:$T$213,Index!B1570,Index!A1570)),0,INDEX('Trust - Frontsheet'!$C$14:$T$213,Index!B1570,Index!A1570))","v":0}]
["103704965","Staff_cols:Day_care_plan, Staff_row:Staff_row169","Number",{"$f":"IF(ISERROR(INDEX('Trust - Frontsheet'!$C$14:$T$213,Index!B1571,Index!A1571)),0,INDEX('Trust - Frontsheet'!$C$14:$T$213,Index!B1571,Index!A1571))","v":0}]
["103704967","Staff_cols:Day_care_plan, Staff_row:Staff_row170","Number",{"$f":"IF(ISERROR(INDEX('Trust - Frontsheet'!$C$14:$T$213,Index!B1572,Index!A1572)),0,INDEX('Trust - Frontsheet'!$C$14:$T$213,Index!B1572,Index!A1572))","v":0}]
["103704968","Staff_cols:Day_care_plan, Staff_row:Staff_row171","Number",{"$f":"IF(ISERROR(INDEX('Trust - Frontsheet'!$C$14:$T$213,Index!B1573,Index!A1573)),0,INDEX('Trust - Frontsheet'!$C$14:$T$213,Index!B1573,Index!A1573))","v":0}]
["103704969","Staff_cols:Day_care_plan, Staff_row:Staff_row172","Number",{"$f":"IF(ISERROR(INDEX('Trust - Frontsheet'!$C$14:$T$213,Index!B1574,Index!A1574)),0,INDEX('Trust - Frontsheet'!$C$14:$T$213,Index!B1574,Index!A1574))","v":0}]
["103704970","Staff_cols:Day_care_plan, Staff_row:Staff_row173","Number",{"$f":"IF(ISERROR(INDEX('Trust - Frontsheet'!$C$14:$T$213,Index!B1575,Index!A1575)),0,INDEX('Trust - Frontsheet'!$C$14:$T$213,Index!B1575,Index!A1575))","v":0}]
["103704971","Staff_cols:Day_care_plan, Staff_row:Staff_row174","Number",{"$f":"IF(ISERROR(INDEX('Trust - Frontsheet'!$C$14:$T$213,Index!B1576,Index!A1576)),0,INDEX('Trust - Frontsheet'!$C$14:$T$213,Index!B1576,Index!A1576))","v":0}]
["103704972","Staff_cols:Day_care_plan, Staff_row:Staff_row175","Number",{"$f":"IF(ISERROR(INDEX('Trust - Frontsheet'!$C$14:$T$213,Index!B1577,Index!A1577)),0,INDEX('Trust - Frontsheet'!$C$14:$T$213,Index!B1577,Index!A1577))","v":0}]
["103704973","Staff_cols:Day_care_plan, Staff_row:Staff_row176","Number",{"$f":"IF(ISERROR(INDEX('Trust - Frontsheet'!$C$14:$T$213,Index!B1578,Index!A1578)),0,INDEX('Trust - Frontsheet'!$C$14:$T$213,Index!B1578,Index!A1578))","v":0}]
["103704974","Staff_cols:Day_care_plan, Staff_row:Staff_row177","Number",{"$f":"IF(ISERROR(INDEX('Trust - Frontsheet'!$C$14:$T$213,Index!B1579,Index!A1579)),0,INDEX('Trust - Frontsheet'!$C$14:$T$213,Index!B1579,Index!A1579))","v":0}]
["103704975","Staff_cols:Day_care_plan, Staff_row:Staff_row178","Number",{"$f":"IF(ISERROR(INDEX('Trust - Frontsheet'!$C$14:$T$213,Index!B1580,Index!A1580)),0,INDEX('Trust - Frontsheet'!$C$14:$T$213,Index!B1580,Index!A1580))","v":0}]
["103704976","Staff_cols:Day_care_plan, Staff_row:Staff_row179","Number",{"$f":"IF(ISERROR(INDEX('Trust - Frontsheet'!$C$14:$T$213,Index!B1581,Index!A1581)),0,INDEX('Trust - Frontsheet'!$C$14:$T$213,Index!B1581,Index!A1581))","v":0}]
["103704978","Staff_cols:Day_care_plan, Staff_row:Staff_row180","Number",{"$f":"IF(ISERROR(INDEX('Trust - Frontsheet'!$C$14:$T$213,Index!B1582,Index!A1582)),0,INDEX('Trust - Frontsheet'!$C$14:$T$213,Index!B1582,Index!A1582))","v":0}]
["103704979","Staff_cols:Day_care_plan, Staff_row:Staff_row181","Number",{"$f":"IF(ISERROR(INDEX('Trust - Frontsheet'!$C$14:$T$213,Index!B1583,Index!A1583)),0,INDEX('Trust - Frontsheet'!$C$14:$T$213,Index!B1583,Index!A1583))","v":0}]
["103704980","Staff_cols:Day_care_plan, Staff_row:Staff_row182","Number",{"$f":"IF(ISERROR(INDEX('Trust - Frontsheet'!$C$14:$T$213,Index!B1584,Index!A1584)),0,INDEX('Trust - Frontsheet'!$C$14:$T$213,Index!B1584,Index!A1584))","v":0}]
["103704981","Staff_cols:Day_care_plan, Staff_row:Staff_row183","Number",{"$f":"IF(ISERROR(INDEX('Trust - Frontsheet'!$C$14:$T$213,Index!B1585,Index!A1585)),0,INDEX('Trust - Frontsheet'!$C$14:$T$213,Index!B1585,Index!A1585))","v":0}]
["103704982","Staff_cols:Day_care_plan, Staff_row:Staff_row184","Number",{"$f":"IF(ISERROR(INDEX('Trust - Frontsheet'!$C$14:$T$213,Index!B1586,Index!A1586)),0,INDEX('Trust - Frontsheet'!$C$14:$T$213,Index!B1586,Index!A1586))","v":0}]
["103704983","Staff_cols:Day_care_plan, Staff_row:Staff_row185","Number",{"$f":"IF(ISERROR(INDEX('Trust - Frontsheet'!$C$14:$T$213,Index!B1587,Index!A1587)),0,INDEX('Trust - Frontsheet'!$C$14:$T$213,Index!B1587,Index!A1587))","v":0}]
["103704984","Staff_cols:Day_care_plan, Staff_row:Staff_row186","Number",{"$f":"IF(ISERROR(INDEX('Trust - Frontsheet'!$C$14:$T$213,Index!B1588,Index!A1588)),0,INDEX('Trust - Frontsheet'!$C$14:$T$213,Index!B1588,Index!A1588))","v":0}]
["103704985","Staff_cols:Day_care_plan, Staff_row:Staff_row187","Number",{"$f":"IF(ISERROR(INDEX('Trust - Frontsheet'!$C$14:$T$213,Index!B1589,Index!A1589)),0,INDEX('Trust - Frontsheet'!$C$14:$T$213,Index!B1589,Index!A1589))","v":0}]
["103704986","Staff_cols:Day_care_plan, Staff_row:Staff_row188","Number",{"$f":"IF(ISERROR(INDEX('Trust - Frontsheet'!$C$14:$T$213,Index!B1590,Index!A1590)),0,INDEX('Trust - Frontsheet'!$C$14:$T$213,Index!B1590,Index!A1590))","v":0}]
["103704987","Staff_cols:Day_care_plan, Staff_row:Staff_row189","Number",{"$f":"IF(ISERROR(INDEX('Trust - Frontsheet'!$C$14:$T$213,Index!B1591,Index!A1591)),0,INDEX('Trust - Frontsheet'!$C$14:$T$213,Index!B1591,Index!A1591))","v":0}]
["103704989","Staff_cols:Day_care_plan, Staff_row:Staff_row190","Number",{"$f":"IF(ISERROR(INDEX('Trust - Frontsheet'!$C$14:$T$213,Index!B1592,Index!A1592)),0,INDEX('Trust - Frontsheet'!$C$14:$T$213,Index!B1592,Index!A1592))","v":0}]
["103704990","Staff_cols:Day_care_plan, Staff_row:Staff_row191","Number",{"$f":"IF(ISERROR(INDEX('Trust - Frontsheet'!$C$14:$T$213,Index!B1593,Index!A1593)),0,INDEX('Trust - Frontsheet'!$C$14:$T$213,Index!B1593,Index!A1593))","v":0}]
["103704991","Staff_cols:Day_care_plan, Staff_row:Staff_row192","Number",{"$f":"IF(ISERROR(INDEX('Trust - Frontsheet'!$C$14:$T$213,Index!B1594,Index!A1594)),0,INDEX('Trust - Frontsheet'!$C$14:$T$213,Index!B1594,Index!A1594))","v":0}]
["103704992","Staff_cols:Day_care_plan, Staff_row:Staff_row193","Number",{"$f":"IF(ISERROR(INDEX('Trust - Frontsheet'!$C$14:$T$213,Index!B1595,Index!A1595)),0,INDEX('Trust - Frontsheet'!$C$14:$T$213,Index!B1595,Index!A1595))","v":0}]
["103704993","Staff_cols:Day_care_plan, Staff_row:Staff_row194","Number",{"$f":"IF(ISERROR(INDEX('Trust - Frontsheet'!$C$14:$T$213,Index!B1596,Index!A1596)),0,INDEX('Trust - Frontsheet'!$C$14:$T$213,Index!B1596,Index!A1596))","v":0}]
["103704994","Staff_cols:Day_care_plan, Staff_row:Staff_row195","Number",{"$f":"IF(ISERROR(INDEX('Trust - Frontsheet'!$C$14:$T$213,Index!B1597,Index!A1597)),0,INDEX('Trust - Frontsheet'!$C$14:$T$213,Index!B1597,Index!A1597))","v":0}]
["103704995","Staff_cols:Day_care_plan, Staff_row:Staff_row196","Number",{"$f":"IF(ISERROR(INDEX('Trust - Frontsheet'!$C$14:$T$213,Index!B1598,Index!A1598)),0,INDEX('Trust - Frontsheet'!$C$14:$T$213,Index!B1598,Index!A1598))","v":0}]
["103704996","Staff_cols:Day_care_plan, Staff_row:Staff_row197","Number",{"$f":"IF(ISERROR(INDEX('Trust - Frontsheet'!$C$14:$T$213,Index!B1599,Index!A1599)),0,INDEX('Trust - Frontsheet'!$C$14:$T$213,Index!B1599,Index!A1599))","v":0}]
["103704997","Staff_cols:Day_care_plan, Staff_row:Staff_row198","Number",{"$f":"IF(ISERROR(INDEX('Trust - Frontsheet'!$C$14:$T$213,Index!B1600,Index!A1600)),0,INDEX('Trust - Frontsheet'!$C$14:$T$213,Index!B1600,Index!A1600))","v":0}]
["103704998","Staff_cols:Day_care_plan, Staff_row:Staff_row199","Number",{"$f":"IF(ISERROR(INDEX('Trust - Frontsheet'!$C$14:$T$213,Index!B1601,Index!A1601)),0,INDEX('Trust - Frontsheet'!$C$14:$T$213,Index!B1601,Index!A1601))","v":0}]
["103705001","Staff_cols:Day_care_plan, Staff_row:Staff_row200","Number",{"$f":"IF(ISERROR(INDEX('Trust - Frontsheet'!$C$14:$T$213,Index!B1602,Index!A1602)),0,INDEX('Trust - Frontsheet'!$C$14:$T$213,Index!B1602,Index!A1602))","v":0}]
["103704688","Staff_cols:Day_care_act, Staff_row:Staff_row1","Number",{"$f":"IF(ISERROR(INDEX('Trust - Frontsheet'!$C$14:$T$213,Index!B1603,Index!A1603)),0,INDEX('Trust - Frontsheet'!$C$14:$T$213,Index!B1603,Index!A1603))","v":1230.6666666666667}]
["103704799","Staff_cols:Day_care_act, Staff_row:Staff_row2","Number",{"$f":"IF(ISERROR(INDEX('Trust - Frontsheet'!$C$14:$T$213,Index!B1604,Index!A1604)),0,INDEX('Trust - Frontsheet'!$C$14:$T$213,Index!B1604,Index!A1604))","v":1040.5}]
["103704811","Staff_cols:Day_care_act, Staff_row:Staff_row3","Number",{"$f":"IF(ISERROR(INDEX('Trust - Frontsheet'!$C$14:$T$213,Index!B1605,Index!A1605)),0,INDEX('Trust - Frontsheet'!$C$14:$T$213,Index!B1605,Index!A1605))","v":941.5}]
["103704822","Staff_cols:Day_care_act, Staff_row:Staff_row4","Number",{"$f":"IF(ISERROR(INDEX('Trust - Frontsheet'!$C$14:$T$213,Index!B1606,Index!A1606)),0,INDEX('Trust - Frontsheet'!$C$14:$T$213,Index!B1606,Index!A1606))","v":716.48333333333335}]
["103704833","Staff_cols:Day_care_act, Staff_row:Staff_row5","Number",{"$f":"IF(ISERROR(INDEX('Trust - Frontsheet'!$C$14:$T$213,Index!B1607,Index!A1607)),0,INDEX('Trust - Frontsheet'!$C$14:$T$213,Index!B1607,Index!A1607))","v":170}]
["103704844","Staff_cols:Day_care_act, Staff_row:Staff_row6","Number",{"$f":"IF(ISERROR(INDEX('Trust - Frontsheet'!$C$14:$T$213,Index!B1608,Index!A1608)),0,INDEX('Trust - Frontsheet'!$C$14:$T$213,Index!B1608,Index!A1608))","v":773}]
["103704855","Staff_cols:Day_care_act, Staff_row:Staff_row7","Number",{"$f":"IF(ISERROR(INDEX('Trust - Frontsheet'!$C$14:$T$213,Index!B1609,Index!A1609)),0,INDEX('Trust - Frontsheet'!$C$14:$T$213,Index!B1609,Index!A1609))","v":684.25}]
["103704866","Staff_cols:Day_care_act, Staff_row:Staff_row8","Number",{"$f":"IF(ISERROR(INDEX('Trust - Frontsheet'!$C$14:$T$213,Index!B1610,Index!A1610)),0,INDEX('Trust - Frontsheet'!$C$14:$T$213,Index!B1610,Index!A1610))","v":445}]
["103704877","Staff_cols:Day_care_act, Staff_row:Staff_row9","Number",{"$f":"IF(ISERROR(INDEX('Trust - Frontsheet'!$C$14:$T$213,Index!B1611,Index!A1611)),0,INDEX('Trust - Frontsheet'!$C$14:$T$213,Index!B1611,Index!A1611))","v":1208.5}]
["103704689","Staff_cols:Day_care_act, Staff_row:Staff_row10","Number",{"$f":"IF(ISERROR(INDEX('Trust - Frontsheet'!$C$14:$T$213,Index!B1612,Index!A1612)),0,INDEX('Trust - Frontsheet'!$C$14:$T$213,Index!B1612,Index!A1612))","v":1062.5}]
["103704700","Staff_cols:Day_care_act, Staff_row:Staff_row11","Number",{"$f":"IF(ISERROR(INDEX('Trust - Frontsheet'!$C$14:$T$213,Index!B1613,Index!A1613)),0,INDEX('Trust - Frontsheet'!$C$14:$T$213,Index!B1613,Index!A1613))","v":990.5}]
["103704711","Staff_cols:Day_care_act, Staff_row:Staff_row12","Number",{"$f":"IF(ISERROR(INDEX('Trust - Frontsheet'!$C$14:$T$213,Index!B1614,Index!A1614)),0,INDEX('Trust - Frontsheet'!$C$14:$T$213,Index!B1614,Index!A1614))","v":1140}]
["103704722","Staff_cols:Day_care_act, Staff_row:Staff_row13","Number",{"$f":"IF(ISERROR(INDEX('Trust - Frontsheet'!$C$14:$T$213,Index!B1615,Index!A1615)),0,INDEX('Trust - Frontsheet'!$C$14:$T$213,Index!B1615,Index!A1615))","v":115}]
["103704733","Staff_cols:Day_care_act, Staff_row:Staff_row14","Number",{"$f":"IF(ISERROR(INDEX('Trust - Frontsheet'!$C$14:$T$213,Index!B1616,Index!A1616)),0,INDEX('Trust - Frontsheet'!$C$14:$T$213,Index!B1616,Index!A1616))","v":941}]
["103704744","Staff_cols:Day_care_act, Staff_row:Staff_row15","Number",{"$f":"IF(ISERROR(INDEX('Trust - Frontsheet'!$C$14:$T$213,Index!B1617,Index!A1617)),0,INDEX('Trust - Frontsheet'!$C$14:$T$213,Index!B1617,Index!A1617))","v":954.83333333333326}]
["103704755","Staff_cols:Day_care_act, Staff_row:Staff_row16","Number",{"$f":"IF(ISERROR(INDEX('Trust - Frontsheet'!$C$14:$T$213,Index!B1618,Index!A1618)),0,INDEX('Trust - Frontsheet'!$C$14:$T$213,Index!B1618,Index!A1618))","v":526}]
["103704766","Staff_cols:Day_care_act, Staff_row:Staff_row17","Number",{"$f":"IF(ISERROR(INDEX('Trust - Frontsheet'!$C$14:$T$213,Index!B1619,Index!A1619)),0,INDEX('Trust - Frontsheet'!$C$14:$T$213,Index!B1619,Index!A1619))","v":1661.1666666666665}]
["103704777","Staff_cols:Day_care_act, Staff_row:Staff_row18","Number",{"$f":"IF(ISERROR(INDEX('Trust - Frontsheet'!$C$14:$T$213,Index!B1620,Index!A1620)),0,INDEX('Trust - Frontsheet'!$C$14:$T$213,Index!B1620,Index!A1620))","v":1078.25}]
["103704788","Staff_cols:Day_care_act, Staff_row:Staff_row19","Number",{"$f":"IF(ISERROR(INDEX('Trust - Frontsheet'!$C$14:$T$213,Index!B1621,Index!A1621)),0,INDEX('Trust - Frontsheet'!$C$14:$T$213,Index!B1621,Index!A1621))","v":949.5}]
["103704800","Staff_cols:Day_care_act, Staff_row:Staff_row20","Number",{"$f":"IF(ISERROR(INDEX('Trust - Frontsheet'!$C$14:$T$213,Index!B1622,Index!A1622)),0,INDEX('Trust - Frontsheet'!$C$14:$T$213,Index!B1622,Index!A1622))","v":739.16666666666663}]
["103704802","Staff_cols:Day_care_act, Staff_row:Staff_row21","Number",{"$f":"IF(ISERROR(INDEX('Trust - Frontsheet'!$C$14:$T$213,Index!B1623,Index!A1623)),0,INDEX('Trust - Frontsheet'!$C$14:$T$213,Index!B1623,Index!A1623))","v":1034}]
["103704803","Staff_cols:Day_care_act, Staff_row:Staff_row22","Number",{"$f":"IF(ISERROR(INDEX('Trust - Frontsheet'!$C$14:$T$213,Index!B1624,Index!A1624)),0,INDEX('Trust - Frontsheet'!$C$14:$T$213,Index!B1624,Index!A1624))","v":646}]
["103704804","Staff_cols:Day_care_act, Staff_row:Staff_row23","Number",{"$f":"IF(ISERROR(INDEX('Trust - Frontsheet'!$C$14:$T$213,Index!B1625,Index!A1625)),0,INDEX('Trust - Frontsheet'!$C$14:$T$213,Index!B1625,Index!A1625))","v":1069.6666666666667}]
["103704805","Staff_cols:Day_care_act, Staff_row:Staff_row24","Number",{"$f":"IF(ISERROR(INDEX('Trust - Frontsheet'!$C$14:$T$213,Index!B1626,Index!A1626)),0,INDEX('Trust - Frontsheet'!$C$14:$T$213,Index!B1626,Index!A1626))","v":1241}]
["103704806","Staff_cols:Day_care_act, Staff_row:Staff_row25","Number",{"$f":"IF(ISERROR(INDEX('Trust - Frontsheet'!$C$14:$T$213,Index!B1627,Index!A1627)),0,INDEX('Trust - Frontsheet'!$C$14:$T$213,Index!B1627,Index!A1627))","v":1205.9000000000001}]
["103704807","Staff_cols:Day_care_act, Staff_row:Staff_row26","Number",{"$f":"IF(ISERROR(INDEX('Trust - Frontsheet'!$C$14:$T$213,Index!B1628,Index!A1628)),0,INDEX('Trust - Frontsheet'!$C$14:$T$213,Index!B1628,Index!A1628))","v":1292.25}]
["103704808","Staff_cols:Day_care_act, Staff_row:Staff_row27","Number",{"$f":"IF(ISERROR(INDEX('Trust - Frontsheet'!$C$14:$T$213,Index!B1629,Index!A1629)),0,INDEX('Trust - Frontsheet'!$C$14:$T$213,Index!B1629,Index!A1629))","v":979}]
["103704809","Staff_cols:Day_care_act, Staff_row:Staff_row28","Number",{"$f":"IF(ISERROR(INDEX('Trust - Frontsheet'!$C$14:$T$213,Index!B1630,Index!A1630)),0,INDEX('Trust - Frontsheet'!$C$14:$T$213,Index!B1630,Index!A1630))","v":1169.1666666666665}]
["103704810","Staff_cols:Day_care_act, Staff_row:Staff_row29","Number",{"$f":"IF(ISERROR(INDEX('Trust - Frontsheet'!$C$14:$T$213,Index!B1631,Index!A1631)),0,INDEX('Trust - Frontsheet'!$C$14:$T$213,Index!B1631,Index!A1631))","v":1040.25}]
["103704812","Staff_cols:Day_care_act, Staff_row:Staff_row30","Number",{"$f":"IF(ISERROR(INDEX('Trust - Frontsheet'!$C$14:$T$213,Index!B1632,Index!A1632)),0,INDEX('Trust - Frontsheet'!$C$14:$T$213,Index!B1632,Index!A1632))","v":540}]
["103704813","Staff_cols:Day_care_act, Staff_row:Staff_row31","Number",{"$f":"IF(ISERROR(INDEX('Trust - Frontsheet'!$C$14:$T$213,Index!B1633,Index!A1633)),0,INDEX('Trust - Frontsheet'!$C$14:$T$213,Index!B1633,Index!A1633))","v":314.5}]
["103704814","Staff_cols:Day_care_act, Staff_row:Staff_row32","Number",{"$f":"IF(ISERROR(INDEX('Trust - Frontsheet'!$C$14:$T$213,Index!B1634,Index!A1634)),0,INDEX('Trust - Frontsheet'!$C$14:$T$213,Index!B1634,Index!A1634))","v":384.5}]
["103704815","Staff_cols:Day_care_act, Staff_row:Staff_row33","Number",{"$f":"IF(ISERROR(INDEX('Trust - Frontsheet'!$C$14:$T$213,Index!B1635,Index!A1635)),0,INDEX('Trust - Frontsheet'!$C$14:$T$213,Index!B1635,Index!A1635))","v":1663.3333333333335}]
["103704816","Staff_cols:Day_care_act, Staff_row:Staff_row34","Number",{"$f":"IF(ISERROR(INDEX('Trust - Frontsheet'!$C$14:$T$213,Index!B1636,Index!A1636)),0,INDEX('Trust - Frontsheet'!$C$14:$T$213,Index!B1636,Index!A1636))","v":1098.5}]
["103704817","Staff_cols:Day_care_act, Staff_row:Staff_row35","Number",{"$f":"IF(ISERROR(INDEX('Trust - Frontsheet'!$C$14:$T$213,Index!B1637,Index!A1637)),0,INDEX('Trust - Frontsheet'!$C$14:$T$213,Index!B1637,Index!A1637))","v":1331.5}]
["103704818","Staff_cols:Day_care_act, Staff_row:Staff_row36","Number",{"$f":"IF(ISERROR(INDEX('Trust - Frontsheet'!$C$14:$T$213,Index!B1638,Index!A1638)),0,INDEX('Trust - Frontsheet'!$C$14:$T$213,Index!B1638,Index!A1638))","v":1193}]
["103704819","Staff_cols:Day_care_act, Staff_row:Staff_row37","Number",{"$f":"IF(ISERROR(INDEX('Trust - Frontsheet'!$C$14:$T$213,Index!B1639,Index!A1639)),0,INDEX('Trust - Frontsheet'!$C$14:$T$213,Index!B1639,Index!A1639))","v":1416.5}]
["103704820","Staff_cols:Day_care_act, Staff_row:Staff_row38","Number",{"$f":"IF(ISERROR(INDEX('Trust - Frontsheet'!$C$14:$T$213,Index!B1640,Index!A1640)),0,INDEX('Trust - Frontsheet'!$C$14:$T$213,Index!B1640,Index!A1640))","v":1386}]
["103704821","Staff_cols:Day_care_act, Staff_row:Staff_row39","Number",{"$f":"IF(ISERROR(INDEX('Trust - Frontsheet'!$C$14:$T$213,Index!B1641,Index!A1641)),0,INDEX('Trust - Frontsheet'!$C$14:$T$213,Index!B1641,Index!A1641))","v":1604.5666666666668}]
["103704823","Staff_cols:Day_care_act, Staff_row:Staff_row40","Number",{"$f":"IF(ISERROR(INDEX('Trust - Frontsheet'!$C$14:$T$213,Index!B1642,Index!A1642)),0,INDEX('Trust - Frontsheet'!$C$14:$T$213,Index!B1642,Index!A1642))","v":1585}]
["103704824","Staff_cols:Day_care_act, Staff_row:Staff_row41","Number",{"$f":"IF(ISERROR(INDEX('Trust - Frontsheet'!$C$14:$T$213,Index!B1643,Index!A1643)),0,INDEX('Trust - Frontsheet'!$C$14:$T$213,Index!B1643,Index!A1643))","v":919}]
["103704825","Staff_cols:Day_care_act, Staff_row:Staff_row42","Number",{"$f":"IF(ISERROR(INDEX('Trust - Frontsheet'!$C$14:$T$213,Index!B1644,Index!A1644)),0,INDEX('Trust - Frontsheet'!$C$14:$T$213,Index!B1644,Index!A1644))","v":1447.9666666666667}]
["103704826","Staff_cols:Day_care_act, Staff_row:Staff_row43","Number",{"$f":"IF(ISERROR(INDEX('Trust - Frontsheet'!$C$14:$T$213,Index!B1645,Index!A1645)),0,INDEX('Trust - Frontsheet'!$C$14:$T$213,Index!B1645,Index!A1645))","v":1370}]
["103704827","Staff_cols:Day_care_act, Staff_row:Staff_row44","Number",{"$f":"IF(ISERROR(INDEX('Trust - Frontsheet'!$C$14:$T$213,Index!B1646,Index!A1646)),0,INDEX('Trust - Frontsheet'!$C$14:$T$213,Index!B1646,Index!A1646))","v":1229.5833333333333}]
["103704828","Staff_cols:Day_care_act, Staff_row:Staff_row45","Number",{"$f":"IF(ISERROR(INDEX('Trust - Frontsheet'!$C$14:$T$213,Index!B1647,Index!A1647)),0,INDEX('Trust - Frontsheet'!$C$14:$T$213,Index!B1647,Index!A1647))","v":1570.75}]
["103704829","Staff_cols:Day_care_act, Staff_row:Staff_row46","Number",{"$f":"IF(ISERROR(INDEX('Trust - Frontsheet'!$C$14:$T$213,Index!B1648,Index!A1648)),0,INDEX('Trust - Frontsheet'!$C$14:$T$213,Index!B1648,Index!A1648))","v":814}]
["103704830","Staff_cols:Day_care_act, Staff_row:Staff_row47","Number",{"$f":"IF(ISERROR(INDEX('Trust - Frontsheet'!$C$14:$T$213,Index!B1649,Index!A1649)),0,INDEX('Trust - Frontsheet'!$C$14:$T$213,Index!B1649,Index!A1649))","v":610}]
["103704831","Staff_cols:Day_care_act, Staff_row:Staff_row48","Number",{"$f":"IF(ISERROR(INDEX('Trust - Frontsheet'!$C$14:$T$213,Index!B1650,Index!A1650)),0,INDEX('Trust - Frontsheet'!$C$14:$T$213,Index!B1650,Index!A1650))","v":0}]
["103704832","Staff_cols:Day_care_act, Staff_row:Staff_row49","Number",{"$f":"IF(ISERROR(INDEX('Trust - Frontsheet'!$C$14:$T$213,Index!B1651,Index!A1651)),0,INDEX('Trust - Frontsheet'!$C$14:$T$213,Index!B1651,Index!A1651))","v":0}]
["103704834","Staff_cols:Day_care_act, Staff_row:Staff_row50","Number",{"$f":"IF(ISERROR(INDEX('Trust - Frontsheet'!$C$14:$T$213,Index!B1652,Index!A1652)),0,INDEX('Trust - Frontsheet'!$C$14:$T$213,Index!B1652,Index!A1652))","v":0}]
["103704835","Staff_cols:Day_care_act, Staff_row:Staff_row51","Number",{"$f":"IF(ISERROR(INDEX('Trust - Frontsheet'!$C$14:$T$213,Index!B1653,Index!A1653)),0,INDEX('Trust - Frontsheet'!$C$14:$T$213,Index!B1653,Index!A1653))","v":0}]
["103704836","Staff_cols:Day_care_act, Staff_row:Staff_row52","Number",{"$f":"IF(ISERROR(INDEX('Trust - Frontsheet'!$C$14:$T$213,Index!B1654,Index!A1654)),0,INDEX('Trust - Frontsheet'!$C$14:$T$213,Index!B1654,Index!A1654))","v":0}]
["103704837","Staff_cols:Day_care_act, Staff_row:Staff_row53","Number",{"$f":"IF(ISERROR(INDEX('Trust - Frontsheet'!$C$14:$T$213,Index!B1655,Index!A1655)),0,INDEX('Trust - Frontsheet'!$C$14:$T$213,Index!B1655,Index!A1655))","v":0}]
["103704838","Staff_cols:Day_care_act, Staff_row:Staff_row54","Number",{"$f":"IF(ISERROR(INDEX('Trust - Frontsheet'!$C$14:$T$213,Index!B1656,Index!A1656)),0,INDEX('Trust - Frontsheet'!$C$14:$T$213,Index!B1656,Index!A1656))","v":0}]
["103704839","Staff_cols:Day_care_act, Staff_row:Staff_row55","Number",{"$f":"IF(ISERROR(INDEX('Trust - Frontsheet'!$C$14:$T$213,Index!B1657,Index!A1657)),0,INDEX('Trust - Frontsheet'!$C$14:$T$213,Index!B1657,Index!A1657))","v":0}]
["103704840","Staff_cols:Day_care_act, Staff_row:Staff_row56","Number",{"$f":"IF(ISERROR(INDEX('Trust - Frontsheet'!$C$14:$T$213,Index!B1658,Index!A1658)),0,INDEX('Trust - Frontsheet'!$C$14:$T$213,Index!B1658,Index!A1658))","v":0}]
["103704841","Staff_cols:Day_care_act, Staff_row:Staff_row57","Number",{"$f":"IF(ISERROR(INDEX('Trust - Frontsheet'!$C$14:$T$213,Index!B1659,Index!A1659)),0,INDEX('Trust - Frontsheet'!$C$14:$T$213,Index!B1659,Index!A1659))","v":0}]
["103704842","Staff_cols:Day_care_act, Staff_row:Staff_row58","Number",{"$f":"IF(ISERROR(INDEX('Trust - Frontsheet'!$C$14:$T$213,Index!B1660,Index!A1660)),0,INDEX('Trust - Frontsheet'!$C$14:$T$213,Index!B1660,Index!A1660))","v":0}]
["103704843","Staff_cols:Day_care_act, Staff_row:Staff_row59","Number",{"$f":"IF(ISERROR(INDEX('Trust - Frontsheet'!$C$14:$T$213,Index!B1661,Index!A1661)),0,INDEX('Trust - Frontsheet'!$C$14:$T$213,Index!B1661,Index!A1661))","v":0}]
["103704845","Staff_cols:Day_care_act, Staff_row:Staff_row60","Number",{"$f":"IF(ISERROR(INDEX('Trust - Frontsheet'!$C$14:$T$213,Index!B1662,Index!A1662)),0,INDEX('Trust - Frontsheet'!$C$14:$T$213,Index!B1662,Index!A1662))","v":0}]
["103704846","Staff_cols:Day_care_act, Staff_row:Staff_row61","Number",{"$f":"IF(ISERROR(INDEX('Trust - Frontsheet'!$C$14:$T$213,Index!B1663,Index!A1663)),0,INDEX('Trust - Frontsheet'!$C$14:$T$213,Index!B1663,Index!A1663))","v":0}]
["103704847","Staff_cols:Day_care_act, Staff_row:Staff_row62","Number",{"$f":"IF(ISERROR(INDEX('Trust - Frontsheet'!$C$14:$T$213,Index!B1664,Index!A1664)),0,INDEX('Trust - Frontsheet'!$C$14:$T$213,Index!B1664,Index!A1664))","v":0}]
["103704848","Staff_cols:Day_care_act, Staff_row:Staff_row63","Number",{"$f":"IF(ISERROR(INDEX('Trust - Frontsheet'!$C$14:$T$213,Index!B1665,Index!A1665)),0,INDEX('Trust - Frontsheet'!$C$14:$T$213,Index!B1665,Index!A1665))","v":0}]
["103704849","Staff_cols:Day_care_act, Staff_row:Staff_row64","Number",{"$f":"IF(ISERROR(INDEX('Trust - Frontsheet'!$C$14:$T$213,Index!B1666,Index!A1666)),0,INDEX('Trust - Frontsheet'!$C$14:$T$213,Index!B1666,Index!A1666))","v":0}]
["103704850","Staff_cols:Day_care_act, Staff_row:Staff_row65","Number",{"$f":"IF(ISERROR(INDEX('Trust - Frontsheet'!$C$14:$T$213,Index!B1667,Index!A1667)),0,INDEX('Trust - Frontsheet'!$C$14:$T$213,Index!B1667,Index!A1667))","v":0}]
["103704851","Staff_cols:Day_care_act, Staff_row:Staff_row66","Number",{"$f":"IF(ISERROR(INDEX('Trust - Frontsheet'!$C$14:$T$213,Index!B1668,Index!A1668)),0,INDEX('Trust - Frontsheet'!$C$14:$T$213,Index!B1668,Index!A1668))","v":0}]
["103704852","Staff_cols:Day_care_act, Staff_row:Staff_row67","Number",{"$f":"IF(ISERROR(INDEX('Trust - Frontsheet'!$C$14:$T$213,Index!B1669,Index!A1669)),0,INDEX('Trust - Frontsheet'!$C$14:$T$213,Index!B1669,Index!A1669))","v":0}]
["103704853","Staff_cols:Day_care_act, Staff_row:Staff_row68","Number",{"$f":"IF(ISERROR(INDEX('Trust - Frontsheet'!$C$14:$T$213,Index!B1670,Index!A1670)),0,INDEX('Trust - Frontsheet'!$C$14:$T$213,Index!B1670,Index!A1670))","v":0}]
["103704854","Staff_cols:Day_care_act, Staff_row:Staff_row69","Number",{"$f":"IF(ISERROR(INDEX('Trust - Frontsheet'!$C$14:$T$213,Index!B1671,Index!A1671)),0,INDEX('Trust - Frontsheet'!$C$14:$T$213,Index!B1671,Index!A1671))","v":0}]
["103704856","Staff_cols:Day_care_act, Staff_row:Staff_row70","Number",{"$f":"IF(ISERROR(INDEX('Trust - Frontsheet'!$C$14:$T$213,Index!B1672,Index!A1672)),0,INDEX('Trust - Frontsheet'!$C$14:$T$213,Index!B1672,Index!A1672))","v":0}]
["103704857","Staff_cols:Day_care_act, Staff_row:Staff_row71","Number",{"$f":"IF(ISERROR(INDEX('Trust - Frontsheet'!$C$14:$T$213,Index!B1673,Index!A1673)),0,INDEX('Trust - Frontsheet'!$C$14:$T$213,Index!B1673,Index!A1673))","v":0}]
["103704858","Staff_cols:Day_care_act, Staff_row:Staff_row72","Number",{"$f":"IF(ISERROR(INDEX('Trust - Frontsheet'!$C$14:$T$213,Index!B1674,Index!A1674)),0,INDEX('Trust - Frontsheet'!$C$14:$T$213,Index!B1674,Index!A1674))","v":0}]
["103704859","Staff_cols:Day_care_act, Staff_row:Staff_row73","Number",{"$f":"IF(ISERROR(INDEX('Trust - Frontsheet'!$C$14:$T$213,Index!B1675,Index!A1675)),0,INDEX('Trust - Frontsheet'!$C$14:$T$213,Index!B1675,Index!A1675))","v":0}]
["103704860","Staff_cols:Day_care_act, Staff_row:Staff_row74","Number",{"$f":"IF(ISERROR(INDEX('Trust - Frontsheet'!$C$14:$T$213,Index!B1676,Index!A1676)),0,INDEX('Trust - Frontsheet'!$C$14:$T$213,Index!B1676,Index!A1676))","v":0}]
["103704861","Staff_cols:Day_care_act, Staff_row:Staff_row75","Number",{"$f":"IF(ISERROR(INDEX('Trust - Frontsheet'!$C$14:$T$213,Index!B1677,Index!A1677)),0,INDEX('Trust - Frontsheet'!$C$14:$T$213,Index!B1677,Index!A1677))","v":0}]
["103704862","Staff_cols:Day_care_act, Staff_row:Staff_row76","Number",{"$f":"IF(ISERROR(INDEX('Trust - Frontsheet'!$C$14:$T$213,Index!B1678,Index!A1678)),0,INDEX('Trust - Frontsheet'!$C$14:$T$213,Index!B1678,Index!A1678))","v":0}]
["103704863","Staff_cols:Day_care_act, Staff_row:Staff_row77","Number",{"$f":"IF(ISERROR(INDEX('Trust - Frontsheet'!$C$14:$T$213,Index!B1679,Index!A1679)),0,INDEX('Trust - Frontsheet'!$C$14:$T$213,Index!B1679,Index!A1679))","v":0}]
["103704864","Staff_cols:Day_care_act, Staff_row:Staff_row78","Number",{"$f":"IF(ISERROR(INDEX('Trust - Frontsheet'!$C$14:$T$213,Index!B1680,Index!A1680)),0,INDEX('Trust - Frontsheet'!$C$14:$T$213,Index!B1680,Index!A1680))","v":0}]
["103704865","Staff_cols:Day_care_act, Staff_row:Staff_row79","Number",{"$f":"IF(ISERROR(INDEX('Trust - Frontsheet'!$C$14:$T$213,Index!B1681,Index!A1681)),0,INDEX('Trust - Frontsheet'!$C$14:$T$213,Index!B1681,Index!A1681))","v":0}]
["103704867","Staff_cols:Day_care_act, Staff_row:Staff_row80","Number",{"$f":"IF(ISERROR(INDEX('Trust - Frontsheet'!$C$14:$T$213,Index!B1682,Index!A1682)),0,INDEX('Trust - Frontsheet'!$C$14:$T$213,Index!B1682,Index!A1682))","v":0}]
["103704868","Staff_cols:Day_care_act, Staff_row:Staff_row81","Number",{"$f":"IF(ISERROR(INDEX('Trust - Frontsheet'!$C$14:$T$213,Index!B1683,Index!A1683)),0,INDEX('Trust - Frontsheet'!$C$14:$T$213,Index!B1683,Index!A1683))","v":0}]
["103704869","Staff_cols:Day_care_act, Staff_row:Staff_row82","Number",{"$f":"IF(ISERROR(INDEX('Trust - Frontsheet'!$C$14:$T$213,Index!B1684,Index!A1684)),0,INDEX('Trust - Frontsheet'!$C$14:$T$213,Index!B1684,Index!A1684))","v":0}]
["103704870","Staff_cols:Day_care_act, Staff_row:Staff_row83","Number",{"$f":"IF(ISERROR(INDEX('Trust - Frontsheet'!$C$14:$T$213,Index!B1685,Index!A1685)),0,INDEX('Trust - Frontsheet'!$C$14:$T$213,Index!B1685,Index!A1685))","v":0}]
["103704871","Staff_cols:Day_care_act, Staff_row:Staff_row84","Number",{"$f":"IF(ISERROR(INDEX('Trust - Frontsheet'!$C$14:$T$213,Index!B1686,Index!A1686)),0,INDEX('Trust - Frontsheet'!$C$14:$T$213,Index!B1686,Index!A1686))","v":0}]
["103704872","Staff_cols:Day_care_act, Staff_row:Staff_row85","Number",{"$f":"IF(ISERROR(INDEX('Trust - Frontsheet'!$C$14:$T$213,Index!B1687,Index!A1687)),0,INDEX('Trust - Frontsheet'!$C$14:$T$213,Index!B1687,Index!A1687))","v":0}]
["103704873","Staff_cols:Day_care_act, Staff_row:Staff_row86","Number",{"$f":"IF(ISERROR(INDEX('Trust - Frontsheet'!$C$14:$T$213,Index!B1688,Index!A1688)),0,INDEX('Trust - Frontsheet'!$C$14:$T$213,Index!B1688,Index!A1688))","v":0}]
["103704874","Staff_cols:Day_care_act, Staff_row:Staff_row87","Number",{"$f":"IF(ISERROR(INDEX('Trust - Frontsheet'!$C$14:$T$213,Index!B1689,Index!A1689)),0,INDEX('Trust - Frontsheet'!$C$14:$T$213,Index!B1689,Index!A1689))","v":0}]
["103704875","Staff_cols:Day_care_act, Staff_row:Staff_row88","Number",{"$f":"IF(ISERROR(INDEX('Trust - Frontsheet'!$C$14:$T$213,Index!B1690,Index!A1690)),0,INDEX('Trust - Frontsheet'!$C$14:$T$213,Index!B1690,Index!A1690))","v":0}]
["103704876","Staff_cols:Day_care_act, Staff_row:Staff_row89","Number",{"$f":"IF(ISERROR(INDEX('Trust - Frontsheet'!$C$14:$T$213,Index!B1691,Index!A1691)),0,INDEX('Trust - Frontsheet'!$C$14:$T$213,Index!B1691,Index!A1691))","v":0}]
["103704878","Staff_cols:Day_care_act, Staff_row:Staff_row90","Number",{"$f":"IF(ISERROR(INDEX('Trust - Frontsheet'!$C$14:$T$213,Index!B1692,Index!A1692)),0,INDEX('Trust - Frontsheet'!$C$14:$T$213,Index!B1692,Index!A1692))","v":0}]
["103704879","Staff_cols:Day_care_act, Staff_row:Staff_row91","Number",{"$f":"IF(ISERROR(INDEX('Trust - Frontsheet'!$C$14:$T$213,Index!B1693,Index!A1693)),0,INDEX('Trust - Frontsheet'!$C$14:$T$213,Index!B1693,Index!A1693))","v":0}]
["103704880","Staff_cols:Day_care_act, Staff_row:Staff_row92","Number",{"$f":"IF(ISERROR(INDEX('Trust - Frontsheet'!$C$14:$T$213,Index!B1694,Index!A1694)),0,INDEX('Trust - Frontsheet'!$C$14:$T$213,Index!B1694,Index!A1694))","v":0}]
["103704881","Staff_cols:Day_care_act, Staff_row:Staff_row93","Number",{"$f":"IF(ISERROR(INDEX('Trust - Frontsheet'!$C$14:$T$213,Index!B1695,Index!A1695)),0,INDEX('Trust - Frontsheet'!$C$14:$T$213,Index!B1695,Index!A1695))","v":0}]
["103704882","Staff_cols:Day_care_act, Staff_row:Staff_row94","Number",{"$f":"IF(ISERROR(INDEX('Trust - Frontsheet'!$C$14:$T$213,Index!B1696,Index!A1696)),0,INDEX('Trust - Frontsheet'!$C$14:$T$213,Index!B1696,Index!A1696))","v":0}]
["103704883","Staff_cols:Day_care_act, Staff_row:Staff_row95","Number",{"$f":"IF(ISERROR(INDEX('Trust - Frontsheet'!$C$14:$T$213,Index!B1697,Index!A1697)),0,INDEX('Trust - Frontsheet'!$C$14:$T$213,Index!B1697,Index!A1697))","v":0}]
["103704884","Staff_cols:Day_care_act, Staff_row:Staff_row96","Number",{"$f":"IF(ISERROR(INDEX('Trust - Frontsheet'!$C$14:$T$213,Index!B1698,Index!A1698)),0,INDEX('Trust - Frontsheet'!$C$14:$T$213,Index!B1698,Index!A1698))","v":0}]
["103704885","Staff_cols:Day_care_act, Staff_row:Staff_row97","Number",{"$f":"IF(ISERROR(INDEX('Trust - Frontsheet'!$C$14:$T$213,Index!B1699,Index!A1699)),0,INDEX('Trust - Frontsheet'!$C$14:$T$213,Index!B1699,Index!A1699))","v":0}]
["103704886","Staff_cols:Day_care_act, Staff_row:Staff_row98","Number",{"$f":"IF(ISERROR(INDEX('Trust - Frontsheet'!$C$14:$T$213,Index!B1700,Index!A1700)),0,INDEX('Trust - Frontsheet'!$C$14:$T$213,Index!B1700,Index!A1700))","v":0}]
["103704887","Staff_cols:Day_care_act, Staff_row:Staff_row99","Number",{"$f":"IF(ISERROR(INDEX('Trust - Frontsheet'!$C$14:$T$213,Index!B1701,Index!A1701)),0,INDEX('Trust - Frontsheet'!$C$14:$T$213,Index!B1701,Index!A1701))","v":0}]
["103704690","Staff_cols:Day_care_act, Staff_row:Staff_row100","Number",{"$f":"IF(ISERROR(INDEX('Trust - Frontsheet'!$C$14:$T$213,Index!B1702,Index!A1702)),0,INDEX('Trust - Frontsheet'!$C$14:$T$213,Index!B1702,Index!A1702))","v":0}]
["103704691","Staff_cols:Day_care_act, Staff_row:Staff_row101","Number",{"$f":"IF(ISERROR(INDEX('Trust - Frontsheet'!$C$14:$T$213,Index!B1703,Index!A1703)),0,INDEX('Trust - Frontsheet'!$C$14:$T$213,Index!B1703,Index!A1703))","v":0}]
["103704692","Staff_cols:Day_care_act, Staff_row:Staff_row102","Number",{"$f":"IF(ISERROR(INDEX('Trust - Frontsheet'!$C$14:$T$213,Index!B1704,Index!A1704)),0,INDEX('Trust - Frontsheet'!$C$14:$T$213,Index!B1704,Index!A1704))","v":0}]
["103704693","Staff_cols:Day_care_act, Staff_row:Staff_row103","Number",{"$f":"IF(ISERROR(INDEX('Trust - Frontsheet'!$C$14:$T$213,Index!B1705,Index!A1705)),0,INDEX('Trust - Frontsheet'!$C$14:$T$213,Index!B1705,Index!A1705))","v":0}]
["103704694","Staff_cols:Day_care_act, Staff_row:Staff_row104","Number",{"$f":"IF(ISERROR(INDEX('Trust - Frontsheet'!$C$14:$T$213,Index!B1706,Index!A1706)),0,INDEX('Trust - Frontsheet'!$C$14:$T$213,Index!B1706,Index!A1706))","v":0}]
["103704695","Staff_cols:Day_care_act, Staff_row:Staff_row105","Number",{"$f":"IF(ISERROR(INDEX('Trust - Frontsheet'!$C$14:$T$213,Index!B1707,Index!A1707)),0,INDEX('Trust - Frontsheet'!$C$14:$T$213,Index!B1707,Index!A1707))","v":0}]
["103704696","Staff_cols:Day_care_act, Staff_row:Staff_row106","Number",{"$f":"IF(ISERROR(INDEX('Trust - Frontsheet'!$C$14:$T$213,Index!B1708,Index!A1708)),0,INDEX('Trust - Frontsheet'!$C$14:$T$213,Index!B1708,Index!A1708))","v":0}]
["103704697","Staff_cols:Day_care_act, Staff_row:Staff_row107","Number",{"$f":"IF(ISERROR(INDEX('Trust - Frontsheet'!$C$14:$T$213,Index!B1709,Index!A1709)),0,INDEX('Trust - Frontsheet'!$C$14:$T$213,Index!B1709,Index!A1709))","v":0}]
["103704698","Staff_cols:Day_care_act, Staff_row:Staff_row108","Number",{"$f":"IF(ISERROR(INDEX('Trust - Frontsheet'!$C$14:$T$213,Index!B1710,Index!A1710)),0,INDEX('Trust - Frontsheet'!$C$14:$T$213,Index!B1710,Index!A1710))","v":0}]
["103704699","Staff_cols:Day_care_act, Staff_row:Staff_row109","Number",{"$f":"IF(ISERROR(INDEX('Trust - Frontsheet'!$C$14:$T$213,Index!B1711,Index!A1711)),0,INDEX('Trust - Frontsheet'!$C$14:$T$213,Index!B1711,Index!A1711))","v":0}]
["103704701","Staff_cols:Day_care_act, Staff_row:Staff_row110","Number",{"$f":"IF(ISERROR(INDEX('Trust - Frontsheet'!$C$14:$T$213,Index!B1712,Index!A1712)),0,INDEX('Trust - Frontsheet'!$C$14:$T$213,Index!B1712,Index!A1712))","v":0}]
["103704702","Staff_cols:Day_care_act, Staff_row:Staff_row111","Number",{"$f":"IF(ISERROR(INDEX('Trust - Frontsheet'!$C$14:$T$213,Index!B1713,Index!A1713)),0,INDEX('Trust - Frontsheet'!$C$14:$T$213,Index!B1713,Index!A1713))","v":0}]
["103704703","Staff_cols:Day_care_act, Staff_row:Staff_row112","Number",{"$f":"IF(ISERROR(INDEX('Trust - Frontsheet'!$C$14:$T$213,Index!B1714,Index!A1714)),0,INDEX('Trust - Frontsheet'!$C$14:$T$213,Index!B1714,Index!A1714))","v":0}]
["103704704","Staff_cols:Day_care_act, Staff_row:Staff_row113","Number",{"$f":"IF(ISERROR(INDEX('Trust - Frontsheet'!$C$14:$T$213,Index!B1715,Index!A1715)),0,INDEX('Trust - Frontsheet'!$C$14:$T$213,Index!B1715,Index!A1715))","v":0}]
["103704705","Staff_cols:Day_care_act, Staff_row:Staff_row114","Number",{"$f":"IF(ISERROR(INDEX('Trust - Frontsheet'!$C$14:$T$213,Index!B1716,Index!A1716)),0,INDEX('Trust - Frontsheet'!$C$14:$T$213,Index!B1716,Index!A1716))","v":0}]
["103704706","Staff_cols:Day_care_act, Staff_row:Staff_row115","Number",{"$f":"IF(ISERROR(INDEX('Trust - Frontsheet'!$C$14:$T$213,Index!B1717,Index!A1717)),0,INDEX('Trust - Frontsheet'!$C$14:$T$213,Index!B1717,Index!A1717))","v":0}]
["103704707","Staff_cols:Day_care_act, Staff_row:Staff_row116","Number",{"$f":"IF(ISERROR(INDEX('Trust - Frontsheet'!$C$14:$T$213,Index!B1718,Index!A1718)),0,INDEX('Trust - Frontsheet'!$C$14:$T$213,Index!B1718,Index!A1718))","v":0}]
["103704708","Staff_cols:Day_care_act, Staff_row:Staff_row117","Number",{"$f":"IF(ISERROR(INDEX('Trust - Frontsheet'!$C$14:$T$213,Index!B1719,Index!A1719)),0,INDEX('Trust - Frontsheet'!$C$14:$T$213,Index!B1719,Index!A1719))","v":0}]
["103704709","Staff_cols:Day_care_act, Staff_row:Staff_row118","Number",{"$f":"IF(ISERROR(INDEX('Trust - Frontsheet'!$C$14:$T$213,Index!B1720,Index!A1720)),0,INDEX('Trust - Frontsheet'!$C$14:$T$213,Index!B1720,Index!A1720))","v":0}]
["103704710","Staff_cols:Day_care_act, Staff_row:Staff_row119","Number",{"$f":"IF(ISERROR(INDEX('Trust - Frontsheet'!$C$14:$T$213,Index!B1721,Index!A1721)),0,INDEX('Trust - Frontsheet'!$C$14:$T$213,Index!B1721,Index!A1721))","v":0}]
["103704712","Staff_cols:Day_care_act, Staff_row:Staff_row120","Number",{"$f":"IF(ISERROR(INDEX('Trust - Frontsheet'!$C$14:$T$213,Index!B1722,Index!A1722)),0,INDEX('Trust - Frontsheet'!$C$14:$T$213,Index!B1722,Index!A1722))","v":0}]
["103704713","Staff_cols:Day_care_act, Staff_row:Staff_row121","Number",{"$f":"IF(ISERROR(INDEX('Trust - Frontsheet'!$C$14:$T$213,Index!B1723,Index!A1723)),0,INDEX('Trust - Frontsheet'!$C$14:$T$213,Index!B1723,Index!A1723))","v":0}]
["103704714","Staff_cols:Day_care_act, Staff_row:Staff_row122","Number",{"$f":"IF(ISERROR(INDEX('Trust - Frontsheet'!$C$14:$T$213,Index!B1724,Index!A1724)),0,INDEX('Trust - Frontsheet'!$C$14:$T$213,Index!B1724,Index!A1724))","v":0}]
["103704715","Staff_cols:Day_care_act, Staff_row:Staff_row123","Number",{"$f":"IF(ISERROR(INDEX('Trust - Frontsheet'!$C$14:$T$213,Index!B1725,Index!A1725)),0,INDEX('Trust - Frontsheet'!$C$14:$T$213,Index!B1725,Index!A1725))","v":0}]
["103704716","Staff_cols:Day_care_act, Staff_row:Staff_row124","Number",{"$f":"IF(ISERROR(INDEX('Trust - Frontsheet'!$C$14:$T$213,Index!B1726,Index!A1726)),0,INDEX('Trust - Frontsheet'!$C$14:$T$213,Index!B1726,Index!A1726))","v":0}]
["103704717","Staff_cols:Day_care_act, Staff_row:Staff_row125","Number",{"$f":"IF(ISERROR(INDEX('Trust - Frontsheet'!$C$14:$T$213,Index!B1727,Index!A1727)),0,INDEX('Trust - Frontsheet'!$C$14:$T$213,Index!B1727,Index!A1727))","v":0}]
["103704718","Staff_cols:Day_care_act, Staff_row:Staff_row126","Number",{"$f":"IF(ISERROR(INDEX('Trust - Frontsheet'!$C$14:$T$213,Index!B1728,Index!A1728)),0,INDEX('Trust - Frontsheet'!$C$14:$T$213,Index!B1728,Index!A1728))","v":0}]
["103704719","Staff_cols:Day_care_act, Staff_row:Staff_row127","Number",{"$f":"IF(ISERROR(INDEX('Trust - Frontsheet'!$C$14:$T$213,Index!B1729,Index!A1729)),0,INDEX('Trust - Frontsheet'!$C$14:$T$213,Index!B1729,Index!A1729))","v":0}]
["103704720","Staff_cols:Day_care_act, Staff_row:Staff_row128","Number",{"$f":"IF(ISERROR(INDEX('Trust - Frontsheet'!$C$14:$T$213,Index!B1730,Index!A1730)),0,INDEX('Trust - Frontsheet'!$C$14:$T$213,Index!B1730,Index!A1730))","v":0}]
["103704721","Staff_cols:Day_care_act, Staff_row:Staff_row129","Number",{"$f":"IF(ISERROR(INDEX('Trust - Frontsheet'!$C$14:$T$213,Index!B1731,Index!A1731)),0,INDEX('Trust - Frontsheet'!$C$14:$T$213,Index!B1731,Index!A1731))","v":0}]
["103704723","Staff_cols:Day_care_act, Staff_row:Staff_row130","Number",{"$f":"IF(ISERROR(INDEX('Trust - Frontsheet'!$C$14:$T$213,Index!B1732,Index!A1732)),0,INDEX('Trust - Frontsheet'!$C$14:$T$213,Index!B1732,Index!A1732))","v":0}]
["103704724","Staff_cols:Day_care_act, Staff_row:Staff_row131","Number",{"$f":"IF(ISERROR(INDEX('Trust - Frontsheet'!$C$14:$T$213,Index!B1733,Index!A1733)),0,INDEX('Trust - Frontsheet'!$C$14:$T$213,Index!B1733,Index!A1733))","v":0}]
["103704725","Staff_cols:Day_care_act, Staff_row:Staff_row132","Number",{"$f":"IF(ISERROR(INDEX('Trust - Frontsheet'!$C$14:$T$213,Index!B1734,Index!A1734)),0,INDEX('Trust - Frontsheet'!$C$14:$T$213,Index!B1734,Index!A1734))","v":0}]
["103704726","Staff_cols:Day_care_act, Staff_row:Staff_row133","Number",{"$f":"IF(ISERROR(INDEX('Trust - Frontsheet'!$C$14:$T$213,Index!B1735,Index!A1735)),0,INDEX('Trust - Frontsheet'!$C$14:$T$213,Index!B1735,Index!A1735))","v":0}]
["103704727","Staff_cols:Day_care_act, Staff_row:Staff_row134","Number",{"$f":"IF(ISERROR(INDEX('Trust - Frontsheet'!$C$14:$T$213,Index!B1736,Index!A1736)),0,INDEX('Trust - Frontsheet'!$C$14:$T$213,Index!B1736,Index!A1736))","v":0}]
["103704728","Staff_cols:Day_care_act, Staff_row:Staff_row135","Number",{"$f":"IF(ISERROR(INDEX('Trust - Frontsheet'!$C$14:$T$213,Index!B1737,Index!A1737)),0,INDEX('Trust - Frontsheet'!$C$14:$T$213,Index!B1737,Index!A1737))","v":0}]
["103704729","Staff_cols:Day_care_act, Staff_row:Staff_row136","Number",{"$f":"IF(ISERROR(INDEX('Trust - Frontsheet'!$C$14:$T$213,Index!B1738,Index!A1738)),0,INDEX('Trust - Frontsheet'!$C$14:$T$213,Index!B1738,Index!A1738))","v":0}]
["103704730","Staff_cols:Day_care_act, Staff_row:Staff_row137","Number",{"$f":"IF(ISERROR(INDEX('Trust - Frontsheet'!$C$14:$T$213,Index!B1739,Index!A1739)),0,INDEX('Trust - Frontsheet'!$C$14:$T$213,Index!B1739,Index!A1739))","v":0}]
["103704731","Staff_cols:Day_care_act, Staff_row:Staff_row138","Number",{"$f":"IF(ISERROR(INDEX('Trust - Frontsheet'!$C$14:$T$213,Index!B1740,Index!A1740)),0,INDEX('Trust - Frontsheet'!$C$14:$T$213,Index!B1740,Index!A1740))","v":0}]
["103704732","Staff_cols:Day_care_act, Staff_row:Staff_row139","Number",{"$f":"IF(ISERROR(INDEX('Trust - Frontsheet'!$C$14:$T$213,Index!B1741,Index!A1741)),0,INDEX('Trust - Frontsheet'!$C$14:$T$213,Index!B1741,Index!A1741))","v":0}]
["103704734","Staff_cols:Day_care_act, Staff_row:Staff_row140","Number",{"$f":"IF(ISERROR(INDEX('Trust - Frontsheet'!$C$14:$T$213,Index!B1742,Index!A1742)),0,INDEX('Trust - Frontsheet'!$C$14:$T$213,Index!B1742,Index!A1742))","v":0}]
["103704735","Staff_cols:Day_care_act, Staff_row:Staff_row141","Number",{"$f":"IF(ISERROR(INDEX('Trust - Frontsheet'!$C$14:$T$213,Index!B1743,Index!A1743)),0,INDEX('Trust - Frontsheet'!$C$14:$T$213,Index!B1743,Index!A1743))","v":0}]
["103704736","Staff_cols:Day_care_act, Staff_row:Staff_row142","Number",{"$f":"IF(ISERROR(INDEX('Trust - Frontsheet'!$C$14:$T$213,Index!B1744,Index!A1744)),0,INDEX('Trust - Frontsheet'!$C$14:$T$213,Index!B1744,Index!A1744))","v":0}]
["103704737","Staff_cols:Day_care_act, Staff_row:Staff_row143","Number",{"$f":"IF(ISERROR(INDEX('Trust - Frontsheet'!$C$14:$T$213,Index!B1745,Index!A1745)),0,INDEX('Trust - Frontsheet'!$C$14:$T$213,Index!B1745,Index!A1745))","v":0}]
["103704738","Staff_cols:Day_care_act, Staff_row:Staff_row144","Number",{"$f":"IF(ISERROR(INDEX('Trust - Frontsheet'!$C$14:$T$213,Index!B1746,Index!A1746)),0,INDEX('Trust - Frontsheet'!$C$14:$T$213,Index!B1746,Index!A1746))","v":0}]
["103704739","Staff_cols:Day_care_act, Staff_row:Staff_row145","Number",{"$f":"IF(ISERROR(INDEX('Trust - Frontsheet'!$C$14:$T$213,Index!B1747,Index!A1747)),0,INDEX('Trust - Frontsheet'!$C$14:$T$213,Index!B1747,Index!A1747))","v":0}]
["103704740","Staff_cols:Day_care_act, Staff_row:Staff_row146","Number",{"$f":"IF(ISERROR(INDEX('Trust - Frontsheet'!$C$14:$T$213,Index!B1748,Index!A1748)),0,INDEX('Trust - Frontsheet'!$C$14:$T$213,Index!B1748,Index!A1748))","v":0}]
["103704741","Staff_cols:Day_care_act, Staff_row:Staff_row147","Number",{"$f":"IF(ISERROR(INDEX('Trust - Frontsheet'!$C$14:$T$213,Index!B1749,Index!A1749)),0,INDEX('Trust - Frontsheet'!$C$14:$T$213,Index!B1749,Index!A1749))","v":0}]
["103704742","Staff_cols:Day_care_act, Staff_row:Staff_row148","Number",{"$f":"IF(ISERROR(INDEX('Trust - Frontsheet'!$C$14:$T$213,Index!B1750,Index!A1750)),0,INDEX('Trust - Frontsheet'!$C$14:$T$213,Index!B1750,Index!A1750))","v":0}]
["103704743","Staff_cols:Day_care_act, Staff_row:Staff_row149","Number",{"$f":"IF(ISERROR(INDEX('Trust - Frontsheet'!$C$14:$T$213,Index!B1751,Index!A1751)),0,INDEX('Trust - Frontsheet'!$C$14:$T$213,Index!B1751,Index!A1751))","v":0}]
["103704745","Staff_cols:Day_care_act, Staff_row:Staff_row150","Number",{"$f":"IF(ISERROR(INDEX('Trust - Frontsheet'!$C$14:$T$213,Index!B1752,Index!A1752)),0,INDEX('Trust - Frontsheet'!$C$14:$T$213,Index!B1752,Index!A1752))","v":0}]
["103704746","Staff_cols:Day_care_act, Staff_row:Staff_row151","Number",{"$f":"IF(ISERROR(INDEX('Trust - Frontsheet'!$C$14:$T$213,Index!B1753,Index!A1753)),0,INDEX('Trust - Frontsheet'!$C$14:$T$213,Index!B1753,Index!A1753))","v":0}]
["103704747","Staff_cols:Day_care_act, Staff_row:Staff_row152","Number",{"$f":"IF(ISERROR(INDEX('Trust - Frontsheet'!$C$14:$T$213,Index!B1754,Index!A1754)),0,INDEX('Trust - Frontsheet'!$C$14:$T$213,Index!B1754,Index!A1754))","v":0}]
["103704748","Staff_cols:Day_care_act, Staff_row:Staff_row153","Number",{"$f":"IF(ISERROR(INDEX('Trust - Frontsheet'!$C$14:$T$213,Index!B1755,Index!A1755)),0,INDEX('Trust - Frontsheet'!$C$14:$T$213,Index!B1755,Index!A1755))","v":0}]
["103704749","Staff_cols:Day_care_act, Staff_row:Staff_row154","Number",{"$f":"IF(ISERROR(INDEX('Trust - Frontsheet'!$C$14:$T$213,Index!B1756,Index!A1756)),0,INDEX('Trust - Frontsheet'!$C$14:$T$213,Index!B1756,Index!A1756))","v":0}]
["103704750","Staff_cols:Day_care_act, Staff_row:Staff_row155","Number",{"$f":"IF(ISERROR(INDEX('Trust - Frontsheet'!$C$14:$T$213,Index!B1757,Index!A1757)),0,INDEX('Trust - Frontsheet'!$C$14:$T$213,Index!B1757,Index!A1757))","v":0}]
["103704751","Staff_cols:Day_care_act, Staff_row:Staff_row156","Number",{"$f":"IF(ISERROR(INDEX('Trust - Frontsheet'!$C$14:$T$213,Index!B1758,Index!A1758)),0,INDEX('Trust - Frontsheet'!$C$14:$T$213,Index!B1758,Index!A1758))","v":0}]
["103704752","Staff_cols:Day_care_act, Staff_row:Staff_row157","Number",{"$f":"IF(ISERROR(INDEX('Trust - Frontsheet'!$C$14:$T$213,Index!B1759,Index!A1759)),0,INDEX('Trust - Frontsheet'!$C$14:$T$213,Index!B1759,Index!A1759))","v":0}]
["103704753","Staff_cols:Day_care_act, Staff_row:Staff_row158","Number",{"$f":"IF(ISERROR(INDEX('Trust - Frontsheet'!$C$14:$T$213,Index!B1760,Index!A1760)),0,INDEX('Trust - Frontsheet'!$C$14:$T$213,Index!B1760,Index!A1760))","v":0}]
["103704754","Staff_cols:Day_care_act, Staff_row:Staff_row159","Number",{"$f":"IF(ISERROR(INDEX('Trust - Frontsheet'!$C$14:$T$213,Index!B1761,Index!A1761)),0,INDEX('Trust - Frontsheet'!$C$14:$T$213,Index!B1761,Index!A1761))","v":0}]
["103704756","Staff_cols:Day_care_act, Staff_row:Staff_row160","Number",{"$f":"IF(ISERROR(INDEX('Trust - Frontsheet'!$C$14:$T$213,Index!B1762,Index!A1762)),0,INDEX('Trust - Frontsheet'!$C$14:$T$213,Index!B1762,Index!A1762))","v":0}]
["103704757","Staff_cols:Day_care_act, Staff_row:Staff_row161","Number",{"$f":"IF(ISERROR(INDEX('Trust - Frontsheet'!$C$14:$T$213,Index!B1763,Index!A1763)),0,INDEX('Trust - Frontsheet'!$C$14:$T$213,Index!B1763,Index!A1763))","v":0}]
["103704758","Staff_cols:Day_care_act, Staff_row:Staff_row162","Number",{"$f":"IF(ISERROR(INDEX('Trust - Frontsheet'!$C$14:$T$213,Index!B1764,Index!A1764)),0,INDEX('Trust - Frontsheet'!$C$14:$T$213,Index!B1764,Index!A1764))","v":0}]
["103704759","Staff_cols:Day_care_act, Staff_row:Staff_row163","Number",{"$f":"IF(ISERROR(INDEX('Trust - Frontsheet'!$C$14:$T$213,Index!B1765,Index!A1765)),0,INDEX('Trust - Frontsheet'!$C$14:$T$213,Index!B1765,Index!A1765))","v":0}]
["103704760","Staff_cols:Day_care_act, Staff_row:Staff_row164","Number",{"$f":"IF(ISERROR(INDEX('Trust - Frontsheet'!$C$14:$T$213,Index!B1766,Index!A1766)),0,INDEX('Trust - Frontsheet'!$C$14:$T$213,Index!B1766,Index!A1766))","v":0}]
["103704761","Staff_cols:Day_care_act, Staff_row:Staff_row165","Number",{"$f":"IF(ISERROR(INDEX('Trust - Frontsheet'!$C$14:$T$213,Index!B1767,Index!A1767)),0,INDEX('Trust - Frontsheet'!$C$14:$T$213,Index!B1767,Index!A1767))","v":0}]
["103704762","Staff_cols:Day_care_act, Staff_row:Staff_row166","Number",{"$f":"IF(ISERROR(INDEX('Trust - Frontsheet'!$C$14:$T$213,Index!B1768,Index!A1768)),0,INDEX('Trust - Frontsheet'!$C$14:$T$213,Index!B1768,Index!A1768))","v":0}]
["103704763","Staff_cols:Day_care_act, Staff_row:Staff_row167","Number",{"$f":"IF(ISERROR(INDEX('Trust - Frontsheet'!$C$14:$T$213,Index!B1769,Index!A1769)),0,INDEX('Trust - Frontsheet'!$C$14:$T$213,Index!B1769,Index!A1769))","v":0}]
["103704764","Staff_cols:Day_care_act, Staff_row:Staff_row168","Number",{"$f":"IF(ISERROR(INDEX('Trust - Frontsheet'!$C$14:$T$213,Index!B1770,Index!A1770)),0,INDEX('Trust - Frontsheet'!$C$14:$T$213,Index!B1770,Index!A1770))","v":0}]
["103704765","Staff_cols:Day_care_act, Staff_row:Staff_row169","Number",{"$f":"IF(ISERROR(INDEX('Trust - Frontsheet'!$C$14:$T$213,Index!B1771,Index!A1771)),0,INDEX('Trust - Frontsheet'!$C$14:$T$213,Index!B1771,Index!A1771))","v":0}]
["103704767","Staff_cols:Day_care_act, Staff_row:Staff_row170","Number",{"$f":"IF(ISERROR(INDEX('Trust - Frontsheet'!$C$14:$T$213,Index!B1772,Index!A1772)),0,INDEX('Trust - Frontsheet'!$C$14:$T$213,Index!B1772,Index!A1772))","v":0}]
["103704768","Staff_cols:Day_care_act, Staff_row:Staff_row171","Number",{"$f":"IF(ISERROR(INDEX('Trust - Frontsheet'!$C$14:$T$213,Index!B1773,Index!A1773)),0,INDEX('Trust - Frontsheet'!$C$14:$T$213,Index!B1773,Index!A1773))","v":0}]
["103704769","Staff_cols:Day_care_act, Staff_row:Staff_row172","Number",{"$f":"IF(ISERROR(INDEX('Trust - Frontsheet'!$C$14:$T$213,Index!B1774,Index!A1774)),0,INDEX('Trust - Frontsheet'!$C$14:$T$213,Index!B1774,Index!A1774))","v":0}]
["103704770","Staff_cols:Day_care_act, Staff_row:Staff_row173","Number",{"$f":"IF(ISERROR(INDEX('Trust - Frontsheet'!$C$14:$T$213,Index!B1775,Index!A1775)),0,INDEX('Trust - Frontsheet'!$C$14:$T$213,Index!B1775,Index!A1775))","v":0}]
["103704771","Staff_cols:Day_care_act, Staff_row:Staff_row174","Number",{"$f":"IF(ISERROR(INDEX('Trust - Frontsheet'!$C$14:$T$213,Index!B1776,Index!A1776)),0,INDEX('Trust - Frontsheet'!$C$14:$T$213,Index!B1776,Index!A1776))","v":0}]
["103704772","Staff_cols:Day_care_act, Staff_row:Staff_row175","Number",{"$f":"IF(ISERROR(INDEX('Trust - Frontsheet'!$C$14:$T$213,Index!B1777,Index!A1777)),0,INDEX('Trust - Frontsheet'!$C$14:$T$213,Index!B1777,Index!A1777))","v":0}]
["103704773","Staff_cols:Day_care_act, Staff_row:Staff_row176","Number",{"$f":"IF(ISERROR(INDEX('Trust - Frontsheet'!$C$14:$T$213,Index!B1778,Index!A1778)),0,INDEX('Trust - Frontsheet'!$C$14:$T$213,Index!B1778,Index!A1778))","v":0}]
["103704774","Staff_cols:Day_care_act, Staff_row:Staff_row177","Number",{"$f":"IF(ISERROR(INDEX('Trust - Frontsheet'!$C$14:$T$213,Index!B1779,Index!A1779)),0,INDEX('Trust - Frontsheet'!$C$14:$T$213,Index!B1779,Index!A1779))","v":0}]
["103704775","Staff_cols:Day_care_act, Staff_row:Staff_row178","Number",{"$f":"IF(ISERROR(INDEX('Trust - Frontsheet'!$C$14:$T$213,Index!B1780,Index!A1780)),0,INDEX('Trust - Frontsheet'!$C$14:$T$213,Index!B1780,Index!A1780))","v":0}]
["103704776","Staff_cols:Day_care_act, Staff_row:Staff_row179","Number",{"$f":"IF(ISERROR(INDEX('Trust - Frontsheet'!$C$14:$T$213,Index!B1781,Index!A1781)),0,INDEX('Trust - Frontsheet'!$C$14:$T$213,Index!B1781,Index!A1781))","v":0}]
["103704778","Staff_cols:Day_care_act, Staff_row:Staff_row180","Number",{"$f":"IF(ISERROR(INDEX('Trust - Frontsheet'!$C$14:$T$213,Index!B1782,Index!A1782)),0,INDEX('Trust - Frontsheet'!$C$14:$T$213,Index!B1782,Index!A1782))","v":0}]
["103704779","Staff_cols:Day_care_act, Staff_row:Staff_row181","Number",{"$f":"IF(ISERROR(INDEX('Trust - Frontsheet'!$C$14:$T$213,Index!B1783,Index!A1783)),0,INDEX('Trust - Frontsheet'!$C$14:$T$213,Index!B1783,Index!A1783))","v":0}]
["103704780","Staff_cols:Day_care_act, Staff_row:Staff_row182","Number",{"$f":"IF(ISERROR(INDEX('Trust - Frontsheet'!$C$14:$T$213,Index!B1784,Index!A1784)),0,INDEX('Trust - Frontsheet'!$C$14:$T$213,Index!B1784,Index!A1784))","v":0}]
["103704781","Staff_cols:Day_care_act, Staff_row:Staff_row183","Number",{"$f":"IF(ISERROR(INDEX('Trust - Frontsheet'!$C$14:$T$213,Index!B1785,Index!A1785)),0,INDEX('Trust - Frontsheet'!$C$14:$T$213,Index!B1785,Index!A1785))","v":0}]
["103704782","Staff_cols:Day_care_act, Staff_row:Staff_row184","Number",{"$f":"IF(ISERROR(INDEX('Trust - Frontsheet'!$C$14:$T$213,Index!B1786,Index!A1786)),0,INDEX('Trust - Frontsheet'!$C$14:$T$213,Index!B1786,Index!A1786))","v":0}]
["103704783","Staff_cols:Day_care_act, Staff_row:Staff_row185","Number",{"$f":"IF(ISERROR(INDEX('Trust - Frontsheet'!$C$14:$T$213,Index!B1787,Index!A1787)),0,INDEX('Trust - Frontsheet'!$C$14:$T$213,Index!B1787,Index!A1787))","v":0}]
["103704784","Staff_cols:Day_care_act, Staff_row:Staff_row186","Number",{"$f":"IF(ISERROR(INDEX('Trust - Frontsheet'!$C$14:$T$213,Index!B1788,Index!A1788)),0,INDEX('Trust - Frontsheet'!$C$14:$T$213,Index!B1788,Index!A1788))","v":0}]
["103704785","Staff_cols:Day_care_act, Staff_row:Staff_row187","Number",{"$f":"IF(ISERROR(INDEX('Trust - Frontsheet'!$C$14:$T$213,Index!B1789,Index!A1789)),0,INDEX('Trust - Frontsheet'!$C$14:$T$213,Index!B1789,Index!A1789))","v":0}]
["103704786","Staff_cols:Day_care_act, Staff_row:Staff_row188","Number",{"$f":"IF(ISERROR(INDEX('Trust - Frontsheet'!$C$14:$T$213,Index!B1790,Index!A1790)),0,INDEX('Trust - Frontsheet'!$C$14:$T$213,Index!B1790,Index!A1790))","v":0}]
["103704787","Staff_cols:Day_care_act, Staff_row:Staff_row189","Number",{"$f":"IF(ISERROR(INDEX('Trust - Frontsheet'!$C$14:$T$213,Index!B1791,Index!A1791)),0,INDEX('Trust - Frontsheet'!$C$14:$T$213,Index!B1791,Index!A1791))","v":0}]
["103704789","Staff_cols:Day_care_act, Staff_row:Staff_row190","Number",{"$f":"IF(ISERROR(INDEX('Trust - Frontsheet'!$C$14:$T$213,Index!B1792,Index!A1792)),0,INDEX('Trust - Frontsheet'!$C$14:$T$213,Index!B1792,Index!A1792))","v":0}]
["103704790","Staff_cols:Day_care_act, Staff_row:Staff_row191","Number",{"$f":"IF(ISERROR(INDEX('Trust - Frontsheet'!$C$14:$T$213,Index!B1793,Index!A1793)),0,INDEX('Trust - Frontsheet'!$C$14:$T$213,Index!B1793,Index!A1793))","v":0}]
["103704791","Staff_cols:Day_care_act, Staff_row:Staff_row192","Number",{"$f":"IF(ISERROR(INDEX('Trust - Frontsheet'!$C$14:$T$213,Index!B1794,Index!A1794)),0,INDEX('Trust - Frontsheet'!$C$14:$T$213,Index!B1794,Index!A1794))","v":0}]
["103704792","Staff_cols:Day_care_act, Staff_row:Staff_row193","Number",{"$f":"IF(ISERROR(INDEX('Trust - Frontsheet'!$C$14:$T$213,Index!B1795,Index!A1795)),0,INDEX('Trust - Frontsheet'!$C$14:$T$213,Index!B1795,Index!A1795))","v":0}]
["103704793","Staff_cols:Day_care_act, Staff_row:Staff_row194","Number",{"$f":"IF(ISERROR(INDEX('Trust - Frontsheet'!$C$14:$T$213,Index!B1796,Index!A1796)),0,INDEX('Trust - Frontsheet'!$C$14:$T$213,Index!B1796,Index!A1796))","v":0}]
["103704794","Staff_cols:Day_care_act, Staff_row:Staff_row195","Number",{"$f":"IF(ISERROR(INDEX('Trust - Frontsheet'!$C$14:$T$213,Index!B1797,Index!A1797)),0,INDEX('Trust - Frontsheet'!$C$14:$T$213,Index!B1797,Index!A1797))","v":0}]
["103704795","Staff_cols:Day_care_act, Staff_row:Staff_row196","Number",{"$f":"IF(ISERROR(INDEX('Trust - Frontsheet'!$C$14:$T$213,Index!B1798,Index!A1798)),0,INDEX('Trust - Frontsheet'!$C$14:$T$213,Index!B1798,Index!A1798))","v":0}]
["103704796","Staff_cols:Day_care_act, Staff_row:Staff_row197","Number",{"$f":"IF(ISERROR(INDEX('Trust - Frontsheet'!$C$14:$T$213,Index!B1799,Index!A1799)),0,INDEX('Trust - Frontsheet'!$C$14:$T$213,Index!B1799,Index!A1799))","v":0}]
["103704797","Staff_cols:Day_care_act, Staff_row:Staff_row198","Number",{"$f":"IF(ISERROR(INDEX('Trust - Frontsheet'!$C$14:$T$213,Index!B1800,Index!A1800)),0,INDEX('Trust - Frontsheet'!$C$14:$T$213,Index!B1800,Index!A1800))","v":0}]
["103704798","Staff_cols:Day_care_act, Staff_row:Staff_row199","Number",{"$f":"IF(ISERROR(INDEX('Trust - Frontsheet'!$C$14:$T$213,Index!B1801,Index!A1801)),0,INDEX('Trust - Frontsheet'!$C$14:$T$213,Index!B1801,Index!A1801))","v":0}]
["103704801","Staff_cols:Day_care_act, Staff_row:Staff_row200","Number",{"$f":"IF(ISERROR(INDEX('Trust - Frontsheet'!$C$14:$T$213,Index!B1802,Index!A1802)),0,INDEX('Trust - Frontsheet'!$C$14:$T$213,Index!B1802,Index!A1802))","v":0}]
["103706088","Staff_cols:Night_nurse_plan, Staff_row:Staff_row1","Number",{"$f":"IF(ISERROR(INDEX('Trust - Frontsheet'!$C$14:$T$213,Index!B1803,Index!A1803)),0,INDEX('Trust - Frontsheet'!$C$14:$T$213,Index!B1803,Index!A1803))","v":1023}]
["103706199","Staff_cols:Night_nurse_plan, Staff_row:Staff_row2","Number",{"$f":"IF(ISERROR(INDEX('Trust - Frontsheet'!$C$14:$T$213,Index!B1804,Index!A1804)),0,INDEX('Trust - Frontsheet'!$C$14:$T$213,Index!B1804,Index!A1804))","v":1023}]
["103706211","Staff_cols:Night_nurse_plan, Staff_row:Staff_row3","Number",{"$f":"IF(ISERROR(INDEX('Trust - Frontsheet'!$C$14:$T$213,Index!B1805,Index!A1805)),0,INDEX('Trust - Frontsheet'!$C$14:$T$213,Index!B1805,Index!A1805))","v":682}]
["103706222","Staff_cols:Night_nurse_plan, Staff_row:Staff_row4","Number",{"$f":"IF(ISERROR(INDEX('Trust - Frontsheet'!$C$14:$T$213,Index!B1806,Index!A1806)),0,INDEX('Trust - Frontsheet'!$C$14:$T$213,Index!B1806,Index!A1806))","v":1023}]
["103706233","Staff_cols:Night_nurse_plan, Staff_row:Staff_row5","Number",{"$f":"IF(ISERROR(INDEX('Trust - Frontsheet'!$C$14:$T$213,Index!B1807,Index!A1807)),0,INDEX('Trust - Frontsheet'!$C$14:$T$213,Index!B1807,Index!A1807))","v":1023}]
["103706244","Staff_cols:Night_nurse_plan, Staff_row:Staff_row6","Number",{"$f":"IF(ISERROR(INDEX('Trust - Frontsheet'!$C$14:$T$213,Index!B1808,Index!A1808)),0,INDEX('Trust - Frontsheet'!$C$14:$T$213,Index!B1808,Index!A1808))","v":682}]
["103706255","Staff_cols:Night_nurse_plan, Staff_row:Staff_row7","Number",{"$f":"IF(ISERROR(INDEX('Trust - Frontsheet'!$C$14:$T$213,Index!B1809,Index!A1809)),0,INDEX('Trust - Frontsheet'!$C$14:$T$213,Index!B1809,Index!A1809))","v":677.5}]
["103706266","Staff_cols:Night_nurse_plan, Staff_row:Staff_row8","Number",{"$f":"IF(ISERROR(INDEX('Trust - Frontsheet'!$C$14:$T$213,Index!B1810,Index!A1810)),0,INDEX('Trust - Frontsheet'!$C$14:$T$213,Index!B1810,Index!A1810))","v":682}]
["103706277","Staff_cols:Night_nurse_plan, Staff_row:Staff_row9","Number",{"$f":"IF(ISERROR(INDEX('Trust - Frontsheet'!$C$14:$T$213,Index!B1811,Index!A1811)),0,INDEX('Trust - Frontsheet'!$C$14:$T$213,Index!B1811,Index!A1811))","v":682}]
["103706089","Staff_cols:Night_nurse_plan, Staff_row:Staff_row10","Number",{"$f":"IF(ISERROR(INDEX('Trust - Frontsheet'!$C$14:$T$213,Index!B1812,Index!A1812)),0,INDEX('Trust - Frontsheet'!$C$14:$T$213,Index!B1812,Index!A1812))","v":1023}]
["103706100","Staff_cols:Night_nurse_plan, Staff_row:Staff_row11","Number",{"$f":"IF(ISERROR(INDEX('Trust - Frontsheet'!$C$14:$T$213,Index!B1813,Index!A1813)),0,INDEX('Trust - Frontsheet'!$C$14:$T$213,Index!B1813,Index!A1813))","v":1364}]
["103706111","Staff_cols:Night_nurse_plan, Staff_row:Staff_row12","Number",{"$f":"IF(ISERROR(INDEX('Trust - Frontsheet'!$C$14:$T$213,Index!B1814,Index!A1814)),0,INDEX('Trust - Frontsheet'!$C$14:$T$213,Index!B1814,Index!A1814))","v":1023}]
["103706122","Staff_cols:Night_nurse_plan, Staff_row:Staff_row13","Number",{"$f":"IF(ISERROR(INDEX('Trust - Frontsheet'!$C$14:$T$213,Index!B1815,Index!A1815)),0,INDEX('Trust - Frontsheet'!$C$14:$T$213,Index!B1815,Index!A1815))","v":132}]
["103706133","Staff_cols:Night_nurse_plan, Staff_row:Staff_row14","Number",{"$f":"IF(ISERROR(INDEX('Trust - Frontsheet'!$C$14:$T$213,Index!B1816,Index!A1816)),0,INDEX('Trust - Frontsheet'!$C$14:$T$213,Index!B1816,Index!A1816))","v":1023}]
["103706144","Staff_cols:Night_nurse_plan, Staff_row:Staff_row15","Number",{"$f":"IF(ISERROR(INDEX('Trust - Frontsheet'!$C$14:$T$213,Index!B1817,Index!A1817)),0,INDEX('Trust - Frontsheet'!$C$14:$T$213,Index!B1817,Index!A1817))","v":1023}]
["103706155","Staff_cols:Night_nurse_plan, Staff_row:Staff_row16","Number",{"$f":"IF(ISERROR(INDEX('Trust - Frontsheet'!$C$14:$T$213,Index!B1818,Index!A1818)),0,INDEX('Trust - Frontsheet'!$C$14:$T$213,Index!B1818,Index!A1818))","v":4627.5}]
["103706166","Staff_cols:Night_nurse_plan, Staff_row:Staff_row17","Number",{"$f":"IF(ISERROR(INDEX('Trust - Frontsheet'!$C$14:$T$213,Index!B1819,Index!A1819)),0,INDEX('Trust - Frontsheet'!$C$14:$T$213,Index!B1819,Index!A1819))","v":2728}]
["103706177","Staff_cols:Night_nurse_plan, Staff_row:Staff_row18","Number",{"$f":"IF(ISERROR(INDEX('Trust - Frontsheet'!$C$14:$T$213,Index!B1820,Index!A1820)),0,INDEX('Trust - Frontsheet'!$C$14:$T$213,Index!B1820,Index!A1820))","v":682}]
["103706188","Staff_cols:Night_nurse_plan, Staff_row:Staff_row19","Number",{"$f":"IF(ISERROR(INDEX('Trust - Frontsheet'!$C$14:$T$213,Index!B1821,Index!A1821)),0,INDEX('Trust - Frontsheet'!$C$14:$T$213,Index!B1821,Index!A1821))","v":1023}]
["103706200","Staff_cols:Night_nurse_plan, Staff_row:Staff_row20","Number",{"$f":"IF(ISERROR(INDEX('Trust - Frontsheet'!$C$14:$T$213,Index!B1822,Index!A1822)),0,INDEX('Trust - Frontsheet'!$C$14:$T$213,Index!B1822,Index!A1822))","v":341}]
["103706202","Staff_cols:Night_nurse_plan, Staff_row:Staff_row21","Number",{"$f":"IF(ISERROR(INDEX('Trust - Frontsheet'!$C$14:$T$213,Index!B1823,Index!A1823)),0,INDEX('Trust - Frontsheet'!$C$14:$T$213,Index!B1823,Index!A1823))","v":1023}]
["103706203","Staff_cols:Night_nurse_plan, Staff_row:Staff_row22","Number",{"$f":"IF(ISERROR(INDEX('Trust - Frontsheet'!$C$14:$T$213,Index!B1824,Index!A1824)),0,INDEX('Trust - Frontsheet'!$C$14:$T$213,Index!B1824,Index!A1824))","v":1705}]
["103706204","Staff_cols:Night_nurse_plan, Staff_row:Staff_row23","Number",{"$f":"IF(ISERROR(INDEX('Trust - Frontsheet'!$C$14:$T$213,Index!B1825,Index!A1825)),0,INDEX('Trust - Frontsheet'!$C$14:$T$213,Index!B1825,Index!A1825))","v":1023}]
["103706205","Staff_cols:Night_nurse_plan, Staff_row:Staff_row24","Number",{"$f":"IF(ISERROR(INDEX('Trust - Frontsheet'!$C$14:$T$213,Index!B1826,Index!A1826)),0,INDEX('Trust - Frontsheet'!$C$14:$T$213,Index!B1826,Index!A1826))","v":891}]
["103706206","Staff_cols:Night_nurse_plan, Staff_row:Staff_row25","Number",{"$f":"IF(ISERROR(INDEX('Trust - Frontsheet'!$C$14:$T$213,Index!B1827,Index!A1827)),0,INDEX('Trust - Frontsheet'!$C$14:$T$213,Index!B1827,Index!A1827))","v":1364}]
["103706207","Staff_cols:Night_nurse_plan, Staff_row:Staff_row26","Number",{"$f":"IF(ISERROR(INDEX('Trust - Frontsheet'!$C$14:$T$213,Index!B1828,Index!A1828)),0,INDEX('Trust - Frontsheet'!$C$14:$T$213,Index!B1828,Index!A1828))","v":1364}]
["103706208","Staff_cols:Night_nurse_plan, Staff_row:Staff_row27","Number",{"$f":"IF(ISERROR(INDEX('Trust - Frontsheet'!$C$14:$T$213,Index!B1829,Index!A1829)),0,INDEX('Trust - Frontsheet'!$C$14:$T$213,Index!B1829,Index!A1829))","v":1364}]
["103706209","Staff_cols:Night_nurse_plan, Staff_row:Staff_row28","Number",{"$f":"IF(ISERROR(INDEX('Trust - Frontsheet'!$C$14:$T$213,Index!B1830,Index!A1830)),0,INDEX('Trust - Frontsheet'!$C$14:$T$213,Index!B1830,Index!A1830))","v":2065}]
["103706210","Staff_cols:Night_nurse_plan, Staff_row:Staff_row29","Number",{"$f":"IF(ISERROR(INDEX('Trust - Frontsheet'!$C$14:$T$213,Index!B1831,Index!A1831)),0,INDEX('Trust - Frontsheet'!$C$14:$T$213,Index!B1831,Index!A1831))","v":1705}]
["103706212","Staff_cols:Night_nurse_plan, Staff_row:Staff_row30","Number",{"$f":"IF(ISERROR(INDEX('Trust - Frontsheet'!$C$14:$T$213,Index!B1832,Index!A1832)),0,INDEX('Trust - Frontsheet'!$C$14:$T$213,Index!B1832,Index!A1832))","v":1023}]
["103706213","Staff_cols:Night_nurse_plan, Staff_row:Staff_row31","Number",{"$f":"IF(ISERROR(INDEX('Trust - Frontsheet'!$C$14:$T$213,Index!B1833,Index!A1833)),0,INDEX('Trust - Frontsheet'!$C$14:$T$213,Index!B1833,Index!A1833))","v":341}]
["103706214","Staff_cols:Night_nurse_plan, Staff_row:Staff_row32","Number",{"$f":"IF(ISERROR(INDEX('Trust - Frontsheet'!$C$14:$T$213,Index!B1834,Index!A1834)),0,INDEX('Trust - Frontsheet'!$C$14:$T$213,Index!B1834,Index!A1834))","v":1023}]
["103706215","Staff_cols:Night_nurse_plan, Staff_row:Staff_row33","Number",{"$f":"IF(ISERROR(INDEX('Trust - Frontsheet'!$C$14:$T$213,Index!B1835,Index!A1835)),0,INDEX('Trust - Frontsheet'!$C$14:$T$213,Index!B1835,Index!A1835))","v":1364}]
["103706216","Staff_cols:Night_nurse_plan, Staff_row:Staff_row34","Number",{"$f":"IF(ISERROR(INDEX('Trust - Frontsheet'!$C$14:$T$213,Index!B1836,Index!A1836)),0,INDEX('Trust - Frontsheet'!$C$14:$T$213,Index!B1836,Index!A1836))","v":682}]
["103706217","Staff_cols:Night_nurse_plan, Staff_row:Staff_row35","Number",{"$f":"IF(ISERROR(INDEX('Trust - Frontsheet'!$C$14:$T$213,Index!B1837,Index!A1837)),0,INDEX('Trust - Frontsheet'!$C$14:$T$213,Index!B1837,Index!A1837))","v":1023}]
["103706218","Staff_cols:Night_nurse_plan, Staff_row:Staff_row36","Number",{"$f":"IF(ISERROR(INDEX('Trust - Frontsheet'!$C$14:$T$213,Index!B1838,Index!A1838)),0,INDEX('Trust - Frontsheet'!$C$14:$T$213,Index!B1838,Index!A1838))","v":1023}]
["103706219","Staff_cols:Night_nurse_plan, Staff_row:Staff_row37","Number",{"$f":"IF(ISERROR(INDEX('Trust - Frontsheet'!$C$14:$T$213,Index!B1839,Index!A1839)),0,INDEX('Trust - Frontsheet'!$C$14:$T$213,Index!B1839,Index!A1839))","v":1023}]
["103706220","Staff_cols:Night_nurse_plan, Staff_row:Staff_row38","Number",{"$f":"IF(ISERROR(INDEX('Trust - Frontsheet'!$C$14:$T$213,Index!B1840,Index!A1840)),0,INDEX('Trust - Frontsheet'!$C$14:$T$213,Index!B1840,Index!A1840))","v":1023}]
["103706221","Staff_cols:Night_nurse_plan, Staff_row:Staff_row39","Number",{"$f":"IF(ISERROR(INDEX('Trust - Frontsheet'!$C$14:$T$213,Index!B1841,Index!A1841)),0,INDEX('Trust - Frontsheet'!$C$14:$T$213,Index!B1841,Index!A1841))","v":1023}]
["103706223","Staff_cols:Night_nurse_plan, Staff_row:Staff_row40","Number",{"$f":"IF(ISERROR(INDEX('Trust - Frontsheet'!$C$14:$T$213,Index!B1842,Index!A1842)),0,INDEX('Trust - Frontsheet'!$C$14:$T$213,Index!B1842,Index!A1842))","v":1023}]
["103706224","Staff_cols:Night_nurse_plan, Staff_row:Staff_row41","Number",{"$f":"IF(ISERROR(INDEX('Trust - Frontsheet'!$C$14:$T$213,Index!B1843,Index!A1843)),0,INDEX('Trust - Frontsheet'!$C$14:$T$213,Index!B1843,Index!A1843))","v":682}]
["103706225","Staff_cols:Night_nurse_plan, Staff_row:Staff_row42","Number",{"$f":"IF(ISERROR(INDEX('Trust - Frontsheet'!$C$14:$T$213,Index!B1844,Index!A1844)),0,INDEX('Trust - Frontsheet'!$C$14:$T$213,Index!B1844,Index!A1844))","v":1023}]
["103706226","Staff_cols:Night_nurse_plan, Staff_row:Staff_row43","Number",{"$f":"IF(ISERROR(INDEX('Trust - Frontsheet'!$C$14:$T$213,Index!B1845,Index!A1845)),0,INDEX('Trust - Frontsheet'!$C$14:$T$213,Index!B1845,Index!A1845))","v":1023}]
["103706227","Staff_cols:Night_nurse_plan, Staff_row:Staff_row44","Number",{"$f":"IF(ISERROR(INDEX('Trust - Frontsheet'!$C$14:$T$213,Index!B1846,Index!A1846)),0,INDEX('Trust - Frontsheet'!$C$14:$T$213,Index!B1846,Index!A1846))","v":682}]
["103706228","Staff_cols:Night_nurse_plan, Staff_row:Staff_row45","Number",{"$f":"IF(ISERROR(INDEX('Trust - Frontsheet'!$C$14:$T$213,Index!B1847,Index!A1847)),0,INDEX('Trust - Frontsheet'!$C$14:$T$213,Index!B1847,Index!A1847))","v":1364}]
["103706229","Staff_cols:Night_nurse_plan, Staff_row:Staff_row46","Number",{"$f":"IF(ISERROR(INDEX('Trust - Frontsheet'!$C$14:$T$213,Index!B1848,Index!A1848)),0,INDEX('Trust - Frontsheet'!$C$14:$T$213,Index!B1848,Index!A1848))","v":682}]
["103706230","Staff_cols:Night_nurse_plan, Staff_row:Staff_row47","Number",{"$f":"IF(ISERROR(INDEX('Trust - Frontsheet'!$C$14:$T$213,Index!B1849,Index!A1849)),0,INDEX('Trust - Frontsheet'!$C$14:$T$213,Index!B1849,Index!A1849))","v":2728}]
["103706231","Staff_cols:Night_nurse_plan, Staff_row:Staff_row48","Number",{"$f":"IF(ISERROR(INDEX('Trust - Frontsheet'!$C$14:$T$213,Index!B1850,Index!A1850)),0,INDEX('Trust - Frontsheet'!$C$14:$T$213,Index!B1850,Index!A1850))","v":0}]
["103706232","Staff_cols:Night_nurse_plan, Staff_row:Staff_row49","Number",{"$f":"IF(ISERROR(INDEX('Trust - Frontsheet'!$C$14:$T$213,Index!B1851,Index!A1851)),0,INDEX('Trust - Frontsheet'!$C$14:$T$213,Index!B1851,Index!A1851))","v":0}]
["103706234","Staff_cols:Night_nurse_plan, Staff_row:Staff_row50","Number",{"$f":"IF(ISERROR(INDEX('Trust - Frontsheet'!$C$14:$T$213,Index!B1852,Index!A1852)),0,INDEX('Trust - Frontsheet'!$C$14:$T$213,Index!B1852,Index!A1852))","v":0}]
["103706235","Staff_cols:Night_nurse_plan, Staff_row:Staff_row51","Number",{"$f":"IF(ISERROR(INDEX('Trust - Frontsheet'!$C$14:$T$213,Index!B1853,Index!A1853)),0,INDEX('Trust - Frontsheet'!$C$14:$T$213,Index!B1853,Index!A1853))","v":0}]
["103706236","Staff_cols:Night_nurse_plan, Staff_row:Staff_row52","Number",{"$f":"IF(ISERROR(INDEX('Trust - Frontsheet'!$C$14:$T$213,Index!B1854,Index!A1854)),0,INDEX('Trust - Frontsheet'!$C$14:$T$213,Index!B1854,Index!A1854))","v":0}]
["103706237","Staff_cols:Night_nurse_plan, Staff_row:Staff_row53","Number",{"$f":"IF(ISERROR(INDEX('Trust - Frontsheet'!$C$14:$T$213,Index!B1855,Index!A1855)),0,INDEX('Trust - Frontsheet'!$C$14:$T$213,Index!B1855,Index!A1855))","v":0}]
["103706238","Staff_cols:Night_nurse_plan, Staff_row:Staff_row54","Number",{"$f":"IF(ISERROR(INDEX('Trust - Frontsheet'!$C$14:$T$213,Index!B1856,Index!A1856)),0,INDEX('Trust - Frontsheet'!$C$14:$T$213,Index!B1856,Index!A1856))","v":0}]
["103706239","Staff_cols:Night_nurse_plan, Staff_row:Staff_row55","Number",{"$f":"IF(ISERROR(INDEX('Trust - Frontsheet'!$C$14:$T$213,Index!B1857,Index!A1857)),0,INDEX('Trust - Frontsheet'!$C$14:$T$213,Index!B1857,Index!A1857))","v":0}]
["103706240","Staff_cols:Night_nurse_plan, Staff_row:Staff_row56","Number",{"$f":"IF(ISERROR(INDEX('Trust - Frontsheet'!$C$14:$T$213,Index!B1858,Index!A1858)),0,INDEX('Trust - Frontsheet'!$C$14:$T$213,Index!B1858,Index!A1858))","v":0}]
["103706241","Staff_cols:Night_nurse_plan, Staff_row:Staff_row57","Number",{"$f":"IF(ISERROR(INDEX('Trust - Frontsheet'!$C$14:$T$213,Index!B1859,Index!A1859)),0,INDEX('Trust - Frontsheet'!$C$14:$T$213,Index!B1859,Index!A1859))","v":0}]
["103706242","Staff_cols:Night_nurse_plan, Staff_row:Staff_row58","Number",{"$f":"IF(ISERROR(INDEX('Trust - Frontsheet'!$C$14:$T$213,Index!B1860,Index!A1860)),0,INDEX('Trust - Frontsheet'!$C$14:$T$213,Index!B1860,Index!A1860))","v":0}]
["103706243","Staff_cols:Night_nurse_plan, Staff_row:Staff_row59","Number",{"$f":"IF(ISERROR(INDEX('Trust - Frontsheet'!$C$14:$T$213,Index!B1861,Index!A1861)),0,INDEX('Trust - Frontsheet'!$C$14:$T$213,Index!B1861,Index!A1861))","v":0}]
["103706245","Staff_cols:Night_nurse_plan, Staff_row:Staff_row60","Number",{"$f":"IF(ISERROR(INDEX('Trust - Frontsheet'!$C$14:$T$213,Index!B1862,Index!A1862)),0,INDEX('Trust - Frontsheet'!$C$14:$T$213,Index!B1862,Index!A1862))","v":0}]
["103706246","Staff_cols:Night_nurse_plan, Staff_row:Staff_row61","Number",{"$f":"IF(ISERROR(INDEX('Trust - Frontsheet'!$C$14:$T$213,Index!B1863,Index!A1863)),0,INDEX('Trust - Frontsheet'!$C$14:$T$213,Index!B1863,Index!A1863))","v":0}]
["103706247","Staff_cols:Night_nurse_plan, Staff_row:Staff_row62","Number",{"$f":"IF(ISERROR(INDEX('Trust - Frontsheet'!$C$14:$T$213,Index!B1864,Index!A1864)),0,INDEX('Trust - Frontsheet'!$C$14:$T$213,Index!B1864,Index!A1864))","v":0}]
["103706248","Staff_cols:Night_nurse_plan, Staff_row:Staff_row63","Number",{"$f":"IF(ISERROR(INDEX('Trust - Frontsheet'!$C$14:$T$213,Index!B1865,Index!A1865)),0,INDEX('Trust - Frontsheet'!$C$14:$T$213,Index!B1865,Index!A1865))","v":0}]
["103706249","Staff_cols:Night_nurse_plan, Staff_row:Staff_row64","Number",{"$f":"IF(ISERROR(INDEX('Trust - Frontsheet'!$C$14:$T$213,Index!B1866,Index!A1866)),0,INDEX('Trust - Frontsheet'!$C$14:$T$213,Index!B1866,Index!A1866))","v":0}]
["103706250","Staff_cols:Night_nurse_plan, Staff_row:Staff_row65","Number",{"$f":"IF(ISERROR(INDEX('Trust - Frontsheet'!$C$14:$T$213,Index!B1867,Index!A1867)),0,INDEX('Trust - Frontsheet'!$C$14:$T$213,Index!B1867,Index!A1867))","v":0}]
["103706251","Staff_cols:Night_nurse_plan, Staff_row:Staff_row66","Number",{"$f":"IF(ISERROR(INDEX('Trust - Frontsheet'!$C$14:$T$213,Index!B1868,Index!A1868)),0,INDEX('Trust - Frontsheet'!$C$14:$T$213,Index!B1868,Index!A1868))","v":0}]
["103706252","Staff_cols:Night_nurse_plan, Staff_row:Staff_row67","Number",{"$f":"IF(ISERROR(INDEX('Trust - Frontsheet'!$C$14:$T$213,Index!B1869,Index!A1869)),0,INDEX('Trust - Frontsheet'!$C$14:$T$213,Index!B1869,Index!A1869))","v":0}]
["103706253","Staff_cols:Night_nurse_plan, Staff_row:Staff_row68","Number",{"$f":"IF(ISERROR(INDEX('Trust - Frontsheet'!$C$14:$T$213,Index!B1870,Index!A1870)),0,INDEX('Trust - Frontsheet'!$C$14:$T$213,Index!B1870,Index!A1870))","v":0}]
["103706254","Staff_cols:Night_nurse_plan, Staff_row:Staff_row69","Number",{"$f":"IF(ISERROR(INDEX('Trust - Frontsheet'!$C$14:$T$213,Index!B1871,Index!A1871)),0,INDEX('Trust - Frontsheet'!$C$14:$T$213,Index!B1871,Index!A1871))","v":0}]
["103706256","Staff_cols:Night_nurse_plan, Staff_row:Staff_row70","Number",{"$f":"IF(ISERROR(INDEX('Trust - Frontsheet'!$C$14:$T$213,Index!B1872,Index!A1872)),0,INDEX('Trust - Frontsheet'!$C$14:$T$213,Index!B1872,Index!A1872))","v":0}]
["103706257","Staff_cols:Night_nurse_plan, Staff_row:Staff_row71","Number",{"$f":"IF(ISERROR(INDEX('Trust - Frontsheet'!$C$14:$T$213,Index!B1873,Index!A1873)),0,INDEX('Trust - Frontsheet'!$C$14:$T$213,Index!B1873,Index!A1873))","v":0}]
["103706258","Staff_cols:Night_nurse_plan, Staff_row:Staff_row72","Number",{"$f":"IF(ISERROR(INDEX('Trust - Frontsheet'!$C$14:$T$213,Index!B1874,Index!A1874)),0,INDEX('Trust - Frontsheet'!$C$14:$T$213,Index!B1874,Index!A1874))","v":0}]
["103706259","Staff_cols:Night_nurse_plan, Staff_row:Staff_row73","Number",{"$f":"IF(ISERROR(INDEX('Trust - Frontsheet'!$C$14:$T$213,Index!B1875,Index!A1875)),0,INDEX('Trust - Frontsheet'!$C$14:$T$213,Index!B1875,Index!A1875))","v":0}]
["103706260","Staff_cols:Night_nurse_plan, Staff_row:Staff_row74","Number",{"$f":"IF(ISERROR(INDEX('Trust - Frontsheet'!$C$14:$T$213,Index!B1876,Index!A1876)),0,INDEX('Trust - Frontsheet'!$C$14:$T$213,Index!B1876,Index!A1876))","v":0}]
["103706261","Staff_cols:Night_nurse_plan, Staff_row:Staff_row75","Number",{"$f":"IF(ISERROR(INDEX('Trust - Frontsheet'!$C$14:$T$213,Index!B1877,Index!A1877)),0,INDEX('Trust - Frontsheet'!$C$14:$T$213,Index!B1877,Index!A1877))","v":0}]
["103706262","Staff_cols:Night_nurse_plan, Staff_row:Staff_row76","Number",{"$f":"IF(ISERROR(INDEX('Trust - Frontsheet'!$C$14:$T$213,Index!B1878,Index!A1878)),0,INDEX('Trust - Frontsheet'!$C$14:$T$213,Index!B1878,Index!A1878))","v":0}]
["103706263","Staff_cols:Night_nurse_plan, Staff_row:Staff_row77","Number",{"$f":"IF(ISERROR(INDEX('Trust - Frontsheet'!$C$14:$T$213,Index!B1879,Index!A1879)),0,INDEX('Trust - Frontsheet'!$C$14:$T$213,Index!B1879,Index!A1879))","v":0}]
["103706264","Staff_cols:Night_nurse_plan, Staff_row:Staff_row78","Number",{"$f":"IF(ISERROR(INDEX('Trust - Frontsheet'!$C$14:$T$213,Index!B1880,Index!A1880)),0,INDEX('Trust - Frontsheet'!$C$14:$T$213,Index!B1880,Index!A1880))","v":0}]
["103706265","Staff_cols:Night_nurse_plan, Staff_row:Staff_row79","Number",{"$f":"IF(ISERROR(INDEX('Trust - Frontsheet'!$C$14:$T$213,Index!B1881,Index!A1881)),0,INDEX('Trust - Frontsheet'!$C$14:$T$213,Index!B1881,Index!A1881))","v":0}]
["103706267","Staff_cols:Night_nurse_plan, Staff_row:Staff_row80","Number",{"$f":"IF(ISERROR(INDEX('Trust - Frontsheet'!$C$14:$T$213,Index!B1882,Index!A1882)),0,INDEX('Trust - Frontsheet'!$C$14:$T$213,Index!B1882,Index!A1882))","v":0}]
["103706268","Staff_cols:Night_nurse_plan, Staff_row:Staff_row81","Number",{"$f":"IF(ISERROR(INDEX('Trust - Frontsheet'!$C$14:$T$213,Index!B1883,Index!A1883)),0,INDEX('Trust - Frontsheet'!$C$14:$T$213,Index!B1883,Index!A1883))","v":0}]
["103706269","Staff_cols:Night_nurse_plan, Staff_row:Staff_row82","Number",{"$f":"IF(ISERROR(INDEX('Trust - Frontsheet'!$C$14:$T$213,Index!B1884,Index!A1884)),0,INDEX('Trust - Frontsheet'!$C$14:$T$213,Index!B1884,Index!A1884))","v":0}]
["103706270","Staff_cols:Night_nurse_plan, Staff_row:Staff_row83","Number",{"$f":"IF(ISERROR(INDEX('Trust - Frontsheet'!$C$14:$T$213,Index!B1885,Index!A1885)),0,INDEX('Trust - Frontsheet'!$C$14:$T$213,Index!B1885,Index!A1885))","v":0}]
["103706271","Staff_cols:Night_nurse_plan, Staff_row:Staff_row84","Number",{"$f":"IF(ISERROR(INDEX('Trust - Frontsheet'!$C$14:$T$213,Index!B1886,Index!A1886)),0,INDEX('Trust - Frontsheet'!$C$14:$T$213,Index!B1886,Index!A1886))","v":0}]
["103706272","Staff_cols:Night_nurse_plan, Staff_row:Staff_row85","Number",{"$f":"IF(ISERROR(INDEX('Trust - Frontsheet'!$C$14:$T$213,Index!B1887,Index!A1887)),0,INDEX('Trust - Frontsheet'!$C$14:$T$213,Index!B1887,Index!A1887))","v":0}]
["103706273","Staff_cols:Night_nurse_plan, Staff_row:Staff_row86","Number",{"$f":"IF(ISERROR(INDEX('Trust - Frontsheet'!$C$14:$T$213,Index!B1888,Index!A1888)),0,INDEX('Trust - Frontsheet'!$C$14:$T$213,Index!B1888,Index!A1888))","v":0}]
["103706274","Staff_cols:Night_nurse_plan, Staff_row:Staff_row87","Number",{"$f":"IF(ISERROR(INDEX('Trust - Frontsheet'!$C$14:$T$213,Index!B1889,Index!A1889)),0,INDEX('Trust - Frontsheet'!$C$14:$T$213,Index!B1889,Index!A1889))","v":0}]
["103706275","Staff_cols:Night_nurse_plan, Staff_row:Staff_row88","Number",{"$f":"IF(ISERROR(INDEX('Trust - Frontsheet'!$C$14:$T$213,Index!B1890,Index!A1890)),0,INDEX('Trust - Frontsheet'!$C$14:$T$213,Index!B1890,Index!A1890))","v":0}]
["103706276","Staff_cols:Night_nurse_plan, Staff_row:Staff_row89","Number",{"$f":"IF(ISERROR(INDEX('Trust - Frontsheet'!$C$14:$T$213,Index!B1891,Index!A1891)),0,INDEX('Trust - Frontsheet'!$C$14:$T$213,Index!B1891,Index!A1891))","v":0}]
["103706278","Staff_cols:Night_nurse_plan, Staff_row:Staff_row90","Number",{"$f":"IF(ISERROR(INDEX('Trust - Frontsheet'!$C$14:$T$213,Index!B1892,Index!A1892)),0,INDEX('Trust - Frontsheet'!$C$14:$T$213,Index!B1892,Index!A1892))","v":0}]
["103706279","Staff_cols:Night_nurse_plan, Staff_row:Staff_row91","Number",{"$f":"IF(ISERROR(INDEX('Trust - Frontsheet'!$C$14:$T$213,Index!B1893,Index!A1893)),0,INDEX('Trust - Frontsheet'!$C$14:$T$213,Index!B1893,Index!A1893))","v":0}]
["103706280","Staff_cols:Night_nurse_plan, Staff_row:Staff_row92","Number",{"$f":"IF(ISERROR(INDEX('Trust - Frontsheet'!$C$14:$T$213,Index!B1894,Index!A1894)),0,INDEX('Trust - Frontsheet'!$C$14:$T$213,Index!B1894,Index!A1894))","v":0}]
["103706281","Staff_cols:Night_nurse_plan, Staff_row:Staff_row93","Number",{"$f":"IF(ISERROR(INDEX('Trust - Frontsheet'!$C$14:$T$213,Index!B1895,Index!A1895)),0,INDEX('Trust - Frontsheet'!$C$14:$T$213,Index!B1895,Index!A1895))","v":0}]
["103706282","Staff_cols:Night_nurse_plan, Staff_row:Staff_row94","Number",{"$f":"IF(ISERROR(INDEX('Trust - Frontsheet'!$C$14:$T$213,Index!B1896,Index!A1896)),0,INDEX('Trust - Frontsheet'!$C$14:$T$213,Index!B1896,Index!A1896))","v":0}]
["103706283","Staff_cols:Night_nurse_plan, Staff_row:Staff_row95","Number",{"$f":"IF(ISERROR(INDEX('Trust - Frontsheet'!$C$14:$T$213,Index!B1897,Index!A1897)),0,INDEX('Trust - Frontsheet'!$C$14:$T$213,Index!B1897,Index!A1897))","v":0}]
["103706284","Staff_cols:Night_nurse_plan, Staff_row:Staff_row96","Number",{"$f":"IF(ISERROR(INDEX('Trust - Frontsheet'!$C$14:$T$213,Index!B1898,Index!A1898)),0,INDEX('Trust - Frontsheet'!$C$14:$T$213,Index!B1898,Index!A1898))","v":0}]
["103706285","Staff_cols:Night_nurse_plan, Staff_row:Staff_row97","Number",{"$f":"IF(ISERROR(INDEX('Trust - Frontsheet'!$C$14:$T$213,Index!B1899,Index!A1899)),0,INDEX('Trust - Frontsheet'!$C$14:$T$213,Index!B1899,Index!A1899))","v":0}]
["103706286","Staff_cols:Night_nurse_plan, Staff_row:Staff_row98","Number",{"$f":"IF(ISERROR(INDEX('Trust - Frontsheet'!$C$14:$T$213,Index!B1900,Index!A1900)),0,INDEX('Trust - Frontsheet'!$C$14:$T$213,Index!B1900,Index!A1900))","v":0}]
["103706287","Staff_cols:Night_nurse_plan, Staff_row:Staff_row99","Number",{"$f":"IF(ISERROR(INDEX('Trust - Frontsheet'!$C$14:$T$213,Index!B1901,Index!A1901)),0,INDEX('Trust - Frontsheet'!$C$14:$T$213,Index!B1901,Index!A1901))","v":0}]
["103706090","Staff_cols:Night_nurse_plan, Staff_row:Staff_row100","Number",{"$f":"IF(ISERROR(INDEX('Trust - Frontsheet'!$C$14:$T$213,Index!B1902,Index!A1902)),0,INDEX('Trust - Frontsheet'!$C$14:$T$213,Index!B1902,Index!A1902))","v":0}]
["103706091","Staff_cols:Night_nurse_plan, Staff_row:Staff_row101","Number",{"$f":"IF(ISERROR(INDEX('Trust - Frontsheet'!$C$14:$T$213,Index!B1903,Index!A1903)),0,INDEX('Trust - Frontsheet'!$C$14:$T$213,Index!B1903,Index!A1903))","v":0}]
["103706092","Staff_cols:Night_nurse_plan, Staff_row:Staff_row102","Number",{"$f":"IF(ISERROR(INDEX('Trust - Frontsheet'!$C$14:$T$213,Index!B1904,Index!A1904)),0,INDEX('Trust - Frontsheet'!$C$14:$T$213,Index!B1904,Index!A1904))","v":0}]
["103706093","Staff_cols:Night_nurse_plan, Staff_row:Staff_row103","Number",{"$f":"IF(ISERROR(INDEX('Trust - Frontsheet'!$C$14:$T$213,Index!B1905,Index!A1905)),0,INDEX('Trust - Frontsheet'!$C$14:$T$213,Index!B1905,Index!A1905))","v":0}]
["103706094","Staff_cols:Night_nurse_plan, Staff_row:Staff_row104","Number",{"$f":"IF(ISERROR(INDEX('Trust - Frontsheet'!$C$14:$T$213,Index!B1906,Index!A1906)),0,INDEX('Trust - Frontsheet'!$C$14:$T$213,Index!B1906,Index!A1906))","v":0}]
["103706095","Staff_cols:Night_nurse_plan, Staff_row:Staff_row105","Number",{"$f":"IF(ISERROR(INDEX('Trust - Frontsheet'!$C$14:$T$213,Index!B1907,Index!A1907)),0,INDEX('Trust - Frontsheet'!$C$14:$T$213,Index!B1907,Index!A1907))","v":0}]
["103706096","Staff_cols:Night_nurse_plan, Staff_row:Staff_row106","Number",{"$f":"IF(ISERROR(INDEX('Trust - Frontsheet'!$C$14:$T$213,Index!B1908,Index!A1908)),0,INDEX('Trust - Frontsheet'!$C$14:$T$213,Index!B1908,Index!A1908))","v":0}]
["103706097","Staff_cols:Night_nurse_plan, Staff_row:Staff_row107","Number",{"$f":"IF(ISERROR(INDEX('Trust - Frontsheet'!$C$14:$T$213,Index!B1909,Index!A1909)),0,INDEX('Trust - Frontsheet'!$C$14:$T$213,Index!B1909,Index!A1909))","v":0}]
["103706098","Staff_cols:Night_nurse_plan, Staff_row:Staff_row108","Number",{"$f":"IF(ISERROR(INDEX('Trust - Frontsheet'!$C$14:$T$213,Index!B1910,Index!A1910)),0,INDEX('Trust - Frontsheet'!$C$14:$T$213,Index!B1910,Index!A1910))","v":0}]
["103706099","Staff_cols:Night_nurse_plan, Staff_row:Staff_row109","Number",{"$f":"IF(ISERROR(INDEX('Trust - Frontsheet'!$C$14:$T$213,Index!B1911,Index!A1911)),0,INDEX('Trust - Frontsheet'!$C$14:$T$213,Index!B1911,Index!A1911))","v":0}]
["103706101","Staff_cols:Night_nurse_plan, Staff_row:Staff_row110","Number",{"$f":"IF(ISERROR(INDEX('Trust - Frontsheet'!$C$14:$T$213,Index!B1912,Index!A1912)),0,INDEX('Trust - Frontsheet'!$C$14:$T$213,Index!B1912,Index!A1912))","v":0}]
["103706102","Staff_cols:Night_nurse_plan, Staff_row:Staff_row111","Number",{"$f":"IF(ISERROR(INDEX('Trust - Frontsheet'!$C$14:$T$213,Index!B1913,Index!A1913)),0,INDEX('Trust - Frontsheet'!$C$14:$T$213,Index!B1913,Index!A1913))","v":0}]
["103706103","Staff_cols:Night_nurse_plan, Staff_row:Staff_row112","Number",{"$f":"IF(ISERROR(INDEX('Trust - Frontsheet'!$C$14:$T$213,Index!B1914,Index!A1914)),0,INDEX('Trust - Frontsheet'!$C$14:$T$213,Index!B1914,Index!A1914))","v":0}]
["103706104","Staff_cols:Night_nurse_plan, Staff_row:Staff_row113","Number",{"$f":"IF(ISERROR(INDEX('Trust - Frontsheet'!$C$14:$T$213,Index!B1915,Index!A1915)),0,INDEX('Trust - Frontsheet'!$C$14:$T$213,Index!B1915,Index!A1915))","v":0}]
["103706105","Staff_cols:Night_nurse_plan, Staff_row:Staff_row114","Number",{"$f":"IF(ISERROR(INDEX('Trust - Frontsheet'!$C$14:$T$213,Index!B1916,Index!A1916)),0,INDEX('Trust - Frontsheet'!$C$14:$T$213,Index!B1916,Index!A1916))","v":0}]
["103706106","Staff_cols:Night_nurse_plan, Staff_row:Staff_row115","Number",{"$f":"IF(ISERROR(INDEX('Trust - Frontsheet'!$C$14:$T$213,Index!B1917,Index!A1917)),0,INDEX('Trust - Frontsheet'!$C$14:$T$213,Index!B1917,Index!A1917))","v":0}]
["103706107","Staff_cols:Night_nurse_plan, Staff_row:Staff_row116","Number",{"$f":"IF(ISERROR(INDEX('Trust - Frontsheet'!$C$14:$T$213,Index!B1918,Index!A1918)),0,INDEX('Trust - Frontsheet'!$C$14:$T$213,Index!B1918,Index!A1918))","v":0}]
["103706108","Staff_cols:Night_nurse_plan, Staff_row:Staff_row117","Number",{"$f":"IF(ISERROR(INDEX('Trust - Frontsheet'!$C$14:$T$213,Index!B1919,Index!A1919)),0,INDEX('Trust - Frontsheet'!$C$14:$T$213,Index!B1919,Index!A1919))","v":0}]
["103706109","Staff_cols:Night_nurse_plan, Staff_row:Staff_row118","Number",{"$f":"IF(ISERROR(INDEX('Trust - Frontsheet'!$C$14:$T$213,Index!B1920,Index!A1920)),0,INDEX('Trust - Frontsheet'!$C$14:$T$213,Index!B1920,Index!A1920))","v":0}]
["103706110","Staff_cols:Night_nurse_plan, Staff_row:Staff_row119","Number",{"$f":"IF(ISERROR(INDEX('Trust - Frontsheet'!$C$14:$T$213,Index!B1921,Index!A1921)),0,INDEX('Trust - Frontsheet'!$C$14:$T$213,Index!B1921,Index!A1921))","v":0}]
["103706112","Staff_cols:Night_nurse_plan, Staff_row:Staff_row120","Number",{"$f":"IF(ISERROR(INDEX('Trust - Frontsheet'!$C$14:$T$213,Index!B1922,Index!A1922)),0,INDEX('Trust - Frontsheet'!$C$14:$T$213,Index!B1922,Index!A1922))","v":0}]
["103706113","Staff_cols:Night_nurse_plan, Staff_row:Staff_row121","Number",{"$f":"IF(ISERROR(INDEX('Trust - Frontsheet'!$C$14:$T$213,Index!B1923,Index!A1923)),0,INDEX('Trust - Frontsheet'!$C$14:$T$213,Index!B1923,Index!A1923))","v":0}]
["103706114","Staff_cols:Night_nurse_plan, Staff_row:Staff_row122","Number",{"$f":"IF(ISERROR(INDEX('Trust - Frontsheet'!$C$14:$T$213,Index!B1924,Index!A1924)),0,INDEX('Trust - Frontsheet'!$C$14:$T$213,Index!B1924,Index!A1924))","v":0}]
["103706115","Staff_cols:Night_nurse_plan, Staff_row:Staff_row123","Number",{"$f":"IF(ISERROR(INDEX('Trust - Frontsheet'!$C$14:$T$213,Index!B1925,Index!A1925)),0,INDEX('Trust - Frontsheet'!$C$14:$T$213,Index!B1925,Index!A1925))","v":0}]
["103706116","Staff_cols:Night_nurse_plan, Staff_row:Staff_row124","Number",{"$f":"IF(ISERROR(INDEX('Trust - Frontsheet'!$C$14:$T$213,Index!B1926,Index!A1926)),0,INDEX('Trust - Frontsheet'!$C$14:$T$213,Index!B1926,Index!A1926))","v":0}]
["103706117","Staff_cols:Night_nurse_plan, Staff_row:Staff_row125","Number",{"$f":"IF(ISERROR(INDEX('Trust - Frontsheet'!$C$14:$T$213,Index!B1927,Index!A1927)),0,INDEX('Trust - Frontsheet'!$C$14:$T$213,Index!B1927,Index!A1927))","v":0}]
["103706118","Staff_cols:Night_nurse_plan, Staff_row:Staff_row126","Number",{"$f":"IF(ISERROR(INDEX('Trust - Frontsheet'!$C$14:$T$213,Index!B1928,Index!A1928)),0,INDEX('Trust - Frontsheet'!$C$14:$T$213,Index!B1928,Index!A1928))","v":0}]
["103706119","Staff_cols:Night_nurse_plan, Staff_row:Staff_row127","Number",{"$f":"IF(ISERROR(INDEX('Trust - Frontsheet'!$C$14:$T$213,Index!B1929,Index!A1929)),0,INDEX('Trust - Frontsheet'!$C$14:$T$213,Index!B1929,Index!A1929))","v":0}]
["103706120","Staff_cols:Night_nurse_plan, Staff_row:Staff_row128","Number",{"$f":"IF(ISERROR(INDEX('Trust - Frontsheet'!$C$14:$T$213,Index!B1930,Index!A1930)),0,INDEX('Trust - Frontsheet'!$C$14:$T$213,Index!B1930,Index!A1930))","v":0}]
["103706121","Staff_cols:Night_nurse_plan, Staff_row:Staff_row129","Number",{"$f":"IF(ISERROR(INDEX('Trust - Frontsheet'!$C$14:$T$213,Index!B1931,Index!A1931)),0,INDEX('Trust - Frontsheet'!$C$14:$T$213,Index!B1931,Index!A1931))","v":0}]
["103706123","Staff_cols:Night_nurse_plan, Staff_row:Staff_row130","Number",{"$f":"IF(ISERROR(INDEX('Trust - Frontsheet'!$C$14:$T$213,Index!B1932,Index!A1932)),0,INDEX('Trust - Frontsheet'!$C$14:$T$213,Index!B1932,Index!A1932))","v":0}]
["103706124","Staff_cols:Night_nurse_plan, Staff_row:Staff_row131","Number",{"$f":"IF(ISERROR(INDEX('Trust - Frontsheet'!$C$14:$T$213,Index!B1933,Index!A1933)),0,INDEX('Trust - Frontsheet'!$C$14:$T$213,Index!B1933,Index!A1933))","v":0}]
["103706125","Staff_cols:Night_nurse_plan, Staff_row:Staff_row132","Number",{"$f":"IF(ISERROR(INDEX('Trust - Frontsheet'!$C$14:$T$213,Index!B1934,Index!A1934)),0,INDEX('Trust - Frontsheet'!$C$14:$T$213,Index!B1934,Index!A1934))","v":0}]
["103706126","Staff_cols:Night_nurse_plan, Staff_row:Staff_row133","Number",{"$f":"IF(ISERROR(INDEX('Trust - Frontsheet'!$C$14:$T$213,Index!B1935,Index!A1935)),0,INDEX('Trust - Frontsheet'!$C$14:$T$213,Index!B1935,Index!A1935))","v":0}]
["103706127","Staff_cols:Night_nurse_plan, Staff_row:Staff_row134","Number",{"$f":"IF(ISERROR(INDEX('Trust - Frontsheet'!$C$14:$T$213,Index!B1936,Index!A1936)),0,INDEX('Trust - Frontsheet'!$C$14:$T$213,Index!B1936,Index!A1936))","v":0}]
["103706128","Staff_cols:Night_nurse_plan, Staff_row:Staff_row135","Number",{"$f":"IF(ISERROR(INDEX('Trust - Frontsheet'!$C$14:$T$213,Index!B1937,Index!A1937)),0,INDEX('Trust - Frontsheet'!$C$14:$T$213,Index!B1937,Index!A1937))","v":0}]
["103706129","Staff_cols:Night_nurse_plan, Staff_row:Staff_row136","Number",{"$f":"IF(ISERROR(INDEX('Trust - Frontsheet'!$C$14:$T$213,Index!B1938,Index!A1938)),0,INDEX('Trust - Frontsheet'!$C$14:$T$213,Index!B1938,Index!A1938))","v":0}]
["103706130","Staff_cols:Night_nurse_plan, Staff_row:Staff_row137","Number",{"$f":"IF(ISERROR(INDEX('Trust - Frontsheet'!$C$14:$T$213,Index!B1939,Index!A1939)),0,INDEX('Trust - Frontsheet'!$C$14:$T$213,Index!B1939,Index!A1939))","v":0}]
["103706131","Staff_cols:Night_nurse_plan, Staff_row:Staff_row138","Number",{"$f":"IF(ISERROR(INDEX('Trust - Frontsheet'!$C$14:$T$213,Index!B1940,Index!A1940)),0,INDEX('Trust - Frontsheet'!$C$14:$T$213,Index!B1940,Index!A1940))","v":0}]
["103706132","Staff_cols:Night_nurse_plan, Staff_row:Staff_row139","Number",{"$f":"IF(ISERROR(INDEX('Trust - Frontsheet'!$C$14:$T$213,Index!B1941,Index!A1941)),0,INDEX('Trust - Frontsheet'!$C$14:$T$213,Index!B1941,Index!A1941))","v":0}]
["103706134","Staff_cols:Night_nurse_plan, Staff_row:Staff_row140","Number",{"$f":"IF(ISERROR(INDEX('Trust - Frontsheet'!$C$14:$T$213,Index!B1942,Index!A1942)),0,INDEX('Trust - Frontsheet'!$C$14:$T$213,Index!B1942,Index!A1942))","v":0}]
["103706135","Staff_cols:Night_nurse_plan, Staff_row:Staff_row141","Number",{"$f":"IF(ISERROR(INDEX('Trust - Frontsheet'!$C$14:$T$213,Index!B1943,Index!A1943)),0,INDEX('Trust - Frontsheet'!$C$14:$T$213,Index!B1943,Index!A1943))","v":0}]
["103706136","Staff_cols:Night_nurse_plan, Staff_row:Staff_row142","Number",{"$f":"IF(ISERROR(INDEX('Trust - Frontsheet'!$C$14:$T$213,Index!B1944,Index!A1944)),0,INDEX('Trust - Frontsheet'!$C$14:$T$213,Index!B1944,Index!A1944))","v":0}]
["103706137","Staff_cols:Night_nurse_plan, Staff_row:Staff_row143","Number",{"$f":"IF(ISERROR(INDEX('Trust - Frontsheet'!$C$14:$T$213,Index!B1945,Index!A1945)),0,INDEX('Trust - Frontsheet'!$C$14:$T$213,Index!B1945,Index!A1945))","v":0}]
["103706138","Staff_cols:Night_nurse_plan, Staff_row:Staff_row144","Number",{"$f":"IF(ISERROR(INDEX('Trust - Frontsheet'!$C$14:$T$213,Index!B1946,Index!A1946)),0,INDEX('Trust - Frontsheet'!$C$14:$T$213,Index!B1946,Index!A1946))","v":0}]
["103706139","Staff_cols:Night_nurse_plan, Staff_row:Staff_row145","Number",{"$f":"IF(ISERROR(INDEX('Trust - Frontsheet'!$C$14:$T$213,Index!B1947,Index!A1947)),0,INDEX('Trust - Frontsheet'!$C$14:$T$213,Index!B1947,Index!A1947))","v":0}]
["103706140","Staff_cols:Night_nurse_plan, Staff_row:Staff_row146","Number",{"$f":"IF(ISERROR(INDEX('Trust - Frontsheet'!$C$14:$T$213,Index!B1948,Index!A1948)),0,INDEX('Trust - Frontsheet'!$C$14:$T$213,Index!B1948,Index!A1948))","v":0}]
["103706141","Staff_cols:Night_nurse_plan, Staff_row:Staff_row147","Number",{"$f":"IF(ISERROR(INDEX('Trust - Frontsheet'!$C$14:$T$213,Index!B1949,Index!A1949)),0,INDEX('Trust - Frontsheet'!$C$14:$T$213,Index!B1949,Index!A1949))","v":0}]
["103706142","Staff_cols:Night_nurse_plan, Staff_row:Staff_row148","Number",{"$f":"IF(ISERROR(INDEX('Trust - Frontsheet'!$C$14:$T$213,Index!B1950,Index!A1950)),0,INDEX('Trust - Frontsheet'!$C$14:$T$213,Index!B1950,Index!A1950))","v":0}]
["103706143","Staff_cols:Night_nurse_plan, Staff_row:Staff_row149","Number",{"$f":"IF(ISERROR(INDEX('Trust - Frontsheet'!$C$14:$T$213,Index!B1951,Index!A1951)),0,INDEX('Trust - Frontsheet'!$C$14:$T$213,Index!B1951,Index!A1951))","v":0}]
["103706145","Staff_cols:Night_nurse_plan, Staff_row:Staff_row150","Number",{"$f":"IF(ISERROR(INDEX('Trust - Frontsheet'!$C$14:$T$213,Index!B1952,Index!A1952)),0,INDEX('Trust - Frontsheet'!$C$14:$T$213,Index!B1952,Index!A1952))","v":0}]
["103706146","Staff_cols:Night_nurse_plan, Staff_row:Staff_row151","Number",{"$f":"IF(ISERROR(INDEX('Trust - Frontsheet'!$C$14:$T$213,Index!B1953,Index!A1953)),0,INDEX('Trust - Frontsheet'!$C$14:$T$213,Index!B1953,Index!A1953))","v":0}]
["103706147","Staff_cols:Night_nurse_plan, Staff_row:Staff_row152","Number",{"$f":"IF(ISERROR(INDEX('Trust - Frontsheet'!$C$14:$T$213,Index!B1954,Index!A1954)),0,INDEX('Trust - Frontsheet'!$C$14:$T$213,Index!B1954,Index!A1954))","v":0}]
["103706148","Staff_cols:Night_nurse_plan, Staff_row:Staff_row153","Number",{"$f":"IF(ISERROR(INDEX('Trust - Frontsheet'!$C$14:$T$213,Index!B1955,Index!A1955)),0,INDEX('Trust - Frontsheet'!$C$14:$T$213,Index!B1955,Index!A1955))","v":0}]
["103706149","Staff_cols:Night_nurse_plan, Staff_row:Staff_row154","Number",{"$f":"IF(ISERROR(INDEX('Trust - Frontsheet'!$C$14:$T$213,Index!B1956,Index!A1956)),0,INDEX('Trust - Frontsheet'!$C$14:$T$213,Index!B1956,Index!A1956))","v":0}]
["103706150","Staff_cols:Night_nurse_plan, Staff_row:Staff_row155","Number",{"$f":"IF(ISERROR(INDEX('Trust - Frontsheet'!$C$14:$T$213,Index!B1957,Index!A1957)),0,INDEX('Trust - Frontsheet'!$C$14:$T$213,Index!B1957,Index!A1957))","v":0}]
["103706151","Staff_cols:Night_nurse_plan, Staff_row:Staff_row156","Number",{"$f":"IF(ISERROR(INDEX('Trust - Frontsheet'!$C$14:$T$213,Index!B1958,Index!A1958)),0,INDEX('Trust - Frontsheet'!$C$14:$T$213,Index!B1958,Index!A1958))","v":0}]
["103706152","Staff_cols:Night_nurse_plan, Staff_row:Staff_row157","Number",{"$f":"IF(ISERROR(INDEX('Trust - Frontsheet'!$C$14:$T$213,Index!B1959,Index!A1959)),0,INDEX('Trust - Frontsheet'!$C$14:$T$213,Index!B1959,Index!A1959))","v":0}]
["103706153","Staff_cols:Night_nurse_plan, Staff_row:Staff_row158","Number",{"$f":"IF(ISERROR(INDEX('Trust - Frontsheet'!$C$14:$T$213,Index!B1960,Index!A1960)),0,INDEX('Trust - Frontsheet'!$C$14:$T$213,Index!B1960,Index!A1960))","v":0}]
["103706154","Staff_cols:Night_nurse_plan, Staff_row:Staff_row159","Number",{"$f":"IF(ISERROR(INDEX('Trust - Frontsheet'!$C$14:$T$213,Index!B1961,Index!A1961)),0,INDEX('Trust - Frontsheet'!$C$14:$T$213,Index!B1961,Index!A1961))","v":0}]
["103706156","Staff_cols:Night_nurse_plan, Staff_row:Staff_row160","Number",{"$f":"IF(ISERROR(INDEX('Trust - Frontsheet'!$C$14:$T$213,Index!B1962,Index!A1962)),0,INDEX('Trust - Frontsheet'!$C$14:$T$213,Index!B1962,Index!A1962))","v":0}]
["103706157","Staff_cols:Night_nurse_plan, Staff_row:Staff_row161","Number",{"$f":"IF(ISERROR(INDEX('Trust - Frontsheet'!$C$14:$T$213,Index!B1963,Index!A1963)),0,INDEX('Trust - Frontsheet'!$C$14:$T$213,Index!B1963,Index!A1963))","v":0}]
["103706158","Staff_cols:Night_nurse_plan, Staff_row:Staff_row162","Number",{"$f":"IF(ISERROR(INDEX('Trust - Frontsheet'!$C$14:$T$213,Index!B1964,Index!A1964)),0,INDEX('Trust - Frontsheet'!$C$14:$T$213,Index!B1964,Index!A1964))","v":0}]
["103706159","Staff_cols:Night_nurse_plan, Staff_row:Staff_row163","Number",{"$f":"IF(ISERROR(INDEX('Trust - Frontsheet'!$C$14:$T$213,Index!B1965,Index!A1965)),0,INDEX('Trust - Frontsheet'!$C$14:$T$213,Index!B1965,Index!A1965))","v":0}]
["103706160","Staff_cols:Night_nurse_plan, Staff_row:Staff_row164","Number",{"$f":"IF(ISERROR(INDEX('Trust - Frontsheet'!$C$14:$T$213,Index!B1966,Index!A1966)),0,INDEX('Trust - Frontsheet'!$C$14:$T$213,Index!B1966,Index!A1966))","v":0}]
["103706161","Staff_cols:Night_nurse_plan, Staff_row:Staff_row165","Number",{"$f":"IF(ISERROR(INDEX('Trust - Frontsheet'!$C$14:$T$213,Index!B1967,Index!A1967)),0,INDEX('Trust - Frontsheet'!$C$14:$T$213,Index!B1967,Index!A1967))","v":0}]
["103706162","Staff_cols:Night_nurse_plan, Staff_row:Staff_row166","Number",{"$f":"IF(ISERROR(INDEX('Trust - Frontsheet'!$C$14:$T$213,Index!B1968,Index!A1968)),0,INDEX('Trust - Frontsheet'!$C$14:$T$213,Index!B1968,Index!A1968))","v":0}]
["103706163","Staff_cols:Night_nurse_plan, Staff_row:Staff_row167","Number",{"$f":"IF(ISERROR(INDEX('Trust - Frontsheet'!$C$14:$T$213,Index!B1969,Index!A1969)),0,INDEX('Trust - Frontsheet'!$C$14:$T$213,Index!B1969,Index!A1969))","v":0}]
["103706164","Staff_cols:Night_nurse_plan, Staff_row:Staff_row168","Number",{"$f":"IF(ISERROR(INDEX('Trust - Frontsheet'!$C$14:$T$213,Index!B1970,Index!A1970)),0,INDEX('Trust - Frontsheet'!$C$14:$T$213,Index!B1970,Index!A1970))","v":0}]
["103706165","Staff_cols:Night_nurse_plan, Staff_row:Staff_row169","Number",{"$f":"IF(ISERROR(INDEX('Trust - Frontsheet'!$C$14:$T$213,Index!B1971,Index!A1971)),0,INDEX('Trust - Frontsheet'!$C$14:$T$213,Index!B1971,Index!A1971))","v":0}]
["103706167","Staff_cols:Night_nurse_plan, Staff_row:Staff_row170","Number",{"$f":"IF(ISERROR(INDEX('Trust - Frontsheet'!$C$14:$T$213,Index!B1972,Index!A1972)),0,INDEX('Trust - Frontsheet'!$C$14:$T$213,Index!B1972,Index!A1972))","v":0}]
["103706168","Staff_cols:Night_nurse_plan, Staff_row:Staff_row171","Number",{"$f":"IF(ISERROR(INDEX('Trust - Frontsheet'!$C$14:$T$213,Index!B1973,Index!A1973)),0,INDEX('Trust - Frontsheet'!$C$14:$T$213,Index!B1973,Index!A1973))","v":0}]
["103706169","Staff_cols:Night_nurse_plan, Staff_row:Staff_row172","Number",{"$f":"IF(ISERROR(INDEX('Trust - Frontsheet'!$C$14:$T$213,Index!B1974,Index!A1974)),0,INDEX('Trust - Frontsheet'!$C$14:$T$213,Index!B1974,Index!A1974))","v":0}]
["103706170","Staff_cols:Night_nurse_plan, Staff_row:Staff_row173","Number",{"$f":"IF(ISERROR(INDEX('Trust - Frontsheet'!$C$14:$T$213,Index!B1975,Index!A1975)),0,INDEX('Trust - Frontsheet'!$C$14:$T$213,Index!B1975,Index!A1975))","v":0}]
["103706171","Staff_cols:Night_nurse_plan, Staff_row:Staff_row174","Number",{"$f":"IF(ISERROR(INDEX('Trust - Frontsheet'!$C$14:$T$213,Index!B1976,Index!A1976)),0,INDEX('Trust - Frontsheet'!$C$14:$T$213,Index!B1976,Index!A1976))","v":0}]
["103706172","Staff_cols:Night_nurse_plan, Staff_row:Staff_row175","Number",{"$f":"IF(ISERROR(INDEX('Trust - Frontsheet'!$C$14:$T$213,Index!B1977,Index!A1977)),0,INDEX('Trust - Frontsheet'!$C$14:$T$213,Index!B1977,Index!A1977))","v":0}]
["103706173","Staff_cols:Night_nurse_plan, Staff_row:Staff_row176","Number",{"$f":"IF(ISERROR(INDEX('Trust - Frontsheet'!$C$14:$T$213,Index!B1978,Index!A1978)),0,INDEX('Trust - Frontsheet'!$C$14:$T$213,Index!B1978,Index!A1978))","v":0}]
["103706174","Staff_cols:Night_nurse_plan, Staff_row:Staff_row177","Number",{"$f":"IF(ISERROR(INDEX('Trust - Frontsheet'!$C$14:$T$213,Index!B1979,Index!A1979)),0,INDEX('Trust - Frontsheet'!$C$14:$T$213,Index!B1979,Index!A1979))","v":0}]
["103706175","Staff_cols:Night_nurse_plan, Staff_row:Staff_row178","Number",{"$f":"IF(ISERROR(INDEX('Trust - Frontsheet'!$C$14:$T$213,Index!B1980,Index!A1980)),0,INDEX('Trust - Frontsheet'!$C$14:$T$213,Index!B1980,Index!A1980))","v":0}]
["103706176","Staff_cols:Night_nurse_plan, Staff_row:Staff_row179","Number",{"$f":"IF(ISERROR(INDEX('Trust - Frontsheet'!$C$14:$T$213,Index!B1981,Index!A1981)),0,INDEX('Trust - Frontsheet'!$C$14:$T$213,Index!B1981,Index!A1981))","v":0}]
["103706178","Staff_cols:Night_nurse_plan, Staff_row:Staff_row180","Number",{"$f":"IF(ISERROR(INDEX('Trust - Frontsheet'!$C$14:$T$213,Index!B1982,Index!A1982)),0,INDEX('Trust - Frontsheet'!$C$14:$T$213,Index!B1982,Index!A1982))","v":0}]
["103706179","Staff_cols:Night_nurse_plan, Staff_row:Staff_row181","Number",{"$f":"IF(ISERROR(INDEX('Trust - Frontsheet'!$C$14:$T$213,Index!B1983,Index!A1983)),0,INDEX('Trust - Frontsheet'!$C$14:$T$213,Index!B1983,Index!A1983))","v":0}]
["103706180","Staff_cols:Night_nurse_plan, Staff_row:Staff_row182","Number",{"$f":"IF(ISERROR(INDEX('Trust - Frontsheet'!$C$14:$T$213,Index!B1984,Index!A1984)),0,INDEX('Trust - Frontsheet'!$C$14:$T$213,Index!B1984,Index!A1984))","v":0}]
["103706181","Staff_cols:Night_nurse_plan, Staff_row:Staff_row183","Number",{"$f":"IF(ISERROR(INDEX('Trust - Frontsheet'!$C$14:$T$213,Index!B1985,Index!A1985)),0,INDEX('Trust - Frontsheet'!$C$14:$T$213,Index!B1985,Index!A1985))","v":0}]
["103706182","Staff_cols:Night_nurse_plan, Staff_row:Staff_row184","Number",{"$f":"IF(ISERROR(INDEX('Trust - Frontsheet'!$C$14:$T$213,Index!B1986,Index!A1986)),0,INDEX('Trust - Frontsheet'!$C$14:$T$213,Index!B1986,Index!A1986))","v":0}]
["103706183","Staff_cols:Night_nurse_plan, Staff_row:Staff_row185","Number",{"$f":"IF(ISERROR(INDEX('Trust - Frontsheet'!$C$14:$T$213,Index!B1987,Index!A1987)),0,INDEX('Trust - Frontsheet'!$C$14:$T$213,Index!B1987,Index!A1987))","v":0}]
["103706184","Staff_cols:Night_nurse_plan, Staff_row:Staff_row186","Number",{"$f":"IF(ISERROR(INDEX('Trust - Frontsheet'!$C$14:$T$213,Index!B1988,Index!A1988)),0,INDEX('Trust - Frontsheet'!$C$14:$T$213,Index!B1988,Index!A1988))","v":0}]
["103706185","Staff_cols:Night_nurse_plan, Staff_row:Staff_row187","Number",{"$f":"IF(ISERROR(INDEX('Trust - Frontsheet'!$C$14:$T$213,Index!B1989,Index!A1989)),0,INDEX('Trust - Frontsheet'!$C$14:$T$213,Index!B1989,Index!A1989))","v":0}]
["103706186","Staff_cols:Night_nurse_plan, Staff_row:Staff_row188","Number",{"$f":"IF(ISERROR(INDEX('Trust - Frontsheet'!$C$14:$T$213,Index!B1990,Index!A1990)),0,INDEX('Trust - Frontsheet'!$C$14:$T$213,Index!B1990,Index!A1990))","v":0}]
["103706187","Staff_cols:Night_nurse_plan, Staff_row:Staff_row189","Number",{"$f":"IF(ISERROR(INDEX('Trust - Frontsheet'!$C$14:$T$213,Index!B1991,Index!A1991)),0,INDEX('Trust - Frontsheet'!$C$14:$T$213,Index!B1991,Index!A1991))","v":0}]
["103706189","Staff_cols:Night_nurse_plan, Staff_row:Staff_row190","Number",{"$f":"IF(ISERROR(INDEX('Trust - Frontsheet'!$C$14:$T$213,Index!B1992,Index!A1992)),0,INDEX('Trust - Frontsheet'!$C$14:$T$213,Index!B1992,Index!A1992))","v":0}]
["103706190","Staff_cols:Night_nurse_plan, Staff_row:Staff_row191","Number",{"$f":"IF(ISERROR(INDEX('Trust - Frontsheet'!$C$14:$T$213,Index!B1993,Index!A1993)),0,INDEX('Trust - Frontsheet'!$C$14:$T$213,Index!B1993,Index!A1993))","v":0}]
["103706191","Staff_cols:Night_nurse_plan, Staff_row:Staff_row192","Number",{"$f":"IF(ISERROR(INDEX('Trust - Frontsheet'!$C$14:$T$213,Index!B1994,Index!A1994)),0,INDEX('Trust - Frontsheet'!$C$14:$T$213,Index!B1994,Index!A1994))","v":0}]
["103706192","Staff_cols:Night_nurse_plan, Staff_row:Staff_row193","Number",{"$f":"IF(ISERROR(INDEX('Trust - Frontsheet'!$C$14:$T$213,Index!B1995,Index!A1995)),0,INDEX('Trust - Frontsheet'!$C$14:$T$213,Index!B1995,Index!A1995))","v":0}]
["103706193","Staff_cols:Night_nurse_plan, Staff_row:Staff_row194","Number",{"$f":"IF(ISERROR(INDEX('Trust - Frontsheet'!$C$14:$T$213,Index!B1996,Index!A1996)),0,INDEX('Trust - Frontsheet'!$C$14:$T$213,Index!B1996,Index!A1996))","v":0}]
["103706194","Staff_cols:Night_nurse_plan, Staff_row:Staff_row195","Number",{"$f":"IF(ISERROR(INDEX('Trust - Frontsheet'!$C$14:$T$213,Index!B1997,Index!A1997)),0,INDEX('Trust - Frontsheet'!$C$14:$T$213,Index!B1997,Index!A1997))","v":0}]
["103706195","Staff_cols:Night_nurse_plan, Staff_row:Staff_row196","Number",{"$f":"IF(ISERROR(INDEX('Trust - Frontsheet'!$C$14:$T$213,Index!B1998,Index!A1998)),0,INDEX('Trust - Frontsheet'!$C$14:$T$213,Index!B1998,Index!A1998))","v":0}]
["103706196","Staff_cols:Night_nurse_plan, Staff_row:Staff_row197","Number",{"$f":"IF(ISERROR(INDEX('Trust - Frontsheet'!$C$14:$T$213,Index!B1999,Index!A1999)),0,INDEX('Trust - Frontsheet'!$C$14:$T$213,Index!B1999,Index!A1999))","v":0}]
["103706197","Staff_cols:Night_nurse_plan, Staff_row:Staff_row198","Number",{"$f":"IF(ISERROR(INDEX('Trust - Frontsheet'!$C$14:$T$213,Index!B2000,Index!A2000)),0,INDEX('Trust - Frontsheet'!$C$14:$T$213,Index!B2000,Index!A2000))","v":0}]
["103706198","Staff_cols:Night_nurse_plan, Staff_row:Staff_row199","Number",{"$f":"IF(ISERROR(INDEX('Trust - Frontsheet'!$C$14:$T$213,Index!B2001,Index!A2001)),0,INDEX('Trust - Frontsheet'!$C$14:$T$213,Index!B2001,Index!A2001))","v":0}]
["103706201","Staff_cols:Night_nurse_plan, Staff_row:Staff_row200","Number",{"$f":"IF(ISERROR(INDEX('Trust - Frontsheet'!$C$14:$T$213,Index!B2002,Index!A2002)),0,INDEX('Trust - Frontsheet'!$C$14:$T$213,Index!B2002,Index!A2002))","v":0}]
["103705888","Staff_cols:Night_nurse_act, Staff_row:Staff_row1","Number",{"$f":"IF(ISERROR(INDEX('Trust - Frontsheet'!$C$14:$T$213,Index!B2003,Index!A2003)),0,INDEX('Trust - Frontsheet'!$C$14:$T$213,Index!B2003,Index!A2003))","v":1036}]
["103705999","Staff_cols:Night_nurse_act, Staff_row:Staff_row2","Number",{"$f":"IF(ISERROR(INDEX('Trust - Frontsheet'!$C$14:$T$213,Index!B2004,Index!A2004)),0,INDEX('Trust - Frontsheet'!$C$14:$T$213,Index!B2004,Index!A2004))","v":963.5}]
["103706011","Staff_cols:Night_nurse_act, Staff_row:Staff_row3","Number",{"$f":"IF(ISERROR(INDEX('Trust - Frontsheet'!$C$14:$T$213,Index!B2005,Index!A2005)),0,INDEX('Trust - Frontsheet'!$C$14:$T$213,Index!B2005,Index!A2005))","v":847}]
["103706022","Staff_cols:Night_nurse_act, Staff_row:Staff_row4","Number",{"$f":"IF(ISERROR(INDEX('Trust - Frontsheet'!$C$14:$T$213,Index!B2006,Index!A2006)),0,INDEX('Trust - Frontsheet'!$C$14:$T$213,Index!B2006,Index!A2006))","v":1199}]
["103706033","Staff_cols:Night_nurse_act, Staff_row:Staff_row5","Number",{"$f":"IF(ISERROR(INDEX('Trust - Frontsheet'!$C$14:$T$213,Index!B2007,Index!A2007)),0,INDEX('Trust - Frontsheet'!$C$14:$T$213,Index!B2007,Index!A2007))","v":996.25}]
["103706044","Staff_cols:Night_nurse_act, Staff_row:Staff_row6","Number",{"$f":"IF(ISERROR(INDEX('Trust - Frontsheet'!$C$14:$T$213,Index!B2008,Index!A2008)),0,INDEX('Trust - Frontsheet'!$C$14:$T$213,Index!B2008,Index!A2008))","v":670}]
["103706055","Staff_cols:Night_nurse_act, Staff_row:Staff_row7","Number",{"$f":"IF(ISERROR(INDEX('Trust - Frontsheet'!$C$14:$T$213,Index!B2009,Index!A2009)),0,INDEX('Trust - Frontsheet'!$C$14:$T$213,Index!B2009,Index!A2009))","v":638.16666666666674}]
["103706066","Staff_cols:Night_nurse_act, Staff_row:Staff_row8","Number",{"$f":"IF(ISERROR(INDEX('Trust - Frontsheet'!$C$14:$T$213,Index!B2010,Index!A2010)),0,INDEX('Trust - Frontsheet'!$C$14:$T$213,Index!B2010,Index!A2010))","v":682.5}]
["103706077","Staff_cols:Night_nurse_act, Staff_row:Staff_row9","Number",{"$f":"IF(ISERROR(INDEX('Trust - Frontsheet'!$C$14:$T$213,Index!B2011,Index!A2011)),0,INDEX('Trust - Frontsheet'!$C$14:$T$213,Index!B2011,Index!A2011))","v":686}]
["103705889","Staff_cols:Night_nurse_act, Staff_row:Staff_row10","Number",{"$f":"IF(ISERROR(INDEX('Trust - Frontsheet'!$C$14:$T$213,Index!B2012,Index!A2012)),0,INDEX('Trust - Frontsheet'!$C$14:$T$213,Index!B2012,Index!A2012))","v":1333.5}]
["103705900","Staff_cols:Night_nurse_act, Staff_row:Staff_row11","Number",{"$f":"IF(ISERROR(INDEX('Trust - Frontsheet'!$C$14:$T$213,Index!B2013,Index!A2013)),0,INDEX('Trust - Frontsheet'!$C$14:$T$213,Index!B2013,Index!A2013))","v":1364}]
["103705911","Staff_cols:Night_nurse_act, Staff_row:Staff_row12","Number",{"$f":"IF(ISERROR(INDEX('Trust - Frontsheet'!$C$14:$T$213,Index!B2014,Index!A2014)),0,INDEX('Trust - Frontsheet'!$C$14:$T$213,Index!B2014,Index!A2014))","v":1001.5}]
["103705922","Staff_cols:Night_nurse_act, Staff_row:Staff_row13","Number",{"$f":"IF(ISERROR(INDEX('Trust - Frontsheet'!$C$14:$T$213,Index!B2015,Index!A2015)),0,INDEX('Trust - Frontsheet'!$C$14:$T$213,Index!B2015,Index!A2015))","v":132.75}]
["103705933","Staff_cols:Night_nurse_act, Staff_row:Staff_row14","Number",{"$f":"IF(ISERROR(INDEX('Trust - Frontsheet'!$C$14:$T$213,Index!B2016,Index!A2016)),0,INDEX('Trust - Frontsheet'!$C$14:$T$213,Index!B2016,Index!A2016))","v":1029.3333333333335}]
["103705944","Staff_cols:Night_nurse_act, Staff_row:Staff_row15","Number",{"$f":"IF(ISERROR(INDEX('Trust - Frontsheet'!$C$14:$T$213,Index!B2017,Index!A2017)),0,INDEX('Trust - Frontsheet'!$C$14:$T$213,Index!B2017,Index!A2017))","v":991}]
["103705955","Staff_cols:Night_nurse_act, Staff_row:Staff_row16","Number",{"$f":"IF(ISERROR(INDEX('Trust - Frontsheet'!$C$14:$T$213,Index!B2018,Index!A2018)),0,INDEX('Trust - Frontsheet'!$C$14:$T$213,Index!B2018,Index!A2018))","v":4144.25}]
["103705966","Staff_cols:Night_nurse_act, Staff_row:Staff_row17","Number",{"$f":"IF(ISERROR(INDEX('Trust - Frontsheet'!$C$14:$T$213,Index!B2019,Index!A2019)),0,INDEX('Trust - Frontsheet'!$C$14:$T$213,Index!B2019,Index!A2019))","v":2697.25}]
["103705977","Staff_cols:Night_nurse_act, Staff_row:Staff_row18","Number",{"$f":"IF(ISERROR(INDEX('Trust - Frontsheet'!$C$14:$T$213,Index!B2020,Index!A2020)),0,INDEX('Trust - Frontsheet'!$C$14:$T$213,Index!B2020,Index!A2020))","v":683}]
["103705988","Staff_cols:Night_nurse_act, Staff_row:Staff_row19","Number",{"$f":"IF(ISERROR(INDEX('Trust - Frontsheet'!$C$14:$T$213,Index!B2021,Index!A2021)),0,INDEX('Trust - Frontsheet'!$C$14:$T$213,Index!B2021,Index!A2021))","v":1023.6666666666667}]
["103706000","Staff_cols:Night_nurse_act, Staff_row:Staff_row20","Number",{"$f":"IF(ISERROR(INDEX('Trust - Frontsheet'!$C$14:$T$213,Index!B2022,Index!A2022)),0,INDEX('Trust - Frontsheet'!$C$14:$T$213,Index!B2022,Index!A2022))","v":334.58333333333337}]
["103706002","Staff_cols:Night_nurse_act, Staff_row:Staff_row21","Number",{"$f":"IF(ISERROR(INDEX('Trust - Frontsheet'!$C$14:$T$213,Index!B2023,Index!A2023)),0,INDEX('Trust - Frontsheet'!$C$14:$T$213,Index!B2023,Index!A2023))","v":1012.5}]
["103706003","Staff_cols:Night_nurse_act, Staff_row:Staff_row22","Number",{"$f":"IF(ISERROR(INDEX('Trust - Frontsheet'!$C$14:$T$213,Index!B2024,Index!A2024)),0,INDEX('Trust - Frontsheet'!$C$14:$T$213,Index!B2024,Index!A2024))","v":1262.5}]
["103706004","Staff_cols:Night_nurse_act, Staff_row:Staff_row23","Number",{"$f":"IF(ISERROR(INDEX('Trust - Frontsheet'!$C$14:$T$213,Index!B2025,Index!A2025)),0,INDEX('Trust - Frontsheet'!$C$14:$T$213,Index!B2025,Index!A2025))","v":1037}]
["103706005","Staff_cols:Night_nurse_act, Staff_row:Staff_row24","Number",{"$f":"IF(ISERROR(INDEX('Trust - Frontsheet'!$C$14:$T$213,Index!B2026,Index!A2026)),0,INDEX('Trust - Frontsheet'!$C$14:$T$213,Index!B2026,Index!A2026))","v":605}]
["103706006","Staff_cols:Night_nurse_act, Staff_row:Staff_row25","Number",{"$f":"IF(ISERROR(INDEX('Trust - Frontsheet'!$C$14:$T$213,Index!B2027,Index!A2027)),0,INDEX('Trust - Frontsheet'!$C$14:$T$213,Index!B2027,Index!A2027))","v":1355.5}]
["103706007","Staff_cols:Night_nurse_act, Staff_row:Staff_row26","Number",{"$f":"IF(ISERROR(INDEX('Trust - Frontsheet'!$C$14:$T$213,Index!B2028,Index!A2028)),0,INDEX('Trust - Frontsheet'!$C$14:$T$213,Index!B2028,Index!A2028))","v":1344.75}]
["103706008","Staff_cols:Night_nurse_act, Staff_row:Staff_row27","Number",{"$f":"IF(ISERROR(INDEX('Trust - Frontsheet'!$C$14:$T$213,Index!B2029,Index!A2029)),0,INDEX('Trust - Frontsheet'!$C$14:$T$213,Index!B2029,Index!A2029))","v":1386.5}]
["103706009","Staff_cols:Night_nurse_act, Staff_row:Staff_row28","Number",{"$f":"IF(ISERROR(INDEX('Trust - Frontsheet'!$C$14:$T$213,Index!B2030,Index!A2030)),0,INDEX('Trust - Frontsheet'!$C$14:$T$213,Index!B2030,Index!A2030))","v":1926.6666666666665}]
["103706010","Staff_cols:Night_nurse_act, Staff_row:Staff_row29","Number",{"$f":"IF(ISERROR(INDEX('Trust - Frontsheet'!$C$14:$T$213,Index!B2031,Index!A2031)),0,INDEX('Trust - Frontsheet'!$C$14:$T$213,Index!B2031,Index!A2031))","v":1651.5}]
["103706012","Staff_cols:Night_nurse_act, Staff_row:Staff_row30","Number",{"$f":"IF(ISERROR(INDEX('Trust - Frontsheet'!$C$14:$T$213,Index!B2032,Index!A2032)),0,INDEX('Trust - Frontsheet'!$C$14:$T$213,Index!B2032,Index!A2032))","v":1023}]
["103706013","Staff_cols:Night_nurse_act, Staff_row:Staff_row31","Number",{"$f":"IF(ISERROR(INDEX('Trust - Frontsheet'!$C$14:$T$213,Index!B2033,Index!A2033)),0,INDEX('Trust - Frontsheet'!$C$14:$T$213,Index!B2033,Index!A2033))","v":346}]
["103706014","Staff_cols:Night_nurse_act, Staff_row:Staff_row32","Number",{"$f":"IF(ISERROR(INDEX('Trust - Frontsheet'!$C$14:$T$213,Index!B2034,Index!A2034)),0,INDEX('Trust - Frontsheet'!$C$14:$T$213,Index!B2034,Index!A2034))","v":806}]
["103706015","Staff_cols:Night_nurse_act, Staff_row:Staff_row33","Number",{"$f":"IF(ISERROR(INDEX('Trust - Frontsheet'!$C$14:$T$213,Index!B2035,Index!A2035)),0,INDEX('Trust - Frontsheet'!$C$14:$T$213,Index!B2035,Index!A2035))","v":1331}]
["103706016","Staff_cols:Night_nurse_act, Staff_row:Staff_row34","Number",{"$f":"IF(ISERROR(INDEX('Trust - Frontsheet'!$C$14:$T$213,Index!B2036,Index!A2036)),0,INDEX('Trust - Frontsheet'!$C$14:$T$213,Index!B2036,Index!A2036))","v":682}]
["103706017","Staff_cols:Night_nurse_act, Staff_row:Staff_row35","Number",{"$f":"IF(ISERROR(INDEX('Trust - Frontsheet'!$C$14:$T$213,Index!B2037,Index!A2037)),0,INDEX('Trust - Frontsheet'!$C$14:$T$213,Index!B2037,Index!A2037))","v":1017}]
["103706018","Staff_cols:Night_nurse_act, Staff_row:Staff_row36","Number",{"$f":"IF(ISERROR(INDEX('Trust - Frontsheet'!$C$14:$T$213,Index!B2038,Index!A2038)),0,INDEX('Trust - Frontsheet'!$C$14:$T$213,Index!B2038,Index!A2038))","v":895.25}]
["103706019","Staff_cols:Night_nurse_act, Staff_row:Staff_row37","Number",{"$f":"IF(ISERROR(INDEX('Trust - Frontsheet'!$C$14:$T$213,Index!B2039,Index!A2039)),0,INDEX('Trust - Frontsheet'!$C$14:$T$213,Index!B2039,Index!A2039))","v":1067.5}]
["103706020","Staff_cols:Night_nurse_act, Staff_row:Staff_row38","Number",{"$f":"IF(ISERROR(INDEX('Trust - Frontsheet'!$C$14:$T$213,Index!B2040,Index!A2040)),0,INDEX('Trust - Frontsheet'!$C$14:$T$213,Index!B2040,Index!A2040))","v":986.5}]
["103706021","Staff_cols:Night_nurse_act, Staff_row:Staff_row39","Number",{"$f":"IF(ISERROR(INDEX('Trust - Frontsheet'!$C$14:$T$213,Index!B2041,Index!A2041)),0,INDEX('Trust - Frontsheet'!$C$14:$T$213,Index!B2041,Index!A2041))","v":1012}]
["103706023","Staff_cols:Night_nurse_act, Staff_row:Staff_row40","Number",{"$f":"IF(ISERROR(INDEX('Trust - Frontsheet'!$C$14:$T$213,Index!B2042,Index!A2042)),0,INDEX('Trust - Frontsheet'!$C$14:$T$213,Index!B2042,Index!A2042))","v":1016.8333333333334}]
["103706024","Staff_cols:Night_nurse_act, Staff_row:Staff_row41","Number",{"$f":"IF(ISERROR(INDEX('Trust - Frontsheet'!$C$14:$T$213,Index!B2043,Index!A2043)),0,INDEX('Trust - Frontsheet'!$C$14:$T$213,Index!B2043,Index!A2043))","v":671}]
["103706025","Staff_cols:Night_nurse_act, Staff_row:Staff_row42","Number",{"$f":"IF(ISERROR(INDEX('Trust - Frontsheet'!$C$14:$T$213,Index!B2044,Index!A2044)),0,INDEX('Trust - Frontsheet'!$C$14:$T$213,Index!B2044,Index!A2044))","v":1102.5}]
["103706026","Staff_cols:Night_nurse_act, Staff_row:Staff_row43","Number",{"$f":"IF(ISERROR(INDEX('Trust - Frontsheet'!$C$14:$T$213,Index!B2045,Index!A2045)),0,INDEX('Trust - Frontsheet'!$C$14:$T$213,Index!B2045,Index!A2045))","v":1034}]
["103706027","Staff_cols:Night_nurse_act, Staff_row:Staff_row44","Number",{"$f":"IF(ISERROR(INDEX('Trust - Frontsheet'!$C$14:$T$213,Index!B2046,Index!A2046)),0,INDEX('Trust - Frontsheet'!$C$14:$T$213,Index!B2046,Index!A2046))","v":679.16666666666663}]
["103706028","Staff_cols:Night_nurse_act, Staff_row:Staff_row45","Number",{"$f":"IF(ISERROR(INDEX('Trust - Frontsheet'!$C$14:$T$213,Index!B2047,Index!A2047)),0,INDEX('Trust - Frontsheet'!$C$14:$T$213,Index!B2047,Index!A2047))","v":1647.5}]
["103706029","Staff_cols:Night_nurse_act, Staff_row:Staff_row46","Number",{"$f":"IF(ISERROR(INDEX('Trust - Frontsheet'!$C$14:$T$213,Index!B2048,Index!A2048)),0,INDEX('Trust - Frontsheet'!$C$14:$T$213,Index!B2048,Index!A2048))","v":682}]
["103706030","Staff_cols:Night_nurse_act, Staff_row:Staff_row47","Number",{"$f":"IF(ISERROR(INDEX('Trust - Frontsheet'!$C$14:$T$213,Index!B2049,Index!A2049)),0,INDEX('Trust - Frontsheet'!$C$14:$T$213,Index!B2049,Index!A2049))","v":2486}]
["103706031","Staff_cols:Night_nurse_act, Staff_row:Staff_row48","Number",{"$f":"IF(ISERROR(INDEX('Trust - Frontsheet'!$C$14:$T$213,Index!B2050,Index!A2050)),0,INDEX('Trust - Frontsheet'!$C$14:$T$213,Index!B2050,Index!A2050))","v":0}]
["103706032","Staff_cols:Night_nurse_act, Staff_row:Staff_row49","Number",{"$f":"IF(ISERROR(INDEX('Trust - Frontsheet'!$C$14:$T$213,Index!B2051,Index!A2051)),0,INDEX('Trust - Frontsheet'!$C$14:$T$213,Index!B2051,Index!A2051))","v":0}]
["103706034","Staff_cols:Night_nurse_act, Staff_row:Staff_row50","Number",{"$f":"IF(ISERROR(INDEX('Trust - Frontsheet'!$C$14:$T$213,Index!B2052,Index!A2052)),0,INDEX('Trust - Frontsheet'!$C$14:$T$213,Index!B2052,Index!A2052))","v":0}]
["103706035","Staff_cols:Night_nurse_act, Staff_row:Staff_row51","Number",{"$f":"IF(ISERROR(INDEX('Trust - Frontsheet'!$C$14:$T$213,Index!B2053,Index!A2053)),0,INDEX('Trust - Frontsheet'!$C$14:$T$213,Index!B2053,Index!A2053))","v":0}]
["103706036","Staff_cols:Night_nurse_act, Staff_row:Staff_row52","Number",{"$f":"IF(ISERROR(INDEX('Trust - Frontsheet'!$C$14:$T$213,Index!B2054,Index!A2054)),0,INDEX('Trust - Frontsheet'!$C$14:$T$213,Index!B2054,Index!A2054))","v":0}]
["103706037","Staff_cols:Night_nurse_act, Staff_row:Staff_row53","Number",{"$f":"IF(ISERROR(INDEX('Trust - Frontsheet'!$C$14:$T$213,Index!B2055,Index!A2055)),0,INDEX('Trust - Frontsheet'!$C$14:$T$213,Index!B2055,Index!A2055))","v":0}]
["103706038","Staff_cols:Night_nurse_act, Staff_row:Staff_row54","Number",{"$f":"IF(ISERROR(INDEX('Trust - Frontsheet'!$C$14:$T$213,Index!B2056,Index!A2056)),0,INDEX('Trust - Frontsheet'!$C$14:$T$213,Index!B2056,Index!A2056))","v":0}]
["103706039","Staff_cols:Night_nurse_act, Staff_row:Staff_row55","Number",{"$f":"IF(ISERROR(INDEX('Trust - Frontsheet'!$C$14:$T$213,Index!B2057,Index!A2057)),0,INDEX('Trust - Frontsheet'!$C$14:$T$213,Index!B2057,Index!A2057))","v":0}]
["103706040","Staff_cols:Night_nurse_act, Staff_row:Staff_row56","Number",{"$f":"IF(ISERROR(INDEX('Trust - Frontsheet'!$C$14:$T$213,Index!B2058,Index!A2058)),0,INDEX('Trust - Frontsheet'!$C$14:$T$213,Index!B2058,Index!A2058))","v":0}]
["103706041","Staff_cols:Night_nurse_act, Staff_row:Staff_row57","Number",{"$f":"IF(ISERROR(INDEX('Trust - Frontsheet'!$C$14:$T$213,Index!B2059,Index!A2059)),0,INDEX('Trust - Frontsheet'!$C$14:$T$213,Index!B2059,Index!A2059))","v":0}]
["103706042","Staff_cols:Night_nurse_act, Staff_row:Staff_row58","Number",{"$f":"IF(ISERROR(INDEX('Trust - Frontsheet'!$C$14:$T$213,Index!B2060,Index!A2060)),0,INDEX('Trust - Frontsheet'!$C$14:$T$213,Index!B2060,Index!A2060))","v":0}]
["103706043","Staff_cols:Night_nurse_act, Staff_row:Staff_row59","Number",{"$f":"IF(ISERROR(INDEX('Trust - Frontsheet'!$C$14:$T$213,Index!B2061,Index!A2061)),0,INDEX('Trust - Frontsheet'!$C$14:$T$213,Index!B2061,Index!A2061))","v":0}]
["103706045","Staff_cols:Night_nurse_act, Staff_row:Staff_row60","Number",{"$f":"IF(ISERROR(INDEX('Trust - Frontsheet'!$C$14:$T$213,Index!B2062,Index!A2062)),0,INDEX('Trust - Frontsheet'!$C$14:$T$213,Index!B2062,Index!A2062))","v":0}]
["103706046","Staff_cols:Night_nurse_act, Staff_row:Staff_row61","Number",{"$f":"IF(ISERROR(INDEX('Trust - Frontsheet'!$C$14:$T$213,Index!B2063,Index!A2063)),0,INDEX('Trust - Frontsheet'!$C$14:$T$213,Index!B2063,Index!A2063))","v":0}]
["103706047","Staff_cols:Night_nurse_act, Staff_row:Staff_row62","Number",{"$f":"IF(ISERROR(INDEX('Trust - Frontsheet'!$C$14:$T$213,Index!B2064,Index!A2064)),0,INDEX('Trust - Frontsheet'!$C$14:$T$213,Index!B2064,Index!A2064))","v":0}]
["103706048","Staff_cols:Night_nurse_act, Staff_row:Staff_row63","Number",{"$f":"IF(ISERROR(INDEX('Trust - Frontsheet'!$C$14:$T$213,Index!B2065,Index!A2065)),0,INDEX('Trust - Frontsheet'!$C$14:$T$213,Index!B2065,Index!A2065))","v":0}]
["103706049","Staff_cols:Night_nurse_act, Staff_row:Staff_row64","Number",{"$f":"IF(ISERROR(INDEX('Trust - Frontsheet'!$C$14:$T$213,Index!B2066,Index!A2066)),0,INDEX('Trust - Frontsheet'!$C$14:$T$213,Index!B2066,Index!A2066))","v":0}]
["103706050","Staff_cols:Night_nurse_act, Staff_row:Staff_row65","Number",{"$f":"IF(ISERROR(INDEX('Trust - Frontsheet'!$C$14:$T$213,Index!B2067,Index!A2067)),0,INDEX('Trust - Frontsheet'!$C$14:$T$213,Index!B2067,Index!A2067))","v":0}]
["103706051","Staff_cols:Night_nurse_act, Staff_row:Staff_row66","Number",{"$f":"IF(ISERROR(INDEX('Trust - Frontsheet'!$C$14:$T$213,Index!B2068,Index!A2068)),0,INDEX('Trust - Frontsheet'!$C$14:$T$213,Index!B2068,Index!A2068))","v":0}]
["103706052","Staff_cols:Night_nurse_act, Staff_row:Staff_row67","Number",{"$f":"IF(ISERROR(INDEX('Trust - Frontsheet'!$C$14:$T$213,Index!B2069,Index!A2069)),0,INDEX('Trust - Frontsheet'!$C$14:$T$213,Index!B2069,Index!A2069))","v":0}]
["103706053","Staff_cols:Night_nurse_act, Staff_row:Staff_row68","Number",{"$f":"IF(ISERROR(INDEX('Trust - Frontsheet'!$C$14:$T$213,Index!B2070,Index!A2070)),0,INDEX('Trust - Frontsheet'!$C$14:$T$213,Index!B2070,Index!A2070))","v":0}]
["103706054","Staff_cols:Night_nurse_act, Staff_row:Staff_row69","Number",{"$f":"IF(ISERROR(INDEX('Trust - Frontsheet'!$C$14:$T$213,Index!B2071,Index!A2071)),0,INDEX('Trust - Frontsheet'!$C$14:$T$213,Index!B2071,Index!A2071))","v":0}]
["103706056","Staff_cols:Night_nurse_act, Staff_row:Staff_row70","Number",{"$f":"IF(ISERROR(INDEX('Trust - Frontsheet'!$C$14:$T$213,Index!B2072,Index!A2072)),0,INDEX('Trust - Frontsheet'!$C$14:$T$213,Index!B2072,Index!A2072))","v":0}]
["103706057","Staff_cols:Night_nurse_act, Staff_row:Staff_row71","Number",{"$f":"IF(ISERROR(INDEX('Trust - Frontsheet'!$C$14:$T$213,Index!B2073,Index!A2073)),0,INDEX('Trust - Frontsheet'!$C$14:$T$213,Index!B2073,Index!A2073))","v":0}]
["103706058","Staff_cols:Night_nurse_act, Staff_row:Staff_row72","Number",{"$f":"IF(ISERROR(INDEX('Trust - Frontsheet'!$C$14:$T$213,Index!B2074,Index!A2074)),0,INDEX('Trust - Frontsheet'!$C$14:$T$213,Index!B2074,Index!A2074))","v":0}]
["103706059","Staff_cols:Night_nurse_act, Staff_row:Staff_row73","Number",{"$f":"IF(ISERROR(INDEX('Trust - Frontsheet'!$C$14:$T$213,Index!B2075,Index!A2075)),0,INDEX('Trust - Frontsheet'!$C$14:$T$213,Index!B2075,Index!A2075))","v":0}]
["103706060","Staff_cols:Night_nurse_act, Staff_row:Staff_row74","Number",{"$f":"IF(ISERROR(INDEX('Trust - Frontsheet'!$C$14:$T$213,Index!B2076,Index!A2076)),0,INDEX('Trust - Frontsheet'!$C$14:$T$213,Index!B2076,Index!A2076))","v":0}]
["103706061","Staff_cols:Night_nurse_act, Staff_row:Staff_row75","Number",{"$f":"IF(ISERROR(INDEX('Trust - Frontsheet'!$C$14:$T$213,Index!B2077,Index!A2077)),0,INDEX('Trust - Frontsheet'!$C$14:$T$213,Index!B2077,Index!A2077))","v":0}]
["103706062","Staff_cols:Night_nurse_act, Staff_row:Staff_row76","Number",{"$f":"IF(ISERROR(INDEX('Trust - Frontsheet'!$C$14:$T$213,Index!B2078,Index!A2078)),0,INDEX('Trust - Frontsheet'!$C$14:$T$213,Index!B2078,Index!A2078))","v":0}]
["103706063","Staff_cols:Night_nurse_act, Staff_row:Staff_row77","Number",{"$f":"IF(ISERROR(INDEX('Trust - Frontsheet'!$C$14:$T$213,Index!B2079,Index!A2079)),0,INDEX('Trust - Frontsheet'!$C$14:$T$213,Index!B2079,Index!A2079))","v":0}]
["103706064","Staff_cols:Night_nurse_act, Staff_row:Staff_row78","Number",{"$f":"IF(ISERROR(INDEX('Trust - Frontsheet'!$C$14:$T$213,Index!B2080,Index!A2080)),0,INDEX('Trust - Frontsheet'!$C$14:$T$213,Index!B2080,Index!A2080))","v":0}]
["103706065","Staff_cols:Night_nurse_act, Staff_row:Staff_row79","Number",{"$f":"IF(ISERROR(INDEX('Trust - Frontsheet'!$C$14:$T$213,Index!B2081,Index!A2081)),0,INDEX('Trust - Frontsheet'!$C$14:$T$213,Index!B2081,Index!A2081))","v":0}]
["103706067","Staff_cols:Night_nurse_act, Staff_row:Staff_row80","Number",{"$f":"IF(ISERROR(INDEX('Trust - Frontsheet'!$C$14:$T$213,Index!B2082,Index!A2082)),0,INDEX('Trust - Frontsheet'!$C$14:$T$213,Index!B2082,Index!A2082))","v":0}]
["103706068","Staff_cols:Night_nurse_act, Staff_row:Staff_row81","Number",{"$f":"IF(ISERROR(INDEX('Trust - Frontsheet'!$C$14:$T$213,Index!B2083,Index!A2083)),0,INDEX('Trust - Frontsheet'!$C$14:$T$213,Index!B2083,Index!A2083))","v":0}]
["103706069","Staff_cols:Night_nurse_act, Staff_row:Staff_row82","Number",{"$f":"IF(ISERROR(INDEX('Trust - Frontsheet'!$C$14:$T$213,Index!B2084,Index!A2084)),0,INDEX('Trust - Frontsheet'!$C$14:$T$213,Index!B2084,Index!A2084))","v":0}]
["103706070","Staff_cols:Night_nurse_act, Staff_row:Staff_row83","Number",{"$f":"IF(ISERROR(INDEX('Trust - Frontsheet'!$C$14:$T$213,Index!B2085,Index!A2085)),0,INDEX('Trust - Frontsheet'!$C$14:$T$213,Index!B2085,Index!A2085))","v":0}]
["103706071","Staff_cols:Night_nurse_act, Staff_row:Staff_row84","Number",{"$f":"IF(ISERROR(INDEX('Trust - Frontsheet'!$C$14:$T$213,Index!B2086,Index!A2086)),0,INDEX('Trust - Frontsheet'!$C$14:$T$213,Index!B2086,Index!A2086))","v":0}]
["103706072","Staff_cols:Night_nurse_act, Staff_row:Staff_row85","Number",{"$f":"IF(ISERROR(INDEX('Trust - Frontsheet'!$C$14:$T$213,Index!B2087,Index!A2087)),0,INDEX('Trust - Frontsheet'!$C$14:$T$213,Index!B2087,Index!A2087))","v":0}]
["103706073","Staff_cols:Night_nurse_act, Staff_row:Staff_row86","Number",{"$f":"IF(ISERROR(INDEX('Trust - Frontsheet'!$C$14:$T$213,Index!B2088,Index!A2088)),0,INDEX('Trust - Frontsheet'!$C$14:$T$213,Index!B2088,Index!A2088))","v":0}]
["103706074","Staff_cols:Night_nurse_act, Staff_row:Staff_row87","Number",{"$f":"IF(ISERROR(INDEX('Trust - Frontsheet'!$C$14:$T$213,Index!B2089,Index!A2089)),0,INDEX('Trust - Frontsheet'!$C$14:$T$213,Index!B2089,Index!A2089))","v":0}]
["103706075","Staff_cols:Night_nurse_act, Staff_row:Staff_row88","Number",{"$f":"IF(ISERROR(INDEX('Trust - Frontsheet'!$C$14:$T$213,Index!B2090,Index!A2090)),0,INDEX('Trust - Frontsheet'!$C$14:$T$213,Index!B2090,Index!A2090))","v":0}]
["103706076","Staff_cols:Night_nurse_act, Staff_row:Staff_row89","Number",{"$f":"IF(ISERROR(INDEX('Trust - Frontsheet'!$C$14:$T$213,Index!B2091,Index!A2091)),0,INDEX('Trust - Frontsheet'!$C$14:$T$213,Index!B2091,Index!A2091))","v":0}]
["103706078","Staff_cols:Night_nurse_act, Staff_row:Staff_row90","Number",{"$f":"IF(ISERROR(INDEX('Trust - Frontsheet'!$C$14:$T$213,Index!B2092,Index!A2092)),0,INDEX('Trust - Frontsheet'!$C$14:$T$213,Index!B2092,Index!A2092))","v":0}]
["103706079","Staff_cols:Night_nurse_act, Staff_row:Staff_row91","Number",{"$f":"IF(ISERROR(INDEX('Trust - Frontsheet'!$C$14:$T$213,Index!B2093,Index!A2093)),0,INDEX('Trust - Frontsheet'!$C$14:$T$213,Index!B2093,Index!A2093))","v":0}]
["103706080","Staff_cols:Night_nurse_act, Staff_row:Staff_row92","Number",{"$f":"IF(ISERROR(INDEX('Trust - Frontsheet'!$C$14:$T$213,Index!B2094,Index!A2094)),0,INDEX('Trust - Frontsheet'!$C$14:$T$213,Index!B2094,Index!A2094))","v":0}]
["103706081","Staff_cols:Night_nurse_act, Staff_row:Staff_row93","Number",{"$f":"IF(ISERROR(INDEX('Trust - Frontsheet'!$C$14:$T$213,Index!B2095,Index!A2095)),0,INDEX('Trust - Frontsheet'!$C$14:$T$213,Index!B2095,Index!A2095))","v":0}]
["103706082","Staff_cols:Night_nurse_act, Staff_row:Staff_row94","Number",{"$f":"IF(ISERROR(INDEX('Trust - Frontsheet'!$C$14:$T$213,Index!B2096,Index!A2096)),0,INDEX('Trust - Frontsheet'!$C$14:$T$213,Index!B2096,Index!A2096))","v":0}]
["103706083","Staff_cols:Night_nurse_act, Staff_row:Staff_row95","Number",{"$f":"IF(ISERROR(INDEX('Trust - Frontsheet'!$C$14:$T$213,Index!B2097,Index!A2097)),0,INDEX('Trust - Frontsheet'!$C$14:$T$213,Index!B2097,Index!A2097))","v":0}]
["103706084","Staff_cols:Night_nurse_act, Staff_row:Staff_row96","Number",{"$f":"IF(ISERROR(INDEX('Trust - Frontsheet'!$C$14:$T$213,Index!B2098,Index!A2098)),0,INDEX('Trust - Frontsheet'!$C$14:$T$213,Index!B2098,Index!A2098))","v":0}]
["103706085","Staff_cols:Night_nurse_act, Staff_row:Staff_row97","Number",{"$f":"IF(ISERROR(INDEX('Trust - Frontsheet'!$C$14:$T$213,Index!B2099,Index!A2099)),0,INDEX('Trust - Frontsheet'!$C$14:$T$213,Index!B2099,Index!A2099))","v":0}]
["103706086","Staff_cols:Night_nurse_act, Staff_row:Staff_row98","Number",{"$f":"IF(ISERROR(INDEX('Trust - Frontsheet'!$C$14:$T$213,Index!B2100,Index!A2100)),0,INDEX('Trust - Frontsheet'!$C$14:$T$213,Index!B2100,Index!A2100))","v":0}]
["103706087","Staff_cols:Night_nurse_act, Staff_row:Staff_row99","Number",{"$f":"IF(ISERROR(INDEX('Trust - Frontsheet'!$C$14:$T$213,Index!B2101,Index!A2101)),0,INDEX('Trust - Frontsheet'!$C$14:$T$213,Index!B2101,Index!A2101))","v":0}]
["103705890","Staff_cols:Night_nurse_act, Staff_row:Staff_row100","Number",{"$f":"IF(ISERROR(INDEX('Trust - Frontsheet'!$C$14:$T$213,Index!B2102,Index!A2102)),0,INDEX('Trust - Frontsheet'!$C$14:$T$213,Index!B2102,Index!A2102))","v":0}]
["103705891","Staff_cols:Night_nurse_act, Staff_row:Staff_row101","Number",{"$f":"IF(ISERROR(INDEX('Trust - Frontsheet'!$C$14:$T$213,Index!B2103,Index!A2103)),0,INDEX('Trust - Frontsheet'!$C$14:$T$213,Index!B2103,Index!A2103))","v":0}]
["103705892","Staff_cols:Night_nurse_act, Staff_row:Staff_row102","Number",{"$f":"IF(ISERROR(INDEX('Trust - Frontsheet'!$C$14:$T$213,Index!B2104,Index!A2104)),0,INDEX('Trust - Frontsheet'!$C$14:$T$213,Index!B2104,Index!A2104))","v":0}]
["103705893","Staff_cols:Night_nurse_act, Staff_row:Staff_row103","Number",{"$f":"IF(ISERROR(INDEX('Trust - Frontsheet'!$C$14:$T$213,Index!B2105,Index!A2105)),0,INDEX('Trust - Frontsheet'!$C$14:$T$213,Index!B2105,Index!A2105))","v":0}]
["103705894","Staff_cols:Night_nurse_act, Staff_row:Staff_row104","Number",{"$f":"IF(ISERROR(INDEX('Trust - Frontsheet'!$C$14:$T$213,Index!B2106,Index!A2106)),0,INDEX('Trust - Frontsheet'!$C$14:$T$213,Index!B2106,Index!A2106))","v":0}]
["103705895","Staff_cols:Night_nurse_act, Staff_row:Staff_row105","Number",{"$f":"IF(ISERROR(INDEX('Trust - Frontsheet'!$C$14:$T$213,Index!B2107,Index!A2107)),0,INDEX('Trust - Frontsheet'!$C$14:$T$213,Index!B2107,Index!A2107))","v":0}]
["103705896","Staff_cols:Night_nurse_act, Staff_row:Staff_row106","Number",{"$f":"IF(ISERROR(INDEX('Trust - Frontsheet'!$C$14:$T$213,Index!B2108,Index!A2108)),0,INDEX('Trust - Frontsheet'!$C$14:$T$213,Index!B2108,Index!A2108))","v":0}]
["103705897","Staff_cols:Night_nurse_act, Staff_row:Staff_row107","Number",{"$f":"IF(ISERROR(INDEX('Trust - Frontsheet'!$C$14:$T$213,Index!B2109,Index!A2109)),0,INDEX('Trust - Frontsheet'!$C$14:$T$213,Index!B2109,Index!A2109))","v":0}]
["103705898","Staff_cols:Night_nurse_act, Staff_row:Staff_row108","Number",{"$f":"IF(ISERROR(INDEX('Trust - Frontsheet'!$C$14:$T$213,Index!B2110,Index!A2110)),0,INDEX('Trust - Frontsheet'!$C$14:$T$213,Index!B2110,Index!A2110))","v":0}]
["103705899","Staff_cols:Night_nurse_act, Staff_row:Staff_row109","Number",{"$f":"IF(ISERROR(INDEX('Trust - Frontsheet'!$C$14:$T$213,Index!B2111,Index!A2111)),0,INDEX('Trust - Frontsheet'!$C$14:$T$213,Index!B2111,Index!A2111))","v":0}]
["103705901","Staff_cols:Night_nurse_act, Staff_row:Staff_row110","Number",{"$f":"IF(ISERROR(INDEX('Trust - Frontsheet'!$C$14:$T$213,Index!B2112,Index!A2112)),0,INDEX('Trust - Frontsheet'!$C$14:$T$213,Index!B2112,Index!A2112))","v":0}]
["103705902","Staff_cols:Night_nurse_act, Staff_row:Staff_row111","Number",{"$f":"IF(ISERROR(INDEX('Trust - Frontsheet'!$C$14:$T$213,Index!B2113,Index!A2113)),0,INDEX('Trust - Frontsheet'!$C$14:$T$213,Index!B2113,Index!A2113))","v":0}]
["103705903","Staff_cols:Night_nurse_act, Staff_row:Staff_row112","Number",{"$f":"IF(ISERROR(INDEX('Trust - Frontsheet'!$C$14:$T$213,Index!B2114,Index!A2114)),0,INDEX('Trust - Frontsheet'!$C$14:$T$213,Index!B2114,Index!A2114))","v":0}]
["103705904","Staff_cols:Night_nurse_act, Staff_row:Staff_row113","Number",{"$f":"IF(ISERROR(INDEX('Trust - Frontsheet'!$C$14:$T$213,Index!B2115,Index!A2115)),0,INDEX('Trust - Frontsheet'!$C$14:$T$213,Index!B2115,Index!A2115))","v":0}]
["103705905","Staff_cols:Night_nurse_act, Staff_row:Staff_row114","Number",{"$f":"IF(ISERROR(INDEX('Trust - Frontsheet'!$C$14:$T$213,Index!B2116,Index!A2116)),0,INDEX('Trust - Frontsheet'!$C$14:$T$213,Index!B2116,Index!A2116))","v":0}]
["103705906","Staff_cols:Night_nurse_act, Staff_row:Staff_row115","Number",{"$f":"IF(ISERROR(INDEX('Trust - Frontsheet'!$C$14:$T$213,Index!B2117,Index!A2117)),0,INDEX('Trust - Frontsheet'!$C$14:$T$213,Index!B2117,Index!A2117))","v":0}]
["103705907","Staff_cols:Night_nurse_act, Staff_row:Staff_row116","Number",{"$f":"IF(ISERROR(INDEX('Trust - Frontsheet'!$C$14:$T$213,Index!B2118,Index!A2118)),0,INDEX('Trust - Frontsheet'!$C$14:$T$213,Index!B2118,Index!A2118))","v":0}]
["103705908","Staff_cols:Night_nurse_act, Staff_row:Staff_row117","Number",{"$f":"IF(ISERROR(INDEX('Trust - Frontsheet'!$C$14:$T$213,Index!B2119,Index!A2119)),0,INDEX('Trust - Frontsheet'!$C$14:$T$213,Index!B2119,Index!A2119))","v":0}]
["103705909","Staff_cols:Night_nurse_act, Staff_row:Staff_row118","Number",{"$f":"IF(ISERROR(INDEX('Trust - Frontsheet'!$C$14:$T$213,Index!B2120,Index!A2120)),0,INDEX('Trust - Frontsheet'!$C$14:$T$213,Index!B2120,Index!A2120))","v":0}]
["103705910","Staff_cols:Night_nurse_act, Staff_row:Staff_row119","Number",{"$f":"IF(ISERROR(INDEX('Trust - Frontsheet'!$C$14:$T$213,Index!B2121,Index!A2121)),0,INDEX('Trust - Frontsheet'!$C$14:$T$213,Index!B2121,Index!A2121))","v":0}]
["103705912","Staff_cols:Night_nurse_act, Staff_row:Staff_row120","Number",{"$f":"IF(ISERROR(INDEX('Trust - Frontsheet'!$C$14:$T$213,Index!B2122,Index!A2122)),0,INDEX('Trust - Frontsheet'!$C$14:$T$213,Index!B2122,Index!A2122))","v":0}]
["103705913","Staff_cols:Night_nurse_act, Staff_row:Staff_row121","Number",{"$f":"IF(ISERROR(INDEX('Trust - Frontsheet'!$C$14:$T$213,Index!B2123,Index!A2123)),0,INDEX('Trust - Frontsheet'!$C$14:$T$213,Index!B2123,Index!A2123))","v":0}]
["103705914","Staff_cols:Night_nurse_act, Staff_row:Staff_row122","Number",{"$f":"IF(ISERROR(INDEX('Trust - Frontsheet'!$C$14:$T$213,Index!B2124,Index!A2124)),0,INDEX('Trust - Frontsheet'!$C$14:$T$213,Index!B2124,Index!A2124))","v":0}]
["103705915","Staff_cols:Night_nurse_act, Staff_row:Staff_row123","Number",{"$f":"IF(ISERROR(INDEX('Trust - Frontsheet'!$C$14:$T$213,Index!B2125,Index!A2125)),0,INDEX('Trust - Frontsheet'!$C$14:$T$213,Index!B2125,Index!A2125))","v":0}]
["103705916","Staff_cols:Night_nurse_act, Staff_row:Staff_row124","Number",{"$f":"IF(ISERROR(INDEX('Trust - Frontsheet'!$C$14:$T$213,Index!B2126,Index!A2126)),0,INDEX('Trust - Frontsheet'!$C$14:$T$213,Index!B2126,Index!A2126))","v":0}]
["103705917","Staff_cols:Night_nurse_act, Staff_row:Staff_row125","Number",{"$f":"IF(ISERROR(INDEX('Trust - Frontsheet'!$C$14:$T$213,Index!B2127,Index!A2127)),0,INDEX('Trust - Frontsheet'!$C$14:$T$213,Index!B2127,Index!A2127))","v":0}]
["103705918","Staff_cols:Night_nurse_act, Staff_row:Staff_row126","Number",{"$f":"IF(ISERROR(INDEX('Trust - Frontsheet'!$C$14:$T$213,Index!B2128,Index!A2128)),0,INDEX('Trust - Frontsheet'!$C$14:$T$213,Index!B2128,Index!A2128))","v":0}]
["103705919","Staff_cols:Night_nurse_act, Staff_row:Staff_row127","Number",{"$f":"IF(ISERROR(INDEX('Trust - Frontsheet'!$C$14:$T$213,Index!B2129,Index!A2129)),0,INDEX('Trust - Frontsheet'!$C$14:$T$213,Index!B2129,Index!A2129))","v":0}]
["103705920","Staff_cols:Night_nurse_act, Staff_row:Staff_row128","Number",{"$f":"IF(ISERROR(INDEX('Trust - Frontsheet'!$C$14:$T$213,Index!B2130,Index!A2130)),0,INDEX('Trust - Frontsheet'!$C$14:$T$213,Index!B2130,Index!A2130))","v":0}]
["103705921","Staff_cols:Night_nurse_act, Staff_row:Staff_row129","Number",{"$f":"IF(ISERROR(INDEX('Trust - Frontsheet'!$C$14:$T$213,Index!B2131,Index!A2131)),0,INDEX('Trust - Frontsheet'!$C$14:$T$213,Index!B2131,Index!A2131))","v":0}]
["103705923","Staff_cols:Night_nurse_act, Staff_row:Staff_row130","Number",{"$f":"IF(ISERROR(INDEX('Trust - Frontsheet'!$C$14:$T$213,Index!B2132,Index!A2132)),0,INDEX('Trust - Frontsheet'!$C$14:$T$213,Index!B2132,Index!A2132))","v":0}]
["103705924","Staff_cols:Night_nurse_act, Staff_row:Staff_row131","Number",{"$f":"IF(ISERROR(INDEX('Trust - Frontsheet'!$C$14:$T$213,Index!B2133,Index!A2133)),0,INDEX('Trust - Frontsheet'!$C$14:$T$213,Index!B2133,Index!A2133))","v":0}]
["103705925","Staff_cols:Night_nurse_act, Staff_row:Staff_row132","Number",{"$f":"IF(ISERROR(INDEX('Trust - Frontsheet'!$C$14:$T$213,Index!B2134,Index!A2134)),0,INDEX('Trust - Frontsheet'!$C$14:$T$213,Index!B2134,Index!A2134))","v":0}]
["103705926","Staff_cols:Night_nurse_act, Staff_row:Staff_row133","Number",{"$f":"IF(ISERROR(INDEX('Trust - Frontsheet'!$C$14:$T$213,Index!B2135,Index!A2135)),0,INDEX('Trust - Frontsheet'!$C$14:$T$213,Index!B2135,Index!A2135))","v":0}]
["103705927","Staff_cols:Night_nurse_act, Staff_row:Staff_row134","Number",{"$f":"IF(ISERROR(INDEX('Trust - Frontsheet'!$C$14:$T$213,Index!B2136,Index!A2136)),0,INDEX('Trust - Frontsheet'!$C$14:$T$213,Index!B2136,Index!A2136))","v":0}]
["103705928","Staff_cols:Night_nurse_act, Staff_row:Staff_row135","Number",{"$f":"IF(ISERROR(INDEX('Trust - Frontsheet'!$C$14:$T$213,Index!B2137,Index!A2137)),0,INDEX('Trust - Frontsheet'!$C$14:$T$213,Index!B2137,Index!A2137))","v":0}]
["103705929","Staff_cols:Night_nurse_act, Staff_row:Staff_row136","Number",{"$f":"IF(ISERROR(INDEX('Trust - Frontsheet'!$C$14:$T$213,Index!B2138,Index!A2138)),0,INDEX('Trust - Frontsheet'!$C$14:$T$213,Index!B2138,Index!A2138))","v":0}]
["103705930","Staff_cols:Night_nurse_act, Staff_row:Staff_row137","Number",{"$f":"IF(ISERROR(INDEX('Trust - Frontsheet'!$C$14:$T$213,Index!B2139,Index!A2139)),0,INDEX('Trust - Frontsheet'!$C$14:$T$213,Index!B2139,Index!A2139))","v":0}]
["103705931","Staff_cols:Night_nurse_act, Staff_row:Staff_row138","Number",{"$f":"IF(ISERROR(INDEX('Trust - Frontsheet'!$C$14:$T$213,Index!B2140,Index!A2140)),0,INDEX('Trust - Frontsheet'!$C$14:$T$213,Index!B2140,Index!A2140))","v":0}]
["103705932","Staff_cols:Night_nurse_act, Staff_row:Staff_row139","Number",{"$f":"IF(ISERROR(INDEX('Trust - Frontsheet'!$C$14:$T$213,Index!B2141,Index!A2141)),0,INDEX('Trust - Frontsheet'!$C$14:$T$213,Index!B2141,Index!A2141))","v":0}]
["103705934","Staff_cols:Night_nurse_act, Staff_row:Staff_row140","Number",{"$f":"IF(ISERROR(INDEX('Trust - Frontsheet'!$C$14:$T$213,Index!B2142,Index!A2142)),0,INDEX('Trust - Frontsheet'!$C$14:$T$213,Index!B2142,Index!A2142))","v":0}]
["103705935","Staff_cols:Night_nurse_act, Staff_row:Staff_row141","Number",{"$f":"IF(ISERROR(INDEX('Trust - Frontsheet'!$C$14:$T$213,Index!B2143,Index!A2143)),0,INDEX('Trust - Frontsheet'!$C$14:$T$213,Index!B2143,Index!A2143))","v":0}]
["103705936","Staff_cols:Night_nurse_act, Staff_row:Staff_row142","Number",{"$f":"IF(ISERROR(INDEX('Trust - Frontsheet'!$C$14:$T$213,Index!B2144,Index!A2144)),0,INDEX('Trust - Frontsheet'!$C$14:$T$213,Index!B2144,Index!A2144))","v":0}]
["103705937","Staff_cols:Night_nurse_act, Staff_row:Staff_row143","Number",{"$f":"IF(ISERROR(INDEX('Trust - Frontsheet'!$C$14:$T$213,Index!B2145,Index!A2145)),0,INDEX('Trust - Frontsheet'!$C$14:$T$213,Index!B2145,Index!A2145))","v":0}]
["103705938","Staff_cols:Night_nurse_act, Staff_row:Staff_row144","Number",{"$f":"IF(ISERROR(INDEX('Trust - Frontsheet'!$C$14:$T$213,Index!B2146,Index!A2146)),0,INDEX('Trust - Frontsheet'!$C$14:$T$213,Index!B2146,Index!A2146))","v":0}]
["103705939","Staff_cols:Night_nurse_act, Staff_row:Staff_row145","Number",{"$f":"IF(ISERROR(INDEX('Trust - Frontsheet'!$C$14:$T$213,Index!B2147,Index!A2147)),0,INDEX('Trust - Frontsheet'!$C$14:$T$213,Index!B2147,Index!A2147))","v":0}]
["103705940","Staff_cols:Night_nurse_act, Staff_row:Staff_row146","Number",{"$f":"IF(ISERROR(INDEX('Trust - Frontsheet'!$C$14:$T$213,Index!B2148,Index!A2148)),0,INDEX('Trust - Frontsheet'!$C$14:$T$213,Index!B2148,Index!A2148))","v":0}]
["103705941","Staff_cols:Night_nurse_act, Staff_row:Staff_row147","Number",{"$f":"IF(ISERROR(INDEX('Trust - Frontsheet'!$C$14:$T$213,Index!B2149,Index!A2149)),0,INDEX('Trust - Frontsheet'!$C$14:$T$213,Index!B2149,Index!A2149))","v":0}]
["103705942","Staff_cols:Night_nurse_act, Staff_row:Staff_row148","Number",{"$f":"IF(ISERROR(INDEX('Trust - Frontsheet'!$C$14:$T$213,Index!B2150,Index!A2150)),0,INDEX('Trust - Frontsheet'!$C$14:$T$213,Index!B2150,Index!A2150))","v":0}]
["103705943","Staff_cols:Night_nurse_act, Staff_row:Staff_row149","Number",{"$f":"IF(ISERROR(INDEX('Trust - Frontsheet'!$C$14:$T$213,Index!B2151,Index!A2151)),0,INDEX('Trust - Frontsheet'!$C$14:$T$213,Index!B2151,Index!A2151))","v":0}]
["103705945","Staff_cols:Night_nurse_act, Staff_row:Staff_row150","Number",{"$f":"IF(ISERROR(INDEX('Trust - Frontsheet'!$C$14:$T$213,Index!B2152,Index!A2152)),0,INDEX('Trust - Frontsheet'!$C$14:$T$213,Index!B2152,Index!A2152))","v":0}]
["103705946","Staff_cols:Night_nurse_act, Staff_row:Staff_row151","Number",{"$f":"IF(ISERROR(INDEX('Trust - Frontsheet'!$C$14:$T$213,Index!B2153,Index!A2153)),0,INDEX('Trust - Frontsheet'!$C$14:$T$213,Index!B2153,Index!A2153))","v":0}]
["103705947","Staff_cols:Night_nurse_act, Staff_row:Staff_row152","Number",{"$f":"IF(ISERROR(INDEX('Trust - Frontsheet'!$C$14:$T$213,Index!B2154,Index!A2154)),0,INDEX('Trust - Frontsheet'!$C$14:$T$213,Index!B2154,Index!A2154))","v":0}]
["103705948","Staff_cols:Night_nurse_act, Staff_row:Staff_row153","Number",{"$f":"IF(ISERROR(INDEX('Trust - Frontsheet'!$C$14:$T$213,Index!B2155,Index!A2155)),0,INDEX('Trust - Frontsheet'!$C$14:$T$213,Index!B2155,Index!A2155))","v":0}]
["103705949","Staff_cols:Night_nurse_act, Staff_row:Staff_row154","Number",{"$f":"IF(ISERROR(INDEX('Trust - Frontsheet'!$C$14:$T$213,Index!B2156,Index!A2156)),0,INDEX('Trust - Frontsheet'!$C$14:$T$213,Index!B2156,Index!A2156))","v":0}]
["103705950","Staff_cols:Night_nurse_act, Staff_row:Staff_row155","Number",{"$f":"IF(ISERROR(INDEX('Trust - Frontsheet'!$C$14:$T$213,Index!B2157,Index!A2157)),0,INDEX('Trust - Frontsheet'!$C$14:$T$213,Index!B2157,Index!A2157))","v":0}]
["103705951","Staff_cols:Night_nurse_act, Staff_row:Staff_row156","Number",{"$f":"IF(ISERROR(INDEX('Trust - Frontsheet'!$C$14:$T$213,Index!B2158,Index!A2158)),0,INDEX('Trust - Frontsheet'!$C$14:$T$213,Index!B2158,Index!A2158))","v":0}]
["103705952","Staff_cols:Night_nurse_act, Staff_row:Staff_row157","Number",{"$f":"IF(ISERROR(INDEX('Trust - Frontsheet'!$C$14:$T$213,Index!B2159,Index!A2159)),0,INDEX('Trust - Frontsheet'!$C$14:$T$213,Index!B2159,Index!A2159))","v":0}]
["103705953","Staff_cols:Night_nurse_act, Staff_row:Staff_row158","Number",{"$f":"IF(ISERROR(INDEX('Trust - Frontsheet'!$C$14:$T$213,Index!B2160,Index!A2160)),0,INDEX('Trust - Frontsheet'!$C$14:$T$213,Index!B2160,Index!A2160))","v":0}]
["103705954","Staff_cols:Night_nurse_act, Staff_row:Staff_row159","Number",{"$f":"IF(ISERROR(INDEX('Trust - Frontsheet'!$C$14:$T$213,Index!B2161,Index!A2161)),0,INDEX('Trust - Frontsheet'!$C$14:$T$213,Index!B2161,Index!A2161))","v":0}]
["103705956","Staff_cols:Night_nurse_act, Staff_row:Staff_row160","Number",{"$f":"IF(ISERROR(INDEX('Trust - Frontsheet'!$C$14:$T$213,Index!B2162,Index!A2162)),0,INDEX('Trust - Frontsheet'!$C$14:$T$213,Index!B2162,Index!A2162))","v":0}]
["103705957","Staff_cols:Night_nurse_act, Staff_row:Staff_row161","Number",{"$f":"IF(ISERROR(INDEX('Trust - Frontsheet'!$C$14:$T$213,Index!B2163,Index!A2163)),0,INDEX('Trust - Frontsheet'!$C$14:$T$213,Index!B2163,Index!A2163))","v":0}]
["103705958","Staff_cols:Night_nurse_act, Staff_row:Staff_row162","Number",{"$f":"IF(ISERROR(INDEX('Trust - Frontsheet'!$C$14:$T$213,Index!B2164,Index!A2164)),0,INDEX('Trust - Frontsheet'!$C$14:$T$213,Index!B2164,Index!A2164))","v":0}]
["103705959","Staff_cols:Night_nurse_act, Staff_row:Staff_row163","Number",{"$f":"IF(ISERROR(INDEX('Trust - Frontsheet'!$C$14:$T$213,Index!B2165,Index!A2165)),0,INDEX('Trust - Frontsheet'!$C$14:$T$213,Index!B2165,Index!A2165))","v":0}]
["103705960","Staff_cols:Night_nurse_act, Staff_row:Staff_row164","Number",{"$f":"IF(ISERROR(INDEX('Trust - Frontsheet'!$C$14:$T$213,Index!B2166,Index!A2166)),0,INDEX('Trust - Frontsheet'!$C$14:$T$213,Index!B2166,Index!A2166))","v":0}]
["103705961","Staff_cols:Night_nurse_act, Staff_row:Staff_row165","Number",{"$f":"IF(ISERROR(INDEX('Trust - Frontsheet'!$C$14:$T$213,Index!B2167,Index!A2167)),0,INDEX('Trust - Frontsheet'!$C$14:$T$213,Index!B2167,Index!A2167))","v":0}]
["103705962","Staff_cols:Night_nurse_act, Staff_row:Staff_row166","Number",{"$f":"IF(ISERROR(INDEX('Trust - Frontsheet'!$C$14:$T$213,Index!B2168,Index!A2168)),0,INDEX('Trust - Frontsheet'!$C$14:$T$213,Index!B2168,Index!A2168))","v":0}]
["103705963","Staff_cols:Night_nurse_act, Staff_row:Staff_row167","Number",{"$f":"IF(ISERROR(INDEX('Trust - Frontsheet'!$C$14:$T$213,Index!B2169,Index!A2169)),0,INDEX('Trust - Frontsheet'!$C$14:$T$213,Index!B2169,Index!A2169))","v":0}]
["103705964","Staff_cols:Night_nurse_act, Staff_row:Staff_row168","Number",{"$f":"IF(ISERROR(INDEX('Trust - Frontsheet'!$C$14:$T$213,Index!B2170,Index!A2170)),0,INDEX('Trust - Frontsheet'!$C$14:$T$213,Index!B2170,Index!A2170))","v":0}]
["103705965","Staff_cols:Night_nurse_act, Staff_row:Staff_row169","Number",{"$f":"IF(ISERROR(INDEX('Trust - Frontsheet'!$C$14:$T$213,Index!B2171,Index!A2171)),0,INDEX('Trust - Frontsheet'!$C$14:$T$213,Index!B2171,Index!A2171))","v":0}]
["103705967","Staff_cols:Night_nurse_act, Staff_row:Staff_row170","Number",{"$f":"IF(ISERROR(INDEX('Trust - Frontsheet'!$C$14:$T$213,Index!B2172,Index!A2172)),0,INDEX('Trust - Frontsheet'!$C$14:$T$213,Index!B2172,Index!A2172))","v":0}]
["103705968","Staff_cols:Night_nurse_act, Staff_row:Staff_row171","Number",{"$f":"IF(ISERROR(INDEX('Trust - Frontsheet'!$C$14:$T$213,Index!B2173,Index!A2173)),0,INDEX('Trust - Frontsheet'!$C$14:$T$213,Index!B2173,Index!A2173))","v":0}]
["103705969","Staff_cols:Night_nurse_act, Staff_row:Staff_row172","Number",{"$f":"IF(ISERROR(INDEX('Trust - Frontsheet'!$C$14:$T$213,Index!B2174,Index!A2174)),0,INDEX('Trust - Frontsheet'!$C$14:$T$213,Index!B2174,Index!A2174))","v":0}]
["103705970","Staff_cols:Night_nurse_act, Staff_row:Staff_row173","Number",{"$f":"IF(ISERROR(INDEX('Trust - Frontsheet'!$C$14:$T$213,Index!B2175,Index!A2175)),0,INDEX('Trust - Frontsheet'!$C$14:$T$213,Index!B2175,Index!A2175))","v":0}]
["103705971","Staff_cols:Night_nurse_act, Staff_row:Staff_row174","Number",{"$f":"IF(ISERROR(INDEX('Trust - Frontsheet'!$C$14:$T$213,Index!B2176,Index!A2176)),0,INDEX('Trust - Frontsheet'!$C$14:$T$213,Index!B2176,Index!A2176))","v":0}]
["103705972","Staff_cols:Night_nurse_act, Staff_row:Staff_row175","Number",{"$f":"IF(ISERROR(INDEX('Trust - Frontsheet'!$C$14:$T$213,Index!B2177,Index!A2177)),0,INDEX('Trust - Frontsheet'!$C$14:$T$213,Index!B2177,Index!A2177))","v":0}]
["103705973","Staff_cols:Night_nurse_act, Staff_row:Staff_row176","Number",{"$f":"IF(ISERROR(INDEX('Trust - Frontsheet'!$C$14:$T$213,Index!B2178,Index!A2178)),0,INDEX('Trust - Frontsheet'!$C$14:$T$213,Index!B2178,Index!A2178))","v":0}]
["103705974","Staff_cols:Night_nurse_act, Staff_row:Staff_row177","Number",{"$f":"IF(ISERROR(INDEX('Trust - Frontsheet'!$C$14:$T$213,Index!B2179,Index!A2179)),0,INDEX('Trust - Frontsheet'!$C$14:$T$213,Index!B2179,Index!A2179))","v":0}]
["103705975","Staff_cols:Night_nurse_act, Staff_row:Staff_row178","Number",{"$f":"IF(ISERROR(INDEX('Trust - Frontsheet'!$C$14:$T$213,Index!B2180,Index!A2180)),0,INDEX('Trust - Frontsheet'!$C$14:$T$213,Index!B2180,Index!A2180))","v":0}]
["103705976","Staff_cols:Night_nurse_act, Staff_row:Staff_row179","Number",{"$f":"IF(ISERROR(INDEX('Trust - Frontsheet'!$C$14:$T$213,Index!B2181,Index!A2181)),0,INDEX('Trust - Frontsheet'!$C$14:$T$213,Index!B2181,Index!A2181))","v":0}]
["103705978","Staff_cols:Night_nurse_act, Staff_row:Staff_row180","Number",{"$f":"IF(ISERROR(INDEX('Trust - Frontsheet'!$C$14:$T$213,Index!B2182,Index!A2182)),0,INDEX('Trust - Frontsheet'!$C$14:$T$213,Index!B2182,Index!A2182))","v":0}]
["103705979","Staff_cols:Night_nurse_act, Staff_row:Staff_row181","Number",{"$f":"IF(ISERROR(INDEX('Trust - Frontsheet'!$C$14:$T$213,Index!B2183,Index!A2183)),0,INDEX('Trust - Frontsheet'!$C$14:$T$213,Index!B2183,Index!A2183))","v":0}]
["103705980","Staff_cols:Night_nurse_act, Staff_row:Staff_row182","Number",{"$f":"IF(ISERROR(INDEX('Trust - Frontsheet'!$C$14:$T$213,Index!B2184,Index!A2184)),0,INDEX('Trust - Frontsheet'!$C$14:$T$213,Index!B2184,Index!A2184))","v":0}]
["103705981","Staff_cols:Night_nurse_act, Staff_row:Staff_row183","Number",{"$f":"IF(ISERROR(INDEX('Trust - Frontsheet'!$C$14:$T$213,Index!B2185,Index!A2185)),0,INDEX('Trust - Frontsheet'!$C$14:$T$213,Index!B2185,Index!A2185))","v":0}]
["103705982","Staff_cols:Night_nurse_act, Staff_row:Staff_row184","Number",{"$f":"IF(ISERROR(INDEX('Trust - Frontsheet'!$C$14:$T$213,Index!B2186,Index!A2186)),0,INDEX('Trust - Frontsheet'!$C$14:$T$213,Index!B2186,Index!A2186))","v":0}]
["103705983","Staff_cols:Night_nurse_act, Staff_row:Staff_row185","Number",{"$f":"IF(ISERROR(INDEX('Trust - Frontsheet'!$C$14:$T$213,Index!B2187,Index!A2187)),0,INDEX('Trust - Frontsheet'!$C$14:$T$213,Index!B2187,Index!A2187))","v":0}]
["103705984","Staff_cols:Night_nurse_act, Staff_row:Staff_row186","Number",{"$f":"IF(ISERROR(INDEX('Trust - Frontsheet'!$C$14:$T$213,Index!B2188,Index!A2188)),0,INDEX('Trust - Frontsheet'!$C$14:$T$213,Index!B2188,Index!A2188))","v":0}]
["103705985","Staff_cols:Night_nurse_act, Staff_row:Staff_row187","Number",{"$f":"IF(ISERROR(INDEX('Trust - Frontsheet'!$C$14:$T$213,Index!B2189,Index!A2189)),0,INDEX('Trust - Frontsheet'!$C$14:$T$213,Index!B2189,Index!A2189))","v":0}]
["103705986","Staff_cols:Night_nurse_act, Staff_row:Staff_row188","Number",{"$f":"IF(ISERROR(INDEX('Trust - Frontsheet'!$C$14:$T$213,Index!B2190,Index!A2190)),0,INDEX('Trust - Frontsheet'!$C$14:$T$213,Index!B2190,Index!A2190))","v":0}]
["103705987","Staff_cols:Night_nurse_act, Staff_row:Staff_row189","Number",{"$f":"IF(ISERROR(INDEX('Trust - Frontsheet'!$C$14:$T$213,Index!B2191,Index!A2191)),0,INDEX('Trust - Frontsheet'!$C$14:$T$213,Index!B2191,Index!A2191))","v":0}]
["103705989","Staff_cols:Night_nurse_act, Staff_row:Staff_row190","Number",{"$f":"IF(ISERROR(INDEX('Trust - Frontsheet'!$C$14:$T$213,Index!B2192,Index!A2192)),0,INDEX('Trust - Frontsheet'!$C$14:$T$213,Index!B2192,Index!A2192))","v":0}]
["103705990","Staff_cols:Night_nurse_act, Staff_row:Staff_row191","Number",{"$f":"IF(ISERROR(INDEX('Trust - Frontsheet'!$C$14:$T$213,Index!B2193,Index!A2193)),0,INDEX('Trust - Frontsheet'!$C$14:$T$213,Index!B2193,Index!A2193))","v":0}]
["103705991","Staff_cols:Night_nurse_act, Staff_row:Staff_row192","Number",{"$f":"IF(ISERROR(INDEX('Trust - Frontsheet'!$C$14:$T$213,Index!B2194,Index!A2194)),0,INDEX('Trust - Frontsheet'!$C$14:$T$213,Index!B2194,Index!A2194))","v":0}]
["103705992","Staff_cols:Night_nurse_act, Staff_row:Staff_row193","Number",{"$f":"IF(ISERROR(INDEX('Trust - Frontsheet'!$C$14:$T$213,Index!B2195,Index!A2195)),0,INDEX('Trust - Frontsheet'!$C$14:$T$213,Index!B2195,Index!A2195))","v":0}]
["103705993","Staff_cols:Night_nurse_act, Staff_row:Staff_row194","Number",{"$f":"IF(ISERROR(INDEX('Trust - Frontsheet'!$C$14:$T$213,Index!B2196,Index!A2196)),0,INDEX('Trust - Frontsheet'!$C$14:$T$213,Index!B2196,Index!A2196))","v":0}]
["103705994","Staff_cols:Night_nurse_act, Staff_row:Staff_row195","Number",{"$f":"IF(ISERROR(INDEX('Trust - Frontsheet'!$C$14:$T$213,Index!B2197,Index!A2197)),0,INDEX('Trust - Frontsheet'!$C$14:$T$213,Index!B2197,Index!A2197))","v":0}]
["103705995","Staff_cols:Night_nurse_act, Staff_row:Staff_row196","Number",{"$f":"IF(ISERROR(INDEX('Trust - Frontsheet'!$C$14:$T$213,Index!B2198,Index!A2198)),0,INDEX('Trust - Frontsheet'!$C$14:$T$213,Index!B2198,Index!A2198))","v":0}]
["103705996","Staff_cols:Night_nurse_act, Staff_row:Staff_row197","Number",{"$f":"IF(ISERROR(INDEX('Trust - Frontsheet'!$C$14:$T$213,Index!B2199,Index!A2199)),0,INDEX('Trust - Frontsheet'!$C$14:$T$213,Index!B2199,Index!A2199))","v":0}]
["103705997","Staff_cols:Night_nurse_act, Staff_row:Staff_row198","Number",{"$f":"IF(ISERROR(INDEX('Trust - Frontsheet'!$C$14:$T$213,Index!B2200,Index!A2200)),0,INDEX('Trust - Frontsheet'!$C$14:$T$213,Index!B2200,Index!A2200))","v":0}]
["103705998","Staff_cols:Night_nurse_act, Staff_row:Staff_row199","Number",{"$f":"IF(ISERROR(INDEX('Trust - Frontsheet'!$C$14:$T$213,Index!B2201,Index!A2201)),0,INDEX('Trust - Frontsheet'!$C$14:$T$213,Index!B2201,Index!A2201))","v":0}]
["103706001","Staff_cols:Night_nurse_act, Staff_row:Staff_row200","Number",{"$f":"IF(ISERROR(INDEX('Trust - Frontsheet'!$C$14:$T$213,Index!B2202,Index!A2202)),0,INDEX('Trust - Frontsheet'!$C$14:$T$213,Index!B2202,Index!A2202))","v":0}]
["103705688","Staff_cols:Night_care_plan, Staff_row:Staff_row1","Number",{"$f":"IF(ISERROR(INDEX('Trust - Frontsheet'!$C$14:$T$213,Index!B2203,Index!A2203)),0,INDEX('Trust - Frontsheet'!$C$14:$T$213,Index!B2203,Index!A2203))","v":682}]
["103705799","Staff_cols:Night_care_plan, Staff_row:Staff_row2","Number",{"$f":"IF(ISERROR(INDEX('Trust - Frontsheet'!$C$14:$T$213,Index!B2204,Index!A2204)),0,INDEX('Trust - Frontsheet'!$C$14:$T$213,Index!B2204,Index!A2204))","v":682}]
["103705811","Staff_cols:Night_care_plan, Staff_row:Staff_row3","Number",{"$f":"IF(ISERROR(INDEX('Trust - Frontsheet'!$C$14:$T$213,Index!B2205,Index!A2205)),0,INDEX('Trust - Frontsheet'!$C$14:$T$213,Index!B2205,Index!A2205))","v":682}]
["103705822","Staff_cols:Night_care_plan, Staff_row:Staff_row4","Number",{"$f":"IF(ISERROR(INDEX('Trust - Frontsheet'!$C$14:$T$213,Index!B2206,Index!A2206)),0,INDEX('Trust - Frontsheet'!$C$14:$T$213,Index!B2206,Index!A2206))","v":682}]
["103705833","Staff_cols:Night_care_plan, Staff_row:Staff_row5","Number",{"$f":"IF(ISERROR(INDEX('Trust - Frontsheet'!$C$14:$T$213,Index!B2207,Index!A2207)),0,INDEX('Trust - Frontsheet'!$C$14:$T$213,Index!B2207,Index!A2207))","v":0}]
["103705844","Staff_cols:Night_care_plan, Staff_row:Staff_row6","Number",{"$f":"IF(ISERROR(INDEX('Trust - Frontsheet'!$C$14:$T$213,Index!B2208,Index!A2208)),0,INDEX('Trust - Frontsheet'!$C$14:$T$213,Index!B2208,Index!A2208))","v":341}]
["103705855","Staff_cols:Night_care_plan, Staff_row:Staff_row7","Number",{"$f":"IF(ISERROR(INDEX('Trust - Frontsheet'!$C$14:$T$213,Index!B2209,Index!A2209)),0,INDEX('Trust - Frontsheet'!$C$14:$T$213,Index!B2209,Index!A2209))","v":682}]
["103705866","Staff_cols:Night_care_plan, Staff_row:Staff_row8","Number",{"$f":"IF(ISERROR(INDEX('Trust - Frontsheet'!$C$14:$T$213,Index!B2210,Index!A2210)),0,INDEX('Trust - Frontsheet'!$C$14:$T$213,Index!B2210,Index!A2210))","v":341}]
["103705877","Staff_cols:Night_care_plan, Staff_row:Staff_row9","Number",{"$f":"IF(ISERROR(INDEX('Trust - Frontsheet'!$C$14:$T$213,Index!B2211,Index!A2211)),0,INDEX('Trust - Frontsheet'!$C$14:$T$213,Index!B2211,Index!A2211))","v":682}]
["103705689","Staff_cols:Night_care_plan, Staff_row:Staff_row10","Number",{"$f":"IF(ISERROR(INDEX('Trust - Frontsheet'!$C$14:$T$213,Index!B2212,Index!A2212)),0,INDEX('Trust - Frontsheet'!$C$14:$T$213,Index!B2212,Index!A2212))","v":661.5}]
["103705700","Staff_cols:Night_care_plan, Staff_row:Staff_row11","Number",{"$f":"IF(ISERROR(INDEX('Trust - Frontsheet'!$C$14:$T$213,Index!B2213,Index!A2213)),0,INDEX('Trust - Frontsheet'!$C$14:$T$213,Index!B2213,Index!A2213))","v":341}]
["103705711","Staff_cols:Night_care_plan, Staff_row:Staff_row12","Number",{"$f":"IF(ISERROR(INDEX('Trust - Frontsheet'!$C$14:$T$213,Index!B2214,Index!A2214)),0,INDEX('Trust - Frontsheet'!$C$14:$T$213,Index!B2214,Index!A2214))","v":682}]
["103705722","Staff_cols:Night_care_plan, Staff_row:Staff_row13","Number",{"$f":"IF(ISERROR(INDEX('Trust - Frontsheet'!$C$14:$T$213,Index!B2215,Index!A2215)),0,INDEX('Trust - Frontsheet'!$C$14:$T$213,Index!B2215,Index!A2215))","v":44}]
["103705733","Staff_cols:Night_care_plan, Staff_row:Staff_row14","Number",{"$f":"IF(ISERROR(INDEX('Trust - Frontsheet'!$C$14:$T$213,Index!B2216,Index!A2216)),0,INDEX('Trust - Frontsheet'!$C$14:$T$213,Index!B2216,Index!A2216))","v":341}]
["103705744","Staff_cols:Night_care_plan, Staff_row:Staff_row15","Number",{"$f":"IF(ISERROR(INDEX('Trust - Frontsheet'!$C$14:$T$213,Index!B2217,Index!A2217)),0,INDEX('Trust - Frontsheet'!$C$14:$T$213,Index!B2217,Index!A2217))","v":385}]
["103705755","Staff_cols:Night_care_plan, Staff_row:Staff_row16","Number",{"$f":"IF(ISERROR(INDEX('Trust - Frontsheet'!$C$14:$T$213,Index!B2218,Index!A2218)),0,INDEX('Trust - Frontsheet'!$C$14:$T$213,Index!B2218,Index!A2218))","v":356.5}]
["103705766","Staff_cols:Night_care_plan, Staff_row:Staff_row17","Number",{"$f":"IF(ISERROR(INDEX('Trust - Frontsheet'!$C$14:$T$213,Index!B2219,Index!A2219)),0,INDEX('Trust - Frontsheet'!$C$14:$T$213,Index!B2219,Index!A2219))","v":682}]
["103705777","Staff_cols:Night_care_plan, Staff_row:Staff_row18","Number",{"$f":"IF(ISERROR(INDEX('Trust - Frontsheet'!$C$14:$T$213,Index!B2220,Index!A2220)),0,INDEX('Trust - Frontsheet'!$C$14:$T$213,Index!B2220,Index!A2220))","v":682}]
["103705788","Staff_cols:Night_care_plan, Staff_row:Staff_row19","Number",{"$f":"IF(ISERROR(INDEX('Trust - Frontsheet'!$C$14:$T$213,Index!B2221,Index!A2221)),0,INDEX('Trust - Frontsheet'!$C$14:$T$213,Index!B2221,Index!A2221))","v":682}]
["103705800","Staff_cols:Night_care_plan, Staff_row:Staff_row20","Number",{"$f":"IF(ISERROR(INDEX('Trust - Frontsheet'!$C$14:$T$213,Index!B2222,Index!A2222)),0,INDEX('Trust - Frontsheet'!$C$14:$T$213,Index!B2222,Index!A2222))","v":682}]
["103705802","Staff_cols:Night_care_plan, Staff_row:Staff_row21","Number",{"$f":"IF(ISERROR(INDEX('Trust - Frontsheet'!$C$14:$T$213,Index!B2223,Index!A2223)),0,INDEX('Trust - Frontsheet'!$C$14:$T$213,Index!B2223,Index!A2223))","v":1023}]
["103705803","Staff_cols:Night_care_plan, Staff_row:Staff_row22","Number",{"$f":"IF(ISERROR(INDEX('Trust - Frontsheet'!$C$14:$T$213,Index!B2224,Index!A2224)),0,INDEX('Trust - Frontsheet'!$C$14:$T$213,Index!B2224,Index!A2224))","v":462}]
["103705804","Staff_cols:Night_care_plan, Staff_row:Staff_row23","Number",{"$f":"IF(ISERROR(INDEX('Trust - Frontsheet'!$C$14:$T$213,Index!B2225,Index!A2225)),0,INDEX('Trust - Frontsheet'!$C$14:$T$213,Index!B2225,Index!A2225))","v":341}]
["103705805","Staff_cols:Night_care_plan, Staff_row:Staff_row24","Number",{"$f":"IF(ISERROR(INDEX('Trust - Frontsheet'!$C$14:$T$213,Index!B2226,Index!A2226)),0,INDEX('Trust - Frontsheet'!$C$14:$T$213,Index!B2226,Index!A2226))","v":589}]
["103705806","Staff_cols:Night_care_plan, Staff_row:Staff_row25","Number",{"$f":"IF(ISERROR(INDEX('Trust - Frontsheet'!$C$14:$T$213,Index!B2227,Index!A2227)),0,INDEX('Trust - Frontsheet'!$C$14:$T$213,Index!B2227,Index!A2227))","v":682}]
["103705807","Staff_cols:Night_care_plan, Staff_row:Staff_row26","Number",{"$f":"IF(ISERROR(INDEX('Trust - Frontsheet'!$C$14:$T$213,Index!B2228,Index!A2228)),0,INDEX('Trust - Frontsheet'!$C$14:$T$213,Index!B2228,Index!A2228))","v":682}]
["103705808","Staff_cols:Night_care_plan, Staff_row:Staff_row27","Number",{"$f":"IF(ISERROR(INDEX('Trust - Frontsheet'!$C$14:$T$213,Index!B2229,Index!A2229)),0,INDEX('Trust - Frontsheet'!$C$14:$T$213,Index!B2229,Index!A2229))","v":341}]
["103705809","Staff_cols:Night_care_plan, Staff_row:Staff_row28","Number",{"$f":"IF(ISERROR(INDEX('Trust - Frontsheet'!$C$14:$T$213,Index!B2230,Index!A2230)),0,INDEX('Trust - Frontsheet'!$C$14:$T$213,Index!B2230,Index!A2230))","v":1022}]
["103705810","Staff_cols:Night_care_plan, Staff_row:Staff_row29","Number",{"$f":"IF(ISERROR(INDEX('Trust - Frontsheet'!$C$14:$T$213,Index!B2231,Index!A2231)),0,INDEX('Trust - Frontsheet'!$C$14:$T$213,Index!B2231,Index!A2231))","v":682}]
["103705812","Staff_cols:Night_care_plan, Staff_row:Staff_row30","Number",{"$f":"IF(ISERROR(INDEX('Trust - Frontsheet'!$C$14:$T$213,Index!B2232,Index!A2232)),0,INDEX('Trust - Frontsheet'!$C$14:$T$213,Index!B2232,Index!A2232))","v":340}]
["103705813","Staff_cols:Night_care_plan, Staff_row:Staff_row31","Number",{"$f":"IF(ISERROR(INDEX('Trust - Frontsheet'!$C$14:$T$213,Index!B2233,Index!A2233)),0,INDEX('Trust - Frontsheet'!$C$14:$T$213,Index!B2233,Index!A2233))","v":341}]
["103705814","Staff_cols:Night_care_plan, Staff_row:Staff_row32","Number",{"$f":"IF(ISERROR(INDEX('Trust - Frontsheet'!$C$14:$T$213,Index!B2234,Index!A2234)),0,INDEX('Trust - Frontsheet'!$C$14:$T$213,Index!B2234,Index!A2234))","v":341}]
["103705815","Staff_cols:Night_care_plan, Staff_row:Staff_row33","Number",{"$f":"IF(ISERROR(INDEX('Trust - Frontsheet'!$C$14:$T$213,Index!B2235,Index!A2235)),0,INDEX('Trust - Frontsheet'!$C$14:$T$213,Index!B2235,Index!A2235))","v":682}]
["103705816","Staff_cols:Night_care_plan, Staff_row:Staff_row34","Number",{"$f":"IF(ISERROR(INDEX('Trust - Frontsheet'!$C$14:$T$213,Index!B2236,Index!A2236)),0,INDEX('Trust - Frontsheet'!$C$14:$T$213,Index!B2236,Index!A2236))","v":680.5}]
["103705817","Staff_cols:Night_care_plan, Staff_row:Staff_row35","Number",{"$f":"IF(ISERROR(INDEX('Trust - Frontsheet'!$C$14:$T$213,Index!B2237,Index!A2237)),0,INDEX('Trust - Frontsheet'!$C$14:$T$213,Index!B2237,Index!A2237))","v":682}]
["103705818","Staff_cols:Night_care_plan, Staff_row:Staff_row36","Number",{"$f":"IF(ISERROR(INDEX('Trust - Frontsheet'!$C$14:$T$213,Index!B2238,Index!A2238)),0,INDEX('Trust - Frontsheet'!$C$14:$T$213,Index!B2238,Index!A2238))","v":682}]
["103705819","Staff_cols:Night_care_plan, Staff_row:Staff_row37","Number",{"$f":"IF(ISERROR(INDEX('Trust - Frontsheet'!$C$14:$T$213,Index!B2239,Index!A2239)),0,INDEX('Trust - Frontsheet'!$C$14:$T$213,Index!B2239,Index!A2239))","v":682}]
["103705820","Staff_cols:Night_care_plan, Staff_row:Staff_row38","Number",{"$f":"IF(ISERROR(INDEX('Trust - Frontsheet'!$C$14:$T$213,Index!B2240,Index!A2240)),0,INDEX('Trust - Frontsheet'!$C$14:$T$213,Index!B2240,Index!A2240))","v":682}]
["103705821","Staff_cols:Night_care_plan, Staff_row:Staff_row39","Number",{"$f":"IF(ISERROR(INDEX('Trust - Frontsheet'!$C$14:$T$213,Index!B2241,Index!A2241)),0,INDEX('Trust - Frontsheet'!$C$14:$T$213,Index!B2241,Index!A2241))","v":1023}]
["103705823","Staff_cols:Night_care_plan, Staff_row:Staff_row40","Number",{"$f":"IF(ISERROR(INDEX('Trust - Frontsheet'!$C$14:$T$213,Index!B2242,Index!A2242)),0,INDEX('Trust - Frontsheet'!$C$14:$T$213,Index!B2242,Index!A2242))","v":1015.5}]
["103705824","Staff_cols:Night_care_plan, Staff_row:Staff_row41","Number",{"$f":"IF(ISERROR(INDEX('Trust - Frontsheet'!$C$14:$T$213,Index!B2243,Index!A2243)),0,INDEX('Trust - Frontsheet'!$C$14:$T$213,Index!B2243,Index!A2243))","v":341}]
["103705825","Staff_cols:Night_care_plan, Staff_row:Staff_row42","Number",{"$f":"IF(ISERROR(INDEX('Trust - Frontsheet'!$C$14:$T$213,Index!B2244,Index!A2244)),0,INDEX('Trust - Frontsheet'!$C$14:$T$213,Index!B2244,Index!A2244))","v":681.01666666666665}]
["103705826","Staff_cols:Night_care_plan, Staff_row:Staff_row43","Number",{"$f":"IF(ISERROR(INDEX('Trust - Frontsheet'!$C$14:$T$213,Index!B2245,Index!A2245)),0,INDEX('Trust - Frontsheet'!$C$14:$T$213,Index!B2245,Index!A2245))","v":1023}]
["103705827","Staff_cols:Night_care_plan, Staff_row:Staff_row44","Number",{"$f":"IF(ISERROR(INDEX('Trust - Frontsheet'!$C$14:$T$213,Index!B2246,Index!A2246)),0,INDEX('Trust - Frontsheet'!$C$14:$T$213,Index!B2246,Index!A2246))","v":680.5}]
["103705828","Staff_cols:Night_care_plan, Staff_row:Staff_row45","Number",{"$f":"IF(ISERROR(INDEX('Trust - Frontsheet'!$C$14:$T$213,Index!B2247,Index!A2247)),0,INDEX('Trust - Frontsheet'!$C$14:$T$213,Index!B2247,Index!A2247))","v":982}]
["103705829","Staff_cols:Night_care_plan, Staff_row:Staff_row46","Number",{"$f":"IF(ISERROR(INDEX('Trust - Frontsheet'!$C$14:$T$213,Index!B2248,Index!A2248)),0,INDEX('Trust - Frontsheet'!$C$14:$T$213,Index!B2248,Index!A2248))","v":341}]
["103705830","Staff_cols:Night_care_plan, Staff_row:Staff_row47","Number",{"$f":"IF(ISERROR(INDEX('Trust - Frontsheet'!$C$14:$T$213,Index!B2249,Index!A2249)),0,INDEX('Trust - Frontsheet'!$C$14:$T$213,Index!B2249,Index!A2249))","v":0}]
["103705831","Staff_cols:Night_care_plan, Staff_row:Staff_row48","Number",{"$f":"IF(ISERROR(INDEX('Trust - Frontsheet'!$C$14:$T$213,Index!B2250,Index!A2250)),0,INDEX('Trust - Frontsheet'!$C$14:$T$213,Index!B2250,Index!A2250))","v":0}]
["103705832","Staff_cols:Night_care_plan, Staff_row:Staff_row49","Number",{"$f":"IF(ISERROR(INDEX('Trust - Frontsheet'!$C$14:$T$213,Index!B2251,Index!A2251)),0,INDEX('Trust - Frontsheet'!$C$14:$T$213,Index!B2251,Index!A2251))","v":0}]
["103705834","Staff_cols:Night_care_plan, Staff_row:Staff_row50","Number",{"$f":"IF(ISERROR(INDEX('Trust - Frontsheet'!$C$14:$T$213,Index!B2252,Index!A2252)),0,INDEX('Trust - Frontsheet'!$C$14:$T$213,Index!B2252,Index!A2252))","v":0}]
["103705835","Staff_cols:Night_care_plan, Staff_row:Staff_row51","Number",{"$f":"IF(ISERROR(INDEX('Trust - Frontsheet'!$C$14:$T$213,Index!B2253,Index!A2253)),0,INDEX('Trust - Frontsheet'!$C$14:$T$213,Index!B2253,Index!A2253))","v":0}]
["103705836","Staff_cols:Night_care_plan, Staff_row:Staff_row52","Number",{"$f":"IF(ISERROR(INDEX('Trust - Frontsheet'!$C$14:$T$213,Index!B2254,Index!A2254)),0,INDEX('Trust - Frontsheet'!$C$14:$T$213,Index!B2254,Index!A2254))","v":0}]
["103705837","Staff_cols:Night_care_plan, Staff_row:Staff_row53","Number",{"$f":"IF(ISERROR(INDEX('Trust - Frontsheet'!$C$14:$T$213,Index!B2255,Index!A2255)),0,INDEX('Trust - Frontsheet'!$C$14:$T$213,Index!B2255,Index!A2255))","v":0}]
["103705838","Staff_cols:Night_care_plan, Staff_row:Staff_row54","Number",{"$f":"IF(ISERROR(INDEX('Trust - Frontsheet'!$C$14:$T$213,Index!B2256,Index!A2256)),0,INDEX('Trust - Frontsheet'!$C$14:$T$213,Index!B2256,Index!A2256))","v":0}]
["103705839","Staff_cols:Night_care_plan, Staff_row:Staff_row55","Number",{"$f":"IF(ISERROR(INDEX('Trust - Frontsheet'!$C$14:$T$213,Index!B2257,Index!A2257)),0,INDEX('Trust - Frontsheet'!$C$14:$T$213,Index!B2257,Index!A2257))","v":0}]
["103705840","Staff_cols:Night_care_plan, Staff_row:Staff_row56","Number",{"$f":"IF(ISERROR(INDEX('Trust - Frontsheet'!$C$14:$T$213,Index!B2258,Index!A2258)),0,INDEX('Trust - Frontsheet'!$C$14:$T$213,Index!B2258,Index!A2258))","v":0}]
["103705841","Staff_cols:Night_care_plan, Staff_row:Staff_row57","Number",{"$f":"IF(ISERROR(INDEX('Trust - Frontsheet'!$C$14:$T$213,Index!B2259,Index!A2259)),0,INDEX('Trust - Frontsheet'!$C$14:$T$213,Index!B2259,Index!A2259))","v":0}]
["103705842","Staff_cols:Night_care_plan, Staff_row:Staff_row58","Number",{"$f":"IF(ISERROR(INDEX('Trust - Frontsheet'!$C$14:$T$213,Index!B2260,Index!A2260)),0,INDEX('Trust - Frontsheet'!$C$14:$T$213,Index!B2260,Index!A2260))","v":0}]
["103705843","Staff_cols:Night_care_plan, Staff_row:Staff_row59","Number",{"$f":"IF(ISERROR(INDEX('Trust - Frontsheet'!$C$14:$T$213,Index!B2261,Index!A2261)),0,INDEX('Trust - Frontsheet'!$C$14:$T$213,Index!B2261,Index!A2261))","v":0}]
["103705845","Staff_cols:Night_care_plan, Staff_row:Staff_row60","Number",{"$f":"IF(ISERROR(INDEX('Trust - Frontsheet'!$C$14:$T$213,Index!B2262,Index!A2262)),0,INDEX('Trust - Frontsheet'!$C$14:$T$213,Index!B2262,Index!A2262))","v":0}]
["103705846","Staff_cols:Night_care_plan, Staff_row:Staff_row61","Number",{"$f":"IF(ISERROR(INDEX('Trust - Frontsheet'!$C$14:$T$213,Index!B2263,Index!A2263)),0,INDEX('Trust - Frontsheet'!$C$14:$T$213,Index!B2263,Index!A2263))","v":0}]
["103705847","Staff_cols:Night_care_plan, Staff_row:Staff_row62","Number",{"$f":"IF(ISERROR(INDEX('Trust - Frontsheet'!$C$14:$T$213,Index!B2264,Index!A2264)),0,INDEX('Trust - Frontsheet'!$C$14:$T$213,Index!B2264,Index!A2264))","v":0}]
["103705848","Staff_cols:Night_care_plan, Staff_row:Staff_row63","Number",{"$f":"IF(ISERROR(INDEX('Trust - Frontsheet'!$C$14:$T$213,Index!B2265,Index!A2265)),0,INDEX('Trust - Frontsheet'!$C$14:$T$213,Index!B2265,Index!A2265))","v":0}]
["103705849","Staff_cols:Night_care_plan, Staff_row:Staff_row64","Number",{"$f":"IF(ISERROR(INDEX('Trust - Frontsheet'!$C$14:$T$213,Index!B2266,Index!A2266)),0,INDEX('Trust - Frontsheet'!$C$14:$T$213,Index!B2266,Index!A2266))","v":0}]
["103705850","Staff_cols:Night_care_plan, Staff_row:Staff_row65","Number",{"$f":"IF(ISERROR(INDEX('Trust - Frontsheet'!$C$14:$T$213,Index!B2267,Index!A2267)),0,INDEX('Trust - Frontsheet'!$C$14:$T$213,Index!B2267,Index!A2267))","v":0}]
["103705851","Staff_cols:Night_care_plan, Staff_row:Staff_row66","Number",{"$f":"IF(ISERROR(INDEX('Trust - Frontsheet'!$C$14:$T$213,Index!B2268,Index!A2268)),0,INDEX('Trust - Frontsheet'!$C$14:$T$213,Index!B2268,Index!A2268))","v":0}]
["103705852","Staff_cols:Night_care_plan, Staff_row:Staff_row67","Number",{"$f":"IF(ISERROR(INDEX('Trust - Frontsheet'!$C$14:$T$213,Index!B2269,Index!A2269)),0,INDEX('Trust - Frontsheet'!$C$14:$T$213,Index!B2269,Index!A2269))","v":0}]
["103705853","Staff_cols:Night_care_plan, Staff_row:Staff_row68","Number",{"$f":"IF(ISERROR(INDEX('Trust - Frontsheet'!$C$14:$T$213,Index!B2270,Index!A2270)),0,INDEX('Trust - Frontsheet'!$C$14:$T$213,Index!B2270,Index!A2270))","v":0}]
["103705854","Staff_cols:Night_care_plan, Staff_row:Staff_row69","Number",{"$f":"IF(ISERROR(INDEX('Trust - Frontsheet'!$C$14:$T$213,Index!B2271,Index!A2271)),0,INDEX('Trust - Frontsheet'!$C$14:$T$213,Index!B2271,Index!A2271))","v":0}]
["103705856","Staff_cols:Night_care_plan, Staff_row:Staff_row70","Number",{"$f":"IF(ISERROR(INDEX('Trust - Frontsheet'!$C$14:$T$213,Index!B2272,Index!A2272)),0,INDEX('Trust - Frontsheet'!$C$14:$T$213,Index!B2272,Index!A2272))","v":0}]
["103705857","Staff_cols:Night_care_plan, Staff_row:Staff_row71","Number",{"$f":"IF(ISERROR(INDEX('Trust - Frontsheet'!$C$14:$T$213,Index!B2273,Index!A2273)),0,INDEX('Trust - Frontsheet'!$C$14:$T$213,Index!B2273,Index!A2273))","v":0}]
["103705858","Staff_cols:Night_care_plan, Staff_row:Staff_row72","Number",{"$f":"IF(ISERROR(INDEX('Trust - Frontsheet'!$C$14:$T$213,Index!B2274,Index!A2274)),0,INDEX('Trust - Frontsheet'!$C$14:$T$213,Index!B2274,Index!A2274))","v":0}]
["103705859","Staff_cols:Night_care_plan, Staff_row:Staff_row73","Number",{"$f":"IF(ISERROR(INDEX('Trust - Frontsheet'!$C$14:$T$213,Index!B2275,Index!A2275)),0,INDEX('Trust - Frontsheet'!$C$14:$T$213,Index!B2275,Index!A2275))","v":0}]
["103705860","Staff_cols:Night_care_plan, Staff_row:Staff_row74","Number",{"$f":"IF(ISERROR(INDEX('Trust - Frontsheet'!$C$14:$T$213,Index!B2276,Index!A2276)),0,INDEX('Trust - Frontsheet'!$C$14:$T$213,Index!B2276,Index!A2276))","v":0}]
["103705861","Staff_cols:Night_care_plan, Staff_row:Staff_row75","Number",{"$f":"IF(ISERROR(INDEX('Trust - Frontsheet'!$C$14:$T$213,Index!B2277,Index!A2277)),0,INDEX('Trust - Frontsheet'!$C$14:$T$213,Index!B2277,Index!A2277))","v":0}]
["103705862","Staff_cols:Night_care_plan, Staff_row:Staff_row76","Number",{"$f":"IF(ISERROR(INDEX('Trust - Frontsheet'!$C$14:$T$213,Index!B2278,Index!A2278)),0,INDEX('Trust - Frontsheet'!$C$14:$T$213,Index!B2278,Index!A2278))","v":0}]
["103705863","Staff_cols:Night_care_plan, Staff_row:Staff_row77","Number",{"$f":"IF(ISERROR(INDEX('Trust - Frontsheet'!$C$14:$T$213,Index!B2279,Index!A2279)),0,INDEX('Trust - Frontsheet'!$C$14:$T$213,Index!B2279,Index!A2279))","v":0}]
["103705864","Staff_cols:Night_care_plan, Staff_row:Staff_row78","Number",{"$f":"IF(ISERROR(INDEX('Trust - Frontsheet'!$C$14:$T$213,Index!B2280,Index!A2280)),0,INDEX('Trust - Frontsheet'!$C$14:$T$213,Index!B2280,Index!A2280))","v":0}]
["103705865","Staff_cols:Night_care_plan, Staff_row:Staff_row79","Number",{"$f":"IF(ISERROR(INDEX('Trust - Frontsheet'!$C$14:$T$213,Index!B2281,Index!A2281)),0,INDEX('Trust - Frontsheet'!$C$14:$T$213,Index!B2281,Index!A2281))","v":0}]
["103705867","Staff_cols:Night_care_plan, Staff_row:Staff_row80","Number",{"$f":"IF(ISERROR(INDEX('Trust - Frontsheet'!$C$14:$T$213,Index!B2282,Index!A2282)),0,INDEX('Trust - Frontsheet'!$C$14:$T$213,Index!B2282,Index!A2282))","v":0}]
["103705868","Staff_cols:Night_care_plan, Staff_row:Staff_row81","Number",{"$f":"IF(ISERROR(INDEX('Trust - Frontsheet'!$C$14:$T$213,Index!B2283,Index!A2283)),0,INDEX('Trust - Frontsheet'!$C$14:$T$213,Index!B2283,Index!A2283))","v":0}]
["103705869","Staff_cols:Night_care_plan, Staff_row:Staff_row82","Number",{"$f":"IF(ISERROR(INDEX('Trust - Frontsheet'!$C$14:$T$213,Index!B2284,Index!A2284)),0,INDEX('Trust - Frontsheet'!$C$14:$T$213,Index!B2284,Index!A2284))","v":0}]
["103705870","Staff_cols:Night_care_plan, Staff_row:Staff_row83","Number",{"$f":"IF(ISERROR(INDEX('Trust - Frontsheet'!$C$14:$T$213,Index!B2285,Index!A2285)),0,INDEX('Trust - Frontsheet'!$C$14:$T$213,Index!B2285,Index!A2285))","v":0}]
["103705871","Staff_cols:Night_care_plan, Staff_row:Staff_row84","Number",{"$f":"IF(ISERROR(INDEX('Trust - Frontsheet'!$C$14:$T$213,Index!B2286,Index!A2286)),0,INDEX('Trust - Frontsheet'!$C$14:$T$213,Index!B2286,Index!A2286))","v":0}]
["103705872","Staff_cols:Night_care_plan, Staff_row:Staff_row85","Number",{"$f":"IF(ISERROR(INDEX('Trust - Frontsheet'!$C$14:$T$213,Index!B2287,Index!A2287)),0,INDEX('Trust - Frontsheet'!$C$14:$T$213,Index!B2287,Index!A2287))","v":0}]
["103705873","Staff_cols:Night_care_plan, Staff_row:Staff_row86","Number",{"$f":"IF(ISERROR(INDEX('Trust - Frontsheet'!$C$14:$T$213,Index!B2288,Index!A2288)),0,INDEX('Trust - Frontsheet'!$C$14:$T$213,Index!B2288,Index!A2288))","v":0}]
["103705874","Staff_cols:Night_care_plan, Staff_row:Staff_row87","Number",{"$f":"IF(ISERROR(INDEX('Trust - Frontsheet'!$C$14:$T$213,Index!B2289,Index!A2289)),0,INDEX('Trust - Frontsheet'!$C$14:$T$213,Index!B2289,Index!A2289))","v":0}]
["103705875","Staff_cols:Night_care_plan, Staff_row:Staff_row88","Number",{"$f":"IF(ISERROR(INDEX('Trust - Frontsheet'!$C$14:$T$213,Index!B2290,Index!A2290)),0,INDEX('Trust - Frontsheet'!$C$14:$T$213,Index!B2290,Index!A2290))","v":0}]
["103705876","Staff_cols:Night_care_plan, Staff_row:Staff_row89","Number",{"$f":"IF(ISERROR(INDEX('Trust - Frontsheet'!$C$14:$T$213,Index!B2291,Index!A2291)),0,INDEX('Trust - Frontsheet'!$C$14:$T$213,Index!B2291,Index!A2291))","v":0}]
["103705878","Staff_cols:Night_care_plan, Staff_row:Staff_row90","Number",{"$f":"IF(ISERROR(INDEX('Trust - Frontsheet'!$C$14:$T$213,Index!B2292,Index!A2292)),0,INDEX('Trust - Frontsheet'!$C$14:$T$213,Index!B2292,Index!A2292))","v":0}]
["103705879","Staff_cols:Night_care_plan, Staff_row:Staff_row91","Number",{"$f":"IF(ISERROR(INDEX('Trust - Frontsheet'!$C$14:$T$213,Index!B2293,Index!A2293)),0,INDEX('Trust - Frontsheet'!$C$14:$T$213,Index!B2293,Index!A2293))","v":0}]
["103705880","Staff_cols:Night_care_plan, Staff_row:Staff_row92","Number",{"$f":"IF(ISERROR(INDEX('Trust - Frontsheet'!$C$14:$T$213,Index!B2294,Index!A2294)),0,INDEX('Trust - Frontsheet'!$C$14:$T$213,Index!B2294,Index!A2294))","v":0}]
["103705881","Staff_cols:Night_care_plan, Staff_row:Staff_row93","Number",{"$f":"IF(ISERROR(INDEX('Trust - Frontsheet'!$C$14:$T$213,Index!B2295,Index!A2295)),0,INDEX('Trust - Frontsheet'!$C$14:$T$213,Index!B2295,Index!A2295))","v":0}]
["103705882","Staff_cols:Night_care_plan, Staff_row:Staff_row94","Number",{"$f":"IF(ISERROR(INDEX('Trust - Frontsheet'!$C$14:$T$213,Index!B2296,Index!A2296)),0,INDEX('Trust - Frontsheet'!$C$14:$T$213,Index!B2296,Index!A2296))","v":0}]
["103705883","Staff_cols:Night_care_plan, Staff_row:Staff_row95","Number",{"$f":"IF(ISERROR(INDEX('Trust - Frontsheet'!$C$14:$T$213,Index!B2297,Index!A2297)),0,INDEX('Trust - Frontsheet'!$C$14:$T$213,Index!B2297,Index!A2297))","v":0}]
["103705884","Staff_cols:Night_care_plan, Staff_row:Staff_row96","Number",{"$f":"IF(ISERROR(INDEX('Trust - Frontsheet'!$C$14:$T$213,Index!B2298,Index!A2298)),0,INDEX('Trust - Frontsheet'!$C$14:$T$213,Index!B2298,Index!A2298))","v":0}]
["103705885","Staff_cols:Night_care_plan, Staff_row:Staff_row97","Number",{"$f":"IF(ISERROR(INDEX('Trust - Frontsheet'!$C$14:$T$213,Index!B2299,Index!A2299)),0,INDEX('Trust - Frontsheet'!$C$14:$T$213,Index!B2299,Index!A2299))","v":0}]
["103705886","Staff_cols:Night_care_plan, Staff_row:Staff_row98","Number",{"$f":"IF(ISERROR(INDEX('Trust - Frontsheet'!$C$14:$T$213,Index!B2300,Index!A2300)),0,INDEX('Trust - Frontsheet'!$C$14:$T$213,Index!B2300,Index!A2300))","v":0}]
["103705887","Staff_cols:Night_care_plan, Staff_row:Staff_row99","Number",{"$f":"IF(ISERROR(INDEX('Trust - Frontsheet'!$C$14:$T$213,Index!B2301,Index!A2301)),0,INDEX('Trust - Frontsheet'!$C$14:$T$213,Index!B2301,Index!A2301))","v":0}]
["103705690","Staff_cols:Night_care_plan, Staff_row:Staff_row100","Number",{"$f":"IF(ISERROR(INDEX('Trust - Frontsheet'!$C$14:$T$213,Index!B2302,Index!A2302)),0,INDEX('Trust - Frontsheet'!$C$14:$T$213,Index!B2302,Index!A2302))","v":0}]
["103705691","Staff_cols:Night_care_plan, Staff_row:Staff_row101","Number",{"$f":"IF(ISERROR(INDEX('Trust - Frontsheet'!$C$14:$T$213,Index!B2303,Index!A2303)),0,INDEX('Trust - Frontsheet'!$C$14:$T$213,Index!B2303,Index!A2303))","v":0}]
["103705692","Staff_cols:Night_care_plan, Staff_row:Staff_row102","Number",{"$f":"IF(ISERROR(INDEX('Trust - Frontsheet'!$C$14:$T$213,Index!B2304,Index!A2304)),0,INDEX('Trust - Frontsheet'!$C$14:$T$213,Index!B2304,Index!A2304))","v":0}]
["103705693","Staff_cols:Night_care_plan, Staff_row:Staff_row103","Number",{"$f":"IF(ISERROR(INDEX('Trust - Frontsheet'!$C$14:$T$213,Index!B2305,Index!A2305)),0,INDEX('Trust - Frontsheet'!$C$14:$T$213,Index!B2305,Index!A2305))","v":0}]
["103705694","Staff_cols:Night_care_plan, Staff_row:Staff_row104","Number",{"$f":"IF(ISERROR(INDEX('Trust - Frontsheet'!$C$14:$T$213,Index!B2306,Index!A2306)),0,INDEX('Trust - Frontsheet'!$C$14:$T$213,Index!B2306,Index!A2306))","v":0}]
["103705695","Staff_cols:Night_care_plan, Staff_row:Staff_row105","Number",{"$f":"IF(ISERROR(INDEX('Trust - Frontsheet'!$C$14:$T$213,Index!B2307,Index!A2307)),0,INDEX('Trust - Frontsheet'!$C$14:$T$213,Index!B2307,Index!A2307))","v":0}]
["103705696","Staff_cols:Night_care_plan, Staff_row:Staff_row106","Number",{"$f":"IF(ISERROR(INDEX('Trust - Frontsheet'!$C$14:$T$213,Index!B2308,Index!A2308)),0,INDEX('Trust - Frontsheet'!$C$14:$T$213,Index!B2308,Index!A2308))","v":0}]
["103705697","Staff_cols:Night_care_plan, Staff_row:Staff_row107","Number",{"$f":"IF(ISERROR(INDEX('Trust - Frontsheet'!$C$14:$T$213,Index!B2309,Index!A2309)),0,INDEX('Trust - Frontsheet'!$C$14:$T$213,Index!B2309,Index!A2309))","v":0}]
["103705698","Staff_cols:Night_care_plan, Staff_row:Staff_row108","Number",{"$f":"IF(ISERROR(INDEX('Trust - Frontsheet'!$C$14:$T$213,Index!B2310,Index!A2310)),0,INDEX('Trust - Frontsheet'!$C$14:$T$213,Index!B2310,Index!A2310))","v":0}]
["103705699","Staff_cols:Night_care_plan, Staff_row:Staff_row109","Number",{"$f":"IF(ISERROR(INDEX('Trust - Frontsheet'!$C$14:$T$213,Index!B2311,Index!A2311)),0,INDEX('Trust - Frontsheet'!$C$14:$T$213,Index!B2311,Index!A2311))","v":0}]
["103705701","Staff_cols:Night_care_plan, Staff_row:Staff_row110","Number",{"$f":"IF(ISERROR(INDEX('Trust - Frontsheet'!$C$14:$T$213,Index!B2312,Index!A2312)),0,INDEX('Trust - Frontsheet'!$C$14:$T$213,Index!B2312,Index!A2312))","v":0}]
["103705702","Staff_cols:Night_care_plan, Staff_row:Staff_row111","Number",{"$f":"IF(ISERROR(INDEX('Trust - Frontsheet'!$C$14:$T$213,Index!B2313,Index!A2313)),0,INDEX('Trust - Frontsheet'!$C$14:$T$213,Index!B2313,Index!A2313))","v":0}]
["103705703","Staff_cols:Night_care_plan, Staff_row:Staff_row112","Number",{"$f":"IF(ISERROR(INDEX('Trust - Frontsheet'!$C$14:$T$213,Index!B2314,Index!A2314)),0,INDEX('Trust - Frontsheet'!$C$14:$T$213,Index!B2314,Index!A2314))","v":0}]
["103705704","Staff_cols:Night_care_plan, Staff_row:Staff_row113","Number",{"$f":"IF(ISERROR(INDEX('Trust - Frontsheet'!$C$14:$T$213,Index!B2315,Index!A2315)),0,INDEX('Trust - Frontsheet'!$C$14:$T$213,Index!B2315,Index!A2315))","v":0}]
["103705705","Staff_cols:Night_care_plan, Staff_row:Staff_row114","Number",{"$f":"IF(ISERROR(INDEX('Trust - Frontsheet'!$C$14:$T$213,Index!B2316,Index!A2316)),0,INDEX('Trust - Frontsheet'!$C$14:$T$213,Index!B2316,Index!A2316))","v":0}]
["103705706","Staff_cols:Night_care_plan, Staff_row:Staff_row115","Number",{"$f":"IF(ISERROR(INDEX('Trust - Frontsheet'!$C$14:$T$213,Index!B2317,Index!A2317)),0,INDEX('Trust - Frontsheet'!$C$14:$T$213,Index!B2317,Index!A2317))","v":0}]
["103705707","Staff_cols:Night_care_plan, Staff_row:Staff_row116","Number",{"$f":"IF(ISERROR(INDEX('Trust - Frontsheet'!$C$14:$T$213,Index!B2318,Index!A2318)),0,INDEX('Trust - Frontsheet'!$C$14:$T$213,Index!B2318,Index!A2318))","v":0}]
["103705708","Staff_cols:Night_care_plan, Staff_row:Staff_row117","Number",{"$f":"IF(ISERROR(INDEX('Trust - Frontsheet'!$C$14:$T$213,Index!B2319,Index!A2319)),0,INDEX('Trust - Frontsheet'!$C$14:$T$213,Index!B2319,Index!A2319))","v":0}]
["103705709","Staff_cols:Night_care_plan, Staff_row:Staff_row118","Number",{"$f":"IF(ISERROR(INDEX('Trust - Frontsheet'!$C$14:$T$213,Index!B2320,Index!A2320)),0,INDEX('Trust - Frontsheet'!$C$14:$T$213,Index!B2320,Index!A2320))","v":0}]
["103705710","Staff_cols:Night_care_plan, Staff_row:Staff_row119","Number",{"$f":"IF(ISERROR(INDEX('Trust - Frontsheet'!$C$14:$T$213,Index!B2321,Index!A2321)),0,INDEX('Trust - Frontsheet'!$C$14:$T$213,Index!B2321,Index!A2321))","v":0}]
["103705712","Staff_cols:Night_care_plan, Staff_row:Staff_row120","Number",{"$f":"IF(ISERROR(INDEX('Trust - Frontsheet'!$C$14:$T$213,Index!B2322,Index!A2322)),0,INDEX('Trust - Frontsheet'!$C$14:$T$213,Index!B2322,Index!A2322))","v":0}]
["103705713","Staff_cols:Night_care_plan, Staff_row:Staff_row121","Number",{"$f":"IF(ISERROR(INDEX('Trust - Frontsheet'!$C$14:$T$213,Index!B2323,Index!A2323)),0,INDEX('Trust - Frontsheet'!$C$14:$T$213,Index!B2323,Index!A2323))","v":0}]
["103705714","Staff_cols:Night_care_plan, Staff_row:Staff_row122","Number",{"$f":"IF(ISERROR(INDEX('Trust - Frontsheet'!$C$14:$T$213,Index!B2324,Index!A2324)),0,INDEX('Trust - Frontsheet'!$C$14:$T$213,Index!B2324,Index!A2324))","v":0}]
["103705715","Staff_cols:Night_care_plan, Staff_row:Staff_row123","Number",{"$f":"IF(ISERROR(INDEX('Trust - Frontsheet'!$C$14:$T$213,Index!B2325,Index!A2325)),0,INDEX('Trust - Frontsheet'!$C$14:$T$213,Index!B2325,Index!A2325))","v":0}]
["103705716","Staff_cols:Night_care_plan, Staff_row:Staff_row124","Number",{"$f":"IF(ISERROR(INDEX('Trust - Frontsheet'!$C$14:$T$213,Index!B2326,Index!A2326)),0,INDEX('Trust - Frontsheet'!$C$14:$T$213,Index!B2326,Index!A2326))","v":0}]
["103705717","Staff_cols:Night_care_plan, Staff_row:Staff_row125","Number",{"$f":"IF(ISERROR(INDEX('Trust - Frontsheet'!$C$14:$T$213,Index!B2327,Index!A2327)),0,INDEX('Trust - Frontsheet'!$C$14:$T$213,Index!B2327,Index!A2327))","v":0}]
["103705718","Staff_cols:Night_care_plan, Staff_row:Staff_row126","Number",{"$f":"IF(ISERROR(INDEX('Trust - Frontsheet'!$C$14:$T$213,Index!B2328,Index!A2328)),0,INDEX('Trust - Frontsheet'!$C$14:$T$213,Index!B2328,Index!A2328))","v":0}]
["103705719","Staff_cols:Night_care_plan, Staff_row:Staff_row127","Number",{"$f":"IF(ISERROR(INDEX('Trust - Frontsheet'!$C$14:$T$213,Index!B2329,Index!A2329)),0,INDEX('Trust - Frontsheet'!$C$14:$T$213,Index!B2329,Index!A2329))","v":0}]
["103705720","Staff_cols:Night_care_plan, Staff_row:Staff_row128","Number",{"$f":"IF(ISERROR(INDEX('Trust - Frontsheet'!$C$14:$T$213,Index!B2330,Index!A2330)),0,INDEX('Trust - Frontsheet'!$C$14:$T$213,Index!B2330,Index!A2330))","v":0}]
["103705721","Staff_cols:Night_care_plan, Staff_row:Staff_row129","Number",{"$f":"IF(ISERROR(INDEX('Trust - Frontsheet'!$C$14:$T$213,Index!B2331,Index!A2331)),0,INDEX('Trust - Frontsheet'!$C$14:$T$213,Index!B2331,Index!A2331))","v":0}]
["103705723","Staff_cols:Night_care_plan, Staff_row:Staff_row130","Number",{"$f":"IF(ISERROR(INDEX('Trust - Frontsheet'!$C$14:$T$213,Index!B2332,Index!A2332)),0,INDEX('Trust - Frontsheet'!$C$14:$T$213,Index!B2332,Index!A2332))","v":0}]
["103705724","Staff_cols:Night_care_plan, Staff_row:Staff_row131","Number",{"$f":"IF(ISERROR(INDEX('Trust - Frontsheet'!$C$14:$T$213,Index!B2333,Index!A2333)),0,INDEX('Trust - Frontsheet'!$C$14:$T$213,Index!B2333,Index!A2333))","v":0}]
["103705725","Staff_cols:Night_care_plan, Staff_row:Staff_row132","Number",{"$f":"IF(ISERROR(INDEX('Trust - Frontsheet'!$C$14:$T$213,Index!B2334,Index!A2334)),0,INDEX('Trust - Frontsheet'!$C$14:$T$213,Index!B2334,Index!A2334))","v":0}]
["103705726","Staff_cols:Night_care_plan, Staff_row:Staff_row133","Number",{"$f":"IF(ISERROR(INDEX('Trust - Frontsheet'!$C$14:$T$213,Index!B2335,Index!A2335)),0,INDEX('Trust - Frontsheet'!$C$14:$T$213,Index!B2335,Index!A2335))","v":0}]
["103705727","Staff_cols:Night_care_plan, Staff_row:Staff_row134","Number",{"$f":"IF(ISERROR(INDEX('Trust - Frontsheet'!$C$14:$T$213,Index!B2336,Index!A2336)),0,INDEX('Trust - Frontsheet'!$C$14:$T$213,Index!B2336,Index!A2336))","v":0}]
["103705728","Staff_cols:Night_care_plan, Staff_row:Staff_row135","Number",{"$f":"IF(ISERROR(INDEX('Trust - Frontsheet'!$C$14:$T$213,Index!B2337,Index!A2337)),0,INDEX('Trust - Frontsheet'!$C$14:$T$213,Index!B2337,Index!A2337))","v":0}]
["103705729","Staff_cols:Night_care_plan, Staff_row:Staff_row136","Number",{"$f":"IF(ISERROR(INDEX('Trust - Frontsheet'!$C$14:$T$213,Index!B2338,Index!A2338)),0,INDEX('Trust - Frontsheet'!$C$14:$T$213,Index!B2338,Index!A2338))","v":0}]
["103705730","Staff_cols:Night_care_plan, Staff_row:Staff_row137","Number",{"$f":"IF(ISERROR(INDEX('Trust - Frontsheet'!$C$14:$T$213,Index!B2339,Index!A2339)),0,INDEX('Trust - Frontsheet'!$C$14:$T$213,Index!B2339,Index!A2339))","v":0}]
["103705731","Staff_cols:Night_care_plan, Staff_row:Staff_row138","Number",{"$f":"IF(ISERROR(INDEX('Trust - Frontsheet'!$C$14:$T$213,Index!B2340,Index!A2340)),0,INDEX('Trust - Frontsheet'!$C$14:$T$213,Index!B2340,Index!A2340))","v":0}]
["103705732","Staff_cols:Night_care_plan, Staff_row:Staff_row139","Number",{"$f":"IF(ISERROR(INDEX('Trust - Frontsheet'!$C$14:$T$213,Index!B2341,Index!A2341)),0,INDEX('Trust - Frontsheet'!$C$14:$T$213,Index!B2341,Index!A2341))","v":0}]
["103705734","Staff_cols:Night_care_plan, Staff_row:Staff_row140","Number",{"$f":"IF(ISERROR(INDEX('Trust - Frontsheet'!$C$14:$T$213,Index!B2342,Index!A2342)),0,INDEX('Trust - Frontsheet'!$C$14:$T$213,Index!B2342,Index!A2342))","v":0}]
["103705735","Staff_cols:Night_care_plan, Staff_row:Staff_row141","Number",{"$f":"IF(ISERROR(INDEX('Trust - Frontsheet'!$C$14:$T$213,Index!B2343,Index!A2343)),0,INDEX('Trust - Frontsheet'!$C$14:$T$213,Index!B2343,Index!A2343))","v":0}]
["103705736","Staff_cols:Night_care_plan, Staff_row:Staff_row142","Number",{"$f":"IF(ISERROR(INDEX('Trust - Frontsheet'!$C$14:$T$213,Index!B2344,Index!A2344)),0,INDEX('Trust - Frontsheet'!$C$14:$T$213,Index!B2344,Index!A2344))","v":0}]
["103705737","Staff_cols:Night_care_plan, Staff_row:Staff_row143","Number",{"$f":"IF(ISERROR(INDEX('Trust - Frontsheet'!$C$14:$T$213,Index!B2345,Index!A2345)),0,INDEX('Trust - Frontsheet'!$C$14:$T$213,Index!B2345,Index!A2345))","v":0}]
["103705738","Staff_cols:Night_care_plan, Staff_row:Staff_row144","Number",{"$f":"IF(ISERROR(INDEX('Trust - Frontsheet'!$C$14:$T$213,Index!B2346,Index!A2346)),0,INDEX('Trust - Frontsheet'!$C$14:$T$213,Index!B2346,Index!A2346))","v":0}]
["103705739","Staff_cols:Night_care_plan, Staff_row:Staff_row145","Number",{"$f":"IF(ISERROR(INDEX('Trust - Frontsheet'!$C$14:$T$213,Index!B2347,Index!A2347)),0,INDEX('Trust - Frontsheet'!$C$14:$T$213,Index!B2347,Index!A2347))","v":0}]
["103705740","Staff_cols:Night_care_plan, Staff_row:Staff_row146","Number",{"$f":"IF(ISERROR(INDEX('Trust - Frontsheet'!$C$14:$T$213,Index!B2348,Index!A2348)),0,INDEX('Trust - Frontsheet'!$C$14:$T$213,Index!B2348,Index!A2348))","v":0}]
["103705741","Staff_cols:Night_care_plan, Staff_row:Staff_row147","Number",{"$f":"IF(ISERROR(INDEX('Trust - Frontsheet'!$C$14:$T$213,Index!B2349,Index!A2349)),0,INDEX('Trust - Frontsheet'!$C$14:$T$213,Index!B2349,Index!A2349))","v":0}]
["103705742","Staff_cols:Night_care_plan, Staff_row:Staff_row148","Number",{"$f":"IF(ISERROR(INDEX('Trust - Frontsheet'!$C$14:$T$213,Index!B2350,Index!A2350)),0,INDEX('Trust - Frontsheet'!$C$14:$T$213,Index!B2350,Index!A2350))","v":0}]
["103705743","Staff_cols:Night_care_plan, Staff_row:Staff_row149","Number",{"$f":"IF(ISERROR(INDEX('Trust - Frontsheet'!$C$14:$T$213,Index!B2351,Index!A2351)),0,INDEX('Trust - Frontsheet'!$C$14:$T$213,Index!B2351,Index!A2351))","v":0}]
["103705745","Staff_cols:Night_care_plan, Staff_row:Staff_row150","Number",{"$f":"IF(ISERROR(INDEX('Trust - Frontsheet'!$C$14:$T$213,Index!B2352,Index!A2352)),0,INDEX('Trust - Frontsheet'!$C$14:$T$213,Index!B2352,Index!A2352))","v":0}]
["103705746","Staff_cols:Night_care_plan, Staff_row:Staff_row151","Number",{"$f":"IF(ISERROR(INDEX('Trust - Frontsheet'!$C$14:$T$213,Index!B2353,Index!A2353)),0,INDEX('Trust - Frontsheet'!$C$14:$T$213,Index!B2353,Index!A2353))","v":0}]
["103705747","Staff_cols:Night_care_plan, Staff_row:Staff_row152","Number",{"$f":"IF(ISERROR(INDEX('Trust - Frontsheet'!$C$14:$T$213,Index!B2354,Index!A2354)),0,INDEX('Trust - Frontsheet'!$C$14:$T$213,Index!B2354,Index!A2354))","v":0}]
["103705748","Staff_cols:Night_care_plan, Staff_row:Staff_row153","Number",{"$f":"IF(ISERROR(INDEX('Trust - Frontsheet'!$C$14:$T$213,Index!B2355,Index!A2355)),0,INDEX('Trust - Frontsheet'!$C$14:$T$213,Index!B2355,Index!A2355))","v":0}]
["103705749","Staff_cols:Night_care_plan, Staff_row:Staff_row154","Number",{"$f":"IF(ISERROR(INDEX('Trust - Frontsheet'!$C$14:$T$213,Index!B2356,Index!A2356)),0,INDEX('Trust - Frontsheet'!$C$14:$T$213,Index!B2356,Index!A2356))","v":0}]
["103705750","Staff_cols:Night_care_plan, Staff_row:Staff_row155","Number",{"$f":"IF(ISERROR(INDEX('Trust - Frontsheet'!$C$14:$T$213,Index!B2357,Index!A2357)),0,INDEX('Trust - Frontsheet'!$C$14:$T$213,Index!B2357,Index!A2357))","v":0}]
["103705751","Staff_cols:Night_care_plan, Staff_row:Staff_row156","Number",{"$f":"IF(ISERROR(INDEX('Trust - Frontsheet'!$C$14:$T$213,Index!B2358,Index!A2358)),0,INDEX('Trust - Frontsheet'!$C$14:$T$213,Index!B2358,Index!A2358))","v":0}]
["103705752","Staff_cols:Night_care_plan, Staff_row:Staff_row157","Number",{"$f":"IF(ISERROR(INDEX('Trust - Frontsheet'!$C$14:$T$213,Index!B2359,Index!A2359)),0,INDEX('Trust - Frontsheet'!$C$14:$T$213,Index!B2359,Index!A2359))","v":0}]
["103705753","Staff_cols:Night_care_plan, Staff_row:Staff_row158","Number",{"$f":"IF(ISERROR(INDEX('Trust - Frontsheet'!$C$14:$T$213,Index!B2360,Index!A2360)),0,INDEX('Trust - Frontsheet'!$C$14:$T$213,Index!B2360,Index!A2360))","v":0}]
["103705754","Staff_cols:Night_care_plan, Staff_row:Staff_row159","Number",{"$f":"IF(ISERROR(INDEX('Trust - Frontsheet'!$C$14:$T$213,Index!B2361,Index!A2361)),0,INDEX('Trust - Frontsheet'!$C$14:$T$213,Index!B2361,Index!A2361))","v":0}]
["103705756","Staff_cols:Night_care_plan, Staff_row:Staff_row160","Number",{"$f":"IF(ISERROR(INDEX('Trust - Frontsheet'!$C$14:$T$213,Index!B2362,Index!A2362)),0,INDEX('Trust - Frontsheet'!$C$14:$T$213,Index!B2362,Index!A2362))","v":0}]
["103705757","Staff_cols:Night_care_plan, Staff_row:Staff_row161","Number",{"$f":"IF(ISERROR(INDEX('Trust - Frontsheet'!$C$14:$T$213,Index!B2363,Index!A2363)),0,INDEX('Trust - Frontsheet'!$C$14:$T$213,Index!B2363,Index!A2363))","v":0}]
["103705758","Staff_cols:Night_care_plan, Staff_row:Staff_row162","Number",{"$f":"IF(ISERROR(INDEX('Trust - Frontsheet'!$C$14:$T$213,Index!B2364,Index!A2364)),0,INDEX('Trust - Frontsheet'!$C$14:$T$213,Index!B2364,Index!A2364))","v":0}]
["103705759","Staff_cols:Night_care_plan, Staff_row:Staff_row163","Number",{"$f":"IF(ISERROR(INDEX('Trust - Frontsheet'!$C$14:$T$213,Index!B2365,Index!A2365)),0,INDEX('Trust - Frontsheet'!$C$14:$T$213,Index!B2365,Index!A2365))","v":0}]
["103705760","Staff_cols:Night_care_plan, Staff_row:Staff_row164","Number",{"$f":"IF(ISERROR(INDEX('Trust - Frontsheet'!$C$14:$T$213,Index!B2366,Index!A2366)),0,INDEX('Trust - Frontsheet'!$C$14:$T$213,Index!B2366,Index!A2366))","v":0}]
["103705761","Staff_cols:Night_care_plan, Staff_row:Staff_row165","Number",{"$f":"IF(ISERROR(INDEX('Trust - Frontsheet'!$C$14:$T$213,Index!B2367,Index!A2367)),0,INDEX('Trust - Frontsheet'!$C$14:$T$213,Index!B2367,Index!A2367))","v":0}]
["103705762","Staff_cols:Night_care_plan, Staff_row:Staff_row166","Number",{"$f":"IF(ISERROR(INDEX('Trust - Frontsheet'!$C$14:$T$213,Index!B2368,Index!A2368)),0,INDEX('Trust - Frontsheet'!$C$14:$T$213,Index!B2368,Index!A2368))","v":0}]
["103705763","Staff_cols:Night_care_plan, Staff_row:Staff_row167","Number",{"$f":"IF(ISERROR(INDEX('Trust - Frontsheet'!$C$14:$T$213,Index!B2369,Index!A2369)),0,INDEX('Trust - Frontsheet'!$C$14:$T$213,Index!B2369,Index!A2369))","v":0}]
["103705764","Staff_cols:Night_care_plan, Staff_row:Staff_row168","Number",{"$f":"IF(ISERROR(INDEX('Trust - Frontsheet'!$C$14:$T$213,Index!B2370,Index!A2370)),0,INDEX('Trust - Frontsheet'!$C$14:$T$213,Index!B2370,Index!A2370))","v":0}]
["103705765","Staff_cols:Night_care_plan, Staff_row:Staff_row169","Number",{"$f":"IF(ISERROR(INDEX('Trust - Frontsheet'!$C$14:$T$213,Index!B2371,Index!A2371)),0,INDEX('Trust - Frontsheet'!$C$14:$T$213,Index!B2371,Index!A2371))","v":0}]
["103705767","Staff_cols:Night_care_plan, Staff_row:Staff_row170","Number",{"$f":"IF(ISERROR(INDEX('Trust - Frontsheet'!$C$14:$T$213,Index!B2372,Index!A2372)),0,INDEX('Trust - Frontsheet'!$C$14:$T$213,Index!B2372,Index!A2372))","v":0}]
["103705768","Staff_cols:Night_care_plan, Staff_row:Staff_row171","Number",{"$f":"IF(ISERROR(INDEX('Trust - Frontsheet'!$C$14:$T$213,Index!B2373,Index!A2373)),0,INDEX('Trust - Frontsheet'!$C$14:$T$213,Index!B2373,Index!A2373))","v":0}]
["103705769","Staff_cols:Night_care_plan, Staff_row:Staff_row172","Number",{"$f":"IF(ISERROR(INDEX('Trust - Frontsheet'!$C$14:$T$213,Index!B2374,Index!A2374)),0,INDEX('Trust - Frontsheet'!$C$14:$T$213,Index!B2374,Index!A2374))","v":0}]
["103705770","Staff_cols:Night_care_plan, Staff_row:Staff_row173","Number",{"$f":"IF(ISERROR(INDEX('Trust - Frontsheet'!$C$14:$T$213,Index!B2375,Index!A2375)),0,INDEX('Trust - Frontsheet'!$C$14:$T$213,Index!B2375,Index!A2375))","v":0}]
["103705771","Staff_cols:Night_care_plan, Staff_row:Staff_row174","Number",{"$f":"IF(ISERROR(INDEX('Trust - Frontsheet'!$C$14:$T$213,Index!B2376,Index!A2376)),0,INDEX('Trust - Frontsheet'!$C$14:$T$213,Index!B2376,Index!A2376))","v":0}]
["103705772","Staff_cols:Night_care_plan, Staff_row:Staff_row175","Number",{"$f":"IF(ISERROR(INDEX('Trust - Frontsheet'!$C$14:$T$213,Index!B2377,Index!A2377)),0,INDEX('Trust - Frontsheet'!$C$14:$T$213,Index!B2377,Index!A2377))","v":0}]
["103705773","Staff_cols:Night_care_plan, Staff_row:Staff_row176","Number",{"$f":"IF(ISERROR(INDEX('Trust - Frontsheet'!$C$14:$T$213,Index!B2378,Index!A2378)),0,INDEX('Trust - Frontsheet'!$C$14:$T$213,Index!B2378,Index!A2378))","v":0}]
["103705774","Staff_cols:Night_care_plan, Staff_row:Staff_row177","Number",{"$f":"IF(ISERROR(INDEX('Trust - Frontsheet'!$C$14:$T$213,Index!B2379,Index!A2379)),0,INDEX('Trust - Frontsheet'!$C$14:$T$213,Index!B2379,Index!A2379))","v":0}]
["103705775","Staff_cols:Night_care_plan, Staff_row:Staff_row178","Number",{"$f":"IF(ISERROR(INDEX('Trust - Frontsheet'!$C$14:$T$213,Index!B2380,Index!A2380)),0,INDEX('Trust - Frontsheet'!$C$14:$T$213,Index!B2380,Index!A2380))","v":0}]
["103705776","Staff_cols:Night_care_plan, Staff_row:Staff_row179","Number",{"$f":"IF(ISERROR(INDEX('Trust - Frontsheet'!$C$14:$T$213,Index!B2381,Index!A2381)),0,INDEX('Trust - Frontsheet'!$C$14:$T$213,Index!B2381,Index!A2381))","v":0}]
["103705778","Staff_cols:Night_care_plan, Staff_row:Staff_row180","Number",{"$f":"IF(ISERROR(INDEX('Trust - Frontsheet'!$C$14:$T$213,Index!B2382,Index!A2382)),0,INDEX('Trust - Frontsheet'!$C$14:$T$213,Index!B2382,Index!A2382))","v":0}]
["103705779","Staff_cols:Night_care_plan, Staff_row:Staff_row181","Number",{"$f":"IF(ISERROR(INDEX('Trust - Frontsheet'!$C$14:$T$213,Index!B2383,Index!A2383)),0,INDEX('Trust - Frontsheet'!$C$14:$T$213,Index!B2383,Index!A2383))","v":0}]
["103705780","Staff_cols:Night_care_plan, Staff_row:Staff_row182","Number",{"$f":"IF(ISERROR(INDEX('Trust - Frontsheet'!$C$14:$T$213,Index!B2384,Index!A2384)),0,INDEX('Trust - Frontsheet'!$C$14:$T$213,Index!B2384,Index!A2384))","v":0}]
["103705781","Staff_cols:Night_care_plan, Staff_row:Staff_row183","Number",{"$f":"IF(ISERROR(INDEX('Trust - Frontsheet'!$C$14:$T$213,Index!B2385,Index!A2385)),0,INDEX('Trust - Frontsheet'!$C$14:$T$213,Index!B2385,Index!A2385))","v":0}]
["103705782","Staff_cols:Night_care_plan, Staff_row:Staff_row184","Number",{"$f":"IF(ISERROR(INDEX('Trust - Frontsheet'!$C$14:$T$213,Index!B2386,Index!A2386)),0,INDEX('Trust - Frontsheet'!$C$14:$T$213,Index!B2386,Index!A2386))","v":0}]
["103705783","Staff_cols:Night_care_plan, Staff_row:Staff_row185","Number",{"$f":"IF(ISERROR(INDEX('Trust - Frontsheet'!$C$14:$T$213,Index!B2387,Index!A2387)),0,INDEX('Trust - Frontsheet'!$C$14:$T$213,Index!B2387,Index!A2387))","v":0}]
["103705784","Staff_cols:Night_care_plan, Staff_row:Staff_row186","Number",{"$f":"IF(ISERROR(INDEX('Trust - Frontsheet'!$C$14:$T$213,Index!B2388,Index!A2388)),0,INDEX('Trust - Frontsheet'!$C$14:$T$213,Index!B2388,Index!A2388))","v":0}]
["103705785","Staff_cols:Night_care_plan, Staff_row:Staff_row187","Number",{"$f":"IF(ISERROR(INDEX('Trust - Frontsheet'!$C$14:$T$213,Index!B2389,Index!A2389)),0,INDEX('Trust - Frontsheet'!$C$14:$T$213,Index!B2389,Index!A2389))","v":0}]
["103705786","Staff_cols:Night_care_plan, Staff_row:Staff_row188","Number",{"$f":"IF(ISERROR(INDEX('Trust - Frontsheet'!$C$14:$T$213,Index!B2390,Index!A2390)),0,INDEX('Trust - Frontsheet'!$C$14:$T$213,Index!B2390,Index!A2390))","v":0}]
["103705787","Staff_cols:Night_care_plan, Staff_row:Staff_row189","Number",{"$f":"IF(ISERROR(INDEX('Trust - Frontsheet'!$C$14:$T$213,Index!B2391,Index!A2391)),0,INDEX('Trust - Frontsheet'!$C$14:$T$213,Index!B2391,Index!A2391))","v":0}]
["103705789","Staff_cols:Night_care_plan, Staff_row:Staff_row190","Number",{"$f":"IF(ISERROR(INDEX('Trust - Frontsheet'!$C$14:$T$213,Index!B2392,Index!A2392)),0,INDEX('Trust - Frontsheet'!$C$14:$T$213,Index!B2392,Index!A2392))","v":0}]
["103705790","Staff_cols:Night_care_plan, Staff_row:Staff_row191","Number",{"$f":"IF(ISERROR(INDEX('Trust - Frontsheet'!$C$14:$T$213,Index!B2393,Index!A2393)),0,INDEX('Trust - Frontsheet'!$C$14:$T$213,Index!B2393,Index!A2393))","v":0}]
["103705791","Staff_cols:Night_care_plan, Staff_row:Staff_row192","Number",{"$f":"IF(ISERROR(INDEX('Trust - Frontsheet'!$C$14:$T$213,Index!B2394,Index!A2394)),0,INDEX('Trust - Frontsheet'!$C$14:$T$213,Index!B2394,Index!A2394))","v":0}]
["103705792","Staff_cols:Night_care_plan, Staff_row:Staff_row193","Number",{"$f":"IF(ISERROR(INDEX('Trust - Frontsheet'!$C$14:$T$213,Index!B2395,Index!A2395)),0,INDEX('Trust - Frontsheet'!$C$14:$T$213,Index!B2395,Index!A2395))","v":0}]
["103705793","Staff_cols:Night_care_plan, Staff_row:Staff_row194","Number",{"$f":"IF(ISERROR(INDEX('Trust - Frontsheet'!$C$14:$T$213,Index!B2396,Index!A2396)),0,INDEX('Trust - Frontsheet'!$C$14:$T$213,Index!B2396,Index!A2396))","v":0}]
["103705794","Staff_cols:Night_care_plan, Staff_row:Staff_row195","Number",{"$f":"IF(ISERROR(INDEX('Trust - Frontsheet'!$C$14:$T$213,Index!B2397,Index!A2397)),0,INDEX('Trust - Frontsheet'!$C$14:$T$213,Index!B2397,Index!A2397))","v":0}]
["103705795","Staff_cols:Night_care_plan, Staff_row:Staff_row196","Number",{"$f":"IF(ISERROR(INDEX('Trust - Frontsheet'!$C$14:$T$213,Index!B2398,Index!A2398)),0,INDEX('Trust - Frontsheet'!$C$14:$T$213,Index!B2398,Index!A2398))","v":0}]
["103705796","Staff_cols:Night_care_plan, Staff_row:Staff_row197","Number",{"$f":"IF(ISERROR(INDEX('Trust - Frontsheet'!$C$14:$T$213,Index!B2399,Index!A2399)),0,INDEX('Trust - Frontsheet'!$C$14:$T$213,Index!B2399,Index!A2399))","v":0}]
["103705797","Staff_cols:Night_care_plan, Staff_row:Staff_row198","Number",{"$f":"IF(ISERROR(INDEX('Trust - Frontsheet'!$C$14:$T$213,Index!B2400,Index!A2400)),0,INDEX('Trust - Frontsheet'!$C$14:$T$213,Index!B2400,Index!A2400))","v":0}]
["103705798","Staff_cols:Night_care_plan, Staff_row:Staff_row199","Number",{"$f":"IF(ISERROR(INDEX('Trust - Frontsheet'!$C$14:$T$213,Index!B2401,Index!A2401)),0,INDEX('Trust - Frontsheet'!$C$14:$T$213,Index!B2401,Index!A2401))","v":0}]
["103705801","Staff_cols:Night_care_plan, Staff_row:Staff_row200","Number",{"$f":"IF(ISERROR(INDEX('Trust - Frontsheet'!$C$14:$T$213,Index!B2402,Index!A2402)),0,INDEX('Trust - Frontsheet'!$C$14:$T$213,Index!B2402,Index!A2402))","v":0}]
["103705488","Staff_cols:Night_care_act, Staff_row:Staff_row1","Number",{"$f":"IF(ISERROR(INDEX('Trust - Frontsheet'!$C$14:$T$213,Index!B2403,Index!A2403)),0,INDEX('Trust - Frontsheet'!$C$14:$T$213,Index!B2403,Index!A2403))","v":614.5}]
["103705599","Staff_cols:Night_care_act, Staff_row:Staff_row2","Number",{"$f":"IF(ISERROR(INDEX('Trust - Frontsheet'!$C$14:$T$213,Index!B2404,Index!A2404)),0,INDEX('Trust - Frontsheet'!$C$14:$T$213,Index!B2404,Index!A2404))","v":589}]
["103705611","Staff_cols:Night_care_act, Staff_row:Staff_row3","Number",{"$f":"IF(ISERROR(INDEX('Trust - Frontsheet'!$C$14:$T$213,Index!B2405,Index!A2405)),0,INDEX('Trust - Frontsheet'!$C$14:$T$213,Index!B2405,Index!A2405))","v":649}]
["103705622","Staff_cols:Night_care_act, Staff_row:Staff_row4","Number",{"$f":"IF(ISERROR(INDEX('Trust - Frontsheet'!$C$14:$T$213,Index!B2406,Index!A2406)),0,INDEX('Trust - Frontsheet'!$C$14:$T$213,Index!B2406,Index!A2406))","v":580.5}]
["103705633","Staff_cols:Night_care_act, Staff_row:Staff_row5","Number",{"$f":"IF(ISERROR(INDEX('Trust - Frontsheet'!$C$14:$T$213,Index!B2407,Index!A2407)),0,INDEX('Trust - Frontsheet'!$C$14:$T$213,Index!B2407,Index!A2407))","v":0}]
["103705644","Staff_cols:Night_care_act, Staff_row:Staff_row6","Number",{"$f":"IF(ISERROR(INDEX('Trust - Frontsheet'!$C$14:$T$213,Index!B2408,Index!A2408)),0,INDEX('Trust - Frontsheet'!$C$14:$T$213,Index!B2408,Index!A2408))","v":473}]
["103705655","Staff_cols:Night_care_act, Staff_row:Staff_row7","Number",{"$f":"IF(ISERROR(INDEX('Trust - Frontsheet'!$C$14:$T$213,Index!B2409,Index!A2409)),0,INDEX('Trust - Frontsheet'!$C$14:$T$213,Index!B2409,Index!A2409))","v":563.5}]
["103705666","Staff_cols:Night_care_act, Staff_row:Staff_row8","Number",{"$f":"IF(ISERROR(INDEX('Trust - Frontsheet'!$C$14:$T$213,Index!B2410,Index!A2410)),0,INDEX('Trust - Frontsheet'!$C$14:$T$213,Index!B2410,Index!A2410))","v":318.5}]
["103705677","Staff_cols:Night_care_act, Staff_row:Staff_row9","Number",{"$f":"IF(ISERROR(INDEX('Trust - Frontsheet'!$C$14:$T$213,Index!B2411,Index!A2411)),0,INDEX('Trust - Frontsheet'!$C$14:$T$213,Index!B2411,Index!A2411))","v":655.5}]
["103705489","Staff_cols:Night_care_act, Staff_row:Staff_row10","Number",{"$f":"IF(ISERROR(INDEX('Trust - Frontsheet'!$C$14:$T$213,Index!B2412,Index!A2412)),0,INDEX('Trust - Frontsheet'!$C$14:$T$213,Index!B2412,Index!A2412))","v":654.5}]
["103705500","Staff_cols:Night_care_act, Staff_row:Staff_row11","Number",{"$f":"IF(ISERROR(INDEX('Trust - Frontsheet'!$C$14:$T$213,Index!B2413,Index!A2413)),0,INDEX('Trust - Frontsheet'!$C$14:$T$213,Index!B2413,Index!A2413))","v":396}]
["103705511","Staff_cols:Night_care_act, Staff_row:Staff_row12","Number",{"$f":"IF(ISERROR(INDEX('Trust - Frontsheet'!$C$14:$T$213,Index!B2414,Index!A2414)),0,INDEX('Trust - Frontsheet'!$C$14:$T$213,Index!B2414,Index!A2414))","v":630}]
["103705522","Staff_cols:Night_care_act, Staff_row:Staff_row13","Number",{"$f":"IF(ISERROR(INDEX('Trust - Frontsheet'!$C$14:$T$213,Index!B2415,Index!A2415)),0,INDEX('Trust - Frontsheet'!$C$14:$T$213,Index!B2415,Index!A2415))","v":44}]
["103705533","Staff_cols:Night_care_act, Staff_row:Staff_row14","Number",{"$f":"IF(ISERROR(INDEX('Trust - Frontsheet'!$C$14:$T$213,Index!B2416,Index!A2416)),0,INDEX('Trust - Frontsheet'!$C$14:$T$213,Index!B2416,Index!A2416))","v":404}]
["103705544","Staff_cols:Night_care_act, Staff_row:Staff_row15","Number",{"$f":"IF(ISERROR(INDEX('Trust - Frontsheet'!$C$14:$T$213,Index!B2417,Index!A2417)),0,INDEX('Trust - Frontsheet'!$C$14:$T$213,Index!B2417,Index!A2417))","v":407}]
["103705555","Staff_cols:Night_care_act, Staff_row:Staff_row16","Number",{"$f":"IF(ISERROR(INDEX('Trust - Frontsheet'!$C$14:$T$213,Index!B2418,Index!A2418)),0,INDEX('Trust - Frontsheet'!$C$14:$T$213,Index!B2418,Index!A2418))","v":69}]
["103705566","Staff_cols:Night_care_act, Staff_row:Staff_row17","Number",{"$f":"IF(ISERROR(INDEX('Trust - Frontsheet'!$C$14:$T$213,Index!B2419,Index!A2419)),0,INDEX('Trust - Frontsheet'!$C$14:$T$213,Index!B2419,Index!A2419))","v":799.5}]
["103705577","Staff_cols:Night_care_act, Staff_row:Staff_row18","Number",{"$f":"IF(ISERROR(INDEX('Trust - Frontsheet'!$C$14:$T$213,Index!B2420,Index!A2420)),0,INDEX('Trust - Frontsheet'!$C$14:$T$213,Index!B2420,Index!A2420))","v":705}]
["103705588","Staff_cols:Night_care_act, Staff_row:Staff_row19","Number",{"$f":"IF(ISERROR(INDEX('Trust - Frontsheet'!$C$14:$T$213,Index!B2421,Index!A2421)),0,INDEX('Trust - Frontsheet'!$C$14:$T$213,Index!B2421,Index!A2421))","v":661.5}]
["103705600","Staff_cols:Night_care_act, Staff_row:Staff_row20","Number",{"$f":"IF(ISERROR(INDEX('Trust - Frontsheet'!$C$14:$T$213,Index!B2422,Index!A2422)),0,INDEX('Trust - Frontsheet'!$C$14:$T$213,Index!B2422,Index!A2422))","v":529.33333333333326}]
["103705602","Staff_cols:Night_care_act, Staff_row:Staff_row21","Number",{"$f":"IF(ISERROR(INDEX('Trust - Frontsheet'!$C$14:$T$213,Index!B2423,Index!A2423)),0,INDEX('Trust - Frontsheet'!$C$14:$T$213,Index!B2423,Index!A2423))","v":949.5}]
["103705603","Staff_cols:Night_care_act, Staff_row:Staff_row22","Number",{"$f":"IF(ISERROR(INDEX('Trust - Frontsheet'!$C$14:$T$213,Index!B2424,Index!A2424)),0,INDEX('Trust - Frontsheet'!$C$14:$T$213,Index!B2424,Index!A2424))","v":332}]
["103705604","Staff_cols:Night_care_act, Staff_row:Staff_row23","Number",{"$f":"IF(ISERROR(INDEX('Trust - Frontsheet'!$C$14:$T$213,Index!B2425,Index!A2425)),0,INDEX('Trust - Frontsheet'!$C$14:$T$213,Index!B2425,Index!A2425))","v":540}]
["103705605","Staff_cols:Night_care_act, Staff_row:Staff_row24","Number",{"$f":"IF(ISERROR(INDEX('Trust - Frontsheet'!$C$14:$T$213,Index!B2426,Index!A2426)),0,INDEX('Trust - Frontsheet'!$C$14:$T$213,Index!B2426,Index!A2426))","v":560.5}]
["103705606","Staff_cols:Night_care_act, Staff_row:Staff_row25","Number",{"$f":"IF(ISERROR(INDEX('Trust - Frontsheet'!$C$14:$T$213,Index!B2427,Index!A2427)),0,INDEX('Trust - Frontsheet'!$C$14:$T$213,Index!B2427,Index!A2427))","v":648.5}]
["103705607","Staff_cols:Night_care_act, Staff_row:Staff_row26","Number",{"$f":"IF(ISERROR(INDEX('Trust - Frontsheet'!$C$14:$T$213,Index!B2428,Index!A2428)),0,INDEX('Trust - Frontsheet'!$C$14:$T$213,Index!B2428,Index!A2428))","v":659.5}]
["103705608","Staff_cols:Night_care_act, Staff_row:Staff_row27","Number",{"$f":"IF(ISERROR(INDEX('Trust - Frontsheet'!$C$14:$T$213,Index!B2429,Index!A2429)),0,INDEX('Trust - Frontsheet'!$C$14:$T$213,Index!B2429,Index!A2429))","v":402.5}]
["103705609","Staff_cols:Night_care_act, Staff_row:Staff_row28","Number",{"$f":"IF(ISERROR(INDEX('Trust - Frontsheet'!$C$14:$T$213,Index!B2430,Index!A2430)),0,INDEX('Trust - Frontsheet'!$C$14:$T$213,Index!B2430,Index!A2430))","v":945}]
["103705610","Staff_cols:Night_care_act, Staff_row:Staff_row29","Number",{"$f":"IF(ISERROR(INDEX('Trust - Frontsheet'!$C$14:$T$213,Index!B2431,Index!A2431)),0,INDEX('Trust - Frontsheet'!$C$14:$T$213,Index!B2431,Index!A2431))","v":636.5}]
["103705612","Staff_cols:Night_care_act, Staff_row:Staff_row30","Number",{"$f":"IF(ISERROR(INDEX('Trust - Frontsheet'!$C$14:$T$213,Index!B2432,Index!A2432)),0,INDEX('Trust - Frontsheet'!$C$14:$T$213,Index!B2432,Index!A2432))","v":340}]
["103705613","Staff_cols:Night_care_act, Staff_row:Staff_row31","Number",{"$f":"IF(ISERROR(INDEX('Trust - Frontsheet'!$C$14:$T$213,Index!B2433,Index!A2433)),0,INDEX('Trust - Frontsheet'!$C$14:$T$213,Index!B2433,Index!A2433))","v":333.5}]
["103705614","Staff_cols:Night_care_act, Staff_row:Staff_row32","Number",{"$f":"IF(ISERROR(INDEX('Trust - Frontsheet'!$C$14:$T$213,Index!B2434,Index!A2434)),0,INDEX('Trust - Frontsheet'!$C$14:$T$213,Index!B2434,Index!A2434))","v":462}]
["103705615","Staff_cols:Night_care_act, Staff_row:Staff_row33","Number",{"$f":"IF(ISERROR(INDEX('Trust - Frontsheet'!$C$14:$T$213,Index!B2435,Index!A2435)),0,INDEX('Trust - Frontsheet'!$C$14:$T$213,Index!B2435,Index!A2435))","v":735}]
["103705616","Staff_cols:Night_care_act, Staff_row:Staff_row34","Number",{"$f":"IF(ISERROR(INDEX('Trust - Frontsheet'!$C$14:$T$213,Index!B2436,Index!A2436)),0,INDEX('Trust - Frontsheet'!$C$14:$T$213,Index!B2436,Index!A2436))","v":674}]
["103705617","Staff_cols:Night_care_act, Staff_row:Staff_row35","Number",{"$f":"IF(ISERROR(INDEX('Trust - Frontsheet'!$C$14:$T$213,Index!B2437,Index!A2437)),0,INDEX('Trust - Frontsheet'!$C$14:$T$213,Index!B2437,Index!A2437))","v":870.25}]
["103705618","Staff_cols:Night_care_act, Staff_row:Staff_row36","Number",{"$f":"IF(ISERROR(INDEX('Trust - Frontsheet'!$C$14:$T$213,Index!B2438,Index!A2438)),0,INDEX('Trust - Frontsheet'!$C$14:$T$213,Index!B2438,Index!A2438))","v":374}]
["103705619","Staff_cols:Night_care_act, Staff_row:Staff_row37","Number",{"$f":"IF(ISERROR(INDEX('Trust - Frontsheet'!$C$14:$T$213,Index!B2439,Index!A2439)),0,INDEX('Trust - Frontsheet'!$C$14:$T$213,Index!B2439,Index!A2439))","v":840.5}]
["103705620","Staff_cols:Night_care_act, Staff_row:Staff_row38","Number",{"$f":"IF(ISERROR(INDEX('Trust - Frontsheet'!$C$14:$T$213,Index!B2440,Index!A2440)),0,INDEX('Trust - Frontsheet'!$C$14:$T$213,Index!B2440,Index!A2440))","v":650.5}]
["103705621","Staff_cols:Night_care_act, Staff_row:Staff_row39","Number",{"$f":"IF(ISERROR(INDEX('Trust - Frontsheet'!$C$14:$T$213,Index!B2441,Index!A2441)),0,INDEX('Trust - Frontsheet'!$C$14:$T$213,Index!B2441,Index!A2441))","v":1027.75}]
["103705623","Staff_cols:Night_care_act, Staff_row:Staff_row40","Number",{"$f":"IF(ISERROR(INDEX('Trust - Frontsheet'!$C$14:$T$213,Index!B2442,Index!A2442)),0,INDEX('Trust - Frontsheet'!$C$14:$T$213,Index!B2442,Index!A2442))","v":982.5}]
["103705624","Staff_cols:Night_care_act, Staff_row:Staff_row41","Number",{"$f":"IF(ISERROR(INDEX('Trust - Frontsheet'!$C$14:$T$213,Index!B2443,Index!A2443)),0,INDEX('Trust - Frontsheet'!$C$14:$T$213,Index!B2443,Index!A2443))","v":340.25}]
["103705625","Staff_cols:Night_care_act, Staff_row:Staff_row42","Number",{"$f":"IF(ISERROR(INDEX('Trust - Frontsheet'!$C$14:$T$213,Index!B2444,Index!A2444)),0,INDEX('Trust - Frontsheet'!$C$14:$T$213,Index!B2444,Index!A2444))","v":669.5}]
["103705626","Staff_cols:Night_care_act, Staff_row:Staff_row43","Number",{"$f":"IF(ISERROR(INDEX('Trust - Frontsheet'!$C$14:$T$213,Index!B2445,Index!A2445)),0,INDEX('Trust - Frontsheet'!$C$14:$T$213,Index!B2445,Index!A2445))","v":1015}]
["103705627","Staff_cols:Night_care_act, Staff_row:Staff_row44","Number",{"$f":"IF(ISERROR(INDEX('Trust - Frontsheet'!$C$14:$T$213,Index!B2446,Index!A2446)),0,INDEX('Trust - Frontsheet'!$C$14:$T$213,Index!B2446,Index!A2446))","v":621}]
["103705628","Staff_cols:Night_care_act, Staff_row:Staff_row45","Number",{"$f":"IF(ISERROR(INDEX('Trust - Frontsheet'!$C$14:$T$213,Index!B2447,Index!A2447)),0,INDEX('Trust - Frontsheet'!$C$14:$T$213,Index!B2447,Index!A2447))","v":1035.5}]
["103705629","Staff_cols:Night_care_act, Staff_row:Staff_row46","Number",{"$f":"IF(ISERROR(INDEX('Trust - Frontsheet'!$C$14:$T$213,Index!B2448,Index!A2448)),0,INDEX('Trust - Frontsheet'!$C$14:$T$213,Index!B2448,Index!A2448))","v":395}]
["103705630","Staff_cols:Night_care_act, Staff_row:Staff_row47","Number",{"$f":"IF(ISERROR(INDEX('Trust - Frontsheet'!$C$14:$T$213,Index!B2449,Index!A2449)),0,INDEX('Trust - Frontsheet'!$C$14:$T$213,Index!B2449,Index!A2449))","v":32}]
["103705631","Staff_cols:Night_care_act, Staff_row:Staff_row48","Number",{"$f":"IF(ISERROR(INDEX('Trust - Frontsheet'!$C$14:$T$213,Index!B2450,Index!A2450)),0,INDEX('Trust - Frontsheet'!$C$14:$T$213,Index!B2450,Index!A2450))","v":0}]
["103705632","Staff_cols:Night_care_act, Staff_row:Staff_row49","Number",{"$f":"IF(ISERROR(INDEX('Trust - Frontsheet'!$C$14:$T$213,Index!B2451,Index!A2451)),0,INDEX('Trust - Frontsheet'!$C$14:$T$213,Index!B2451,Index!A2451))","v":0}]
["103705634","Staff_cols:Night_care_act, Staff_row:Staff_row50","Number",{"$f":"IF(ISERROR(INDEX('Trust - Frontsheet'!$C$14:$T$213,Index!B2452,Index!A2452)),0,INDEX('Trust - Frontsheet'!$C$14:$T$213,Index!B2452,Index!A2452))","v":0}]
["103705635","Staff_cols:Night_care_act, Staff_row:Staff_row51","Number",{"$f":"IF(ISERROR(INDEX('Trust - Frontsheet'!$C$14:$T$213,Index!B2453,Index!A2453)),0,INDEX('Trust - Frontsheet'!$C$14:$T$213,Index!B2453,Index!A2453))","v":0}]
["103705636","Staff_cols:Night_care_act, Staff_row:Staff_row52","Number",{"$f":"IF(ISERROR(INDEX('Trust - Frontsheet'!$C$14:$T$213,Index!B2454,Index!A2454)),0,INDEX('Trust - Frontsheet'!$C$14:$T$213,Index!B2454,Index!A2454))","v":0}]
["103705637","Staff_cols:Night_care_act, Staff_row:Staff_row53","Number",{"$f":"IF(ISERROR(INDEX('Trust - Frontsheet'!$C$14:$T$213,Index!B2455,Index!A2455)),0,INDEX('Trust - Frontsheet'!$C$14:$T$213,Index!B2455,Index!A2455))","v":0}]
["103705638","Staff_cols:Night_care_act, Staff_row:Staff_row54","Number",{"$f":"IF(ISERROR(INDEX('Trust - Frontsheet'!$C$14:$T$213,Index!B2456,Index!A2456)),0,INDEX('Trust - Frontsheet'!$C$14:$T$213,Index!B2456,Index!A2456))","v":0}]
["103705639","Staff_cols:Night_care_act, Staff_row:Staff_row55","Number",{"$f":"IF(ISERROR(INDEX('Trust - Frontsheet'!$C$14:$T$213,Index!B2457,Index!A2457)),0,INDEX('Trust - Frontsheet'!$C$14:$T$213,Index!B2457,Index!A2457))","v":0}]
["103705640","Staff_cols:Night_care_act, Staff_row:Staff_row56","Number",{"$f":"IF(ISERROR(INDEX('Trust - Frontsheet'!$C$14:$T$213,Index!B2458,Index!A2458)),0,INDEX('Trust - Frontsheet'!$C$14:$T$213,Index!B2458,Index!A2458))","v":0}]
["103705641","Staff_cols:Night_care_act, Staff_row:Staff_row57","Number",{"$f":"IF(ISERROR(INDEX('Trust - Frontsheet'!$C$14:$T$213,Index!B2459,Index!A2459)),0,INDEX('Trust - Frontsheet'!$C$14:$T$213,Index!B2459,Index!A2459))","v":0}]
["103705642","Staff_cols:Night_care_act, Staff_row:Staff_row58","Number",{"$f":"IF(ISERROR(INDEX('Trust - Frontsheet'!$C$14:$T$213,Index!B2460,Index!A2460)),0,INDEX('Trust - Frontsheet'!$C$14:$T$213,Index!B2460,Index!A2460))","v":0}]
["103705643","Staff_cols:Night_care_act, Staff_row:Staff_row59","Number",{"$f":"IF(ISERROR(INDEX('Trust - Frontsheet'!$C$14:$T$213,Index!B2461,Index!A2461)),0,INDEX('Trust - Frontsheet'!$C$14:$T$213,Index!B2461,Index!A2461))","v":0}]
["103705645","Staff_cols:Night_care_act, Staff_row:Staff_row60","Number",{"$f":"IF(ISERROR(INDEX('Trust - Frontsheet'!$C$14:$T$213,Index!B2462,Index!A2462)),0,INDEX('Trust - Frontsheet'!$C$14:$T$213,Index!B2462,Index!A2462))","v":0}]
["103705646","Staff_cols:Night_care_act, Staff_row:Staff_row61","Number",{"$f":"IF(ISERROR(INDEX('Trust - Frontsheet'!$C$14:$T$213,Index!B2463,Index!A2463)),0,INDEX('Trust - Frontsheet'!$C$14:$T$213,Index!B2463,Index!A2463))","v":0}]
["103705647","Staff_cols:Night_care_act, Staff_row:Staff_row62","Number",{"$f":"IF(ISERROR(INDEX('Trust - Frontsheet'!$C$14:$T$213,Index!B2464,Index!A2464)),0,INDEX('Trust - Frontsheet'!$C$14:$T$213,Index!B2464,Index!A2464))","v":0}]
["103705648","Staff_cols:Night_care_act, Staff_row:Staff_row63","Number",{"$f":"IF(ISERROR(INDEX('Trust - Frontsheet'!$C$14:$T$213,Index!B2465,Index!A2465)),0,INDEX('Trust - Frontsheet'!$C$14:$T$213,Index!B2465,Index!A2465))","v":0}]
["103705649","Staff_cols:Night_care_act, Staff_row:Staff_row64","Number",{"$f":"IF(ISERROR(INDEX('Trust - Frontsheet'!$C$14:$T$213,Index!B2466,Index!A2466)),0,INDEX('Trust - Frontsheet'!$C$14:$T$213,Index!B2466,Index!A2466))","v":0}]
["103705650","Staff_cols:Night_care_act, Staff_row:Staff_row65","Number",{"$f":"IF(ISERROR(INDEX('Trust - Frontsheet'!$C$14:$T$213,Index!B2467,Index!A2467)),0,INDEX('Trust - Frontsheet'!$C$14:$T$213,Index!B2467,Index!A2467))","v":0}]
["103705651","Staff_cols:Night_care_act, Staff_row:Staff_row66","Number",{"$f":"IF(ISERROR(INDEX('Trust - Frontsheet'!$C$14:$T$213,Index!B2468,Index!A2468)),0,INDEX('Trust - Frontsheet'!$C$14:$T$213,Index!B2468,Index!A2468))","v":0}]
["103705652","Staff_cols:Night_care_act, Staff_row:Staff_row67","Number",{"$f":"IF(ISERROR(INDEX('Trust - Frontsheet'!$C$14:$T$213,Index!B2469,Index!A2469)),0,INDEX('Trust - Frontsheet'!$C$14:$T$213,Index!B2469,Index!A2469))","v":0}]
["103705653","Staff_cols:Night_care_act, Staff_row:Staff_row68","Number",{"$f":"IF(ISERROR(INDEX('Trust - Frontsheet'!$C$14:$T$213,Index!B2470,Index!A2470)),0,INDEX('Trust - Frontsheet'!$C$14:$T$213,Index!B2470,Index!A2470))","v":0}]
["103705654","Staff_cols:Night_care_act, Staff_row:Staff_row69","Number",{"$f":"IF(ISERROR(INDEX('Trust - Frontsheet'!$C$14:$T$213,Index!B2471,Index!A2471)),0,INDEX('Trust - Frontsheet'!$C$14:$T$213,Index!B2471,Index!A2471))","v":0}]
["103705656","Staff_cols:Night_care_act, Staff_row:Staff_row70","Number",{"$f":"IF(ISERROR(INDEX('Trust - Frontsheet'!$C$14:$T$213,Index!B2472,Index!A2472)),0,INDEX('Trust - Frontsheet'!$C$14:$T$213,Index!B2472,Index!A2472))","v":0}]
["103705657","Staff_cols:Night_care_act, Staff_row:Staff_row71","Number",{"$f":"IF(ISERROR(INDEX('Trust - Frontsheet'!$C$14:$T$213,Index!B2473,Index!A2473)),0,INDEX('Trust - Frontsheet'!$C$14:$T$213,Index!B2473,Index!A2473))","v":0}]
["103705658","Staff_cols:Night_care_act, Staff_row:Staff_row72","Number",{"$f":"IF(ISERROR(INDEX('Trust - Frontsheet'!$C$14:$T$213,Index!B2474,Index!A2474)),0,INDEX('Trust - Frontsheet'!$C$14:$T$213,Index!B2474,Index!A2474))","v":0}]
["103705659","Staff_cols:Night_care_act, Staff_row:Staff_row73","Number",{"$f":"IF(ISERROR(INDEX('Trust - Frontsheet'!$C$14:$T$213,Index!B2475,Index!A2475)),0,INDEX('Trust - Frontsheet'!$C$14:$T$213,Index!B2475,Index!A2475))","v":0}]
["103705660","Staff_cols:Night_care_act, Staff_row:Staff_row74","Number",{"$f":"IF(ISERROR(INDEX('Trust - Frontsheet'!$C$14:$T$213,Index!B2476,Index!A2476)),0,INDEX('Trust - Frontsheet'!$C$14:$T$213,Index!B2476,Index!A2476))","v":0}]
["103705661","Staff_cols:Night_care_act, Staff_row:Staff_row75","Number",{"$f":"IF(ISERROR(INDEX('Trust - Frontsheet'!$C$14:$T$213,Index!B2477,Index!A2477)),0,INDEX('Trust - Frontsheet'!$C$14:$T$213,Index!B2477,Index!A2477))","v":0}]
["103705662","Staff_cols:Night_care_act, Staff_row:Staff_row76","Number",{"$f":"IF(ISERROR(INDEX('Trust - Frontsheet'!$C$14:$T$213,Index!B2478,Index!A2478)),0,INDEX('Trust - Frontsheet'!$C$14:$T$213,Index!B2478,Index!A2478))","v":0}]
["103705663","Staff_cols:Night_care_act, Staff_row:Staff_row77","Number",{"$f":"IF(ISERROR(INDEX('Trust - Frontsheet'!$C$14:$T$213,Index!B2479,Index!A2479)),0,INDEX('Trust - Frontsheet'!$C$14:$T$213,Index!B2479,Index!A2479))","v":0}]
["103705664","Staff_cols:Night_care_act, Staff_row:Staff_row78","Number",{"$f":"IF(ISERROR(INDEX('Trust - Frontsheet'!$C$14:$T$213,Index!B2480,Index!A2480)),0,INDEX('Trust - Frontsheet'!$C$14:$T$213,Index!B2480,Index!A2480))","v":0}]
["103705665","Staff_cols:Night_care_act, Staff_row:Staff_row79","Number",{"$f":"IF(ISERROR(INDEX('Trust - Frontsheet'!$C$14:$T$213,Index!B2481,Index!A2481)),0,INDEX('Trust - Frontsheet'!$C$14:$T$213,Index!B2481,Index!A2481))","v":0}]
["103705667","Staff_cols:Night_care_act, Staff_row:Staff_row80","Number",{"$f":"IF(ISERROR(INDEX('Trust - Frontsheet'!$C$14:$T$213,Index!B2482,Index!A2482)),0,INDEX('Trust - Frontsheet'!$C$14:$T$213,Index!B2482,Index!A2482))","v":0}]
["103705668","Staff_cols:Night_care_act, Staff_row:Staff_row81","Number",{"$f":"IF(ISERROR(INDEX('Trust - Frontsheet'!$C$14:$T$213,Index!B2483,Index!A2483)),0,INDEX('Trust - Frontsheet'!$C$14:$T$213,Index!B2483,Index!A2483))","v":0}]
["103705669","Staff_cols:Night_care_act, Staff_row:Staff_row82","Number",{"$f":"IF(ISERROR(INDEX('Trust - Frontsheet'!$C$14:$T$213,Index!B2484,Index!A2484)),0,INDEX('Trust - Frontsheet'!$C$14:$T$213,Index!B2484,Index!A2484))","v":0}]
["103705670","Staff_cols:Night_care_act, Staff_row:Staff_row83","Number",{"$f":"IF(ISERROR(INDEX('Trust - Frontsheet'!$C$14:$T$213,Index!B2485,Index!A2485)),0,INDEX('Trust - Frontsheet'!$C$14:$T$213,Index!B2485,Index!A2485))","v":0}]
["103705671","Staff_cols:Night_care_act, Staff_row:Staff_row84","Number",{"$f":"IF(ISERROR(INDEX('Trust - Frontsheet'!$C$14:$T$213,Index!B2486,Index!A2486)),0,INDEX('Trust - Frontsheet'!$C$14:$T$213,Index!B2486,Index!A2486))","v":0}]
["103705672","Staff_cols:Night_care_act, Staff_row:Staff_row85","Number",{"$f":"IF(ISERROR(INDEX('Trust - Frontsheet'!$C$14:$T$213,Index!B2487,Index!A2487)),0,INDEX('Trust - Frontsheet'!$C$14:$T$213,Index!B2487,Index!A2487))","v":0}]
["103705673","Staff_cols:Night_care_act, Staff_row:Staff_row86","Number",{"$f":"IF(ISERROR(INDEX('Trust - Frontsheet'!$C$14:$T$213,Index!B2488,Index!A2488)),0,INDEX('Trust - Frontsheet'!$C$14:$T$213,Index!B2488,Index!A2488))","v":0}]
["103705674","Staff_cols:Night_care_act, Staff_row:Staff_row87","Number",{"$f":"IF(ISERROR(INDEX('Trust - Frontsheet'!$C$14:$T$213,Index!B2489,Index!A2489)),0,INDEX('Trust - Frontsheet'!$C$14:$T$213,Index!B2489,Index!A2489))","v":0}]
["103705675","Staff_cols:Night_care_act, Staff_row:Staff_row88","Number",{"$f":"IF(ISERROR(INDEX('Trust - Frontsheet'!$C$14:$T$213,Index!B2490,Index!A2490)),0,INDEX('Trust - Frontsheet'!$C$14:$T$213,Index!B2490,Index!A2490))","v":0}]
["103705676","Staff_cols:Night_care_act, Staff_row:Staff_row89","Number",{"$f":"IF(ISERROR(INDEX('Trust - Frontsheet'!$C$14:$T$213,Index!B2491,Index!A2491)),0,INDEX('Trust - Frontsheet'!$C$14:$T$213,Index!B2491,Index!A2491))","v":0}]
["103705678","Staff_cols:Night_care_act, Staff_row:Staff_row90","Number",{"$f":"IF(ISERROR(INDEX('Trust - Frontsheet'!$C$14:$T$213,Index!B2492,Index!A2492)),0,INDEX('Trust - Frontsheet'!$C$14:$T$213,Index!B2492,Index!A2492))","v":0}]
["103705679","Staff_cols:Night_care_act, Staff_row:Staff_row91","Number",{"$f":"IF(ISERROR(INDEX('Trust - Frontsheet'!$C$14:$T$213,Index!B2493,Index!A2493)),0,INDEX('Trust - Frontsheet'!$C$14:$T$213,Index!B2493,Index!A2493))","v":0}]
["103705680","Staff_cols:Night_care_act, Staff_row:Staff_row92","Number",{"$f":"IF(ISERROR(INDEX('Trust - Frontsheet'!$C$14:$T$213,Index!B2494,Index!A2494)),0,INDEX('Trust - Frontsheet'!$C$14:$T$213,Index!B2494,Index!A2494))","v":0}]
["103705681","Staff_cols:Night_care_act, Staff_row:Staff_row93","Number",{"$f":"IF(ISERROR(INDEX('Trust - Frontsheet'!$C$14:$T$213,Index!B2495,Index!A2495)),0,INDEX('Trust - Frontsheet'!$C$14:$T$213,Index!B2495,Index!A2495))","v":0}]
["103705682","Staff_cols:Night_care_act, Staff_row:Staff_row94","Number",{"$f":"IF(ISERROR(INDEX('Trust - Frontsheet'!$C$14:$T$213,Index!B2496,Index!A2496)),0,INDEX('Trust - Frontsheet'!$C$14:$T$213,Index!B2496,Index!A2496))","v":0}]
["103705683","Staff_cols:Night_care_act, Staff_row:Staff_row95","Number",{"$f":"IF(ISERROR(INDEX('Trust - Frontsheet'!$C$14:$T$213,Index!B2497,Index!A2497)),0,INDEX('Trust - Frontsheet'!$C$14:$T$213,Index!B2497,Index!A2497))","v":0}]
["103705684","Staff_cols:Night_care_act, Staff_row:Staff_row96","Number",{"$f":"IF(ISERROR(INDEX('Trust - Frontsheet'!$C$14:$T$213,Index!B2498,Index!A2498)),0,INDEX('Trust - Frontsheet'!$C$14:$T$213,Index!B2498,Index!A2498))","v":0}]
["103705685","Staff_cols:Night_care_act, Staff_row:Staff_row97","Number",{"$f":"IF(ISERROR(INDEX('Trust - Frontsheet'!$C$14:$T$213,Index!B2499,Index!A2499)),0,INDEX('Trust - Frontsheet'!$C$14:$T$213,Index!B2499,Index!A2499))","v":0}]
["103705686","Staff_cols:Night_care_act, Staff_row:Staff_row98","Number",{"$f":"IF(ISERROR(INDEX('Trust - Frontsheet'!$C$14:$T$213,Index!B2500,Index!A2500)),0,INDEX('Trust - Frontsheet'!$C$14:$T$213,Index!B2500,Index!A2500))","v":0}]
["103705687","Staff_cols:Night_care_act, Staff_row:Staff_row99","Number",{"$f":"IF(ISERROR(INDEX('Trust - Frontsheet'!$C$14:$T$213,Index!B2501,Index!A2501)),0,INDEX('Trust - Frontsheet'!$C$14:$T$213,Index!B2501,Index!A2501))","v":0}]
["103705490","Staff_cols:Night_care_act, Staff_row:Staff_row100","Number",{"$f":"IF(ISERROR(INDEX('Trust - Frontsheet'!$C$14:$T$213,Index!B2502,Index!A2502)),0,INDEX('Trust - Frontsheet'!$C$14:$T$213,Index!B2502,Index!A2502))","v":0}]
["103705491","Staff_cols:Night_care_act, Staff_row:Staff_row101","Number",{"$f":"IF(ISERROR(INDEX('Trust - Frontsheet'!$C$14:$T$213,Index!B2503,Index!A2503)),0,INDEX('Trust - Frontsheet'!$C$14:$T$213,Index!B2503,Index!A2503))","v":0}]
["103705492","Staff_cols:Night_care_act, Staff_row:Staff_row102","Number",{"$f":"IF(ISERROR(INDEX('Trust - Frontsheet'!$C$14:$T$213,Index!B2504,Index!A2504)),0,INDEX('Trust - Frontsheet'!$C$14:$T$213,Index!B2504,Index!A2504))","v":0}]
["103705493","Staff_cols:Night_care_act, Staff_row:Staff_row103","Number",{"$f":"IF(ISERROR(INDEX('Trust - Frontsheet'!$C$14:$T$213,Index!B2505,Index!A2505)),0,INDEX('Trust - Frontsheet'!$C$14:$T$213,Index!B2505,Index!A2505))","v":0}]
["103705494","Staff_cols:Night_care_act, Staff_row:Staff_row104","Number",{"$f":"IF(ISERROR(INDEX('Trust - Frontsheet'!$C$14:$T$213,Index!B2506,Index!A2506)),0,INDEX('Trust - Frontsheet'!$C$14:$T$213,Index!B2506,Index!A2506))","v":0}]
["103705495","Staff_cols:Night_care_act, Staff_row:Staff_row105","Number",{"$f":"IF(ISERROR(INDEX('Trust - Frontsheet'!$C$14:$T$213,Index!B2507,Index!A2507)),0,INDEX('Trust - Frontsheet'!$C$14:$T$213,Index!B2507,Index!A2507))","v":0}]
["103705496","Staff_cols:Night_care_act, Staff_row:Staff_row106","Number",{"$f":"IF(ISERROR(INDEX('Trust - Frontsheet'!$C$14:$T$213,Index!B2508,Index!A2508)),0,INDEX('Trust - Frontsheet'!$C$14:$T$213,Index!B2508,Index!A2508))","v":0}]
["103705497","Staff_cols:Night_care_act, Staff_row:Staff_row107","Number",{"$f":"IF(ISERROR(INDEX('Trust - Frontsheet'!$C$14:$T$213,Index!B2509,Index!A2509)),0,INDEX('Trust - Frontsheet'!$C$14:$T$213,Index!B2509,Index!A2509))","v":0}]
["103705498","Staff_cols:Night_care_act, Staff_row:Staff_row108","Number",{"$f":"IF(ISERROR(INDEX('Trust - Frontsheet'!$C$14:$T$213,Index!B2510,Index!A2510)),0,INDEX('Trust - Frontsheet'!$C$14:$T$213,Index!B2510,Index!A2510))","v":0}]
["103705499","Staff_cols:Night_care_act, Staff_row:Staff_row109","Number",{"$f":"IF(ISERROR(INDEX('Trust - Frontsheet'!$C$14:$T$213,Index!B2511,Index!A2511)),0,INDEX('Trust - Frontsheet'!$C$14:$T$213,Index!B2511,Index!A2511))","v":0}]
["103705501","Staff_cols:Night_care_act, Staff_row:Staff_row110","Number",{"$f":"IF(ISERROR(INDEX('Trust - Frontsheet'!$C$14:$T$213,Index!B2512,Index!A2512)),0,INDEX('Trust - Frontsheet'!$C$14:$T$213,Index!B2512,Index!A2512))","v":0}]
["103705502","Staff_cols:Night_care_act, Staff_row:Staff_row111","Number",{"$f":"IF(ISERROR(INDEX('Trust - Frontsheet'!$C$14:$T$213,Index!B2513,Index!A2513)),0,INDEX('Trust - Frontsheet'!$C$14:$T$213,Index!B2513,Index!A2513))","v":0}]
["103705503","Staff_cols:Night_care_act, Staff_row:Staff_row112","Number",{"$f":"IF(ISERROR(INDEX('Trust - Frontsheet'!$C$14:$T$213,Index!B2514,Index!A2514)),0,INDEX('Trust - Frontsheet'!$C$14:$T$213,Index!B2514,Index!A2514))","v":0}]
["103705504","Staff_cols:Night_care_act, Staff_row:Staff_row113","Number",{"$f":"IF(ISERROR(INDEX('Trust - Frontsheet'!$C$14:$T$213,Index!B2515,Index!A2515)),0,INDEX('Trust - Frontsheet'!$C$14:$T$213,Index!B2515,Index!A2515))","v":0}]
["103705505","Staff_cols:Night_care_act, Staff_row:Staff_row114","Number",{"$f":"IF(ISERROR(INDEX('Trust - Frontsheet'!$C$14:$T$213,Index!B2516,Index!A2516)),0,INDEX('Trust - Frontsheet'!$C$14:$T$213,Index!B2516,Index!A2516))","v":0}]
["103705506","Staff_cols:Night_care_act, Staff_row:Staff_row115","Number",{"$f":"IF(ISERROR(INDEX('Trust - Frontsheet'!$C$14:$T$213,Index!B2517,Index!A2517)),0,INDEX('Trust - Frontsheet'!$C$14:$T$213,Index!B2517,Index!A2517))","v":0}]
["103705507","Staff_cols:Night_care_act, Staff_row:Staff_row116","Number",{"$f":"IF(ISERROR(INDEX('Trust - Frontsheet'!$C$14:$T$213,Index!B2518,Index!A2518)),0,INDEX('Trust - Frontsheet'!$C$14:$T$213,Index!B2518,Index!A2518))","v":0}]
["103705508","Staff_cols:Night_care_act, Staff_row:Staff_row117","Number",{"$f":"IF(ISERROR(INDEX('Trust - Frontsheet'!$C$14:$T$213,Index!B2519,Index!A2519)),0,INDEX('Trust - Frontsheet'!$C$14:$T$213,Index!B2519,Index!A2519))","v":0}]
["103705509","Staff_cols:Night_care_act, Staff_row:Staff_row118","Number",{"$f":"IF(ISERROR(INDEX('Trust - Frontsheet'!$C$14:$T$213,Index!B2520,Index!A2520)),0,INDEX('Trust - Frontsheet'!$C$14:$T$213,Index!B2520,Index!A2520))","v":0}]
["103705510","Staff_cols:Night_care_act, Staff_row:Staff_row119","Number",{"$f":"IF(ISERROR(INDEX('Trust - Frontsheet'!$C$14:$T$213,Index!B2521,Index!A2521)),0,INDEX('Trust - Frontsheet'!$C$14:$T$213,Index!B2521,Index!A2521))","v":0}]
["103705512","Staff_cols:Night_care_act, Staff_row:Staff_row120","Number",{"$f":"IF(ISERROR(INDEX('Trust - Frontsheet'!$C$14:$T$213,Index!B2522,Index!A2522)),0,INDEX('Trust - Frontsheet'!$C$14:$T$213,Index!B2522,Index!A2522))","v":0}]
["103705513","Staff_cols:Night_care_act, Staff_row:Staff_row121","Number",{"$f":"IF(ISERROR(INDEX('Trust - Frontsheet'!$C$14:$T$213,Index!B2523,Index!A2523)),0,INDEX('Trust - Frontsheet'!$C$14:$T$213,Index!B2523,Index!A2523))","v":0}]
["103705514","Staff_cols:Night_care_act, Staff_row:Staff_row122","Number",{"$f":"IF(ISERROR(INDEX('Trust - Frontsheet'!$C$14:$T$213,Index!B2524,Index!A2524)),0,INDEX('Trust - Frontsheet'!$C$14:$T$213,Index!B2524,Index!A2524))","v":0}]
["103705515","Staff_cols:Night_care_act, Staff_row:Staff_row123","Number",{"$f":"IF(ISERROR(INDEX('Trust - Frontsheet'!$C$14:$T$213,Index!B2525,Index!A2525)),0,INDEX('Trust - Frontsheet'!$C$14:$T$213,Index!B2525,Index!A2525))","v":0}]
["103705516","Staff_cols:Night_care_act, Staff_row:Staff_row124","Number",{"$f":"IF(ISERROR(INDEX('Trust - Frontsheet'!$C$14:$T$213,Index!B2526,Index!A2526)),0,INDEX('Trust - Frontsheet'!$C$14:$T$213,Index!B2526,Index!A2526))","v":0}]
["103705517","Staff_cols:Night_care_act, Staff_row:Staff_row125","Number",{"$f":"IF(ISERROR(INDEX('Trust - Frontsheet'!$C$14:$T$213,Index!B2527,Index!A2527)),0,INDEX('Trust - Frontsheet'!$C$14:$T$213,Index!B2527,Index!A2527))","v":0}]
["103705518","Staff_cols:Night_care_act, Staff_row:Staff_row126","Number",{"$f":"IF(ISERROR(INDEX('Trust - Frontsheet'!$C$14:$T$213,Index!B2528,Index!A2528)),0,INDEX('Trust - Frontsheet'!$C$14:$T$213,Index!B2528,Index!A2528))","v":0}]
["103705519","Staff_cols:Night_care_act, Staff_row:Staff_row127","Number",{"$f":"IF(ISERROR(INDEX('Trust - Frontsheet'!$C$14:$T$213,Index!B2529,Index!A2529)),0,INDEX('Trust - Frontsheet'!$C$14:$T$213,Index!B2529,Index!A2529))","v":0}]
["103705520","Staff_cols:Night_care_act, Staff_row:Staff_row128","Number",{"$f":"IF(ISERROR(INDEX('Trust - Frontsheet'!$C$14:$T$213,Index!B2530,Index!A2530)),0,INDEX('Trust - Frontsheet'!$C$14:$T$213,Index!B2530,Index!A2530))","v":0}]
["103705521","Staff_cols:Night_care_act, Staff_row:Staff_row129","Number",{"$f":"IF(ISERROR(INDEX('Trust - Frontsheet'!$C$14:$T$213,Index!B2531,Index!A2531)),0,INDEX('Trust - Frontsheet'!$C$14:$T$213,Index!B2531,Index!A2531))","v":0}]
["103705523","Staff_cols:Night_care_act, Staff_row:Staff_row130","Number",{"$f":"IF(ISERROR(INDEX('Trust - Frontsheet'!$C$14:$T$213,Index!B2532,Index!A2532)),0,INDEX('Trust - Frontsheet'!$C$14:$T$213,Index!B2532,Index!A2532))","v":0}]
["103705524","Staff_cols:Night_care_act, Staff_row:Staff_row131","Number",{"$f":"IF(ISERROR(INDEX('Trust - Frontsheet'!$C$14:$T$213,Index!B2533,Index!A2533)),0,INDEX('Trust - Frontsheet'!$C$14:$T$213,Index!B2533,Index!A2533))","v":0}]
["103705525","Staff_cols:Night_care_act, Staff_row:Staff_row132","Number",{"$f":"IF(ISERROR(INDEX('Trust - Frontsheet'!$C$14:$T$213,Index!B2534,Index!A2534)),0,INDEX('Trust - Frontsheet'!$C$14:$T$213,Index!B2534,Index!A2534))","v":0}]
["103705526","Staff_cols:Night_care_act, Staff_row:Staff_row133","Number",{"$f":"IF(ISERROR(INDEX('Trust - Frontsheet'!$C$14:$T$213,Index!B2535,Index!A2535)),0,INDEX('Trust - Frontsheet'!$C$14:$T$213,Index!B2535,Index!A2535))","v":0}]
["103705527","Staff_cols:Night_care_act, Staff_row:Staff_row134","Number",{"$f":"IF(ISERROR(INDEX('Trust - Frontsheet'!$C$14:$T$213,Index!B2536,Index!A2536)),0,INDEX('Trust - Frontsheet'!$C$14:$T$213,Index!B2536,Index!A2536))","v":0}]
["103705528","Staff_cols:Night_care_act, Staff_row:Staff_row135","Number",{"$f":"IF(ISERROR(INDEX('Trust - Frontsheet'!$C$14:$T$213,Index!B2537,Index!A2537)),0,INDEX('Trust - Frontsheet'!$C$14:$T$213,Index!B2537,Index!A2537))","v":0}]
["103705529","Staff_cols:Night_care_act, Staff_row:Staff_row136","Number",{"$f":"IF(ISERROR(INDEX('Trust - Frontsheet'!$C$14:$T$213,Index!B2538,Index!A2538)),0,INDEX('Trust - Frontsheet'!$C$14:$T$213,Index!B2538,Index!A2538))","v":0}]
["103705530","Staff_cols:Night_care_act, Staff_row:Staff_row137","Number",{"$f":"IF(ISERROR(INDEX('Trust - Frontsheet'!$C$14:$T$213,Index!B2539,Index!A2539)),0,INDEX('Trust - Frontsheet'!$C$14:$T$213,Index!B2539,Index!A2539))","v":0}]
["103705531","Staff_cols:Night_care_act, Staff_row:Staff_row138","Number",{"$f":"IF(ISERROR(INDEX('Trust - Frontsheet'!$C$14:$T$213,Index!B2540,Index!A2540)),0,INDEX('Trust - Frontsheet'!$C$14:$T$213,Index!B2540,Index!A2540))","v":0}]
["103705532","Staff_cols:Night_care_act, Staff_row:Staff_row139","Number",{"$f":"IF(ISERROR(INDEX('Trust - Frontsheet'!$C$14:$T$213,Index!B2541,Index!A2541)),0,INDEX('Trust - Frontsheet'!$C$14:$T$213,Index!B2541,Index!A2541))","v":0}]
["103705534","Staff_cols:Night_care_act, Staff_row:Staff_row140","Number",{"$f":"IF(ISERROR(INDEX('Trust - Frontsheet'!$C$14:$T$213,Index!B2542,Index!A2542)),0,INDEX('Trust - Frontsheet'!$C$14:$T$213,Index!B2542,Index!A2542))","v":0}]
["103705535","Staff_cols:Night_care_act, Staff_row:Staff_row141","Number",{"$f":"IF(ISERROR(INDEX('Trust - Frontsheet'!$C$14:$T$213,Index!B2543,Index!A2543)),0,INDEX('Trust - Frontsheet'!$C$14:$T$213,Index!B2543,Index!A2543))","v":0}]
["103705536","Staff_cols:Night_care_act, Staff_row:Staff_row142","Number",{"$f":"IF(ISERROR(INDEX('Trust - Frontsheet'!$C$14:$T$213,Index!B2544,Index!A2544)),0,INDEX('Trust - Frontsheet'!$C$14:$T$213,Index!B2544,Index!A2544))","v":0}]
["103705537","Staff_cols:Night_care_act, Staff_row:Staff_row143","Number",{"$f":"IF(ISERROR(INDEX('Trust - Frontsheet'!$C$14:$T$213,Index!B2545,Index!A2545)),0,INDEX('Trust - Frontsheet'!$C$14:$T$213,Index!B2545,Index!A2545))","v":0}]
["103705538","Staff_cols:Night_care_act, Staff_row:Staff_row144","Number",{"$f":"IF(ISERROR(INDEX('Trust - Frontsheet'!$C$14:$T$213,Index!B2546,Index!A2546)),0,INDEX('Trust - Frontsheet'!$C$14:$T$213,Index!B2546,Index!A2546))","v":0}]
["103705539","Staff_cols:Night_care_act, Staff_row:Staff_row145","Number",{"$f":"IF(ISERROR(INDEX('Trust - Frontsheet'!$C$14:$T$213,Index!B2547,Index!A2547)),0,INDEX('Trust - Frontsheet'!$C$14:$T$213,Index!B2547,Index!A2547))","v":0}]
["103705540","Staff_cols:Night_care_act, Staff_row:Staff_row146","Number",{"$f":"IF(ISERROR(INDEX('Trust - Frontsheet'!$C$14:$T$213,Index!B2548,Index!A2548)),0,INDEX('Trust - Frontsheet'!$C$14:$T$213,Index!B2548,Index!A2548))","v":0}]
["103705541","Staff_cols:Night_care_act, Staff_row:Staff_row147","Number",{"$f":"IF(ISERROR(INDEX('Trust - Frontsheet'!$C$14:$T$213,Index!B2549,Index!A2549)),0,INDEX('Trust - Frontsheet'!$C$14:$T$213,Index!B2549,Index!A2549))","v":0}]
["103705542","Staff_cols:Night_care_act, Staff_row:Staff_row148","Number",{"$f":"IF(ISERROR(INDEX('Trust - Frontsheet'!$C$14:$T$213,Index!B2550,Index!A2550)),0,INDEX('Trust - Frontsheet'!$C$14:$T$213,Index!B2550,Index!A2550))","v":0}]
["103705543","Staff_cols:Night_care_act, Staff_row:Staff_row149","Number",{"$f":"IF(ISERROR(INDEX('Trust - Frontsheet'!$C$14:$T$213,Index!B2551,Index!A2551)),0,INDEX('Trust - Frontsheet'!$C$14:$T$213,Index!B2551,Index!A2551))","v":0}]
["103705545","Staff_cols:Night_care_act, Staff_row:Staff_row150","Number",{"$f":"IF(ISERROR(INDEX('Trust - Frontsheet'!$C$14:$T$213,Index!B2552,Index!A2552)),0,INDEX('Trust - Frontsheet'!$C$14:$T$213,Index!B2552,Index!A2552))","v":0}]
["103705546","Staff_cols:Night_care_act, Staff_row:Staff_row151","Number",{"$f":"IF(ISERROR(INDEX('Trust - Frontsheet'!$C$14:$T$213,Index!B2553,Index!A2553)),0,INDEX('Trust - Frontsheet'!$C$14:$T$213,Index!B2553,Index!A2553))","v":0}]
["103705547","Staff_cols:Night_care_act, Staff_row:Staff_row152","Number",{"$f":"IF(ISERROR(INDEX('Trust - Frontsheet'!$C$14:$T$213,Index!B2554,Index!A2554)),0,INDEX('Trust - Frontsheet'!$C$14:$T$213,Index!B2554,Index!A2554))","v":0}]
["103705548","Staff_cols:Night_care_act, Staff_row:Staff_row153","Number",{"$f":"IF(ISERROR(INDEX('Trust - Frontsheet'!$C$14:$T$213,Index!B2555,Index!A2555)),0,INDEX('Trust - Frontsheet'!$C$14:$T$213,Index!B2555,Index!A2555))","v":0}]
["103705549","Staff_cols:Night_care_act, Staff_row:Staff_row154","Number",{"$f":"IF(ISERROR(INDEX('Trust - Frontsheet'!$C$14:$T$213,Index!B2556,Index!A2556)),0,INDEX('Trust - Frontsheet'!$C$14:$T$213,Index!B2556,Index!A2556))","v":0}]
["103705550","Staff_cols:Night_care_act, Staff_row:Staff_row155","Number",{"$f":"IF(ISERROR(INDEX('Trust - Frontsheet'!$C$14:$T$213,Index!B2557,Index!A2557)),0,INDEX('Trust - Frontsheet'!$C$14:$T$213,Index!B2557,Index!A2557))","v":0}]
["103705551","Staff_cols:Night_care_act, Staff_row:Staff_row156","Number",{"$f":"IF(ISERROR(INDEX('Trust - Frontsheet'!$C$14:$T$213,Index!B2558,Index!A2558)),0,INDEX('Trust - Frontsheet'!$C$14:$T$213,Index!B2558,Index!A2558))","v":0}]
["103705552","Staff_cols:Night_care_act, Staff_row:Staff_row157","Number",{"$f":"IF(ISERROR(INDEX('Trust - Frontsheet'!$C$14:$T$213,Index!B2559,Index!A2559)),0,INDEX('Trust - Frontsheet'!$C$14:$T$213,Index!B2559,Index!A2559))","v":0}]
["103705553","Staff_cols:Night_care_act, Staff_row:Staff_row158","Number",{"$f":"IF(ISERROR(INDEX('Trust - Frontsheet'!$C$14:$T$213,Index!B2560,Index!A2560)),0,INDEX('Trust - Frontsheet'!$C$14:$T$213,Index!B2560,Index!A2560))","v":0}]
["103705554","Staff_cols:Night_care_act, Staff_row:Staff_row159","Number",{"$f":"IF(ISERROR(INDEX('Trust - Frontsheet'!$C$14:$T$213,Index!B2561,Index!A2561)),0,INDEX('Trust - Frontsheet'!$C$14:$T$213,Index!B2561,Index!A2561))","v":0}]
["103705556","Staff_cols:Night_care_act, Staff_row:Staff_row160","Number",{"$f":"IF(ISERROR(INDEX('Trust - Frontsheet'!$C$14:$T$213,Index!B2562,Index!A2562)),0,INDEX('Trust - Frontsheet'!$C$14:$T$213,Index!B2562,Index!A2562))","v":0}]
["103705557","Staff_cols:Night_care_act, Staff_row:Staff_row161","Number",{"$f":"IF(ISERROR(INDEX('Trust - Frontsheet'!$C$14:$T$213,Index!B2563,Index!A2563)),0,INDEX('Trust - Frontsheet'!$C$14:$T$213,Index!B2563,Index!A2563))","v":0}]
["103705558","Staff_cols:Night_care_act, Staff_row:Staff_row162","Number",{"$f":"IF(ISERROR(INDEX('Trust - Frontsheet'!$C$14:$T$213,Index!B2564,Index!A2564)),0,INDEX('Trust - Frontsheet'!$C$14:$T$213,Index!B2564,Index!A2564))","v":0}]
["103705559","Staff_cols:Night_care_act, Staff_row:Staff_row163","Number",{"$f":"IF(ISERROR(INDEX('Trust - Frontsheet'!$C$14:$T$213,Index!B2565,Index!A2565)),0,INDEX('Trust - Frontsheet'!$C$14:$T$213,Index!B2565,Index!A2565))","v":0}]
["103705560","Staff_cols:Night_care_act, Staff_row:Staff_row164","Number",{"$f":"IF(ISERROR(INDEX('Trust - Frontsheet'!$C$14:$T$213,Index!B2566,Index!A2566)),0,INDEX('Trust - Frontsheet'!$C$14:$T$213,Index!B2566,Index!A2566))","v":0}]
["103705561","Staff_cols:Night_care_act, Staff_row:Staff_row165","Number",{"$f":"IF(ISERROR(INDEX('Trust - Frontsheet'!$C$14:$T$213,Index!B2567,Index!A2567)),0,INDEX('Trust - Frontsheet'!$C$14:$T$213,Index!B2567,Index!A2567))","v":0}]
["103705562","Staff_cols:Night_care_act, Staff_row:Staff_row166","Number",{"$f":"IF(ISERROR(INDEX('Trust - Frontsheet'!$C$14:$T$213,Index!B2568,Index!A2568)),0,INDEX('Trust - Frontsheet'!$C$14:$T$213,Index!B2568,Index!A2568))","v":0}]
["103705563","Staff_cols:Night_care_act, Staff_row:Staff_row167","Number",{"$f":"IF(ISERROR(INDEX('Trust - Frontsheet'!$C$14:$T$213,Index!B2569,Index!A2569)),0,INDEX('Trust - Frontsheet'!$C$14:$T$213,Index!B2569,Index!A2569))","v":0}]
["103705564","Staff_cols:Night_care_act, Staff_row:Staff_row168","Number",{"$f":"IF(ISERROR(INDEX('Trust - Frontsheet'!$C$14:$T$213,Index!B2570,Index!A2570)),0,INDEX('Trust - Frontsheet'!$C$14:$T$213,Index!B2570,Index!A2570))","v":0}]
["103705565","Staff_cols:Night_care_act, Staff_row:Staff_row169","Number",{"$f":"IF(ISERROR(INDEX('Trust - Frontsheet'!$C$14:$T$213,Index!B2571,Index!A2571)),0,INDEX('Trust - Frontsheet'!$C$14:$T$213,Index!B2571,Index!A2571))","v":0}]
["103705567","Staff_cols:Night_care_act, Staff_row:Staff_row170","Number",{"$f":"IF(ISERROR(INDEX('Trust - Frontsheet'!$C$14:$T$213,Index!B2572,Index!A2572)),0,INDEX('Trust - Frontsheet'!$C$14:$T$213,Index!B2572,Index!A2572))","v":0}]
["103705568","Staff_cols:Night_care_act, Staff_row:Staff_row171","Number",{"$f":"IF(ISERROR(INDEX('Trust - Frontsheet'!$C$14:$T$213,Index!B2573,Index!A2573)),0,INDEX('Trust - Frontsheet'!$C$14:$T$213,Index!B2573,Index!A2573))","v":0}]
["103705569","Staff_cols:Night_care_act, Staff_row:Staff_row172","Number",{"$f":"IF(ISERROR(INDEX('Trust - Frontsheet'!$C$14:$T$213,Index!B2574,Index!A2574)),0,INDEX('Trust - Frontsheet'!$C$14:$T$213,Index!B2574,Index!A2574))","v":0}]
["103705570","Staff_cols:Night_care_act, Staff_row:Staff_row173","Number",{"$f":"IF(ISERROR(INDEX('Trust - Frontsheet'!$C$14:$T$213,Index!B2575,Index!A2575)),0,INDEX('Trust - Frontsheet'!$C$14:$T$213,Index!B2575,Index!A2575))","v":0}]
["103705571","Staff_cols:Night_care_act, Staff_row:Staff_row174","Number",{"$f":"IF(ISERROR(INDEX('Trust - Frontsheet'!$C$14:$T$213,Index!B2576,Index!A2576)),0,INDEX('Trust - Frontsheet'!$C$14:$T$213,Index!B2576,Index!A2576))","v":0}]
["103705572","Staff_cols:Night_care_act, Staff_row:Staff_row175","Number",{"$f":"IF(ISERROR(INDEX('Trust - Frontsheet'!$C$14:$T$213,Index!B2577,Index!A2577)),0,INDEX('Trust - Frontsheet'!$C$14:$T$213,Index!B2577,Index!A2577))","v":0}]
["103705573","Staff_cols:Night_care_act, Staff_row:Staff_row176","Number",{"$f":"IF(ISERROR(INDEX('Trust - Frontsheet'!$C$14:$T$213,Index!B2578,Index!A2578)),0,INDEX('Trust - Frontsheet'!$C$14:$T$213,Index!B2578,Index!A2578))","v":0}]
["103705574","Staff_cols:Night_care_act, Staff_row:Staff_row177","Number",{"$f":"IF(ISERROR(INDEX('Trust - Frontsheet'!$C$14:$T$213,Index!B2579,Index!A2579)),0,INDEX('Trust - Frontsheet'!$C$14:$T$213,Index!B2579,Index!A2579))","v":0}]
["103705575","Staff_cols:Night_care_act, Staff_row:Staff_row178","Number",{"$f":"IF(ISERROR(INDEX('Trust - Frontsheet'!$C$14:$T$213,Index!B2580,Index!A2580)),0,INDEX('Trust - Frontsheet'!$C$14:$T$213,Index!B2580,Index!A2580))","v":0}]
["103705576","Staff_cols:Night_care_act, Staff_row:Staff_row179","Number",{"$f":"IF(ISERROR(INDEX('Trust - Frontsheet'!$C$14:$T$213,Index!B2581,Index!A2581)),0,INDEX('Trust - Frontsheet'!$C$14:$T$213,Index!B2581,Index!A2581))","v":0}]
["103705578","Staff_cols:Night_care_act, Staff_row:Staff_row180","Number",{"$f":"IF(ISERROR(INDEX('Trust - Frontsheet'!$C$14:$T$213,Index!B2582,Index!A2582)),0,INDEX('Trust - Frontsheet'!$C$14:$T$213,Index!B2582,Index!A2582))","v":0}]
["103705579","Staff_cols:Night_care_act, Staff_row:Staff_row181","Number",{"$f":"IF(ISERROR(INDEX('Trust - Frontsheet'!$C$14:$T$213,Index!B2583,Index!A2583)),0,INDEX('Trust - Frontsheet'!$C$14:$T$213,Index!B2583,Index!A2583))","v":0}]
["103705580","Staff_cols:Night_care_act, Staff_row:Staff_row182","Number",{"$f":"IF(ISERROR(INDEX('Trust - Frontsheet'!$C$14:$T$213,Index!B2584,Index!A2584)),0,INDEX('Trust - Frontsheet'!$C$14:$T$213,Index!B2584,Index!A2584))","v":0}]
["103705581","Staff_cols:Night_care_act, Staff_row:Staff_row183","Number",{"$f":"IF(ISERROR(INDEX('Trust - Frontsheet'!$C$14:$T$213,Index!B2585,Index!A2585)),0,INDEX('Trust - Frontsheet'!$C$14:$T$213,Index!B2585,Index!A2585))","v":0}]
["103705582","Staff_cols:Night_care_act, Staff_row:Staff_row184","Number",{"$f":"IF(ISERROR(INDEX('Trust - Frontsheet'!$C$14:$T$213,Index!B2586,Index!A2586)),0,INDEX('Trust - Frontsheet'!$C$14:$T$213,Index!B2586,Index!A2586))","v":0}]
["103705583","Staff_cols:Night_care_act, Staff_row:Staff_row185","Number",{"$f":"IF(ISERROR(INDEX('Trust - Frontsheet'!$C$14:$T$213,Index!B2587,Index!A2587)),0,INDEX('Trust - Frontsheet'!$C$14:$T$213,Index!B2587,Index!A2587))","v":0}]
["103705584","Staff_cols:Night_care_act, Staff_row:Staff_row186","Number",{"$f":"IF(ISERROR(INDEX('Trust - Frontsheet'!$C$14:$T$213,Index!B2588,Index!A2588)),0,INDEX('Trust - Frontsheet'!$C$14:$T$213,Index!B2588,Index!A2588))","v":0}]
["103705585","Staff_cols:Night_care_act, Staff_row:Staff_row187","Number",{"$f":"IF(ISERROR(INDEX('Trust - Frontsheet'!$C$14:$T$213,Index!B2589,Index!A2589)),0,INDEX('Trust - Frontsheet'!$C$14:$T$213,Index!B2589,Index!A2589))","v":0}]
["103705586","Staff_cols:Night_care_act, Staff_row:Staff_row188","Number",{"$f":"IF(ISERROR(INDEX('Trust - Frontsheet'!$C$14:$T$213,Index!B2590,Index!A2590)),0,INDEX('Trust - Frontsheet'!$C$14:$T$213,Index!B2590,Index!A2590))","v":0}]
["103705587","Staff_cols:Night_care_act, Staff_row:Staff_row189","Number",{"$f":"IF(ISERROR(INDEX('Trust - Frontsheet'!$C$14:$T$213,Index!B2591,Index!A2591)),0,INDEX('Trust - Frontsheet'!$C$14:$T$213,Index!B2591,Index!A2591))","v":0}]
["103705589","Staff_cols:Night_care_act, Staff_row:Staff_row190","Number",{"$f":"IF(ISERROR(INDEX('Trust - Frontsheet'!$C$14:$T$213,Index!B2592,Index!A2592)),0,INDEX('Trust - Frontsheet'!$C$14:$T$213,Index!B2592,Index!A2592))","v":0}]
["103705590","Staff_cols:Night_care_act, Staff_row:Staff_row191","Number",{"$f":"IF(ISERROR(INDEX('Trust - Frontsheet'!$C$14:$T$213,Index!B2593,Index!A2593)),0,INDEX('Trust - Frontsheet'!$C$14:$T$213,Index!B2593,Index!A2593))","v":0}]
["103705591","Staff_cols:Night_care_act, Staff_row:Staff_row192","Number",{"$f":"IF(ISERROR(INDEX('Trust - Frontsheet'!$C$14:$T$213,Index!B2594,Index!A2594)),0,INDEX('Trust - Frontsheet'!$C$14:$T$213,Index!B2594,Index!A2594))","v":0}]
["103705592","Staff_cols:Night_care_act, Staff_row:Staff_row193","Number",{"$f":"IF(ISERROR(INDEX('Trust - Frontsheet'!$C$14:$T$213,Index!B2595,Index!A2595)),0,INDEX('Trust - Frontsheet'!$C$14:$T$213,Index!B2595,Index!A2595))","v":0}]
["103705593","Staff_cols:Night_care_act, Staff_row:Staff_row194","Number",{"$f":"IF(ISERROR(INDEX('Trust - Frontsheet'!$C$14:$T$213,Index!B2596,Index!A2596)),0,INDEX('Trust - Frontsheet'!$C$14:$T$213,Index!B2596,Index!A2596))","v":0}]
["103705594","Staff_cols:Night_care_act, Staff_row:Staff_row195","Number",{"$f":"IF(ISERROR(INDEX('Trust - Frontsheet'!$C$14:$T$213,Index!B2597,Index!A2597)),0,INDEX('Trust - Frontsheet'!$C$14:$T$213,Index!B2597,Index!A2597))","v":0}]
["103705595","Staff_cols:Night_care_act, Staff_row:Staff_row196","Number",{"$f":"IF(ISERROR(INDEX('Trust - Frontsheet'!$C$14:$T$213,Index!B2598,Index!A2598)),0,INDEX('Trust - Frontsheet'!$C$14:$T$213,Index!B2598,Index!A2598))","v":0}]
["103705596","Staff_cols:Night_care_act, Staff_row:Staff_row197","Number",{"$f":"IF(ISERROR(INDEX('Trust - Frontsheet'!$C$14:$T$213,Index!B2599,Index!A2599)),0,INDEX('Trust - Frontsheet'!$C$14:$T$213,Index!B2599,Index!A2599))","v":0}]
["103705597","Staff_cols:Night_care_act, Staff_row:Staff_row198","Number",{"$f":"IF(ISERROR(INDEX('Trust - Frontsheet'!$C$14:$T$213,Index!B2600,Index!A2600)),0,INDEX('Trust - Frontsheet'!$C$14:$T$213,Index!B2600,Index!A2600))","v":0}]
["103705598","Staff_cols:Night_care_act, Staff_row:Staff_row199","Number",{"$f":"IF(ISERROR(INDEX('Trust - Frontsheet'!$C$14:$T$213,Index!B2601,Index!A2601)),0,INDEX('Trust - Frontsheet'!$C$14:$T$213,Index!B2601,Index!A2601))","v":0}]
["103705601","Staff_cols:Night_care_act, Staff_row:Staff_row200","Number",{"$f":"IF(ISERROR(INDEX('Trust - Frontsheet'!$C$14:$T$213,Index!B2602,Index!A2602)),0,INDEX('Trust - Frontsheet'!$C$14:$T$213,Index!B2602,Index!A2602))","v":0}]
["113598230","Staff_cols:CHPPD, Staff_row:Staff_row1","Number",{"$f":"IF(ISERROR(INDEX('Trust - Frontsheet'!$C$14:$T$213,Index!B2603,Index!A2603)),0,INDEX('Trust - Frontsheet'!$C$14:$T$213,Index!B2603,Index!A2603))","v":706}]
["113598336","Staff_cols:CHPPD, Staff_row:Staff_row2","Number",{"$f":"IF(ISERROR(INDEX('Trust - Frontsheet'!$C$14:$T$213,Index!B2604,Index!A2604)),0,INDEX('Trust - Frontsheet'!$C$14:$T$213,Index!B2604,Index!A2604))","v":714}]
["113598254","Staff_cols:CHPPD, Staff_row:Staff_row3","Number",{"$f":"IF(ISERROR(INDEX('Trust - Frontsheet'!$C$14:$T$213,Index!B2605,Index!A2605)),0,INDEX('Trust - Frontsheet'!$C$14:$T$213,Index!B2605,Index!A2605))","v":430}]
["113598292","Staff_cols:CHPPD, Staff_row:Staff_row4","Number",{"$f":"IF(ISERROR(INDEX('Trust - Frontsheet'!$C$14:$T$213,Index!B2606,Index!A2606)),0,INDEX('Trust - Frontsheet'!$C$14:$T$213,Index!B2606,Index!A2606))","v":731}]
["113598263","Staff_cols:CHPPD, Staff_row:Staff_row5","Number",{"$f":"IF(ISERROR(INDEX('Trust - Frontsheet'!$C$14:$T$213,Index!B2607,Index!A2607)),0,INDEX('Trust - Frontsheet'!$C$14:$T$213,Index!B2607,Index!A2607))","v":151}]
["113598296","Staff_cols:CHPPD, Staff_row:Staff_row6","Number",{"$f":"IF(ISERROR(INDEX('Trust - Frontsheet'!$C$14:$T$213,Index!B2608,Index!A2608)),0,INDEX('Trust - Frontsheet'!$C$14:$T$213,Index!B2608,Index!A2608))","v":362}]
["113598257","Staff_cols:CHPPD, Staff_row:Staff_row7","Number",{"$f":"IF(ISERROR(INDEX('Trust - Frontsheet'!$C$14:$T$213,Index!B2609,Index!A2609)),0,INDEX('Trust - Frontsheet'!$C$14:$T$213,Index!B2609,Index!A2609))","v":236}]
["113598324","Staff_cols:CHPPD, Staff_row:Staff_row8","Number",{"$f":"IF(ISERROR(INDEX('Trust - Frontsheet'!$C$14:$T$213,Index!B2610,Index!A2610)),0,INDEX('Trust - Frontsheet'!$C$14:$T$213,Index!B2610,Index!A2610))","v":221}]
["113598262","Staff_cols:CHPPD, Staff_row:Staff_row9","Number",{"$f":"IF(ISERROR(INDEX('Trust - Frontsheet'!$C$14:$T$213,Index!B2611,Index!A2611)),0,INDEX('Trust - Frontsheet'!$C$14:$T$213,Index!B2611,Index!A2611))","v":663}]
["113598316","Staff_cols:CHPPD, Staff_row:Staff_row10","Number",{"$f":"IF(ISERROR(INDEX('Trust - Frontsheet'!$C$14:$T$213,Index!B2612,Index!A2612)),0,INDEX('Trust - Frontsheet'!$C$14:$T$213,Index!B2612,Index!A2612))","v":842}]
["113598212","Staff_cols:CHPPD, Staff_row:Staff_row11","Number",{"$f":"IF(ISERROR(INDEX('Trust - Frontsheet'!$C$14:$T$213,Index!B2613,Index!A2613)),0,INDEX('Trust - Frontsheet'!$C$14:$T$213,Index!B2613,Index!A2613))","v":804}]
["113598229","Staff_cols:CHPPD, Staff_row:Staff_row12","Number",{"$f":"IF(ISERROR(INDEX('Trust - Frontsheet'!$C$14:$T$213,Index!B2614,Index!A2614)),0,INDEX('Trust - Frontsheet'!$C$14:$T$213,Index!B2614,Index!A2614))","v":902}]
["113598236","Staff_cols:CHPPD, Staff_row:Staff_row13","Number",{"$f":"IF(ISERROR(INDEX('Trust - Frontsheet'!$C$14:$T$213,Index!B2615,Index!A2615)),0,INDEX('Trust - Frontsheet'!$C$14:$T$213,Index!B2615,Index!A2615))","v":212}]
["113598265","Staff_cols:CHPPD, Staff_row:Staff_row14","Number",{"$f":"IF(ISERROR(INDEX('Trust - Frontsheet'!$C$14:$T$213,Index!B2616,Index!A2616)),0,INDEX('Trust - Frontsheet'!$C$14:$T$213,Index!B2616,Index!A2616))","v":663}]
["113598365","Staff_cols:CHPPD, Staff_row:Staff_row15","Number",{"$f":"IF(ISERROR(INDEX('Trust - Frontsheet'!$C$14:$T$213,Index!B2617,Index!A2617)),0,INDEX('Trust - Frontsheet'!$C$14:$T$213,Index!B2617,Index!A2617))","v":783}]
["113598285","Staff_cols:CHPPD, Staff_row:Staff_row16","Number",{"$f":"IF(ISERROR(INDEX('Trust - Frontsheet'!$C$14:$T$213,Index!B2618,Index!A2618)),0,INDEX('Trust - Frontsheet'!$C$14:$T$213,Index!B2618,Index!A2618))","v":374}]
["113598235","Staff_cols:CHPPD, Staff_row:Staff_row17","Number",{"$f":"IF(ISERROR(INDEX('Trust - Frontsheet'!$C$14:$T$213,Index!B2619,Index!A2619)),0,INDEX('Trust - Frontsheet'!$C$14:$T$213,Index!B2619,Index!A2619))","v":726}]
["113598253","Staff_cols:CHPPD, Staff_row:Staff_row18","Number",{"$f":"IF(ISERROR(INDEX('Trust - Frontsheet'!$C$14:$T$213,Index!B2620,Index!A2620)),0,INDEX('Trust - Frontsheet'!$C$14:$T$213,Index!B2620,Index!A2620))","v":653}]
["113598317","Staff_cols:CHPPD, Staff_row:Staff_row19","Number",{"$f":"IF(ISERROR(INDEX('Trust - Frontsheet'!$C$14:$T$213,Index!B2621,Index!A2621)),0,INDEX('Trust - Frontsheet'!$C$14:$T$213,Index!B2621,Index!A2621))","v":758}]
["113598373","Staff_cols:CHPPD, Staff_row:Staff_row20","Number",{"$f":"IF(ISERROR(INDEX('Trust - Frontsheet'!$C$14:$T$213,Index!B2622,Index!A2622)),0,INDEX('Trust - Frontsheet'!$C$14:$T$213,Index!B2622,Index!A2622))","v":772}]
["113598242","Staff_cols:CHPPD, Staff_row:Staff_row21","Number",{"$f":"IF(ISERROR(INDEX('Trust - Frontsheet'!$C$14:$T$213,Index!B2623,Index!A2623)),0,INDEX('Trust - Frontsheet'!$C$14:$T$213,Index!B2623,Index!A2623))","v":802}]
["113598295","Staff_cols:CHPPD, Staff_row:Staff_row22","Number",{"$f":"IF(ISERROR(INDEX('Trust - Frontsheet'!$C$14:$T$213,Index!B2624,Index!A2624)),0,INDEX('Trust - Frontsheet'!$C$14:$T$213,Index!B2624,Index!A2624))","v":262}]
["113598302","Staff_cols:CHPPD, Staff_row:Staff_row23","Number",{"$f":"IF(ISERROR(INDEX('Trust - Frontsheet'!$C$14:$T$213,Index!B2625,Index!A2625)),0,INDEX('Trust - Frontsheet'!$C$14:$T$213,Index!B2625,Index!A2625))","v":419}]
["113598306","Staff_cols:CHPPD, Staff_row:Staff_row24","Number",{"$f":"IF(ISERROR(INDEX('Trust - Frontsheet'!$C$14:$T$213,Index!B2626,Index!A2626)),0,INDEX('Trust - Frontsheet'!$C$14:$T$213,Index!B2626,Index!A2626))","v":652}]
["113598259","Staff_cols:CHPPD, Staff_row:Staff_row25","Number",{"$f":"IF(ISERROR(INDEX('Trust - Frontsheet'!$C$14:$T$213,Index!B2627,Index!A2627)),0,INDEX('Trust - Frontsheet'!$C$14:$T$213,Index!B2627,Index!A2627))","v":847}]
["113598298","Staff_cols:CHPPD, Staff_row:Staff_row26","Number",{"$f":"IF(ISERROR(INDEX('Trust - Frontsheet'!$C$14:$T$213,Index!B2628,Index!A2628)),0,INDEX('Trust - Frontsheet'!$C$14:$T$213,Index!B2628,Index!A2628))","v":841}]
["113598371","Staff_cols:CHPPD, Staff_row:Staff_row27","Number",{"$f":"IF(ISERROR(INDEX('Trust - Frontsheet'!$C$14:$T$213,Index!B2629,Index!A2629)),0,INDEX('Trust - Frontsheet'!$C$14:$T$213,Index!B2629,Index!A2629))","v":909}]
["113598288","Staff_cols:CHPPD, Staff_row:Staff_row28","Number",{"$f":"IF(ISERROR(INDEX('Trust - Frontsheet'!$C$14:$T$213,Index!B2630,Index!A2630)),0,INDEX('Trust - Frontsheet'!$C$14:$T$213,Index!B2630,Index!A2630))","v":679}]
["113598207","Staff_cols:CHPPD, Staff_row:Staff_row29","Number",{"$f":"IF(ISERROR(INDEX('Trust - Frontsheet'!$C$14:$T$213,Index!B2631,Index!A2631)),0,INDEX('Trust - Frontsheet'!$C$14:$T$213,Index!B2631,Index!A2631))","v":752}]
["113598232","Staff_cols:CHPPD, Staff_row:Staff_row30","Number",{"$f":"IF(ISERROR(INDEX('Trust - Frontsheet'!$C$14:$T$213,Index!B2632,Index!A2632)),0,INDEX('Trust - Frontsheet'!$C$14:$T$213,Index!B2632,Index!A2632))","v":502}]
["113598333","Staff_cols:CHPPD, Staff_row:Staff_row31","Number",{"$f":"IF(ISERROR(INDEX('Trust - Frontsheet'!$C$14:$T$213,Index!B2633,Index!A2633)),0,INDEX('Trust - Frontsheet'!$C$14:$T$213,Index!B2633,Index!A2633))","v":105}]
["113598339","Staff_cols:CHPPD, Staff_row:Staff_row32","Number",{"$f":"IF(ISERROR(INDEX('Trust - Frontsheet'!$C$14:$T$213,Index!B2634,Index!A2634)),0,INDEX('Trust - Frontsheet'!$C$14:$T$213,Index!B2634,Index!A2634))","v":91}]
["113598375","Staff_cols:CHPPD, Staff_row:Staff_row33","Number",{"$f":"IF(ISERROR(INDEX('Trust - Frontsheet'!$C$14:$T$213,Index!B2635,Index!A2635)),0,INDEX('Trust - Frontsheet'!$C$14:$T$213,Index!B2635,Index!A2635))","v":821}]
["113598269","Staff_cols:CHPPD, Staff_row:Staff_row34","Number",{"$f":"IF(ISERROR(INDEX('Trust - Frontsheet'!$C$14:$T$213,Index!B2636,Index!A2636)),0,INDEX('Trust - Frontsheet'!$C$14:$T$213,Index!B2636,Index!A2636))","v":728}]
["113598271","Staff_cols:CHPPD, Staff_row:Staff_row35","Number",{"$f":"IF(ISERROR(INDEX('Trust - Frontsheet'!$C$14:$T$213,Index!B2637,Index!A2637)),0,INDEX('Trust - Frontsheet'!$C$14:$T$213,Index!B2637,Index!A2637))","v":871}]
["113598358","Staff_cols:CHPPD, Staff_row:Staff_row36","Number",{"$f":"IF(ISERROR(INDEX('Trust - Frontsheet'!$C$14:$T$213,Index!B2638,Index!A2638)),0,INDEX('Trust - Frontsheet'!$C$14:$T$213,Index!B2638,Index!A2638))","v":346}]
["113598214","Staff_cols:CHPPD, Staff_row:Staff_row37","Number",{"$f":"IF(ISERROR(INDEX('Trust - Frontsheet'!$C$14:$T$213,Index!B2639,Index!A2639)),0,INDEX('Trust - Frontsheet'!$C$14:$T$213,Index!B2639,Index!A2639))","v":708}]
["113598267","Staff_cols:CHPPD, Staff_row:Staff_row38","Number",{"$f":"IF(ISERROR(INDEX('Trust - Frontsheet'!$C$14:$T$213,Index!B2640,Index!A2640)),0,INDEX('Trust - Frontsheet'!$C$14:$T$213,Index!B2640,Index!A2640))","v":663}]
["113598216","Staff_cols:CHPPD, Staff_row:Staff_row39","Number",{"$f":"IF(ISERROR(INDEX('Trust - Frontsheet'!$C$14:$T$213,Index!B2641,Index!A2641)),0,INDEX('Trust - Frontsheet'!$C$14:$T$213,Index!B2641,Index!A2641))","v":888}]
["113598195","Staff_cols:CHPPD, Staff_row:Staff_row40","Number",{"$f":"IF(ISERROR(INDEX('Trust - Frontsheet'!$C$14:$T$213,Index!B2642,Index!A2642)),0,INDEX('Trust - Frontsheet'!$C$14:$T$213,Index!B2642,Index!A2642))","v":876}]
["113598297","Staff_cols:CHPPD, Staff_row:Staff_row41","Number",{"$f":"IF(ISERROR(INDEX('Trust - Frontsheet'!$C$14:$T$213,Index!B2643,Index!A2643)),0,INDEX('Trust - Frontsheet'!$C$14:$T$213,Index!B2643,Index!A2643))","v":626}]
["113598246","Staff_cols:CHPPD, Staff_row:Staff_row42","Number",{"$f":"IF(ISERROR(INDEX('Trust - Frontsheet'!$C$14:$T$213,Index!B2644,Index!A2644)),0,INDEX('Trust - Frontsheet'!$C$14:$T$213,Index!B2644,Index!A2644))","v":777}]
["113598221","Staff_cols:CHPPD, Staff_row:Staff_row43","Number",{"$f":"IF(ISERROR(INDEX('Trust - Frontsheet'!$C$14:$T$213,Index!B2645,Index!A2645)),0,INDEX('Trust - Frontsheet'!$C$14:$T$213,Index!B2645,Index!A2645))","v":900}]
["113598294","Staff_cols:CHPPD, Staff_row:Staff_row44","Number",{"$f":"IF(ISERROR(INDEX('Trust - Frontsheet'!$C$14:$T$213,Index!B2646,Index!A2646)),0,INDEX('Trust - Frontsheet'!$C$14:$T$213,Index!B2646,Index!A2646))","v":341}]
["113598222","Staff_cols:CHPPD, Staff_row:Staff_row45","Number",{"$f":"IF(ISERROR(INDEX('Trust - Frontsheet'!$C$14:$T$213,Index!B2647,Index!A2647)),0,INDEX('Trust - Frontsheet'!$C$14:$T$213,Index!B2647,Index!A2647))","v":704}]
["113598323","Staff_cols:CHPPD, Staff_row:Staff_row46","Number",{"$f":"IF(ISERROR(INDEX('Trust - Frontsheet'!$C$14:$T$213,Index!B2648,Index!A2648)),0,INDEX('Trust - Frontsheet'!$C$14:$T$213,Index!B2648,Index!A2648))","v":573}]
["113598345","Staff_cols:CHPPD, Staff_row:Staff_row47","Number",{"$f":"IF(ISERROR(INDEX('Trust - Frontsheet'!$C$14:$T$213,Index!B2649,Index!A2649)),0,INDEX('Trust - Frontsheet'!$C$14:$T$213,Index!B2649,Index!A2649))","v":227}]
["113598252","Staff_cols:CHPPD, Staff_row:Staff_row48","Number",{"$f":"IF(ISERROR(INDEX('Trust - Frontsheet'!$C$14:$T$213,Index!B2650,Index!A2650)),0,INDEX('Trust - Frontsheet'!$C$14:$T$213,Index!B2650,Index!A2650))","v":0}]
["113598320","Staff_cols:CHPPD, Staff_row:Staff_row49","Number",{"$f":"IF(ISERROR(INDEX('Trust - Frontsheet'!$C$14:$T$213,Index!B2651,Index!A2651)),0,INDEX('Trust - Frontsheet'!$C$14:$T$213,Index!B2651,Index!A2651))","v":0}]
["113598264","Staff_cols:CHPPD, Staff_row:Staff_row50","Number",{"$f":"IF(ISERROR(INDEX('Trust - Frontsheet'!$C$14:$T$213,Index!B2652,Index!A2652)),0,INDEX('Trust - Frontsheet'!$C$14:$T$213,Index!B2652,Index!A2652))","v":0}]
["113598187","Staff_cols:CHPPD, Staff_row:Staff_row51","Number",{"$f":"IF(ISERROR(INDEX('Trust - Frontsheet'!$C$14:$T$213,Index!B2653,Index!A2653)),0,INDEX('Trust - Frontsheet'!$C$14:$T$213,Index!B2653,Index!A2653))","v":0}]
["113598370","Staff_cols:CHPPD, Staff_row:Staff_row52","Number",{"$f":"IF(ISERROR(INDEX('Trust - Frontsheet'!$C$14:$T$213,Index!B2654,Index!A2654)),0,INDEX('Trust - Frontsheet'!$C$14:$T$213,Index!B2654,Index!A2654))","v":0}]
["113598237","Staff_cols:CHPPD, Staff_row:Staff_row53","Number",{"$f":"IF(ISERROR(INDEX('Trust - Frontsheet'!$C$14:$T$213,Index!B2655,Index!A2655)),0,INDEX('Trust - Frontsheet'!$C$14:$T$213,Index!B2655,Index!A2655))","v":0}]
["113598385","Staff_cols:CHPPD, Staff_row:Staff_row54","Number",{"$f":"IF(ISERROR(INDEX('Trust - Frontsheet'!$C$14:$T$213,Index!B2656,Index!A2656)),0,INDEX('Trust - Frontsheet'!$C$14:$T$213,Index!B2656,Index!A2656))","v":0}]
["113598359","Staff_cols:CHPPD, Staff_row:Staff_row55","Number",{"$f":"IF(ISERROR(INDEX('Trust - Frontsheet'!$C$14:$T$213,Index!B2657,Index!A2657)),0,INDEX('Trust - Frontsheet'!$C$14:$T$213,Index!B2657,Index!A2657))","v":0}]
["113598384","Staff_cols:CHPPD, Staff_row:Staff_row56","Number",{"$f":"IF(ISERROR(INDEX('Trust - Frontsheet'!$C$14:$T$213,Index!B2658,Index!A2658)),0,INDEX('Trust - Frontsheet'!$C$14:$T$213,Index!B2658,Index!A2658))","v":0}]
["113598261","Staff_cols:CHPPD, Staff_row:Staff_row57","Number",{"$f":"IF(ISERROR(INDEX('Trust - Frontsheet'!$C$14:$T$213,Index!B2659,Index!A2659)),0,INDEX('Trust - Frontsheet'!$C$14:$T$213,Index!B2659,Index!A2659))","v":0}]
["113598241","Staff_cols:CHPPD, Staff_row:Staff_row58","Number",{"$f":"IF(ISERROR(INDEX('Trust - Frontsheet'!$C$14:$T$213,Index!B2660,Index!A2660)),0,INDEX('Trust - Frontsheet'!$C$14:$T$213,Index!B2660,Index!A2660))","v":0}]
["113598243","Staff_cols:CHPPD, Staff_row:Staff_row59","Number",{"$f":"IF(ISERROR(INDEX('Trust - Frontsheet'!$C$14:$T$213,Index!B2661,Index!A2661)),0,INDEX('Trust - Frontsheet'!$C$14:$T$213,Index!B2661,Index!A2661))","v":0}]
["113598245","Staff_cols:CHPPD, Staff_row:Staff_row60","Number",{"$f":"IF(ISERROR(INDEX('Trust - Frontsheet'!$C$14:$T$213,Index!B2662,Index!A2662)),0,INDEX('Trust - Frontsheet'!$C$14:$T$213,Index!B2662,Index!A2662))","v":0}]
["113598303","Staff_cols:CHPPD, Staff_row:Staff_row61","Number",{"$f":"IF(ISERROR(INDEX('Trust - Frontsheet'!$C$14:$T$213,Index!B2663,Index!A2663)),0,INDEX('Trust - Frontsheet'!$C$14:$T$213,Index!B2663,Index!A2663))","v":0}]
["113598361","Staff_cols:CHPPD, Staff_row:Staff_row62","Number",{"$f":"IF(ISERROR(INDEX('Trust - Frontsheet'!$C$14:$T$213,Index!B2664,Index!A2664)),0,INDEX('Trust - Frontsheet'!$C$14:$T$213,Index!B2664,Index!A2664))","v":0}]
["113598260","Staff_cols:CHPPD, Staff_row:Staff_row63","Number",{"$f":"IF(ISERROR(INDEX('Trust - Frontsheet'!$C$14:$T$213,Index!B2665,Index!A2665)),0,INDEX('Trust - Frontsheet'!$C$14:$T$213,Index!B2665,Index!A2665))","v":0}]
["113598258","Staff_cols:CHPPD, Staff_row:Staff_row64","Number",{"$f":"IF(ISERROR(INDEX('Trust - Frontsheet'!$C$14:$T$213,Index!B2666,Index!A2666)),0,INDEX('Trust - Frontsheet'!$C$14:$T$213,Index!B2666,Index!A2666))","v":0}]
["113598270","Staff_cols:CHPPD, Staff_row:Staff_row65","Number",{"$f":"IF(ISERROR(INDEX('Trust - Frontsheet'!$C$14:$T$213,Index!B2667,Index!A2667)),0,INDEX('Trust - Frontsheet'!$C$14:$T$213,Index!B2667,Index!A2667))","v":0}]
["113598227","Staff_cols:CHPPD, Staff_row:Staff_row66","Number",{"$f":"IF(ISERROR(INDEX('Trust - Frontsheet'!$C$14:$T$213,Index!B2668,Index!A2668)),0,INDEX('Trust - Frontsheet'!$C$14:$T$213,Index!B2668,Index!A2668))","v":0}]
["113598238","Staff_cols:CHPPD, Staff_row:Staff_row67","Number",{"$f":"IF(ISERROR(INDEX('Trust - Frontsheet'!$C$14:$T$213,Index!B2669,Index!A2669)),0,INDEX('Trust - Frontsheet'!$C$14:$T$213,Index!B2669,Index!A2669))","v":0}]
["113598250","Staff_cols:CHPPD, Staff_row:Staff_row68","Number",{"$f":"IF(ISERROR(INDEX('Trust - Frontsheet'!$C$14:$T$213,Index!B2670,Index!A2670)),0,INDEX('Trust - Frontsheet'!$C$14:$T$213,Index!B2670,Index!A2670))","v":0}]
["113598202","Staff_cols:CHPPD, Staff_row:Staff_row69","Number",{"$f":"IF(ISERROR(INDEX('Trust - Frontsheet'!$C$14:$T$213,Index!B2671,Index!A2671)),0,INDEX('Trust - Frontsheet'!$C$14:$T$213,Index!B2671,Index!A2671))","v":0}]
["113598301","Staff_cols:CHPPD, Staff_row:Staff_row70","Number",{"$f":"IF(ISERROR(INDEX('Trust - Frontsheet'!$C$14:$T$213,Index!B2672,Index!A2672)),0,INDEX('Trust - Frontsheet'!$C$14:$T$213,Index!B2672,Index!A2672))","v":0}]
["113598357","Staff_cols:CHPPD, Staff_row:Staff_row71","Number",{"$f":"IF(ISERROR(INDEX('Trust - Frontsheet'!$C$14:$T$213,Index!B2673,Index!A2673)),0,INDEX('Trust - Frontsheet'!$C$14:$T$213,Index!B2673,Index!A2673))","v":0}]
["113598186","Staff_cols:CHPPD, Staff_row:Staff_row72","Number",{"$f":"IF(ISERROR(INDEX('Trust - Frontsheet'!$C$14:$T$213,Index!B2674,Index!A2674)),0,INDEX('Trust - Frontsheet'!$C$14:$T$213,Index!B2674,Index!A2674))","v":0}]
["113598191","Staff_cols:CHPPD, Staff_row:Staff_row73","Number",{"$f":"IF(ISERROR(INDEX('Trust - Frontsheet'!$C$14:$T$213,Index!B2675,Index!A2675)),0,INDEX('Trust - Frontsheet'!$C$14:$T$213,Index!B2675,Index!A2675))","v":0}]
["113598220","Staff_cols:CHPPD, Staff_row:Staff_row74","Number",{"$f":"IF(ISERROR(INDEX('Trust - Frontsheet'!$C$14:$T$213,Index!B2676,Index!A2676)),0,INDEX('Trust - Frontsheet'!$C$14:$T$213,Index!B2676,Index!A2676))","v":0}]
["113598335","Staff_cols:CHPPD, Staff_row:Staff_row75","Number",{"$f":"IF(ISERROR(INDEX('Trust - Frontsheet'!$C$14:$T$213,Index!B2677,Index!A2677)),0,INDEX('Trust - Frontsheet'!$C$14:$T$213,Index!B2677,Index!A2677))","v":0}]
["113598290","Staff_cols:CHPPD, Staff_row:Staff_row76","Number",{"$f":"IF(ISERROR(INDEX('Trust - Frontsheet'!$C$14:$T$213,Index!B2678,Index!A2678)),0,INDEX('Trust - Frontsheet'!$C$14:$T$213,Index!B2678,Index!A2678))","v":0}]
["113598307","Staff_cols:CHPPD, Staff_row:Staff_row77","Number",{"$f":"IF(ISERROR(INDEX('Trust - Frontsheet'!$C$14:$T$213,Index!B2679,Index!A2679)),0,INDEX('Trust - Frontsheet'!$C$14:$T$213,Index!B2679,Index!A2679))","v":0}]
["113598325","Staff_cols:CHPPD, Staff_row:Staff_row78","Number",{"$f":"IF(ISERROR(INDEX('Trust - Frontsheet'!$C$14:$T$213,Index!B2680,Index!A2680)),0,INDEX('Trust - Frontsheet'!$C$14:$T$213,Index!B2680,Index!A2680))","v":0}]
["113598247","Staff_cols:CHPPD, Staff_row:Staff_row79","Number",{"$f":"IF(ISERROR(INDEX('Trust - Frontsheet'!$C$14:$T$213,Index!B2681,Index!A2681)),0,INDEX('Trust - Frontsheet'!$C$14:$T$213,Index!B2681,Index!A2681))","v":0}]
["113598211","Staff_cols:CHPPD, Staff_row:Staff_row80","Number",{"$f":"IF(ISERROR(INDEX('Trust - Frontsheet'!$C$14:$T$213,Index!B2682,Index!A2682)),0,INDEX('Trust - Frontsheet'!$C$14:$T$213,Index!B2682,Index!A2682))","v":0}]
["113598329","Staff_cols:CHPPD, Staff_row:Staff_row81","Number",{"$f":"IF(ISERROR(INDEX('Trust - Frontsheet'!$C$14:$T$213,Index!B2683,Index!A2683)),0,INDEX('Trust - Frontsheet'!$C$14:$T$213,Index!B2683,Index!A2683))","v":0}]
["113598190","Staff_cols:CHPPD, Staff_row:Staff_row82","Number",{"$f":"IF(ISERROR(INDEX('Trust - Frontsheet'!$C$14:$T$213,Index!B2684,Index!A2684)),0,INDEX('Trust - Frontsheet'!$C$14:$T$213,Index!B2684,Index!A2684))","v":0}]
["113598198","Staff_cols:CHPPD, Staff_row:Staff_row83","Number",{"$f":"IF(ISERROR(INDEX('Trust - Frontsheet'!$C$14:$T$213,Index!B2685,Index!A2685)),0,INDEX('Trust - Frontsheet'!$C$14:$T$213,Index!B2685,Index!A2685))","v":0}]
["113598315","Staff_cols:CHPPD, Staff_row:Staff_row84","Number",{"$f":"IF(ISERROR(INDEX('Trust - Frontsheet'!$C$14:$T$213,Index!B2686,Index!A2686)),0,INDEX('Trust - Frontsheet'!$C$14:$T$213,Index!B2686,Index!A2686))","v":0}]
["113598330","Staff_cols:CHPPD, Staff_row:Staff_row85","Number",{"$f":"IF(ISERROR(INDEX('Trust - Frontsheet'!$C$14:$T$213,Index!B2687,Index!A2687)),0,INDEX('Trust - Frontsheet'!$C$14:$T$213,Index!B2687,Index!A2687))","v":0}]
["113598287","Staff_cols:CHPPD, Staff_row:Staff_row86","Number",{"$f":"IF(ISERROR(INDEX('Trust - Frontsheet'!$C$14:$T$213,Index!B2688,Index!A2688)),0,INDEX('Trust - Frontsheet'!$C$14:$T$213,Index!B2688,Index!A2688))","v":0}]
["113598244","Staff_cols:CHPPD, Staff_row:Staff_row87","Number",{"$f":"IF(ISERROR(INDEX('Trust - Frontsheet'!$C$14:$T$213,Index!B2689,Index!A2689)),0,INDEX('Trust - Frontsheet'!$C$14:$T$213,Index!B2689,Index!A2689))","v":0}]
["113598204","Staff_cols:CHPPD, Staff_row:Staff_row88","Number",{"$f":"IF(ISERROR(INDEX('Trust - Frontsheet'!$C$14:$T$213,Index!B2690,Index!A2690)),0,INDEX('Trust - Frontsheet'!$C$14:$T$213,Index!B2690,Index!A2690))","v":0}]
["113598273","Staff_cols:CHPPD, Staff_row:Staff_row89","Number",{"$f":"IF(ISERROR(INDEX('Trust - Frontsheet'!$C$14:$T$213,Index!B2691,Index!A2691)),0,INDEX('Trust - Frontsheet'!$C$14:$T$213,Index!B2691,Index!A2691))","v":0}]
["113598353","Staff_cols:CHPPD, Staff_row:Staff_row90","Number",{"$f":"IF(ISERROR(INDEX('Trust - Frontsheet'!$C$14:$T$213,Index!B2692,Index!A2692)),0,INDEX('Trust - Frontsheet'!$C$14:$T$213,Index!B2692,Index!A2692))","v":0}]
["113598328","Staff_cols:CHPPD, Staff_row:Staff_row91","Number",{"$f":"IF(ISERROR(INDEX('Trust - Frontsheet'!$C$14:$T$213,Index!B2693,Index!A2693)),0,INDEX('Trust - Frontsheet'!$C$14:$T$213,Index!B2693,Index!A2693))","v":0}]
["113598338","Staff_cols:CHPPD, Staff_row:Staff_row92","Number",{"$f":"IF(ISERROR(INDEX('Trust - Frontsheet'!$C$14:$T$213,Index!B2694,Index!A2694)),0,INDEX('Trust - Frontsheet'!$C$14:$T$213,Index!B2694,Index!A2694))","v":0}]
["113598203","Staff_cols:CHPPD, Staff_row:Staff_row93","Number",{"$f":"IF(ISERROR(INDEX('Trust - Frontsheet'!$C$14:$T$213,Index!B2695,Index!A2695)),0,INDEX('Trust - Frontsheet'!$C$14:$T$213,Index!B2695,Index!A2695))","v":0}]
["113598206","Staff_cols:CHPPD, Staff_row:Staff_row94","Number",{"$f":"IF(ISERROR(INDEX('Trust - Frontsheet'!$C$14:$T$213,Index!B2696,Index!A2696)),0,INDEX('Trust - Frontsheet'!$C$14:$T$213,Index!B2696,Index!A2696))","v":0}]
["113598382","Staff_cols:CHPPD, Staff_row:Staff_row95","Number",{"$f":"IF(ISERROR(INDEX('Trust - Frontsheet'!$C$14:$T$213,Index!B2697,Index!A2697)),0,INDEX('Trust - Frontsheet'!$C$14:$T$213,Index!B2697,Index!A2697))","v":0}]
["113598332","Staff_cols:CHPPD, Staff_row:Staff_row96","Number",{"$f":"IF(ISERROR(INDEX('Trust - Frontsheet'!$C$14:$T$213,Index!B2698,Index!A2698)),0,INDEX('Trust - Frontsheet'!$C$14:$T$213,Index!B2698,Index!A2698))","v":0}]
["113598348","Staff_cols:CHPPD, Staff_row:Staff_row97","Number",{"$f":"IF(ISERROR(INDEX('Trust - Frontsheet'!$C$14:$T$213,Index!B2699,Index!A2699)),0,INDEX('Trust - Frontsheet'!$C$14:$T$213,Index!B2699,Index!A2699))","v":0}]
["113598199","Staff_cols:CHPPD, Staff_row:Staff_row98","Number",{"$f":"IF(ISERROR(INDEX('Trust - Frontsheet'!$C$14:$T$213,Index!B2700,Index!A2700)),0,INDEX('Trust - Frontsheet'!$C$14:$T$213,Index!B2700,Index!A2700))","v":0}]
["113598275","Staff_cols:CHPPD, Staff_row:Staff_row99","Number",{"$f":"IF(ISERROR(INDEX('Trust - Frontsheet'!$C$14:$T$213,Index!B2701,Index!A2701)),0,INDEX('Trust - Frontsheet'!$C$14:$T$213,Index!B2701,Index!A2701))","v":0}]
["113598378","Staff_cols:CHPPD, Staff_row:Staff_row100","Number",{"$f":"IF(ISERROR(INDEX('Trust - Frontsheet'!$C$14:$T$213,Index!B2702,Index!A2702)),0,INDEX('Trust - Frontsheet'!$C$14:$T$213,Index!B2702,Index!A2702))","v":0}]
["113598256","Staff_cols:CHPPD, Staff_row:Staff_row101","Number",{"$f":"IF(ISERROR(INDEX('Trust - Frontsheet'!$C$14:$T$213,Index!B2703,Index!A2703)),0,INDEX('Trust - Frontsheet'!$C$14:$T$213,Index!B2703,Index!A2703))","v":0}]
["113598194","Staff_cols:CHPPD, Staff_row:Staff_row102","Number",{"$f":"IF(ISERROR(INDEX('Trust - Frontsheet'!$C$14:$T$213,Index!B2704,Index!A2704)),0,INDEX('Trust - Frontsheet'!$C$14:$T$213,Index!B2704,Index!A2704))","v":0}]
["113598268","Staff_cols:CHPPD, Staff_row:Staff_row103","Number",{"$f":"IF(ISERROR(INDEX('Trust - Frontsheet'!$C$14:$T$213,Index!B2705,Index!A2705)),0,INDEX('Trust - Frontsheet'!$C$14:$T$213,Index!B2705,Index!A2705))","v":0}]
["113598240","Staff_cols:CHPPD, Staff_row:Staff_row104","Number",{"$f":"IF(ISERROR(INDEX('Trust - Frontsheet'!$C$14:$T$213,Index!B2706,Index!A2706)),0,INDEX('Trust - Frontsheet'!$C$14:$T$213,Index!B2706,Index!A2706))","v":0}]
["113598367","Staff_cols:CHPPD, Staff_row:Staff_row105","Number",{"$f":"IF(ISERROR(INDEX('Trust - Frontsheet'!$C$14:$T$213,Index!B2707,Index!A2707)),0,INDEX('Trust - Frontsheet'!$C$14:$T$213,Index!B2707,Index!A2707))","v":0}]
["113598197","Staff_cols:CHPPD, Staff_row:Staff_row106","Number",{"$f":"IF(ISERROR(INDEX('Trust - Frontsheet'!$C$14:$T$213,Index!B2708,Index!A2708)),0,INDEX('Trust - Frontsheet'!$C$14:$T$213,Index!B2708,Index!A2708))","v":0}]
["113598327","Staff_cols:CHPPD, Staff_row:Staff_row107","Number",{"$f":"IF(ISERROR(INDEX('Trust - Frontsheet'!$C$14:$T$213,Index!B2709,Index!A2709)),0,INDEX('Trust - Frontsheet'!$C$14:$T$213,Index!B2709,Index!A2709))","v":0}]
["113598283","Staff_cols:CHPPD, Staff_row:Staff_row108","Number",{"$f":"IF(ISERROR(INDEX('Trust - Frontsheet'!$C$14:$T$213,Index!B2710,Index!A2710)),0,INDEX('Trust - Frontsheet'!$C$14:$T$213,Index!B2710,Index!A2710))","v":0}]
["113598284","Staff_cols:CHPPD, Staff_row:Staff_row109","Number",{"$f":"IF(ISERROR(INDEX('Trust - Frontsheet'!$C$14:$T$213,Index!B2711,Index!A2711)),0,INDEX('Trust - Frontsheet'!$C$14:$T$213,Index!B2711,Index!A2711))","v":0}]
["113598208","Staff_cols:CHPPD, Staff_row:Staff_row110","Number",{"$f":"IF(ISERROR(INDEX('Trust - Frontsheet'!$C$14:$T$213,Index!B2712,Index!A2712)),0,INDEX('Trust - Frontsheet'!$C$14:$T$213,Index!B2712,Index!A2712))","v":0}]
["113598266","Staff_cols:CHPPD, Staff_row:Staff_row111","Number",{"$f":"IF(ISERROR(INDEX('Trust - Frontsheet'!$C$14:$T$213,Index!B2713,Index!A2713)),0,INDEX('Trust - Frontsheet'!$C$14:$T$213,Index!B2713,Index!A2713))","v":0}]
["113598377","Staff_cols:CHPPD, Staff_row:Staff_row112","Number",{"$f":"IF(ISERROR(INDEX('Trust - Frontsheet'!$C$14:$T$213,Index!B2714,Index!A2714)),0,INDEX('Trust - Frontsheet'!$C$14:$T$213,Index!B2714,Index!A2714))","v":0}]
["113598248","Staff_cols:CHPPD, Staff_row:Staff_row113","Number",{"$f":"IF(ISERROR(INDEX('Trust - Frontsheet'!$C$14:$T$213,Index!B2715,Index!A2715)),0,INDEX('Trust - Frontsheet'!$C$14:$T$213,Index!B2715,Index!A2715))","v":0}]
["113598255","Staff_cols:CHPPD, Staff_row:Staff_row114","Number",{"$f":"IF(ISERROR(INDEX('Trust - Frontsheet'!$C$14:$T$213,Index!B2716,Index!A2716)),0,INDEX('Trust - Frontsheet'!$C$14:$T$213,Index!B2716,Index!A2716))","v":0}]
["113598364","Staff_cols:CHPPD, Staff_row:Staff_row115","Number",{"$f":"IF(ISERROR(INDEX('Trust - Frontsheet'!$C$14:$T$213,Index!B2717,Index!A2717)),0,INDEX('Trust - Frontsheet'!$C$14:$T$213,Index!B2717,Index!A2717))","v":0}]
["113598209","Staff_cols:CHPPD, Staff_row:Staff_row116","Number",{"$f":"IF(ISERROR(INDEX('Trust - Frontsheet'!$C$14:$T$213,Index!B2718,Index!A2718)),0,INDEX('Trust - Frontsheet'!$C$14:$T$213,Index!B2718,Index!A2718))","v":0}]
["113598344","Staff_cols:CHPPD, Staff_row:Staff_row117","Number",{"$f":"IF(ISERROR(INDEX('Trust - Frontsheet'!$C$14:$T$213,Index!B2719,Index!A2719)),0,INDEX('Trust - Frontsheet'!$C$14:$T$213,Index!B2719,Index!A2719))","v":0}]
["113598343","Staff_cols:CHPPD, Staff_row:Staff_row118","Number",{"$f":"IF(ISERROR(INDEX('Trust - Frontsheet'!$C$14:$T$213,Index!B2720,Index!A2720)),0,INDEX('Trust - Frontsheet'!$C$14:$T$213,Index!B2720,Index!A2720))","v":0}]
["113598310","Staff_cols:CHPPD, Staff_row:Staff_row119","Number",{"$f":"IF(ISERROR(INDEX('Trust - Frontsheet'!$C$14:$T$213,Index!B2721,Index!A2721)),0,INDEX('Trust - Frontsheet'!$C$14:$T$213,Index!B2721,Index!A2721))","v":0}]
["113598286","Staff_cols:CHPPD, Staff_row:Staff_row120","Number",{"$f":"IF(ISERROR(INDEX('Trust - Frontsheet'!$C$14:$T$213,Index!B2722,Index!A2722)),0,INDEX('Trust - Frontsheet'!$C$14:$T$213,Index!B2722,Index!A2722))","v":0}]
["113598189","Staff_cols:CHPPD, Staff_row:Staff_row121","Number",{"$f":"IF(ISERROR(INDEX('Trust - Frontsheet'!$C$14:$T$213,Index!B2723,Index!A2723)),0,INDEX('Trust - Frontsheet'!$C$14:$T$213,Index!B2723,Index!A2723))","v":0}]
["113598188","Staff_cols:CHPPD, Staff_row:Staff_row122","Number",{"$f":"IF(ISERROR(INDEX('Trust - Frontsheet'!$C$14:$T$213,Index!B2724,Index!A2724)),0,INDEX('Trust - Frontsheet'!$C$14:$T$213,Index!B2724,Index!A2724))","v":0}]
["113598341","Staff_cols:CHPPD, Staff_row:Staff_row123","Number",{"$f":"IF(ISERROR(INDEX('Trust - Frontsheet'!$C$14:$T$213,Index!B2725,Index!A2725)),0,INDEX('Trust - Frontsheet'!$C$14:$T$213,Index!B2725,Index!A2725))","v":0}]
["113598347","Staff_cols:CHPPD, Staff_row:Staff_row124","Number",{"$f":"IF(ISERROR(INDEX('Trust - Frontsheet'!$C$14:$T$213,Index!B2726,Index!A2726)),0,INDEX('Trust - Frontsheet'!$C$14:$T$213,Index!B2726,Index!A2726))","v":0}]
["113598337","Staff_cols:CHPPD, Staff_row:Staff_row125","Number",{"$f":"IF(ISERROR(INDEX('Trust - Frontsheet'!$C$14:$T$213,Index!B2727,Index!A2727)),0,INDEX('Trust - Frontsheet'!$C$14:$T$213,Index!B2727,Index!A2727))","v":0}]
["113598289","Staff_cols:CHPPD, Staff_row:Staff_row126","Number",{"$f":"IF(ISERROR(INDEX('Trust - Frontsheet'!$C$14:$T$213,Index!B2728,Index!A2728)),0,INDEX('Trust - Frontsheet'!$C$14:$T$213,Index!B2728,Index!A2728))","v":0}]
["113598205","Staff_cols:CHPPD, Staff_row:Staff_row127","Number",{"$f":"IF(ISERROR(INDEX('Trust - Frontsheet'!$C$14:$T$213,Index!B2729,Index!A2729)),0,INDEX('Trust - Frontsheet'!$C$14:$T$213,Index!B2729,Index!A2729))","v":0}]
["113598215","Staff_cols:CHPPD, Staff_row:Staff_row128","Number",{"$f":"IF(ISERROR(INDEX('Trust - Frontsheet'!$C$14:$T$213,Index!B2730,Index!A2730)),0,INDEX('Trust - Frontsheet'!$C$14:$T$213,Index!B2730,Index!A2730))","v":0}]
["113598354","Staff_cols:CHPPD, Staff_row:Staff_row129","Number",{"$f":"IF(ISERROR(INDEX('Trust - Frontsheet'!$C$14:$T$213,Index!B2731,Index!A2731)),0,INDEX('Trust - Frontsheet'!$C$14:$T$213,Index!B2731,Index!A2731))","v":0}]
["113598224","Staff_cols:CHPPD, Staff_row:Staff_row130","Number",{"$f":"IF(ISERROR(INDEX('Trust - Frontsheet'!$C$14:$T$213,Index!B2732,Index!A2732)),0,INDEX('Trust - Frontsheet'!$C$14:$T$213,Index!B2732,Index!A2732))","v":0}]
["113598251","Staff_cols:CHPPD, Staff_row:Staff_row131","Number",{"$f":"IF(ISERROR(INDEX('Trust - Frontsheet'!$C$14:$T$213,Index!B2733,Index!A2733)),0,INDEX('Trust - Frontsheet'!$C$14:$T$213,Index!B2733,Index!A2733))","v":0}]
["113598326","Staff_cols:CHPPD, Staff_row:Staff_row132","Number",{"$f":"IF(ISERROR(INDEX('Trust - Frontsheet'!$C$14:$T$213,Index!B2734,Index!A2734)),0,INDEX('Trust - Frontsheet'!$C$14:$T$213,Index!B2734,Index!A2734))","v":0}]
["113598196","Staff_cols:CHPPD, Staff_row:Staff_row133","Number",{"$f":"IF(ISERROR(INDEX('Trust - Frontsheet'!$C$14:$T$213,Index!B2735,Index!A2735)),0,INDEX('Trust - Frontsheet'!$C$14:$T$213,Index!B2735,Index!A2735))","v":0}]
["113598299","Staff_cols:CHPPD, Staff_row:Staff_row134","Number",{"$f":"IF(ISERROR(INDEX('Trust - Frontsheet'!$C$14:$T$213,Index!B2736,Index!A2736)),0,INDEX('Trust - Frontsheet'!$C$14:$T$213,Index!B2736,Index!A2736))","v":0}]
["113598305","Staff_cols:CHPPD, Staff_row:Staff_row135","Number",{"$f":"IF(ISERROR(INDEX('Trust - Frontsheet'!$C$14:$T$213,Index!B2737,Index!A2737)),0,INDEX('Trust - Frontsheet'!$C$14:$T$213,Index!B2737,Index!A2737))","v":0}]
["113598319","Staff_cols:CHPPD, Staff_row:Staff_row136","Number",{"$f":"IF(ISERROR(INDEX('Trust - Frontsheet'!$C$14:$T$213,Index!B2738,Index!A2738)),0,INDEX('Trust - Frontsheet'!$C$14:$T$213,Index!B2738,Index!A2738))","v":0}]
["113598193","Staff_cols:CHPPD, Staff_row:Staff_row137","Number",{"$f":"IF(ISERROR(INDEX('Trust - Frontsheet'!$C$14:$T$213,Index!B2739,Index!A2739)),0,INDEX('Trust - Frontsheet'!$C$14:$T$213,Index!B2739,Index!A2739))","v":0}]
["113598309","Staff_cols:CHPPD, Staff_row:Staff_row138","Number",{"$f":"IF(ISERROR(INDEX('Trust - Frontsheet'!$C$14:$T$213,Index!B2740,Index!A2740)),0,INDEX('Trust - Frontsheet'!$C$14:$T$213,Index!B2740,Index!A2740))","v":0}]
["113598334","Staff_cols:CHPPD, Staff_row:Staff_row139","Number",{"$f":"IF(ISERROR(INDEX('Trust - Frontsheet'!$C$14:$T$213,Index!B2741,Index!A2741)),0,INDEX('Trust - Frontsheet'!$C$14:$T$213,Index!B2741,Index!A2741))","v":0}]
["113598381","Staff_cols:CHPPD, Staff_row:Staff_row140","Number",{"$f":"IF(ISERROR(INDEX('Trust - Frontsheet'!$C$14:$T$213,Index!B2742,Index!A2742)),0,INDEX('Trust - Frontsheet'!$C$14:$T$213,Index!B2742,Index!A2742))","v":0}]
["113598278","Staff_cols:CHPPD, Staff_row:Staff_row141","Number",{"$f":"IF(ISERROR(INDEX('Trust - Frontsheet'!$C$14:$T$213,Index!B2743,Index!A2743)),0,INDEX('Trust - Frontsheet'!$C$14:$T$213,Index!B2743,Index!A2743))","v":0}]
["113598282","Staff_cols:CHPPD, Staff_row:Staff_row142","Number",{"$f":"IF(ISERROR(INDEX('Trust - Frontsheet'!$C$14:$T$213,Index!B2744,Index!A2744)),0,INDEX('Trust - Frontsheet'!$C$14:$T$213,Index!B2744,Index!A2744))","v":0}]
["113598374","Staff_cols:CHPPD, Staff_row:Staff_row143","Number",{"$f":"IF(ISERROR(INDEX('Trust - Frontsheet'!$C$14:$T$213,Index!B2745,Index!A2745)),0,INDEX('Trust - Frontsheet'!$C$14:$T$213,Index!B2745,Index!A2745))","v":0}]
["113598233","Staff_cols:CHPPD, Staff_row:Staff_row144","Number",{"$f":"IF(ISERROR(INDEX('Trust - Frontsheet'!$C$14:$T$213,Index!B2746,Index!A2746)),0,INDEX('Trust - Frontsheet'!$C$14:$T$213,Index!B2746,Index!A2746))","v":0}]
["113598272","Staff_cols:CHPPD, Staff_row:Staff_row145","Number",{"$f":"IF(ISERROR(INDEX('Trust - Frontsheet'!$C$14:$T$213,Index!B2747,Index!A2747)),0,INDEX('Trust - Frontsheet'!$C$14:$T$213,Index!B2747,Index!A2747))","v":0}]
["113598225","Staff_cols:CHPPD, Staff_row:Staff_row146","Number",{"$f":"IF(ISERROR(INDEX('Trust - Frontsheet'!$C$14:$T$213,Index!B2748,Index!A2748)),0,INDEX('Trust - Frontsheet'!$C$14:$T$213,Index!B2748,Index!A2748))","v":0}]
["113598346","Staff_cols:CHPPD, Staff_row:Staff_row147","Number",{"$f":"IF(ISERROR(INDEX('Trust - Frontsheet'!$C$14:$T$213,Index!B2749,Index!A2749)),0,INDEX('Trust - Frontsheet'!$C$14:$T$213,Index!B2749,Index!A2749))","v":0}]
["113598276","Staff_cols:CHPPD, Staff_row:Staff_row148","Number",{"$f":"IF(ISERROR(INDEX('Trust - Frontsheet'!$C$14:$T$213,Index!B2750,Index!A2750)),0,INDEX('Trust - Frontsheet'!$C$14:$T$213,Index!B2750,Index!A2750))","v":0}]
["113598217","Staff_cols:CHPPD, Staff_row:Staff_row149","Number",{"$f":"IF(ISERROR(INDEX('Trust - Frontsheet'!$C$14:$T$213,Index!B2751,Index!A2751)),0,INDEX('Trust - Frontsheet'!$C$14:$T$213,Index!B2751,Index!A2751))","v":0}]
["113598249","Staff_cols:CHPPD, Staff_row:Staff_row150","Number",{"$f":"IF(ISERROR(INDEX('Trust - Frontsheet'!$C$14:$T$213,Index!B2752,Index!A2752)),0,INDEX('Trust - Frontsheet'!$C$14:$T$213,Index!B2752,Index!A2752))","v":0}]
["113598368","Staff_cols:CHPPD, Staff_row:Staff_row151","Number",{"$f":"IF(ISERROR(INDEX('Trust - Frontsheet'!$C$14:$T$213,Index!B2753,Index!A2753)),0,INDEX('Trust - Frontsheet'!$C$14:$T$213,Index!B2753,Index!A2753))","v":0}]
["113598360","Staff_cols:CHPPD, Staff_row:Staff_row152","Number",{"$f":"IF(ISERROR(INDEX('Trust - Frontsheet'!$C$14:$T$213,Index!B2754,Index!A2754)),0,INDEX('Trust - Frontsheet'!$C$14:$T$213,Index!B2754,Index!A2754))","v":0}]
["113598342","Staff_cols:CHPPD, Staff_row:Staff_row153","Number",{"$f":"IF(ISERROR(INDEX('Trust - Frontsheet'!$C$14:$T$213,Index!B2755,Index!A2755)),0,INDEX('Trust - Frontsheet'!$C$14:$T$213,Index!B2755,Index!A2755))","v":0}]
["113598340","Staff_cols:CHPPD, Staff_row:Staff_row154","Number",{"$f":"IF(ISERROR(INDEX('Trust - Frontsheet'!$C$14:$T$213,Index!B2756,Index!A2756)),0,INDEX('Trust - Frontsheet'!$C$14:$T$213,Index!B2756,Index!A2756))","v":0}]
["113598313","Staff_cols:CHPPD, Staff_row:Staff_row155","Number",{"$f":"IF(ISERROR(INDEX('Trust - Frontsheet'!$C$14:$T$213,Index!B2757,Index!A2757)),0,INDEX('Trust - Frontsheet'!$C$14:$T$213,Index!B2757,Index!A2757))","v":0}]
["113598281","Staff_cols:CHPPD, Staff_row:Staff_row156","Number",{"$f":"IF(ISERROR(INDEX('Trust - Frontsheet'!$C$14:$T$213,Index!B2758,Index!A2758)),0,INDEX('Trust - Frontsheet'!$C$14:$T$213,Index!B2758,Index!A2758))","v":0}]
["113598331","Staff_cols:CHPPD, Staff_row:Staff_row157","Number",{"$f":"IF(ISERROR(INDEX('Trust - Frontsheet'!$C$14:$T$213,Index!B2759,Index!A2759)),0,INDEX('Trust - Frontsheet'!$C$14:$T$213,Index!B2759,Index!A2759))","v":0}]
["113598200","Staff_cols:CHPPD, Staff_row:Staff_row158","Number",{"$f":"IF(ISERROR(INDEX('Trust - Frontsheet'!$C$14:$T$213,Index!B2760,Index!A2760)),0,INDEX('Trust - Frontsheet'!$C$14:$T$213,Index!B2760,Index!A2760))","v":0}]
["113598383","Staff_cols:CHPPD, Staff_row:Staff_row159","Number",{"$f":"IF(ISERROR(INDEX('Trust - Frontsheet'!$C$14:$T$213,Index!B2761,Index!A2761)),0,INDEX('Trust - Frontsheet'!$C$14:$T$213,Index!B2761,Index!A2761))","v":0}]
["113598311","Staff_cols:CHPPD, Staff_row:Staff_row160","Number",{"$f":"IF(ISERROR(INDEX('Trust - Frontsheet'!$C$14:$T$213,Index!B2762,Index!A2762)),0,INDEX('Trust - Frontsheet'!$C$14:$T$213,Index!B2762,Index!A2762))","v":0}]
["113598201","Staff_cols:CHPPD, Staff_row:Staff_row161","Number",{"$f":"IF(ISERROR(INDEX('Trust - Frontsheet'!$C$14:$T$213,Index!B2763,Index!A2763)),0,INDEX('Trust - Frontsheet'!$C$14:$T$213,Index!B2763,Index!A2763))","v":0}]
["113598314","Staff_cols:CHPPD, Staff_row:Staff_row162","Number",{"$f":"IF(ISERROR(INDEX('Trust - Frontsheet'!$C$14:$T$213,Index!B2764,Index!A2764)),0,INDEX('Trust - Frontsheet'!$C$14:$T$213,Index!B2764,Index!A2764))","v":0}]
["113598223","Staff_cols:CHPPD, Staff_row:Staff_row163","Number",{"$f":"IF(ISERROR(INDEX('Trust - Frontsheet'!$C$14:$T$213,Index!B2765,Index!A2765)),0,INDEX('Trust - Frontsheet'!$C$14:$T$213,Index!B2765,Index!A2765))","v":0}]
["113598274","Staff_cols:CHPPD, Staff_row:Staff_row164","Number",{"$f":"IF(ISERROR(INDEX('Trust - Frontsheet'!$C$14:$T$213,Index!B2766,Index!A2766)),0,INDEX('Trust - Frontsheet'!$C$14:$T$213,Index!B2766,Index!A2766))","v":0}]
["113598369","Staff_cols:CHPPD, Staff_row:Staff_row165","Number",{"$f":"IF(ISERROR(INDEX('Trust - Frontsheet'!$C$14:$T$213,Index!B2767,Index!A2767)),0,INDEX('Trust - Frontsheet'!$C$14:$T$213,Index!B2767,Index!A2767))","v":0}]
["113598380","Staff_cols:CHPPD, Staff_row:Staff_row166","Number",{"$f":"IF(ISERROR(INDEX('Trust - Frontsheet'!$C$14:$T$213,Index!B2768,Index!A2768)),0,INDEX('Trust - Frontsheet'!$C$14:$T$213,Index!B2768,Index!A2768))","v":0}]
["113598279","Staff_cols:CHPPD, Staff_row:Staff_row167","Number",{"$f":"IF(ISERROR(INDEX('Trust - Frontsheet'!$C$14:$T$213,Index!B2769,Index!A2769)),0,INDEX('Trust - Frontsheet'!$C$14:$T$213,Index!B2769,Index!A2769))","v":0}]
["113598312","Staff_cols:CHPPD, Staff_row:Staff_row168","Number",{"$f":"IF(ISERROR(INDEX('Trust - Frontsheet'!$C$14:$T$213,Index!B2770,Index!A2770)),0,INDEX('Trust - Frontsheet'!$C$14:$T$213,Index!B2770,Index!A2770))","v":0}]
["113598293","Staff_cols:CHPPD, Staff_row:Staff_row169","Number",{"$f":"IF(ISERROR(INDEX('Trust - Frontsheet'!$C$14:$T$213,Index!B2771,Index!A2771)),0,INDEX('Trust - Frontsheet'!$C$14:$T$213,Index!B2771,Index!A2771))","v":0}]
["113598362","Staff_cols:CHPPD, Staff_row:Staff_row170","Number",{"$f":"IF(ISERROR(INDEX('Trust - Frontsheet'!$C$14:$T$213,Index!B2772,Index!A2772)),0,INDEX('Trust - Frontsheet'!$C$14:$T$213,Index!B2772,Index!A2772))","v":0}]
["113598356","Staff_cols:CHPPD, Staff_row:Staff_row171","Number",{"$f":"IF(ISERROR(INDEX('Trust - Frontsheet'!$C$14:$T$213,Index!B2773,Index!A2773)),0,INDEX('Trust - Frontsheet'!$C$14:$T$213,Index!B2773,Index!A2773))","v":0}]
["113598291","Staff_cols:CHPPD, Staff_row:Staff_row172","Number",{"$f":"IF(ISERROR(INDEX('Trust - Frontsheet'!$C$14:$T$213,Index!B2774,Index!A2774)),0,INDEX('Trust - Frontsheet'!$C$14:$T$213,Index!B2774,Index!A2774))","v":0}]
["113598218","Staff_cols:CHPPD, Staff_row:Staff_row173","Number",{"$f":"IF(ISERROR(INDEX('Trust - Frontsheet'!$C$14:$T$213,Index!B2775,Index!A2775)),0,INDEX('Trust - Frontsheet'!$C$14:$T$213,Index!B2775,Index!A2775))","v":0}]
["113598210","Staff_cols:CHPPD, Staff_row:Staff_row174","Number",{"$f":"IF(ISERROR(INDEX('Trust - Frontsheet'!$C$14:$T$213,Index!B2776,Index!A2776)),0,INDEX('Trust - Frontsheet'!$C$14:$T$213,Index!B2776,Index!A2776))","v":0}]
["113598226","Staff_cols:CHPPD, Staff_row:Staff_row175","Number",{"$f":"IF(ISERROR(INDEX('Trust - Frontsheet'!$C$14:$T$213,Index!B2777,Index!A2777)),0,INDEX('Trust - Frontsheet'!$C$14:$T$213,Index!B2777,Index!A2777))","v":0}]
["113598234","Staff_cols:CHPPD, Staff_row:Staff_row176","Number",{"$f":"IF(ISERROR(INDEX('Trust - Frontsheet'!$C$14:$T$213,Index!B2778,Index!A2778)),0,INDEX('Trust - Frontsheet'!$C$14:$T$213,Index!B2778,Index!A2778))","v":0}]
["113598350","Staff_cols:CHPPD, Staff_row:Staff_row177","Number",{"$f":"IF(ISERROR(INDEX('Trust - Frontsheet'!$C$14:$T$213,Index!B2779,Index!A2779)),0,INDEX('Trust - Frontsheet'!$C$14:$T$213,Index!B2779,Index!A2779))","v":0}]
["113598277","Staff_cols:CHPPD, Staff_row:Staff_row178","Number",{"$f":"IF(ISERROR(INDEX('Trust - Frontsheet'!$C$14:$T$213,Index!B2780,Index!A2780)),0,INDEX('Trust - Frontsheet'!$C$14:$T$213,Index!B2780,Index!A2780))","v":0}]
["113598231","Staff_cols:CHPPD, Staff_row:Staff_row179","Number",{"$f":"IF(ISERROR(INDEX('Trust - Frontsheet'!$C$14:$T$213,Index!B2781,Index!A2781)),0,INDEX('Trust - Frontsheet'!$C$14:$T$213,Index!B2781,Index!A2781))","v":0}]
["113598308","Staff_cols:CHPPD, Staff_row:Staff_row180","Number",{"$f":"IF(ISERROR(INDEX('Trust - Frontsheet'!$C$14:$T$213,Index!B2782,Index!A2782)),0,INDEX('Trust - Frontsheet'!$C$14:$T$213,Index!B2782,Index!A2782))","v":0}]
["113598372","Staff_cols:CHPPD, Staff_row:Staff_row181","Number",{"$f":"IF(ISERROR(INDEX('Trust - Frontsheet'!$C$14:$T$213,Index!B2783,Index!A2783)),0,INDEX('Trust - Frontsheet'!$C$14:$T$213,Index!B2783,Index!A2783))","v":0}]
["113598300","Staff_cols:CHPPD, Staff_row:Staff_row182","Number",{"$f":"IF(ISERROR(INDEX('Trust - Frontsheet'!$C$14:$T$213,Index!B2784,Index!A2784)),0,INDEX('Trust - Frontsheet'!$C$14:$T$213,Index!B2784,Index!A2784))","v":0}]
["113598322","Staff_cols:CHPPD, Staff_row:Staff_row183","Number",{"$f":"IF(ISERROR(INDEX('Trust - Frontsheet'!$C$14:$T$213,Index!B2785,Index!A2785)),0,INDEX('Trust - Frontsheet'!$C$14:$T$213,Index!B2785,Index!A2785))","v":0}]
["113598192","Staff_cols:CHPPD, Staff_row:Staff_row184","Number",{"$f":"IF(ISERROR(INDEX('Trust - Frontsheet'!$C$14:$T$213,Index!B2786,Index!A2786)),0,INDEX('Trust - Frontsheet'!$C$14:$T$213,Index!B2786,Index!A2786))","v":0}]
["113598219","Staff_cols:CHPPD, Staff_row:Staff_row185","Number",{"$f":"IF(ISERROR(INDEX('Trust - Frontsheet'!$C$14:$T$213,Index!B2787,Index!A2787)),0,INDEX('Trust - Frontsheet'!$C$14:$T$213,Index!B2787,Index!A2787))","v":0}]
["113598352","Staff_cols:CHPPD, Staff_row:Staff_row186","Number",{"$f":"IF(ISERROR(INDEX('Trust - Frontsheet'!$C$14:$T$213,Index!B2788,Index!A2788)),0,INDEX('Trust - Frontsheet'!$C$14:$T$213,Index!B2788,Index!A2788))","v":0}]
["113598239","Staff_cols:CHPPD, Staff_row:Staff_row187","Number",{"$f":"IF(ISERROR(INDEX('Trust - Frontsheet'!$C$14:$T$213,Index!B2789,Index!A2789)),0,INDEX('Trust - Frontsheet'!$C$14:$T$213,Index!B2789,Index!A2789))","v":0}]
["113598379","Staff_cols:CHPPD, Staff_row:Staff_row188","Number",{"$f":"IF(ISERROR(INDEX('Trust - Frontsheet'!$C$14:$T$213,Index!B2790,Index!A2790)),0,INDEX('Trust - Frontsheet'!$C$14:$T$213,Index!B2790,Index!A2790))","v":0}]
["113598351","Staff_cols:CHPPD, Staff_row:Staff_row189","Number",{"$f":"IF(ISERROR(INDEX('Trust - Frontsheet'!$C$14:$T$213,Index!B2791,Index!A2791)),0,INDEX('Trust - Frontsheet'!$C$14:$T$213,Index!B2791,Index!A2791))","v":0}]
["113598304","Staff_cols:CHPPD, Staff_row:Staff_row190","Number",{"$f":"IF(ISERROR(INDEX('Trust - Frontsheet'!$C$14:$T$213,Index!B2792,Index!A2792)),0,INDEX('Trust - Frontsheet'!$C$14:$T$213,Index!B2792,Index!A2792))","v":0}]
["113598363","Staff_cols:CHPPD, Staff_row:Staff_row191","Number",{"$f":"IF(ISERROR(INDEX('Trust - Frontsheet'!$C$14:$T$213,Index!B2793,Index!A2793)),0,INDEX('Trust - Frontsheet'!$C$14:$T$213,Index!B2793,Index!A2793))","v":0}]
["113598318","Staff_cols:CHPPD, Staff_row:Staff_row192","Number",{"$f":"IF(ISERROR(INDEX('Trust - Frontsheet'!$C$14:$T$213,Index!B2794,Index!A2794)),0,INDEX('Trust - Frontsheet'!$C$14:$T$213,Index!B2794,Index!A2794))","v":0}]
["113598280","Staff_cols:CHPPD, Staff_row:Staff_row193","Number",{"$f":"IF(ISERROR(INDEX('Trust - Frontsheet'!$C$14:$T$213,Index!B2795,Index!A2795)),0,INDEX('Trust - Frontsheet'!$C$14:$T$213,Index!B2795,Index!A2795))","v":0}]
["113598376","Staff_cols:CHPPD, Staff_row:Staff_row194","Number",{"$f":"IF(ISERROR(INDEX('Trust - Frontsheet'!$C$14:$T$213,Index!B2796,Index!A2796)),0,INDEX('Trust - Frontsheet'!$C$14:$T$213,Index!B2796,Index!A2796))","v":0}]
["113598213","Staff_cols:CHPPD, Staff_row:Staff_row195","Number",{"$f":"IF(ISERROR(INDEX('Trust - Frontsheet'!$C$14:$T$213,Index!B2797,Index!A2797)),0,INDEX('Trust - Frontsheet'!$C$14:$T$213,Index!B2797,Index!A2797))","v":0}]
["113598355","Staff_cols:CHPPD, Staff_row:Staff_row196","Number",{"$f":"IF(ISERROR(INDEX('Trust - Frontsheet'!$C$14:$T$213,Index!B2798,Index!A2798)),0,INDEX('Trust - Frontsheet'!$C$14:$T$213,Index!B2798,Index!A2798))","v":0}]
["113598321","Staff_cols:CHPPD, Staff_row:Staff_row197","Number",{"$f":"IF(ISERROR(INDEX('Trust - Frontsheet'!$C$14:$T$213,Index!B2799,Index!A2799)),0,INDEX('Trust - Frontsheet'!$C$14:$T$213,Index!B2799,Index!A2799))","v":0}]
["113598228","Staff_cols:CHPPD, Staff_row:Staff_row198","Number",{"$f":"IF(ISERROR(INDEX('Trust - Frontsheet'!$C$14:$T$213,Index!B2800,Index!A2800)),0,INDEX('Trust - Frontsheet'!$C$14:$T$213,Index!B2800,Index!A2800))","v":0}]
["113598349","Staff_cols:CHPPD, Staff_row:Staff_row199","Number",{"$f":"IF(ISERROR(INDEX('Trust - Frontsheet'!$C$14:$T$213,Index!B2801,Index!A2801)),0,INDEX('Trust - Frontsheet'!$C$14:$T$213,Index!B2801,Index!A2801))","v":0}]
["113598366","Staff_cols:CHPPD, Staff_row:Staff_row200","Number",{"$f":"IF(ISERROR(INDEX('Trust - Frontsheet'!$C$14:$T$213,Index!B2802,Index!A2802)),0,INDEX('Trust - Frontsheet'!$C$14:$T$213,Index!B2802,Index!A2802))","v":0}]